Workbook

Sheet 표지
A1: 송포청소년문화의집 인테리어 공사 2023.08. 공내역서

Sheet 원가계산서
B1: 공 사 원 가 계 산 서
B2: 공사명 : 송포청소년문화의집 인테리어 공사
B3: 비 목 | E3: 금 액 | F3: 구 성 비 | G3: 비 고
A4: A1 | B4: 순 공 사 원 가 | C4: 재 료 비 | D4: 직 접 재 료 비 | E4: =TRUNC(공종별집계표!F5, 0) -> 0
A5: A2 | D5: 간 접 재 료 비 | E5: 0
A6: A3 | D6: 작업설, 부산물(△) | E6: 0
A7: AS | D7: [ 소 계 ] | E7: =TRUNC(E4+E5-E6, 0) -> 0
A8: B1 | C8: 노 무 비 | D8: 직 접 노 무 비 | E8: =TRUNC(공종별집계표!H5, 0) -> 0
A9: B2 | D9: 간 접 노 무 비 | E9: =TRUNC(E8*0.122, 0) -> 0 | F9: 직접노무비 * 12.2%
A10: BS | D10: [ 소 계 ] | E10: =TRUNC(E8+E9, 0) -> 0
A11: C2 | C11: 경 비 | D11: 경 비 | E11: =TRUNC(공종별집계표!J5, 0) -> 0
A12: C4 | D12: 산 재 보 험 료 | E12: =TRUNC(E10*0.037, 0) -> 0 | F12: 노무비 * 3.7%
A13: C5 | D13: 고 용 보 험 료 | E13: =TRUNC(E10*0.0101, 0) -> 0 | F13: 노무비 * 1.01%
A14: C6 | D14: 국민 건강 보험료 | E14: 465532 | F14: 직접노무비 * 3.545% | G14: ※ 1개월 이상
A15: C7 | D15: 국민 연금 보험료 | E15: 590944 | F15: 직접노무비 * 4.5% | G15: ※ 1개월 이상
A16: C8 | D16: 퇴직 공제 부금비 | E16: 302038 | F16: 직접노무비 * 2.3% | G16: ※ 1억원 이상
A17: CA | D17: 산업안전보건관리비 | E17: 2386548 | F17: (재료비+직노) * 2.93% | G17: ※ 2천만원 이상
A18: CB | D18: 노인장기요양보험료 | E18: 59634 | F18: 건강보험료 * 12.81% | G18: ※ 1개월 이상
A19: CG | D19: 기 타 경 비 | E19: =TRUNC((E7+E10)*0.058, 0) -> 0 | F19: (재료비+노무비) * 5.8%
A20: CH | D20: 환 경 보 전 비 | E20: =TRUNC((E7+E8+E11)*0.003, 0) -> 0 | F20: (재료비+직노+경비) * 0.3%
A21: CL | D21: 건설기계대여금지급보증서발급수수료 | E21: =TRUNC((E7+E8+E11)*0.001, 0) -> 0 | F21: (재료비+직노+경비) * 0.1% | G21: ※ 그 外
A22: CS | D22: [ 소 계 ]
A23: S1 | B23: 계
A24: D1 | B24: 일 반 관 리 비 | F24: 계 * 6%
A25: D2 | B25: 이 윤 | F25: (노무비+경비+일반관리비) * 15%
A26: D5 | B26: 폐 기 물 처 리
A27: D9 | B27: 공 급 가 액
A28: DB | B28: 부 가 가 치 세 | F28: 공급가액 * 10%
A29: DH | B29: 도 급 액
A30: S2 | B30: 총 공 사 비 | E30: =TRUNC(E29+0, 0) -> 0

Sheet 공종별집계표
A1: 공 종 별 집 계 표
A2: [ 송포청소년문화의집 인테리어 공사 ]
A3: 품 명 | B3: 규 격 | C3: 단위 | D3: 수량 | E3: 재 료 비 | G3: 노 무 비 | I3: 경 비 | K3: 합 계 | M3: 비 고 | N3: 공종코드 | O3: 변수 | P3: 상위공종 | Q3: 공종구분 | R3: 공종레벨 | S3: 공종소계 | T3: 원가계산서 연결금액
E4: 단 가 | F4: 금 액 | G4: 단 가 | H4: 금 액 | I4: 단 가 | J4: 금 액 | K4: 단 가 | L4: 금 액
A5: 01 송포 청소년 문화의집 | D5: 1 | E5: =F6 -> 0 | F5: =E5*D5 -> 0 | G5: =H6 -> 0 | H5: =G5*D5 -> 0 | I5: =J6 -> 0 | J5: =I5*D5 -> 0 | K5: =E5+G5+I5 -> 0 | L5: =F5+H5+J5 -> 0 | N5: 01 | R5: 1
A6: 0101 건축공사 | D6: 1 | E6: =F7+F8+F9+F10+F11+F12+F13+F14 -> 0 | F6: =E6*D6 -> 0 | G6: =H7+H8+H9+H10+H11+H12+H13+H14 -> 0 | H6: =G6*D6 -> 0 | I6: =J7+J8+J9+J10+J11+J12+J13+J14 -> 0 | J6: =I6*D6 -> 0 | K6: =E6+G6+I6 -> 0 | L6: =F6+H6+J6 -> 0 | N6: 0101 | P6: 01 | R6: 2
A7: 010101 가 설 공 사 | D7: 1 | E7: =공종별내역서!F8 -> 0 | F7: =E7*D7 -> 0 | G7: =공종별내역서!H8 -> 0 | H7: =G7*D7 -> 0 | I7: =공종별내역서!J8 -> 0 | J7: =I7*D7 -> 0 | K7: =E7+G7+I7 -> 0 | L7: =F7+H7+J7 -> 0 | N7: 010101 | P7: 0101 | R7: 3
A8: 010102 타 일 공 사 | D8: 1 | E8: =공종별내역서!F14 -> 0 | F8: =E8*D8 -> 0 | G8: =공종별내역서!H14 -> 0 | H8: =G8*D8 -> 0 | I8: =공종별내역서!J14 -> 0 | J8: =I8*D8 -> 0 | K8: =E8+G8+I8 -> 0 | L8: =F8+H8+J8 -> 0 | N8: 010102 | P8: 0101 | R8: 3
A9: 010103 목공사및수장공사 | D9: 1 | E9: =공종별내역서!F26 -> 0 | F9: =E9*D9 -> 0 | G9: =공종별내역서!H26 -> 0 | H9: =G9*D9 -> 0 | I9: =공종별내역서!J26 -> 0 | J9: =I9*D9 -> 0 | K9: =E9+G9+I9 -> 0 | L9: =F9+H9+J9 -> 0 | N9: 010103 | P9: 0101 | R9: 3
A10: 010104 금 속 공 사 | D10: 1 | E10: =공종별내역서!F34 -> 0 | F10: =E10*D10 -> 0 | G10: =공종별내역서!H34 -> 0 | H10: =G10*D10 -> 0 | I10: =공종별내역서!J34 -> 0 | J10: =I10*D10 -> 0 | K10: =E10+G10+I10 -> 0 | L10: =F10+H10+J10 -> 0 | N10: 010104 | P10: 0101 | R10: 3
A11: 010105 칠 공 사 | D11: 1 | E11: =공종별내역서!F46 -> 0 | F11: =E11*D11 -> 0 | G11: =공종별내역서!H46 -> 0 | H11: =G11*D11 -> 0 | I11: =공종별내역서!J46 -> 0 | J11: =I11*D11 -> 0 | K11: =E11+G11+I11 -> 0 | L11: =F11+H11+J11 -> 0 | N11: 010105 | P11: 0101 | R11: 3
A12: 010106 구 조 물 공 사 | D12: 1 | E12: =공종별내역서!F65 -> 0 | F12: =E12*D12 -> 0 | G12: =공종별내역서!H65 -> 0 | H12: =G12*D12 -> 0 | I12: =공종별내역서!J65 -> 0 | J12: =I12*D12 -> 0 | K12: =E12+G12+I12 -> 0 | L12: =F12+H12+J12 -> 0 | N12: 010106 | P12: 0101 | R12: 3
A13: 010107 조 경 연 출 | D13: 1 | E13: =공종별내역서!F101 -> 0 | F13: =E13*D13 -> 0 | G13: =공종별내역서!H101 -> 0 | H13: =G13*D13 -> 0 | I13: =공종별내역서!J101 -> 0 | J13: =I13*D13 -> 0 | K13: =E13+G13+I13 -> 0 | L13: =F13+H13+J13 -> 0 | N13: 010107 | P13: 0101 | R13: 3
A14: 010108 철 거 공 사 | D14: 1 | E14: =공종별내역서!F113 -> 0 | F14: =E14*D14 -> 0 | G14: =공종별내역서!H113 -> 0 | H14: =G14*D14 -> 0 | I14: =공종별내역서!J113 -> 0 | J14: =I14*D14 -> 0 | K14: =E14+G14+I14 -> 0 | L14: =F14+H14+J14 -> 0 | N14: 010108 | P14: 0101 | R14: 3 | S14: <
A15: 010109 건설폐기물처리비 | D15: 1 | E15: =공종별내역서!F119 -> 0 | F15: =E15*D15 -> 0 | G15: =공종별내역서!H119 -> 0 | H15: =G15*D15 -> 0 | I15: =공종별내역서!J119 -> 0 | J15: =I15*D15 -> 0 | K15: =E15+G15+I15 -> 0 | L15: =F15+H15+J15 -> 0 | M15: 별산 | N15: 010109 | Q15: 7 | R15: 3 | T15: =L15*1 -> 0
A24: [ 합 계 ] | F24: =F5 -> 0 | H24: =H5 -> 0 | J24: =J5 -> 0 | L24: =L5 -> 0

Sheet 공종별내역서
A1: [ 송포청소년문화의집 인테리어 공사 ]
A2: 품 명 | B2: 규 격 | C2: 단위 | D2: 수량 | E2: 재 료 비 | G2: 노 무 비 | I2: 경 비 | K2: 합 계 | M2: 비 고 | N2: 품목코드 | O2: 변수 | P2: 설정 | Q2: 공종코드 | R2: 일위 | S2: 단산 | T2: 자재 | U2: 손료적용 | V2: 손료저장 | W2: 적용율 | X2: JUK1 | Y2: JUK2 | Z2: JUK3 | AA2: JUK4 | AB2: JUK5 | AC2: JUK6 | AD2: JUK7 | AE2: JUK8 | AF2: JUK9 | AG2: JUK10 | AH2: JUK11 | AI2: JUK12 | AJ2: JUK13 | AK2: JUK14 | AL2: JUK15 | AM2: JUK16 | AN2: JUK17 | AO2: JUK18 | AP2: JUK19 | AQ2: JUK20 | AR2: 자재구분 | AS2: 공종구분 | AT2: 공종레벨 | AU2: 공종+자재 | AV2: 고유번호
E3: 단 가 | F3: 금 액 | G3: 단 가 | H3: 금 액 | I3: 단 가 | J3: 금 액 | K3: 단 가 | L3: 금 액
A4: 010101 가 설 공 사 | Q4: 010101
A5: 강관 조립말비계(이동식)설치 및 해체 | B5: 높이 2m, 3개월 | C5: 대 | D5: 3 | K5: =TRUNC(E5+G5+I5, 0) -> 0 | L5: =TRUNC(F5+H5+J5, 0) -> 0 | M5: 호표 1 | N5: 5103C29091FF77306803239A2711E7 | Q5: 010101 | R5: T | S5: F | T5: F | AU5: 0101015103C29091FF77306803239A2711E7 | AV5: 4
A6: 건축물현장정리 | B6: 인테리어 | C6: M2 | D6: 326 | K6: =TRUNC(E6+G6+I6, 0) -> 0 | L6: =TRUNC(F6+H6+J6, 0) -> 0 | M6: 호표 2 | N6: 5103C29094B06FE1F8CE6313A7BA11 | Q6: 010101 | R6: T | S6: F | T6: F | AU6: 0101015103C29094B06FE1F8CE6313A7BA11 | AV6: 5
A8: [ 합 계 ] | L8: =SUM(L5:L7) -> 0 | N8: TOTAL
A9: 010102 타 일 공 사 | Q9: 010102
A10: 콩자갈깔기 | B10: 바닥, 지정콩자갈, 에폭시 10mm | C10: M2 | D10: 57 | K10: =TRUNC(E10+G10+I10, 0) -> 0 | L10: =TRUNC(F10+H10+J10, 0) -> 0 | M10: 호표 3 | N10: 510302B09D64F9DA38A726BC57B610 | Q10: 010102 | R10: T | S10: F | T10: F | AU10: 010102510302B09D64F9DA38A726BC57B610 | AV10: 9
A11: 모자이크타일 | B11: 지정 모자이크 타일 | C11: M2 | D11: 14 | K11: =TRUNC(E11+G11+I11, 0) -> 0 | L11: =TRUNC(F11+H11+J11, 0) -> 0 | M11: 견적서 | N11: 562562B09DA0ADBC189B6A47B7797F29C757C5 | Q11: 010102 | R11: F | S11: F | T11: T | AU11: 010102562562B09DA0ADBC189B6A47B7797F29C757C5 | AV11: 7
A12: 타일 붙임 / 접착 붙이기 - 모자이크 | B12: 계단하부, 지정색 줄눈(초록색) | C12: M2 | D12: 14 | K12: =TRUNC(E12+G12+I12, 0) -> 0 | L12: =TRUNC(F12+H12+J12, 0) -> 0 | M12: 호표 4 | N12: 510302B09E0FC39BA8660968A7CF7D | Q12: 010102 | R12: T | S12: F | T12: F | AU12: 010102510302B09E0FC39BA8660968A7CF7D | AV12: 8
A14: [ 합 계 ] | L14: =SUM(L10:L13) -> 0 | N14: TOTAL
A15: 010103 목공사및수장공사 | Q15: 010103
A16: 기존면 바탕정리 | B16: 바닥, 그라인딩 | C16: M2 | D16: 311 | K16: =TRUNC(E16+G16+I16, 0) -> 0 | L16: =TRUNC(F16+H16+J16, 0) -> 0 | M16: 호표 5 | N16: 5103A24093CB2DC5F81E8935873350 | Q16: 010103 | R16: T | S16: F | T16: F | AU16: 0101035103A24093CB2DC5F81E8935873350 | AV16: 180
A17: 강화마루 깔기 | B17: 8mm, 지정 강화마루 | C17: M2 | D17: 52 | K17: =TRUNC(E17+G17+I17, 0) -> 0 | L17: =TRUNC(F17+H17+J17, 0) -> 0 | M17: 호표 6 | N17: 510342D09B58E292285A5F4EC7C290 | Q17: 010103 | R17: T | S17: F | T17: F | AU17: 010103510342D09B58E292285A5F4EC7C290 | AV17: 12
A18: 강화마루 프로파일[강화마루깔기에 품포함] | B18: 5.8T × 28mm × 2000mm | C18: M | D18: 3 | K18: =TRUNC(E18+G18+I18, 0) -> 0 | L18: =TRUNC(F18+H18+J18, 0) -> 0 | M18: 호표 7 | N18: 510342D09B58E292285A5F4EC7CAE6 | Q18: 010103 | R18: T | S18: F | T18: F | AU18: 010103510342D09B58E292285A5F4EC7CAE6 | AV18: 13
A19: 인조잔디 깔기 | B19: 나일론, 10*1820mm, 전면접합 | C19: M2 | D19: 3 | K19: =TRUNC(E19+G19+I19, 0) -> 0 | L19: =TRUNC(F19+H19+J19, 0) -> 0 | M19: 호표 8 | N19: 510322809DA9BC25B84B6E11B7870F | Q19: 010103 | R19: T | S19: F | T19: F | AU19: 010103510322809DA9BC25B84B6E11B7870F | AV19: 179
A20: 석고판 설치(나사고정) - 바탕용 | B20: 천장, 9.5t*2겹 붙임 | C20: M2 | D20: 28 | K20: =TRUNC(E20+G20+I20, 0) -> 0 | L20: =TRUNC(F20+H20+J20, 0) -> 0 | M20: 호표 9 | N20: 510322809F544453D8FA855127C58D | Q20: 010103 | R20: T | S20: F | T20: F | AU20: 010103510322809F544453D8FA855127C58D | AV20: 14
A21: 오픈 단부 마감 | B21: 천정, H:90, 합판 9t+각파이프ㅁ-30*30*2.1t | C21: M | D21: 41 | K21: =TRUNC(E21+G21+I21, 0) -> 0 | L21: =TRUNC(F21+H21+J21, 0) -> 0 | M21: 호표 10 | N21: 510322809F52994B785E718307A2D6 | Q21: 010103 | R21: T | S21: F | T21: F | AU21: 010103510322809F52994B785E718307A2D6 | AV21: 15
A22: 오픈 단부 마감 [곡면부] | B22: 천정, H:90, 합판 4.8t*2겹+각파이프ㅁ-30*30*2.1t | C22: M | D22: 8 | K22: =TRUNC(E22+G22+I22, 0) -> 0 | L22: =TRUNC(F22+H22+J22, 0) -> 0 | M22: 호표 11 | N22: 510322809F52994B785E718307A1CF | Q22: 010103 | R22: T | S22: F | T22: F | AU22: 010103510322809F52994B785E718307A1CF | AV22: 16
A23: 캡 설치 [배기구멍] | B23: Φ100, 실리콘 마감 | C23: EA | D23: 1 | K23: =TRUNC(E23+G23+I23, 0) -> 0 | L23: =TRUNC(F23+H23+J23, 0) -> 0 | M23: 호표 12 | N23: 510322809824D2FB2810970107B5DA | Q23: 010103 | R23: T | S23: F | T23: F | AU23: 010103510322809824D2FB2810970107B5DA | AV23: 21
A24: 지정색 시트지 부착 | B24: SSTL 프레임 | C24: M2 | D24: 60 | K24: =TRUNC(E24+G24+I24, 0) -> 0 | L24: =TRUNC(F24+H24+J24, 0) -> 0 | M24: 호표 13 | N24: 510322809824D2FB2810970137076C | Q24: 010103 | R24: T | S24: F | T24: F | AU24: 010103510322809824D2FB2810970137076C | AV24: 23
A26: [ 합 계 ] | L26: =SUM(L16:L25) -> 0 | N26: TOTAL
A27: 010104 금 속 공 사 | Q27: 010104
A28: 타공판 설치 | B28: W360 X D560 X H5, 브라켓 설치 후 타공판 부착 | C28: EA | D28: 10 | K28: =TRUNC(E28+G28+I28, 0) -> 0 | L28: =TRUNC(F28+H28+J28, 0) -> 0 | M28: 견적서 | N28: 50BBD2709928BAB1285961BD27B232820F4C3A | Q28: 010104 | R28: F | S28: F | T28: T | AU28: 01010450BBD2709928BAB1285961BD27B232820F4C3A | AV28: 106
A29: 타공판 설치 | B29: W760 X D560 X H5, 브라켓 설치 후 타공판 부착 | C29: EA | D29: 25 | K29: =TRUNC(E29+G29+I29, 0) -> 0 | L29: =TRUNC(F29+H29+J29, 0) -> 0 | M29: 견적서 | N29: 50BBD2709928BAB1285961BD27B232820F4C3B | Q29: 010104 | R29: F | S29: F | T29: T | AU29: 01010450BBD2709928BAB1285961BD27B232820F4C3B | AV29: 107
A30: 타공판 설치 | B30: 운반 및 설치조립 | C30: EA | D30: 1 | K30: =TRUNC(E30+G30+I30, 0) -> 0 | L30: =TRUNC(F30+H30+J30, 0) -> 0 | M30: 견적서 | N30: 50BBD2709928BAB1285961BD27B232820F4C38 | Q30: 010104 | R30: F | S30: F | T30: T | AU30: 01010450BBD2709928BAB1285961BD27B232820F4C38 | AV30: 108
A31: 스토퍼 설치 | C31: EA | D31: 3 | K31: =TRUNC(E31+G31+I31, 0) -> 0 | L31: =TRUNC(F31+H31+J31, 0) -> 0 | M31: 견적서 | N31: 50BBD2709928BAB1285961BD27B232820F4C39 | Q31: 010104 | R31: F | S31: F | T31: T | AU31: 01010450BBD2709928BAB1285961BD27B232820F4C39 | AV31: 109
A32: 스토퍼 설치 | B32: 운반비 | C32: EA | D32: 1 | K32: =TRUNC(E32+G32+I32, 0) -> 0 | L32: =TRUNC(F32+H32+J32, 0) -> 0 | M32: 견적서 | N32: 50BBD2709928BAB1285961BD27B232820F4C36 | Q32: 010104 | R32: F | S32: F | T32: T | AU32: 01010450BBD2709928BAB1285961BD27B232820F4C36 | AV32: 110
A34: [ 합 계 ] | L34: =SUM(L28:L33) -> 0 | N34: TOTAL
A35: 010105 칠 공 사 | Q35: 010105
A36: 수성페인트 붓칠 | B36: 내천장 2회, 친환경, 설비파이프 | C36: M2 | D36: 20 | K36: =TRUNC(E36+G36+I36, 0) -> 0 | L36: =TRUNC(F36+H36+J36, 0) -> 0 | M36: 호표 14 | N36: 510332F090A62637F8C99338A78525 | Q36: 010105 | R36: T | S36: F | T36: F | AU36: 010105510332F090A62637F8C99338A78525 | AV36: 48
A37: 바탕만들기+수성페인트 롤러칠 | B37: 내부 2회, 친환경, 지정색-1 | C37: M2 | D37: 47 | K37: =TRUNC(E37+G37+I37, 0) -> 0 | L37: =TRUNC(F37+H37+J37, 0) -> 0 | M37: 호표 15 | N37: 510332F090A62636D8231660774132 | Q37: 010105 | R37: T | S37: F | T37: F | AU37: 010105510332F090A62636D8231660774132 | AV37: 49
A38: 바탕만들기+수성페인트 롤러칠 | B38: 내부 2회, 친환경, 지정색-2 | C38: M2 | D38: 13 | K38: =TRUNC(E38+G38+I38, 0) -> 0 | L38: =TRUNC(F38+H38+J38, 0) -> 0 | M38: 호표 16 | N38: 510332F090A62636D823166077402B | Q38: 010105 | R38: T | S38: F | T38: F | AU38: 010105510332F090A62636D823166077402B | AV38: 50
A39: 바탕만들기+수성페인트 롤러칠 | B39: 2층 천장 2회, 기존면, 친환경 | C39: M2 | D39: 148 | K39: =TRUNC(E39+G39+I39, 0) -> 0 | L39: =TRUNC(F39+H39+J39, 0) -> 0 | M39: 호표 17 | N39: 510332F090A62636D823B6B617BB12 | Q39: 010105 | R39: T | S39: F | T39: F | AU39: 010105510332F090A62636D823B6B617BB12 | AV39: 160
A40: 바탕만들기+수성페인트 롤러칠 | B40: 내천장 2회, con'c·mortar면, 친환경 | C40: M2 | D40: 51 | K40: =TRUNC(E40+G40+I40, 0) -> 0 | L40: =TRUNC(F40+H40+J40, 0) -> 0 | M40: 호표 18 | N40: 510332F090A62636D823B6B617B85D | Q40: 010105 | R40: T | S40: F | T40: F | AU40: 010105510332F090A62636D823B6B617B85D | AV40: 51
A41: 바탕만들기+수성페인트 롤러칠 | B41: 내천장 2회, G.B.면 올퍼티, 친환경 | C41: M2 | D41: 32 | K41: =TRUNC(E41+G41+I41, 0) -> 0 | L41: =TRUNC(F41+H41+J41, 0) -> 0 | M41: 호표 19 | N41: 510332F090A62636D823B6FDC74180 | Q41: 010105 | R41: T | S41: F | T41: F | AU41: 010105510332F090A62636D823B6FDC74180 | AV41: 52
A42: 바탕만들기+걸레받이용 페인트칠 | B42: 붓칠 2회, 투명 에나멜 페인트 | C42: M2 | D42: 1 | K42: =TRUNC(E42+G42+I42, 0) -> 0 | L42: =TRUNC(F42+H42+J42, 0) -> 0 | M42: 호표 20 | N42: 510332F0914DAE36B82E1EDD7724EC | Q42: 010105 | R42: T | S42: F | T42: F | AU42: 010105510332F0914DAE36B82E1EDD7724EC | AV42: 47
A43: 에폭시 라이닝 | B43: 바닥, 5mm, 투명(무광) | C43: M2 | D43: 203 | K43: =TRUNC(E43+G43+I43, 0) -> 0 | L43: =TRUNC(F43+H43+J43, 0) -> 0 | M43: 호표 21 | N43: 510332F099847768E8D445D6C71CE6 | Q43: 010105 | R43: T | S43: F | T43: F | AU43: 010105510332F099847768E8D445D6C71CE6 | AV43: 66
A44: 세라믹 폴리싱 | B44: 에폭시 라이닝, 콩자갈깔기 위 2회 도포 | C44: M2 | D44: 260 | K44: =TRUNC(E44+G44+I44, 0) -> 0 | L44: =TRUNC(F44+H44+J44, 0) -> 0 | M44: 견적서 | N44: 50BBD2709928BAB1285961BD27B232820EA760 | Q44: 010105 | R44: F | S44: F | T44: T | AU44: 01010550BBD2709928BAB1285961BD27B232820EA760 | AV44: 178
A46: [ 합 계 ] | L46: =SUM(L36:L45) -> 0 | N46: TOTAL
A47: 010106 구 조 물 공 사 | Q47: 010106
A48: 주방가구 [주방 상부장] | B48: W4,000 X D320 X H700 | C48: EA | D48: 1 | K48: =TRUNC(E48+G48+I48, 0) -> 0 | L48: =TRUNC(F48+H48+J48, 0) -> 0 | M48: 견적서 | N48: 50BBD2709928BAB1285961BD27B232820EA762 | Q48: 010106 | R48: F | S48: F | T48: T | AU48: 01010650BBD2709928BAB1285961BD27B232820EA762 | AV48: 87
A49: 주방가구 [아일랜드 식탁] | B49: W2,800 X D600 X H600, 상판 : W2,800 X D700 X H20, 상부구조포함 | C49: EA | D49: 1 | K49: =TRUNC(E49+G49+I49, 0) -> 0 | L49: =TRUNC(F49+H49+J49, 0) -> 0 | M49: 견적서 | N49: 50BBD2709928BAB1285961BD27B232820EA765 | Q49: 010106 | R49: F | S49: F | T49: T | AU49: 01010650BBD2709928BAB1285961BD27B232820EA765 | AV49: 88
A50: 주방가구 [기존 주방가구] | B50: W4,000 X D600 X H850, 문짝 제거 후 엘더(18T 원목)로 교체 | C50: EA | D50: 1 | K50: =TRUNC(E50+G50+I50, 0) -> 0 | L50: =TRUNC(F50+H50+J50, 0) -> 0 | M50: 견적서 | N50: 50BBD2709928BAB1285961BD27B232820EA764 | Q50: 010106 | R50: F | S50: F | T50: T | AU50: 01010650BBD2709928BAB1285961BD27B232820EA764 | AV50: 89
A51: 주방가구 [기기후드] | B51: 600*180*295 | C51: EA | D51: 1 | K51: =TRUNC(E51+G51+I51, 0) -> 0 | L51: =TRUNC(F51+H51+J51, 0) -> 0 | M51: 견적서 | N51: 50BBD2709928BAB1285961BD27B232820EA766 | Q51: 010106 | R51: F | S51: F | T51: T | AU51: 01010650BBD2709928BAB1285961BD27B232820EA766 | AV51: 105
A52: 소 계 | L52: =SUM(L48:L51) -> 0 | N52: 50BA62D09A404D56381E97867779 | R52: F | S52: F | T52: F | AU52: 01010650BA62D09A404D56381E97867779 | AV52: 140
A53: LED 채널간판 면발광 사인물 | B53: 850*850*H=50(조명725*140) | C53: EA | D53: 1 | K53: =TRUNC(E53+G53+I53, 0) -> 0 | L53: =TRUNC(F53+H53+J53, 0) -> 0 | M53: 견적서 | N53: 50BBD2709928BAB1285961BD27B232820EA386 | Q53: 010106 | R53: F | S53: F | T53: T | AU53: 01010650BBD2709928BAB1285961BD27B232820EA386 | AV53: 167
A54: 벤치 (1층, 옥탑층) (고무나무집성) | B54: W2,025 X D415 X H450(고무나무) | C54: EA | D54: 2 | K54: =TRUNC(E54+G54+I54, 0) -> 0 | L54: =TRUNC(F54+H54+J54, 0) -> 0 | M54: 견적서 | N54: 50BBD2709928BAB1285961BD27B232820EA387 | Q54: 010106 | R54: F | S54: F | T54: T | AU54: 01010650BBD2709928BAB1285961BD27B232820EA387 | AV54: 168
A55: 라운지의자(자작나무합판) | B55: W4,975(2,100) X D700 X H450 | C55: EA | D55: 1 | K55: =TRUNC(E55+G55+I55, 0) -> 0 | L55: =TRUNC(F55+H55+J55, 0) -> 0 | M55: 견적서 | N55: 50BBD2709928BAB1285961BD27B232820EA384 | Q55: 010106 | R55: F | S55: F | T55: T | AU55: 01010650BBD2709928BAB1285961BD27B232820EA384 | AV55: 169
A56: 라운지의자 콘센트(2구+C TYP) | B56: W 197.2 x D 89.8 | C56: EA | D56: 6 | K56: =TRUNC(E56+G56+I56, 0) -> 0 | L56: =TRUNC(F56+H56+J56, 0) -> 0 | M56: 견적서 | N56: 50BBD2709928BAB1285961BD27B232820EA385 | Q56: 010106 | R56: F | S56: F | T56: T | AU56: 01010650BBD2709928BAB1285961BD27B232820EA385 | AV56: 170
A57: 수납장(2층메이커존)(자작나무합판) | B57: W1,850 X D350 X H2,700 | C57: EA | D57: 1 | K57: =TRUNC(E57+G57+I57, 0) -> 0 | L57: =TRUNC(F57+H57+J57, 0) -> 0 | M57: 견적서 | N57: 50BBD2709928BAB1285961BD27B232820EA382 | Q57: 010106 | R57: F | S57: F | T57: T | AU57: 01010650BBD2709928BAB1285961BD27B232820EA382 | AV57: 171
A58: 기둥선반(2층메이커존)(자작나무합판) | B58: W1,020 X D1,020 X H2,655 | C58: EA | D58: 1 | K58: =TRUNC(E58+G58+I58, 0) -> 0 | L58: =TRUNC(F58+H58+J58, 0) -> 0 | M58: 견적서 | N58: 50BBD2709928BAB1285961BD27B232820EA383 | Q58: 010106 | R58: F | S58: F | T58: T | AU58: 01010650BBD2709928BAB1285961BD27B232820EA383 | AV58: 172
A59: 양면수납함(3층 힐링존)(자작나무합판) | B59: W1,450 X D715 X H2,400 | C59: EA | D59: 1 | K59: =TRUNC(E59+G59+I59, 0) -> 0 | L59: =TRUNC(F59+H59+J59, 0) -> 0 | M59: 견적서 | N59: 50BBD2709928BAB1285961BD27B232820EA380 | Q59: 010106 | R59: F | S59: F | T59: T | AU59: 01010650BBD2709928BAB1285961BD27B232820EA380 | AV59: 173
A60: 3층플랜테리어(3층 힐링존)(자작나무합판) | B60: W1,120(910) X D200 X H200 | C60: EA | D60: 1 | K60: =TRUNC(E60+G60+I60, 0) -> 0 | L60: =TRUNC(F60+H60+J60, 0) -> 0 | M60: 견적서 | N60: 50BBD2709928BAB1285961BD27B232820EA381 | Q60: 010106 | R60: F | S60: F | T60: T | AU60: 01010650BBD2709928BAB1285961BD27B232820EA381 | AV60: 174
A61: 자작나무 수납장(3층 힐링존)(자작나무합판) | B61: W3,700 X D350 X H2,400 | C61: EA | D61: 1 | K61: =TRUNC(E61+G61+I61, 0) -> 0 | L61: =TRUNC(F61+H61+J61, 0) -> 0 | M61: 견적서 | N61: 50BBD2709928BAB1285961BD27B232820EA38E | Q61: 010106 | R61: F | S61: F | T61: T | AU61: 01010650BBD2709928BAB1285961BD27B232820EA38E | AV61: 175
A62: 선반(3층 힐링존)(자작나무합판) | B62: W3,200 X D180 X H70 | C62: EA | D62: 1 | K62: =TRUNC(E62+G62+I62, 0) -> 0 | L62: =TRUNC(F62+H62+J62, 0) -> 0 | M62: 견적서 | N62: 50BBD2709928BAB1285961BD27B232820EA38F | Q62: 010106 | R62: F | S62: F | T62: T | AU62: 01010650BBD2709928BAB1285961BD27B232820EA38F | AV62: 176
A63: 소 계 | L63: =SUM(L53:L62) -> 0 | N63: 50BA62D09A404D56381E97867779 | R63: F | S63: F | T63: F | AU63: 01010650BA62D09A404D56381E97867779 | AV63: 142
A65: [ 합 계 ] | L65: =SUM(L48:L64) -L52-L63 -> 0 | N65: TOTAL
A66: 010107 조 경 연 출 | Q66: 010107
A67: A. 1F_원형 모스월 | K67: =TRUNC(E67+G67+I67, 0) -> 0 | L67: =TRUNC(F67+H67+J67, 0) -> 0 | M67: 견적서 | N67: 50BBD2709928BAB1285961BD27B232820F4DC5 | Q67: 010107 | R67: F | S67: F | T67: T | AU67: 01010750BBD2709928BAB1285961BD27B232820F4DC5 | AV67: 124
A68: 스칸디아모 | B68: W850*H50 | C68: M2 | D68: 0.6 | K68: =TRUNC(E68+G68+I68, 0) -> 0 | L68: =TRUNC(F68+H68+J68, 0) -> 0 | M68: 견적서 | N68: 50BBD2709928BAB1285961BD27B232820F4DC4 | Q68: 010107 | R68: F | S68: F | T68: T | AU68: 01010750BBD2709928BAB1285961BD27B232820F4DC4 | AV68: 125
A69: B. 2F 플랜터 | B69: W5175*D200*H200 | K69: =TRUNC(E69+G69+I69, 0) -> 0 | L69: =TRUNC(F69+H69+J69, 0) -> 0 | M69: 견적서 | N69: 50BBD2709928BAB1285961BD27B232820F4DC7 | Q69: 010107 | R69: F | S69: F | T69: T | AU69: 01010750BBD2709928BAB1285961BD27B232820F4DC7 | AV69: 126
A70: 조화나무 | B70: H1.0 내외 | C70: EA | D70: 8 | K70: =TRUNC(E70+G70+I70, 0) -> 0 | L70: =TRUNC(F70+H70+J70, 0) -> 0 | M70: 견적서 | N70: 50BBD2709928BAB1285961BD27B232820F4DC6 | Q70: 010107 | R70: F | S70: F | T70: T | AU70: 01010750BBD2709928BAB1285961BD27B232820F4DC6 | AV70: 127
A71: 하부 조화 | B71: 이미지 참고 | C71: M | D71: 4.6 | K71: =TRUNC(E71+G71+I71, 0) -> 0 | L71: =TRUNC(F71+H71+J71, 0) -> 0 | M71: 견적서 | N71: 50BBD2709928BAB1285961BD27B232820F4DC1 | Q71: 010107 | R71: F | S71: F | T71: T | AU71: 01010750BBD2709928BAB1285961BD27B232820F4DC1 | AV71: 128
A72: 조경석 | B72: 1-2 목 | C72: EA | D72: 8 | K72: =TRUNC(E72+G72+I72, 0) -> 0 | L72: =TRUNC(F72+H72+J72, 0) -> 0 | M72: 견적서 | N72: 50BBD2709928BAB1285961BD27B232820F4DC0 | Q72: 010107 | R72: F | S72: F | T72: T | AU72: 01010750BBD2709928BAB1285961BD27B232820F4DC0 | AV72: 129
A73: 조경석 | B73: 2-3 목 | C73: EA | D73: 7 | K73: =TRUNC(E73+G73+I73, 0) -> 0 | L73: =TRUNC(F73+H73+J73, 0) -> 0 | M73: 견적서 | N73: 50BBD2709928BAB1285961BD27B232820F4DC3 | Q73: 010107 | R73: F | S73: F | T73: T | AU73: 01010750BBD2709928BAB1285961BD27B232820F4DC3 | AV73: 130
A74: 하부 멀칭재 | B74: 마사토 | C74: M2 | D74: 1.1 | K74: =TRUNC(E74+G74+I74, 0) -> 0 | L74: =TRUNC(F74+H74+J74, 0) -> 0 | M74: 견적서 | N74: 50BBD2709928BAB1285961BD27B232820F4DC2 | Q74: 010107 | R74: F | S74: F | T74: T | AU74: 01010750BBD2709928BAB1285961BD27B232820F4DC2 | AV74: 131
A75: 고정 부자재 | B75: 스티로폼 외 | C75: EA | D75: 1 | K75: =TRUNC(E75+G75+I75, 0) -> 0 | L75: =TRUNC(F75+H75+J75, 0) -> 0 | M75: 견적서 | N75: 50BBD2709928BAB1285961BD27B232820F4DCD | Q75: 010107 | R75: F | S75: F | T75: T | AU75: 01010750BBD2709928BAB1285961BD27B232820F4DCD | AV75: 132
A76: B. 2F 플랜터 | B76: W2800*D200*H200 | K76: =TRUNC(E76+G76+I76, 0) -> 0 | L76: =TRUNC(F76+H76+J76, 0) -> 0 | M76: 견적서 | N76: 50BBD2709928BAB1285961BD27B232820F4DCC | Q76: 010107 | R76: F | S76: F | T76: T | AU76: 01010750BBD2709928BAB1285961BD27B232820F4DCC | AV76: 133
A77: 조화나무 | B77: H1.0 내외 | C77: EA | D77: 5 | K77: =TRUNC(E77+G77+I77, 0) -> 0 | L77: =TRUNC(F77+H77+J77, 0) -> 0 | M77: 견적서 | N77: 50BBD2709928BAB1285961BD27B232820F4A70 | Q77: 010107 | R77: F | S77: F | T77: T | AU77: 01010750BBD2709928BAB1285961BD27B232820F4A70 | AV77: 134
A78: 하부 조화 | B78: 이미지 참고 | C78: M | D78: 2.8 | K78: =TRUNC(E78+G78+I78, 0) -> 0 | L78: =TRUNC(F78+H78+J78, 0) -> 0 | M78: 견적서 | N78: 50BBD2709928BAB1285961BD27B232820F4A71 | Q78: 010107 | R78: F | S78: F | T78: T | AU78: 01010750BBD2709928BAB1285961BD27B232820F4A71 | AV78: 135
A79: 조경석 | B79: 1-2 목 | C79: EA | D79: 5 | K79: =TRUNC(E79+G79+I79, 0) -> 0 | L79: =TRUNC(F79+H79+J79, 0) -> 0 | M79: 견적서 | N79: 50BBD2709928BAB1285961BD27B232820F4A72 | Q79: 010107 | R79: F | S79: F | T79: T | AU79: 01010750BBD2709928BAB1285961BD27B232820F4A72 | AV79: 136
A80: 조경석 | B80: 2-3 목 | C80: EA | D80: 4 | K80: =TRUNC(E80+G80+I80, 0) -> 0 | L80: =TRUNC(F80+H80+J80, 0) -> 0 | M80: 견적서 | N80: 50BBD2709928BAB1285961BD27B232820F4A73 | Q80: 010107 | R80: F | S80: F | T80: T | AU80: 01010750BBD2709928BAB1285961BD27B232820F4A73 | AV80: 137
A81: 하부 멀칭재 | B81: 마사토 | C81: M2 | D81: 0.6 | K81: =TRUNC(E81+G81+I81, 0) -> 0 | L81: =TRUNC(F81+H81+J81, 0) -> 0 | M81: 견적서 | N81: 50BBD2709928BAB1285961BD27B232820F4A74 | Q81: 010107 | R81: F | S81: F | T81: T | AU81: 01010750BBD2709928BAB1285961BD27B232820F4A74 | AV81: 138
A82: 고정 부자재 | B82: 스티로폼 외 | C82: EA | D82: 1 | K82: =TRUNC(E82+G82+I82, 0) -> 0 | L82: =TRUNC(F82+H82+J82, 0) -> 0 | M82: 견적서 | N82: 50BBD2709928BAB1285961BD27B232820F4A75 | Q82: 010107 | R82: F | S82: F | T82: T | AU82: 01010750BBD2709928BAB1285961BD27B232820F4A75 | AV82: 139
A83: C. 3F 플랜터 | B83: W1120*D200*H200 | K83: =TRUNC(E83+G83+I83, 0) -> 0 | L83: =TRUNC(F83+H83+J83, 0) -> 0 | M83: 견적서 | N83: 50BBD2709928BAB1285961BD27B232820F4A76 | Q83: 010107 | R83: F | S83: F | T83: T | AU83: 01010750BBD2709928BAB1285961BD27B232820F4A76 | AV83: 143
A84: 조화나무 | B84: H1.0 내외 | C84: EA | D84: 3 | K84: =TRUNC(E84+G84+I84, 0) -> 0 | L84: =TRUNC(F84+H84+J84, 0) -> 0 | M84: 견적서 | N84: 50BBD2709928BAB1285961BD27B232820F4A77 | Q84: 010107 | R84: F | S84: F | T84: T | AU84: 01010750BBD2709928BAB1285961BD27B232820F4A77 | AV84: 144
A85: 하부 조화 | B85: 이미지 참고 | C85: M | D85: 1.2 | K85: =TRUNC(E85+G85+I85, 0) -> 0 | L85: =TRUNC(F85+H85+J85, 0) -> 0 | M85: 견적서 | N85: 50BBD2709928BAB1285961BD27B232820F4A78 | Q85: 010107 | R85: F | S85: F | T85: T | AU85: 01010750BBD2709928BAB1285961BD27B232820F4A78 | AV85: 145
A86: 조경석 | B86: 1-2 목 | C86: EA | D86: 2 | K86: =TRUNC(E86+G86+I86, 0) -> 0 | L86: =TRUNC(F86+H86+J86, 0) -> 0 | M86: 견적서 | N86: 50BBD2709928BAB1285961BD27B232820F4A79 | Q86: 010107 | R86: F | S86: F | T86: T | AU86: 01010750BBD2709928BAB1285961BD27B232820F4A79 | AV86: 146
A87: 조경석 | B87: 2-3 목 | C87: EA | D87: 1 | K87: =TRUNC(E87+G87+I87, 0) -> 0 | L87: =TRUNC(F87+H87+J87, 0) -> 0 | M87: 견적서 | N87: 50BBD2709928BAB1285961BD27B232820F4B17 | Q87: 010107 | R87: F | S87: F | T87: T | AU87: 01010750BBD2709928BAB1285961BD27B232820F4B17 | AV87: 147
A88: 하부 멀칭재 | B88: 마사토 | C88: M2 | D88: 0.3 | K88: =TRUNC(E88+G88+I88, 0) -> 0 | L88: =TRUNC(F88+H88+J88, 0) -> 0 | M88: 견적서 | N88: 50BBD2709928BAB1285961BD27B232820F4B16 | Q88: 010107 | R88: F | S88: F | T88: T | AU88: 01010750BBD2709928BAB1285961BD27B232820F4B16 | AV88: 148
A89: 고정 부자재 | B89: 스티로폼 외 | C89: EA | D89: 1 | K89: =TRUNC(E89+G89+I89, 0) -> 0 | L89: =TRUNC(F89+H89+J89, 0) -> 0 | M89: 견적서 | N89: 50BBD2709928BAB1285961BD27B232820F4B15 | Q89: 010107 | R89: F | S89: F | T89: T | AU89: 01010750BBD2709928BAB1285961BD27B232820F4B15 | AV89: 149
A90: D. 1F,옥상층_화분(2개소) | K90: =TRUNC(E90+G90+I90, 0) -> 0 | L90: =TRUNC(F90+H90+J90, 0) -> 0 | M90: 견적서 | N90: 50BBD2709928BAB1285961BD27B232820F4B14 | Q90: 010107 | R90: F | S90: F | T90: T | AU90: 01010750BBD2709928BAB1285961BD27B232820F4B14 | AV90: 150
A91: 조화나무 | B91: H1.0 내외 | C91: EA | D91: 2 | K91: =TRUNC(E91+G91+I91, 0) -> 0 | L91: =TRUNC(F91+H91+J91, 0) -> 0 | M91: 견적서 | N91: 50BBD2709928BAB1285961BD27B232820F4B13 | Q91: 010107 | R91: F | S91: F | T91: T | AU91: 01010750BBD2709928BAB1285961BD27B232820F4B13 | AV91: 151
A92: 조경석 | B92: 1-2 목 | C92: EA | D92: 4 | K92: =TRUNC(E92+G92+I92, 0) -> 0 | L92: =TRUNC(F92+H92+J92, 0) -> 0 | M92: 견적서 | N92: 50BBD2709928BAB1285961BD27B232820F4B12 | Q92: 010107 | R92: F | S92: F | T92: T | AU92: 01010750BBD2709928BAB1285961BD27B232820F4B12 | AV92: 152
A93: 화기 | B93: 245*245*H220 | C93: EA | D93: 2 | K93: =TRUNC(E93+G93+I93, 0) -> 0 | L93: =TRUNC(F93+H93+J93, 0) -> 0 | M93: 견적서 | N93: 50BBD2709928BAB1285961BD27B232820F4B11 | Q93: 010107 | R93: F | S93: F | T93: T | AU93: 01010750BBD2709928BAB1285961BD27B232820F4B11 | AV93: 153
A94: 멀칭재 | B94: 마사토 | C94: EA | D94: 2 | K94: =TRUNC(E94+G94+I94, 0) -> 0 | L94: =TRUNC(F94+H94+J94, 0) -> 0 | M94: 견적서 | N94: 50BBD2709928BAB1285961BD27B232820F4B10 | Q94: 010107 | R94: F | S94: F | T94: T | AU94: 01010750BBD2709928BAB1285961BD27B232820F4B10 | AV94: 154
A95: E. 인건비 및 공과잡비 | K95: =TRUNC(E95+G95+I95, 0) -> 0 | L95: =TRUNC(F95+H95+J95, 0) -> 0 | M95: 견적서 | N95: 50BBD2709928BAB1285961BD27B232820F4B1F | Q95: 010107 | R95: F | S95: F | T95: T | AU95: 01010750BBD2709928BAB1285961BD27B232820F4B1F | AV95: 155
A96: 인건비 | B96: 전문연출공 | C96: 인 | D96: 3 | K96: =TRUNC(E96+G96+I96, 0) -> 0 | L96: =TRUNC(F96+H96+J96, 0) -> 0 | M96: 견적서 | N96: 50BBD2709928BAB1285961BD27B232820F4B1E | Q96: 010107 | R96: F | S96: F | T96: T | AU96: 01010750BBD2709928BAB1285961BD27B232820F4B1E | AV96: 156
A97: 인건비 | B97: 보조연출공 | C97: 인 | D97: 3 | K97: =TRUNC(E97+G97+I97, 0) -> 0 | L97: =TRUNC(F97+H97+J97, 0) -> 0 | M97: 견적서 | N97: 50BBD2709928BAB1285961BD27B232820F4843 | Q97: 010107 | R97: F | S97: F | T97: T | AU97: 01010750BBD2709928BAB1285961BD27B232820F4843 | AV97: 157
A98: 운임 | B98: 고양기준 | C98: 회 | D98: 2 | K98: =TRUNC(E98+G98+I98, 0) -> 0 | L98: =TRUNC(F98+H98+J98, 0) -> 0 | M98: 견적서 | N98: 50BBD2709928BAB1285961BD27B232820F4842 | Q98: 010107 | R98: F | S98: F | T98: T | AU98: 01010750BBD2709928BAB1285961BD27B232820F4842 | AV98: 158
A99: 공과잡비 | C99: EA | D99: 1 | K99: =TRUNC(E99+G99+I99, 0) -> 0 | L99: =TRUNC(F99+H99+J99, 0) -> 0 | M99: 견적서 | N99: 50BBD2709928BAB1285961BD27B232820F4841 | Q99: 010107 | R99: F | S99: F | T99: T | AU99: 01010750BBD2709928BAB1285961BD27B232820F4841 | AV99: 159
A101: [ 합 계 ] | L101: =SUM(L67:L100) -> 0 | N101: TOTAL
A102: 010108 철 거 공 사 | Q102: 010108
A103: 콘크리트 외벽 타공 | B103: Φ100, 배기구멍 | C103: EA | D103: 1 | K103: =TRUNC(E103+G103+I103, 0) -> 0 | L103: =TRUNC(F103+H103+J103, 0) -> 0 | M103: 호표 22 | N103: 5102C220957FA0AB3809F58797AB94 | Q103: 010108 | R103: T | S103: F | T103: F | AU103: 0101085102C220957FA0AB3809F58797AB94 | AV103: 56
A104: 경량천장철골틀 해체 | B104: M-BAR | C104: M2 | D104: 51 | K104: =TRUNC(E104+G104+I104, 0) -> 0 | L104: =TRUNC(F104+H104+J104, 0) -> 0 | M104: 호표 23 | N104: 5102C22095749AE5B8AA0FECA749EF | Q104: 010108 | R104: T | S104: F | T104: F | AU104: 0101085102C22095749AE5B8AA0FECA749EF | AV104: 57
A105: 석고판 해체 | B105: 천장 | C105: M2 | D105: 78 | K105: =TRUNC(E105+G105+I105, 0) -> 0 | L105: =TRUNC(F105+H105+J105, 0) -> 0 | M105: 호표 24 | N105: 5102C22095749AE5B8AA57F7D795A7 | Q105: 010108 | R105: T | S105: F | T105: F | AU105: 0101085102C22095749AE5B8AA57F7D795A7 | AV105: 58
A106: 석고보드 컷팅 | B106: 천장 | C106: M | D106: 60 | K106: =TRUNC(E106+G106+I106, 0) -> 0 | L106: =TRUNC(F106+H106+J106, 0) -> 0 | M106: 호표 25 | N106: 5102C22095749AE5B8AA57F7D795A2 | Q106: 010108 | R106: T | S106: F | T106: F | AU106: 0101085102C22095749AE5B8AA57F7D795A2 | AV106: 59
A107: PVC계바닥재 해체 | C107: M2 | D107: 302 | K107: =TRUNC(E107+G107+I107, 0) -> 0 | L107: =TRUNC(F107+H107+J107, 0) -> 0 | M107: 호표 26 | N107: 5102C22095749AE5B8AAB88C9729F1 | Q107: 010108 | R107: T | S107: F | T107: F | AU107: 0101085102C22095749AE5B8AAB88C9729F1 | AV107: 113
...

Sheet 일위대가목록
A1: 일 위 대 가 목 록
A2: [ 송포청소년문화의집 인테리어 공사 ]
A3: 코 드 | B3: 품 명 | C3: 규 격 | D3: 단위 | E3: 재 료 비 | F3: 노 무 비 | G3: 경 비 | H3: 합 계 | I3: 번 호 | J3: 비 고 | K3: 노임계수 | L3: 할증 | M3: 품셈개요 | N3: 장비일위
A4: 5103C29091FF77306803239A2711E7 | B4: 강관 조립말비계(이동식)설치 및 해체 | C4: 높이 2m, 3개월 | D4: 대 | E4: =일위대가!F15 -> 30934 | F4: =일위대가!H15 -> 93090 | G4: =일위대가!J15 -> 0 | H4: =E4+F4+G4 -> 124024 | I4: 호표 1 | M4: 공통 2-7-4, 2-2-5
A5: 5103C29094B06FE1F8CE6313A7BA11 | B5: 건축물현장정리 | C5: 인테리어 | D5: M2 | E5: =일위대가!F19 -> 0 | F5: =일위대가!H19 -> 5665 | G5: =일위대가!J19 -> 0 | H5: =E5+F5+G5 -> 5665 | I5: 호표 2 | M5: 공통 2-11-2, 차용
A6: 510302B09D64F9DA38A726BC57B610 | B6: 콩자갈깔기 | C6: 바닥, 지정콩자갈, 에폭시 10mm | D6: M2 | E6: =일위대가!F23 -> 70000 | F6: =일위대가!H23 -> 0 | G6: =일위대가!J23 -> 0 | H6: =E6+F6+G6 -> 70000 | I6: 호표 3 | M6: 시공도, 단가대비표
A7: 510302B09E0FC39BA8660968A7CF7D | B7: 타일 붙임 / 접착 붙이기 - 모자이크 | C7: 계단하부, 지정색 줄눈(초록색) | D7: M2 | E7: =일위대가!F30 -> 4415 | F7: =일위대가!H30 -> 38457 | G7: =일위대가!J30 -> 832 | H7: =E7+F7+G7 -> 43704 | I7: 호표 4 | M7: 건축 3-2-3, 건축 3-1-2
A8: 5103A24093CB2DC5F81E8935873350 | B8: 기존면 바탕정리 | C8: 바닥, 그라인딩 | D8: M2 | E8: =일위대가!F35 -> 0 | F8: =일위대가!H35 -> 2647 | G8: =일위대가!J35 -> 79 | H8: =E8+F8+G8 -> 2726 | I8: 호표 5 | M8: 유지 3-4-5
A9: 510342D09B58E292285A5F4EC7C290 | B9: 강화마루 깔기 | C9: 8mm, 지정 강화마루 | D9: M2 | E9: =일위대가!F39 -> 34000 | F9: =일위대가!H39 -> 0 | G9: =일위대가!J39 -> 0 | H9: =E9+F9+G9 -> 34000 | I9: 호표 6 | M9: 건축 5-1-3, 시공도
A10: 510342D09B58E292285A5F4EC7CAE6 | B10: 강화마루 프로파일[강화마루깔기에 품포함] | C10: 5.8T × 28mm × 2000mm | D10: M | E10: =일위대가!F43 -> 4400 | F10: =일위대가!H43 -> 0 | G10: =일위대가!J43 -> 0 | H10: =E10+F10+G10 -> 4400 | I10: 호표 7 | M10: 시공도, 단가대비표
A11: 510322809DA9BC25B84B6E11B7870F | B11: 인조잔디 깔기 | C11: 나일론, 10*1820mm, 전면접합 | D11: M2 | E11: =일위대가!F48 -> 27162 | F11: =일위대가!H48 -> 6343 | G11: =일위대가!J48 -> 0 | H11: =E11+F11+G11 -> 33505 | I11: 호표 8 | M11: 건축 5-1-1
A12: 510322809F544453D8FA855127C58D | B12: 석고판 설치(나사고정) - 바탕용 | C12: 천장, 9.5t*2겹 붙임 | D12: M2 | E12: =일위대가!F53 -> 5722 | F12: =일위대가!H53 -> 19031 | G12: =일위대가!J53 -> 190 | H12: =E12+F12+G12 -> 24943 | I12: 호표 9 | M12: 건축 5-2-3
A13: 510322809F52994B785E718307A2D6 | B13: 오픈 단부 마감 | C13: 천정, H:90, 합판 9t+각파이프ㅁ-30*30*2.1t | D13: M | E13: =일위대가!F61 -> 3481 | F13: =일위대가!H61 -> 7034 | G13: =일위대가!J61 -> 305 | H13: =E13+F13+G13 -> 10820 | I13: 호표 10 | M13: 건축 8-3-1,건축 4-2-3
A14: 510322809F52994B785E718307A1CF | B14: 오픈 단부 마감 [곡면부] | C14: 천정, H:90, 합판 4.8t*2겹+각파이프ㅁ-30*30*2.1t | D14: M | E14: =일위대가!F69 -> 3613 | F14: =일위대가!H69 -> 12610 | G14: =일위대가!J69 -> 538 | H14: =E14+F14+G14 -> 16761 | I14: 호표 11 | M14: 건축 8-3-1,건축 4-2-3
A15: 510322809824D2FB2810970107B5DA | B15: 캡 설치 [배기구멍] | C15: Φ100, 실리콘 마감 | D15: EA | E15: =일위대가!F75 -> 15357 | F15: =일위대가!H75 -> 5678 | G15: =일위대가!J75 -> 0 | H15: =E15+F15+G15 -> 21035 | I15: 호표 12 | M15: 건축 6-6-1
A16: 510322809824D2FB2810970137076C | B16: 지정색 시트지 부착 | C16: SSTL 프레임 | D16: M2 | E16: =일위대가!F79 -> 30000 | F16: =일위대가!H79 -> 0 | G16: =일위대가!J79 -> 0 | H16: =E16+F16+G16 -> 30000 | I16: 호표 13 | M16: 시공도, 단가대비표
A17: 510332F090A62637F8C99338A78525 | B17: 수성페인트 붓칠 | C17: 내천장 2회, 친환경, 설비파이프 | D17: M2 | E17: =일위대가!F84 -> 1071 | F17: =일위대가!H84 -> 14752 | G17: =일위대가!J84 -> 0 | H17: =E17+F17+G17 -> 15823 | I17: 호표 14 | M17: 건축 11-2-1
A18: 510332F090A62636D8231660774132 | B18: 바탕만들기+수성페인트 롤러칠 | C18: 내부 2회, 친환경, 지정색-1 | D18: M2 | E18: =일위대가!F91 -> 1073 | F18: =일위대가!H91 -> 9307 | G18: =일위대가!J91 -> 0 | H18: =E18+F18+G18 -> 10380 | I18: 호표 15 | M18: 건축 11-1-1,건축 11-2-2
A19: 510332F090A62636D823166077402B | B19: 바탕만들기+수성페인트 롤러칠 | C19: 내부 2회, 친환경, 지정색-2 | D19: M2 | E19: =일위대가!F98 -> 1073 | F19: =일위대가!H98 -> 9307 | G19: =일위대가!J98 -> 0 | H19: =E19+F19+G19 -> 10380 | I19: 호표 16 | M19: 건축 11-1-1,건축 11-2-2
A20: 510332F090A62636D823B6B617BB12 | B20: 바탕만들기+수성페인트 롤러칠 | C20: 2층 천장 2회, 기존면, 친환경 | D20: M2 | E20: =일위대가!F105 -> 1073 | F20: =일위대가!H105 -> 11169 | G20: =일위대가!J105 -> 0 | H20: =E20+F20+G20 -> 12242 | I20: 호표 17 | M20: 건축 11-1-1,건축 11-2-2
A21: 510332F090A62636D823B6B617B85D | B21: 바탕만들기+수성페인트 롤러칠 | C21: 내천장 2회, con'c·mortar면, 친환경 | D21: M2 | E21: =일위대가!F112 -> 1073 | F21: =일위대가!H112 -> 11169 | G21: =일위대가!J112 -> 0 | H21: =E21+F21+G21 -> 12242 | I21: 호표 18 | M21: 건축 11-1-1,건축 11-2-2
A22: 510332F090A62636D823B6FDC74180 | B22: 바탕만들기+수성페인트 롤러칠 | C22: 내천장 2회, G.B.면 올퍼티, 친환경 | D22: M2 | E22: =일위대가!F119 -> 2593 | F22: =일위대가!H119 -> 31270 | G22: =일위대가!J119 -> 0 | H22: =E22+F22+G22 -> 33863 | I22: 호표 19 | M22: 건축 11-1-2,건축 11-2-2
A23: 510332F0914DAE36B82E1EDD7724EC | B23: 바탕만들기+걸레받이용 페인트칠 | C23: 붓칠 2회, 투명 에나멜 페인트 | D23: M2 | E23: =일위대가!F126 -> 3469 | F23: =일위대가!H126 -> 21189 | G23: =일위대가!J126 -> 0 | H23: =E23+F23+G23 -> 24658 | I23: 호표 20 | M23: 건축 11-1-1,건축 11-2-10
A24: 510332F099847768E8D445D6C71CE6 | B24: 에폭시 라이닝 | C24: 바닥, 5mm, 투명(무광) | D24: M2 | E24: =일위대가!F131 -> 56647 | F24: =일위대가!H131 -> 14721 | G24: =일위대가!J131 -> 0 | H24: =E24+F24+G24 -> 71368 | I24: 호표 21 | M24: 건축 11-2-8
A25: 5102C220957FA0AB3809F58797AB94 | B25: 콘크리트 외벽 타공 | C25: Φ100, 배기구멍 | D25: EA | E25: =일위대가!F137 -> 1556 | F25: =일위대가!H137 -> 77836 | G25: =일위대가!J137 -> 0 | H25: =E25+F25+G25 -> 79392 | I25: 호표 22 | M25: 기계 9-3-2
A26: 5102C22095749AE5B8AA0FECA749EF | B26: 경량천장철골틀 해체 | C26: M-BAR | D26: M2 | E26: =일위대가!F143 -> 0 | F26: =일위대가!H143 -> 6194 | G26: =일위대가!J143 -> 123 | H26: =E26+F26+G26 -> 6317 | I26: 호표 23 | M26: 유지 3-2-3
A27: 5102C22095749AE5B8AA57F7D795A7 | B27: 석고판 해체 | C27: 천장 | D27: M2 | E27: =일위대가!F149 -> 0 | F27: =일위대가!H149 -> 5722 | G27: =일위대가!J149 -> 114 | H27: =E27+F27+G27 -> 5836 | I27: 호표 24 | M27: 유지 3-2-6
A28: 5102C22095749AE5B8AA57F7D795A2 | B28: 석고보드 컷팅 | C28: 천장 | D28: M | E28: =일위대가!F154 -> 0 | F28: =일위대가!H154 -> 2362 | G28: =일위대가!J154 -> 47 | H28: =E28+F28+G28 -> 2409 | I28: 호표 25 | M28: 건축 5-2-3
A29: 5102C22095749AE5B8AAB88C9729F1 | B29: PVC계바닥재 해체 | D29: M2 | E29: =일위대가!F159 -> 0 | F29: =일위대가!H159 -> 2064 | G29: =일위대가!J159 -> 0 | H29: =E29+F29+G29 -> 2064 | I29: 호표 26 | M29: 유지 3-2-8
A30: 5102C22095749AE5B8AAB88C972A98 | B30: 카펫 철거 | C30: 바닥 및 수장 부분 | D30: M2 | E30: =일위대가!F164 -> 0 | F30: =일위대가!H164 -> 2064 | G30: =일위대가!J164 -> 0 | H30: =E30+F30+G30 -> 2064 | I30: 호표 27 | M30: 유지 3-2-8
A31: 5102C22095749AE5B8B4A3BD776EBB | B31: 폐기물소운반 및 상차비 | C31: 20m, 인력 | D31: KG | E31: =일위대가!F169 -> 0 | F31: =일위대가!H169 -> 0 | G31: =일위대가!J169 -> 40 | H31: =E31+F31+G31 -> 40 | I31: 호표 28 | M31: -
A32: 5103C29091FF773068032389B73FC8 | B32: 강관 조립말비계(이동식)설치 및 해체 | C32: 높이 2m, 노무비 | D32: 대 | E32: =일위대가!F174 -> 0 | F32: =일위대가!H174 -> 93090 | G32: =일위대가!J174 -> 0 | H32: =E32+F32+G32 -> 93090 | I32: 호표 29 | M32: 공통 2-7-4
A33: 510302B09E0FC39BA8660968A7CD4B | B33: 타일 붙임 / 접착 붙이기 - 모자이크(유니트형) | C33: 벽면, 타일규격(m2), 0.04∼0.10 이하 | D33: M2 | E33: =일위대가!F181 -> 0 | F33: =일위대가!H181 -> 34675 | G33: =일위대가!J181 -> 832 | H33: =E33+F33+G33 -> 35507 | I33: 호표 30 | M33: 건축 3-2-3
A34: 510302B09E0FC81DE81E0AD127ECC3 | B34: 타일줄눈 설치 / 벽면 | C34: 타일규격 m2, 0.04 ~ 0.10 이하 | D34: M2 | E34: =일위대가!F185 -> 0 | F34: =일위대가!H185 -> 3782 | G34: =일위대가!J185 -> 0 | H34: =E34+F34+G34 -> 3782 | I34: 호표 31 | M34: 건축 3-1-2
A35: 510322809DA9BC25B84B6E11A7E1AB | B35: PVC계 바닥재 설치 - 시트 | C35: 주재료 제외, 전면접합 | D35: M2 | E35: =일위대가!F191 -> 1017 | F35: =일위대가!H191 -> 6343 | G35: =일위대가!J191 -> 0 | H35: =E35+F35+G35 -> 7360 | I35: 호표 32 | M35: 건축 5-1-1
A36: 510322809F544453D8FA855127C588 | B36: 석고판 설치(나사고정) - 바탕용 | C36: 천장, 2겹 붙임 | D36: M2 | E36: =일위대가!F197 -> 0 | F36: =일위대가!H197 -> 19031 | G36: =일위대가!J197 -> 190 | H36: =E36+F36+G36 -> 19221 | I36: 호표 33 | M36: 건축 5-2-3
A37: 510372009330898FB8544261A76C0A | B37: 잡철물 제작 및 설치 | C37: 규격철물 설치, 일반철재 | D37: kg | E37: =일위대가!F206 -> 87 | F37: =일위대가!H206 -> 2905 | G37: =일위대가!J206 -> 145 | H37: =E37+F37+G37 -> 3137 | I37: 호표 34 | M37: 건축 8-3-1
A38: 510322809F52994B785E718307A3FD | B38: 벽체합판 설치 | C38: 합판 별도 | D38: M2 | E38: =일위대가!F212 -> 0 | F38: =일위대가!H212 -> 17029 | G38: =일위대가!J212 -> 340 | H38: =E38+F38+G38 -> 17369 | I38: 호표 35 | M38: 건축 4-2-3
A39: 510372009330898FB866A27C5798C3 | B39: 잡철물 제작 및 설치 | C39: 현장제작 설치, 일반철재 | D39: kg | E39: =일위대가!F221 -> 151 | F39: =일위대가!H221 -> 5040 | G39: =일위대가!J221 -> 252 | H39: =E39+F39+G39 -> 5443 | I39: 호표 36 | M39: 건축 8-3-1
A40: 510352C09672651648DEF57437FCBE | B40: 수밀코킹(실리콘) | C40: 5㎜*5㎜ | D40: M | E40: =일위대가!F226 -> 570 | F40: =일위대가!H226 -> 4994 | G40: =일위대가!J226 -> 0 | H40: =E40+F40+G40 -> 5564 | I40: 호표 37 | M40: 건축 6-6-1
A41: 510352C09670B85E58A114CAF73A4B | B41: 수밀코킹 | C41: 재료비 별도 | D41: M | E41: =일위대가!F230 -> 0 | F41: =일위대가!H230 -> 4994 | G41: =일위대가!J230 -> 0 | H41: =E41+F41+G41 -> 4994 | I41: 호표 38 | M41: 건축 6-6-1
A42: 510332F090A62637F88368C9B7DC6F | B42: 수성페인트 붓칠 재료비 | C42: 내부, 2회, 친환경 | D42: M2 | E42: =일위대가!F234 -> 826 | F42: =일위대가!H234 -> 0 | G42: =일위대가!J234 -> 0 | H42: =E42+F42+G42 -> 826 | I42: 호표 39 | M42: -
A43: 510332F090A62637F89DEDC5E77ACF | B43: 수성페인트 붓칠 | C43: 천장 2회 노무비 | D43: M2 | E43: =일위대가!F243 -> 245 | F43: =일위대가!H243 -> 14752 | G43: =일위대가!J243 -> 0 | H43: =E43+F43+G43 -> 14997 | I43: 호표 40 | M43: 건축 11-2-1
A44: 510332E0901A8D09C827140407E345 | B44: con'c, mortar면 바탕만들기 재료비 | C44: 내부, 친환경 | D44: M2 | E44: =일위대가!F247 -> 36 | F44: =일위대가!H247 -> 0 | G44: =일위대가!J247 -> 0 | H44: =E44+F44+G44 -> 36 | I44: 호표 41 | M44: -
A45: 510332E0901A8D09C8271431A7EBE8 | B45: con'c, mortar면 바탕만들기 | C45: 내부 친환경 노무비 | D45: M2 | E45: =일위대가!F253 -> 79 | F45: =일위대가!H253 -> 2661 | G45: =일위대가!J253 -> 0 | H45: =E45+F45+G45 -> 2740 | I45: 호표 42 | M45: 건축 11-1-1
A46: 510332F090A62636D823314E27A12C | B46: 수성페인트 롤러칠 재료비 | C46: 내부, 2회, 친환경페인트 | D46: M2 | E46: =일위대가!F257 -> 826 | F46: =일위대가!H257 -> 0 | G46: =일위대가!J257 -> 0 | H46: =E46+F46+G46 -> 826 | I46: 호표 43 | M46: -
A47: 510332F090A62636D87B52E2C77B45 | B47: 수성페인트 롤러칠 | C47: 2회 노무비 | D47: M2 | E47: =일위대가!F265 -> 132 | F47: =일위대가!H265 -> 6646 | G47: =일위대가!J265 -> 0 | H47: =E47+F47+G47 -> 6778 | I47: 호표 44 | M47: 건축 11-2-2
A48: 510332E0901A8D09C827140477137B | B48: con'c, mortar면 바탕만들기 | C48: 내천장 친환경 노무비 | D48: M2 | E48: =일위대가!F272 -> 79 | F48: =일위대가!H272 -> 3193 | G48: =일위대가!J272 -> 0 | H48: =E48+F48+G48 -> 3272 | I48: 호표 45 | M48: 건축 11-1-1
A49: 510332F090A62636D800519687291C | B49: 수성페인트 롤러칠 | C49: 천장 2회 노무비 | D49: M2 | E49: =일위대가!F281 -> 132 | F49: =일위대가!H281 -> 7976 | G49: =일위대가!J281 -> 0 | H49: =E49+F49+G49 -> 8108 | I49: 호표 46 | M49: 건축 11-2-2
A50: 510332E0901A8D09C82726CD674BDB | B50: 석고보드면 바탕만들기 재료비 | C50: 올퍼티, 친환경 | D50: M2 | E50: =일위대가!F286 -> 859 | F50: =일위대가!H286 -> 0 | G50: =일위대가!J286 -> 0 | H50: =E50+F50+G50 -> 859 | I50: 호표 47 | M50: -
A51: 510332E0901A8D09C82726CD0720AA | B51: 석고보드면 바탕만들기 | C51: 올퍼티 천장 친환경, 노무비 | D51: M2 | E51: =일위대가!F293 -> 776 | F51: =일위대가!H293 -> 23294 | G51: =일위대가!J293 -> 0 | H51: =E51+F51+G51 -> 24070 | I51: 호표 48 | M51: 건축 11-1-2
A52: 510332E0901A8D09C82737C22758D9 | B52: 콘크리트·모르타르면 바탕만들기 재료비 | D52: M2 | E52: =일위대가!F297 -> 156 | F52: =일위대가!H297 -> 0 | G52: =일위대가!J297 -> 0 | H52: =E52+F52+G52 -> 156 | I52: 호표 49 | M52: -
A53: 510332E0901A8D09C827373C379F25 | B53: 콘크리트·모르타르면 바탕만들기 | C53: 노무비 | D53: M2 | E53: =일위대가!F303 -> 79 | F53: =일위대가!H303 -> 2661 | G53: =일위대가!J303 -> 0 | H53: =E53+F53+G53 -> 2740 | I53: 호표 50 | M53: 건축 11-1-1
A54: 510332F0914DAE36B82E1EEFF7D5FC | B54: 걸레받이용 페인트칠 재료비 | C54: 붓칠, 투명에나멜, 2회 | D54: M2 | E54: =일위대가!F310 -> 2864 | F54: =일위대가!H310 -> 0 | G54: =일위대가!J310 -> 0 | H54: =E54+F54+G54 -> 2864 | I54: 호표 51 | M54: -
A55: 510332F0914DAE36B82E1EF847FBAC | B55: 걸레받이용 페인트칠 | C55: 붓칠 2회 노무비 | D55: M2 | E55: =일위대가!F316 -> 370 | F55: =일위대가!H316 -> 18528 | G55: =일위대가!J316 -> 0 | H55: =E55+F55+G55 -> 18898 | I55: 호표 52 | M55: 건축 11-2-10
A56: 510332F099847768E8F7258E578929 | B56: 에폭시 라이닝칠 재료비 | C56: 5mm, 투명, 무광 | D56: M2 | E56: =일위대가!F322 -> 56353 | F56: =일위대가!H322 -> 0 | G56: =일위대가!J322 -> 0 | H56: =E56+F56+G56 -> 56353 | I56: 호표 53 | M56: -
A57: 510332F099847768E8E6B661074D15 | B57: 에폭시 라이닝(레기칠 노무비) | C57: 하도1회, 퍼티 및 연마, 에폭시 페인트 2회칠 기준 | D57: M2 | E57: =일위대가!F328 -> 294 | F57: =일위대가!H328 -> 14721 | G57: =일위대가!J328 -> 0 | H57: =E57+F57+G57 -> 15015 | I57: 호표 54 | M57: 건축 11-2-8

Sheet 일위대가
A1: [ 송포청소년문화의집 인테리어 공사 ]
A2: 품 명 | B2: 규 격 | C2: 단위 | D2: 수량 | E2: 재 료 비 | G2: 노 무 비 | I2: 경 비 | K2: 합 계 | M2: 비 고 | N2: 일위대가 | O2: 품목코드 | P2: 일위 | Q2: 단산 | R2: 자재 | S2: 손료적용 | T2: 손료저장 | U2: 적용율 | V2: JUK1 | W2: JUK2 | X2: JUK3 | Y2: JUK4 | Z2: JUK5 | AA2: JUK6 | AB2: JUK7 | AC2: JUK8 | AD2: JUK9 | AE2: JUK10 | AF2: JUK11 | AG2: JUK12 | AH2: JUK13 | AI2: JUK14 | AJ2: JUK15 | AK2: JUK16 | AL2: JUK17 | AM2: JUK18 | AN2: JUK19 | AO2: JUK20 | AP2: 할증적용 | AQ2: 할증저장 | AR2: 할증율 | AS2: HAL1 | AT2: HAL2 | AU2: HAL3 | AV2: 자재구분 | AW2: 일위대가+자재 | AX2: 장비일위 | AY2: 설정
E3: 단 가 | F3: 금 액 | G3: 단 가 | H3: 금 액 | I3: 단 가 | J3: 금 액 | K3: 단 가 | L3: 금 액
A4: 강관 조립말비계(이동식)설치 및 해체 높이 2m, 3개월 대 공통 2-7-4, 2-2-5 ( 호표 1 ) | N4: 5103C29091FF77306803239A2711E7
A5: 비계안정장치 | B5: 비계안정장치, 비계기본틀, 기둥, 1.2*1.7m | C5: 개 | D5: 0.12 | E5: ='자재 및 노임단가'!O17 -> 30000 | F5: =TRUNC(E5*D5,1) -> 3600 | G5: ='자재 및 노임단가'!P17 -> 0 | H5: =TRUNC(G5*D5,1) -> 0 | I5: ='자재 및 노임단가'!V17 -> 0 | J5: =TRUNC(I5*D5,1) -> 0 | K5: =TRUNC(E5+G5+I5,1) -> 30000 | L5: =TRUNC(F5+H5+J5,1) -> 3600 | N5: 5103C29091FF77306803239A2711E7 | O5: 562562B09DAA91D1C8B10E0C7775886F3D3527 | P5: F | Q5: F | R5: T | AW5: 5103C29091FF77306803239A2711E7562562B09DAA91D1C8B10E0C7775886F3D3527
A6: 비계안정장치 | B6: 비계안정장치, 가새, 1.2*1.9m | C6: 개 | D6: 0.12 | E6: ='자재 및 노임단가'!O18 -> 10000 | F6: =TRUNC(E6*D6,1) -> 1200 | G6: ='자재 및 노임단가'!P18 -> 0 | H6: =TRUNC(G6*D6,1) -> 0 | I6: ='자재 및 노임단가'!V18 -> 0 | J6: =TRUNC(I6*D6,1) -> 0 | K6: =TRUNC(E6+G6+I6,1) -> 10000 | L6: =TRUNC(F6+H6+J6,1) -> 1200 | N6: 5103C29091FF77306803239A2711E7 | O6: 562562B09DAA91D1C8B10E0C7775886F3D3529 | P6: F | Q6: F | R6: T | AW6: 5103C29091FF77306803239A2711E7562562B09DAA91D1C8B10E0C7775886F3D3529
A7: 비계안정장치 | B7: 비계안정장치, 수평띠장, 1829mm | C7: 개 | D7: 0.24 | E7: ='자재 및 노임단가'!O19 -> 25000 | F7: =TRUNC(E7*D7,1) -> 6000 | G7: ='자재 및 노임단가'!P19 -> 0 | H7: =TRUNC(G7*D7,1) -> 0 | I7: ='자재 및 노임단가'!V19 -> 0 | J7: =TRUNC(I7*D7,1) -> 0 | K7: =TRUNC(E7+G7+I7,1) -> 25000 | L7: =TRUNC(F7+H7+J7,1) -> 6000 | N7: 5103C29091FF77306803239A2711E7 | O7: 562562B09DAA91D1C8B10E0C7775886F3D3AA0 | P7: F | Q7: F | R7: T | AW7: 5103C29091FF77306803239A2711E7562562B09DAA91D1C8B10E0C7775886F3D3AA0
A8: 비계안정장치 | B8: 비계안정장치, 손잡이기둥 | C8: 개 | D8: 0.24 | E8: ='자재 및 노임단가'!O22 -> 5700 | F8: =TRUNC(E8*D8,1) -> 1368 | G8: ='자재 및 노임단가'!P22 -> 0 | H8: =TRUNC(G8*D8,1) -> 0 | I8: ='자재 및 노임단가'!V22 -> 0 | J8: =TRUNC(I8*D8,1) -> 0 | K8: =TRUNC(E8+G8+I8,1) -> 5700 | L8: =TRUNC(F8+H8+J8,1) -> 1368 | N8: 5103C29091FF77306803239A2711E7 | O8: 562562B09DAA91D1C8B10E0C7775886F3D3AA7 | P8: F | Q8: F | R8: T | AW8: 5103C29091FF77306803239A2711E7562562B09DAA91D1C8B10E0C7775886F3D3AA7
A9: 비계안정장치 | B9: 비계안정장치, 손잡이, 1229mm | C9: 개 | D9: 0.12 | E9: ='자재 및 노임단가'!O20 -> 1440 | F9: =TRUNC(E9*D9,1) -> 172.8 | G9: ='자재 및 노임단가'!P20 -> 0 | H9: =TRUNC(G9*D9,1) -> 0 | I9: ='자재 및 노임단가'!V20 -> 0 | J9: =TRUNC(I9*D9,1) -> 0 | K9: =TRUNC(E9+G9+I9,1) -> 1440 | L9: =TRUNC(F9+H9+J9,1) -> 172.8 | N9: 5103C29091FF77306803239A2711E7 | O9: 562562B09DAA91D1C8B10E0C7775886F3D3AA1 | P9: F | Q9: F | R9: T | AW9: 5103C29091FF77306803239A2711E7562562B09DAA91D1C8B10E0C7775886F3D3AA1
A10: 비계안정장치 | B10: 비계안정장치, 손잡이, 1829mm | C10: 개 | D10: 0.24 | E10: ='자재 및 노임단가'!O21 -> 2100 | F10: =TRUNC(E10*D10,1) -> 504 | G10: ='자재 및 노임단가'!P21 -> 0 | H10: =TRUNC(G10*D10,1) -> 0 | I10: ='자재 및 노임단가'!V21 -> 0 | J10: =TRUNC(I10*D10,1) -> 0 | K10: =TRUNC(E10+G10+I10,1) -> 2100 | L10: =TRUNC(F10+H10+J10,1) -> 504 | N10: 5103C29091FF77306803239A2711E7 | O10: 562562B09DAA91D1C8B10E0C7775886F3D3AA6 | P10: F | Q10: F | R10: T | AW10: 5103C29091FF77306803239A2711E7562562B09DAA91D1C8B10E0C7775886F3D3AA6
A11: 비계안정장치 | B11: 비계안정장치, 바퀴 | C11: 개 | D11: 0.36 | E11: ='자재 및 노임단가'!O23 -> 13000 | F11: =TRUNC(E11*D11,1) -> 4680 | G11: ='자재 및 노임단가'!P23 -> 0 | H11: =TRUNC(G11*D11,1) -> 0 | I11: ='자재 및 노임단가'!V23 -> 0 | J11: =TRUNC(I11*D11,1) -> 0 | K11: =TRUNC(E11+G11+I11,1) -> 13000 | L11: =TRUNC(F11+H11+J11,1) -> 4680 | N11: 5103C29091FF77306803239A2711E7 | O11: 562562B09DAA91D1C8B10E0C7775886F3D3AA4 | P11: F | Q11: F | R11: T | AW11: 5103C29091FF77306803239A2711E7562562B09DAA91D1C8B10E0C7775886F3D3AA4
A12: 비계안정장치 | B12: 비계안정장치, 쟈키 | C12: 개 | D12: 0.36 | E12: ='자재 및 노임단가'!O24 -> 11000 | F12: =TRUNC(E12*D12,1) -> 3960 | G12: ='자재 및 노임단가'!P24 -> 0 | H12: =TRUNC(G12*D12,1) -> 0 | I12: ='자재 및 노임단가'!V24 -> 0 | J12: =TRUNC(I12*D12,1) -> 0 | K12: =TRUNC(E12+G12+I12,1) -> 11000 | L12: =TRUNC(F12+H12+J12,1) -> 3960 | N12: 5103C29091FF77306803239A2711E7 | O12: 562562B09DAA91D1C8B10E0C7775886F3D3AA5 | P12: F | Q12: F | R12: T | AW12: 5103C29091FF77306803239A2711E7562562B09DAA91D1C8B10E0C7775886F3D3AA5
A13: 비계안정장치 | B13: 비계안정장치, 발판, 40*200*2000 | C13: 장 | D13: 0.63 | E13: ='자재 및 노임단가'!O25 -> 15000 | F13: =TRUNC(E13*D13,1) -> 9450 | G13: ='자재 및 노임단가'!P25 -> 0 | H13: =TRUNC(G13*D13,1) -> 0 | I13: ='자재 및 노임단가'!V25 -> 0 | J13: =TRUNC(I13*D13,1) -> 0 | K13: =TRUNC(E13+G13+I13,1) -> 15000 | L13: =TRUNC(F13+H13+J13,1) -> 9450 | N13: 5103C29091FF77306803239A2711E7 | O13: 562562B09DAA91D1C8B10E0C5745C797A805EC | P13: F | Q13: F | R13: T | AW13: 5103C29091FF77306803239A2711E7562562B09DAA91D1C8B10E0C5745C797A805EC
A14: 강관 조립말비계(이동식)설치 및 해체 | B14: 높이 2m, 노무비 | C14: 대 | D14: 1 | E14: =일위대가목록!E32 -> 0 | F14: =TRUNC(E14*D14,1) -> 0 | G14: =일위대가목록!F32 -> 93090 | H14: =TRUNC(G14*D14,1) -> 93090 | I14: =일위대가목록!G32 -> 0 | J14: =TRUNC(I14*D14,1) -> 0 | K14: =TRUNC(E14+G14+I14,1) -> 93090 | L14: =TRUNC(F14+H14+J14,1) -> 93090 | M14: 호표 29 | N14: 5103C29091FF77306803239A2711E7 | O14: 5103C29091FF773068032389B73FC8 | P14: T | Q14: F | R14: F | AW14: 5103C29091FF77306803239A2711E75103C29091FF773068032389B73FC8
A15: [ 합 계 ] | F15: =TRUNC(SUMIF(N5:N14, N4, F5:F14),0) -> 30934 | H15: =TRUNC(SUMIF(N5:N14, N4, H5:H14),0) -> 93090 | J15: =TRUNC(SUMIF(N5:N14, N4, J5:J14),0) -> 0 | L15: =F15+H15+J15 -> 124024 | N15: TOTAL | O15: TOTAL
A17: 건축물현장정리 인테리어 M2 공통 2-11-2, 차용 ( 호표 2 ) | N17: 5103C29094B06FE1F8CE6313A7BA11
A18: 보통인부 | B18: 일반공사 직종 | C18: 인 | D18: 0.035 | E18: ='자재 및 노임단가'!O45 -> 0 | F18: =TRUNC(E18*D18,1) -> 0 | G18: ='자재 및 노임단가'!P45 -> 161858 | H18: =TRUNC(G18*D18,1) -> 5665 | I18: ='자재 및 노임단가'!V45 -> 0 | J18: =TRUNC(I18*D18,1) -> 0 | K18: =TRUNC(E18+G18+I18,1) -> 161858 | L18: =TRUNC(F18+H18+J18,1) -> 5665 | N18: 5103C29094B06FE1F8CE6313A7BA11 | O18: 51D052209D26FBA708579E3847D41FE567EAF5 | P18: F | Q18: F | R18: T | AW18: 5103C29094B06FE1F8CE6313A7BA1151D052209D26FBA708579E3847D41FE567EAF5
A19: [ 합 계 ] | F19: =TRUNC(SUMIF(N18:N18, N17, F18:F18),0) -> 0 | H19: =TRUNC(SUMIF(N18:N18, N17, H18:H18),0) -> 5665 | J19: =TRUNC(SUMIF(N18:N18, N17, J18:J18),0) -> 0 | L19: =F19+H19+J19 -> 5665 | N19: TOTAL | O19: TOTAL
A21: 콩자갈깔기 바닥, 지정콩자갈, 에폭시 10mm M2 ( 호표 3 ) | N21: 510302B09D64F9DA38A726BC57B610
A22: 콩자갈수지포장 | B22: t:10 미장시공 | C22: M2 | D22: 1 | E22: ='자재 및 노임단가'!O5 -> 70000 | F22: =TRUNC(E22*D22,1) -> 70000 | G22: ='자재 및 노임단가'!P5 -> 0 | H22: =TRUNC(G22*D22,1) -> 0 | I22: ='자재 및 노임단가'!V5 -> 0 | J22: =TRUNC(I22*D22,1) -> 0 | K22: =TRUNC(E22+G22+I22,1) -> 70000 | L22: =TRUNC(F22+H22+J22,1) -> 70000 | N22: 510302B09D64F9DA38A726BC57B610 | O22: 560A82C0914394F608BD8296A7F8F3938EFFCA | P22: F | Q22: F | R22: T | AW22: 510302B09D64F9DA38A726BC57B610560A82C0914394F608BD8296A7F8F3938EFFCA
A23: [ 합 계 ] | F23: =TRUNC(SUMIF(N22:N22, N21, F22:F22),0) -> 70000 | H23: =TRUNC(SUMIF(N22:N22, N21, H22:H22),0) -> 0 | J23: =TRUNC(SUMIF(N22:N22, N21, J22:J22),0) -> 0 | L23: =F23+H23+J23 -> 70000 | N23: TOTAL | O23: TOTAL
A25: 타일 붙임 / 접착 붙이기 - 모자이크 계단하부, 지정색 줄눈(초록색) M2 건축 3-2-3, 건축 3-1-2 ( 호표 4 ) | N25: 510302B09E0FC39BA8660968A7CF7D
A26: 에폭시접착제 | B26: 에폭시접착제, 세라믹타일용 | C26: kg | D26: 1.71 | E26: ='자재 및 노임단가'!O32 -> 2350 | F26: =TRUNC(E26*D26,1) -> 4018.5 | G26: ='자재 및 노임단가'!P32 -> 0 | H26: =TRUNC(G26*D26,1) -> 0 | I26: ='자재 및 노임단가'!V32 -> 0 | J26: =TRUNC(I26*D26,1) -> 0 | K26: =TRUNC(E26+G26+I26,1) -> 2350 | L26: =TRUNC(F26+H26+J26,1) -> 4018.5 | N26: 510302B09E0FC39BA8660968A7CF7D | O26: 5625724091A160AAD8926EEC37158482B1D4AE | P26: F | Q26: F | R26: T | AW26: 510302B09E0FC39BA8660968A7CF7D5625724091A160AAD8926EEC37158482B1D4AE
A27: 타일시멘트 | B27: 타일시멘트, 줄눈용, 백색 | C27: kg | D27: 1.48 | E27: ='자재 및 노임단가'!O9 -> 268 | F27: =TRUNC(E27*D27,1) -> 396.6 | G27: ='자재 및 노임단가'!P9 -> 0 | H27: =TRUNC(G27*D27,1) -> 0 | I27: ='자재 및 노임단가'!V9 -> 0 | J27: =TRUNC(I27*D27,1) -> 0 | K27: =TRUNC(E27+G27+I27,1) -> 268 | L27: =TRUNC(F27+H27+J27,1) -> 396.6 | N27: 510302B09E0FC39BA8660968A7CF7D | O27: 562562B09DA25B10E8C01A2EB730A954A76EF2 | P27: F | Q27: F | R27: T | AW27: 510302B09E0FC39BA8660968A7CF7D562562B09DA25B10E8C01A2EB730A954A76EF2
A28: 타일 붙임 / 접착 붙이기 - 모자이크(유니트형) | B28: 벽면, 타일규격(m2), 0.04∼0.10 이하 | C28: M2 | D28: 1 | E28: =일위대가목록!E33 -> 0 | F28: =TRUNC(E28*D28,1) -> 0 | G28: =일위대가목록!F33 -> 34675 | H28: =TRUNC(G28*D28,1) -> 34675 | I28: =일위대가목록!G33 -> 832 | J28: =TRUNC(I28*D28,1) -> 832 | K28: =TRUNC(E28+G28+I28,1) -> 35507 | L28: =TRUNC(F28+H28+J28,1) -> 35507 | M28: 호표 30 | N28: 510302B09E0FC39BA8660968A7CF7D | O28: 510302B09E0FC39BA8660968A7CD4B | P28: T | Q28: F | R28: F | AW28: 510302B09E0FC39BA8660968A7CF7D510302B09E0FC39BA8660968A7CD4B
A29: 타일줄눈 설치 / 벽면 | B29: 타일규격 m2, 0.04 ~ 0.10 이하 | C29: M2 | D29: 1 | E29: =일위대가목록!E34 -> 0 | F29: =TRUNC(E29*D29,1) -> 0 | G29: =일위대가목록!F34 -> 3782 | H29: =TRUNC(G29*D29,1) -> 3782 | I29: =일위대가목록!G34 -> 0 | J29: =TRUNC(I29*D29,1) -> 0 | K29: =TRUNC(E29+G29+I29,1) -> 3782 | L29: =TRUNC(F29+H29+J29,1) -> 3782 | M29: 호표 31 | N29: 510302B09E0FC39BA8660968A7CF7D | O29: 510302B09E0FC81DE81E0AD127ECC3 | P29: T | Q29: F | R29: F | AW29: 510302B09E0FC39BA8660968A7CF7D510302B09E0FC81DE81E0AD127ECC3
A30: [ 합 계 ] | F30: =TRUNC(SUMIF(N26:N29, N25, F26:F29),0) -> 4415 | H30: =TRUNC(SUMIF(N26:N29, N25, H26:H29),0) -> 38457 | J30: =TRUNC(SUMIF(N26:N29, N25, J26:J29),0) -> 832 | L30: =F30+H30+J30 -> 43704 | N30: TOTAL | O30: TOTAL
A32: 기존면 바탕정리 바닥, 그라인딩 M2 건축 9-2-1 ( 호표 5 ) | N32: 5103A24093CB2DC5F81E8935873350
A33: 견출공 | B33: 일반공사 직종 | C33: 인 | D33: 0.011 | E33: ='자재 및 노임단가'!O51 -> 0 | F33: =TRUNC(E33*D33,1) -> 0 | G33: ='자재 및 노임단가'!P51 -> 240727 | H33: =TRUNC(G33*D33,1) -> 2647.9 | I33: ='자재 및 노임단가'!V51 -> 0 | J33: =TRUNC(I33*D33,1) -> 0 | K33: =TRUNC(E33+G33+I33,1) -> 240727 | L33: =TRUNC(F33+H33+J33,1) -> 2647.9 | N33: 5103A24093CB2DC5F81E8935873350 | O33: 51D052209D26FBA708579E3847D41FE567E8CB | P33: F | Q33: F | R33: T | V33: 1 | AW33: 5103A24093CB2DC5F81E893587335051D052209D26FBA708579E3847D41FE567E8CB
A34: 공구손료 | B34: 인력품의 3% | C34: 식 | D34: 1 | E34: 0 | F34: =TRUNC(E34*D34,1) -> 0 | G34: 0 | H34: =TRUNC(G34*D34,1) -> 0 | I34: =TRUNC(SUMIF(V33:V34, RIGHTB(O34, 1), H33:H34)*U34, 2) -> 79.43 | J34: =TRUNC(I34*D34,1) -> 79.4 | K34: =TRUNC(E34+G34+I34,1) -> 79.4 | L34: =TRUNC(F34+H34+J34,1) -> 79.4 | N34: 5103A24093CB2DC5F81E8935873350 | O34: 501A82909084D51448F19BE8479D001 | P34: F | Q34: F | R34: F | S34: 1 | T34: 2 | U34: 0.03 | AW34: 5103A24093CB2DC5F81E8935873350501A82909084D51448F19BE8479D001
A35: [ 합 계 ] | F35: =TRUNC(SUMIF(N33:N34, N32, F33:F34),0) -> 0 | H35: =TRUNC(SUMIF(N33:N34, N32, H33:H34),0) -> 2647 | J35: =TRUNC(SUMIF(N33:N34, N32, J33:J34),0) -> 79 | L35: =F35+H35+J35 -> 2726 | N35: TOTAL | O35: TOTAL
A37: 강화마루 깔기 8mm, 지정 강화마루 M2 건축 5-1-3, 시공도 ( 호표 6 ) | N37: 510342D09B58E292285A5F4EC7C290
A38: 플로어링보드 | B38: 강화마루, 8×190×1200mm | C38: M2 | D38: 1 | E38: ='자재 및 노임단가'!O15 -> 34000 | F38: =TRUNC(E38*D38,1) -> 34000 | G38: ='자재 및 노임단가'!P15 -> 0 | H38: =TRUNC(G38*D38,1) -> 0 | I38: ='자재 및 노임단가'!V15 -> 0 | J38: =TRUNC(I38*D38,1) -> 0 | K38: =TRUNC(E38+G38+I38,1) -> 34000 | L38: =TRUNC(F38+H38+J38,1) -> 34000 | N38: 510342D09B58E292285A5F4EC7C290 | O38: 562562B09DA52FF218F8185F6788D0649F7EA0 | P38: F | Q38: F | R38: T | AW38: 510342D09B58E292285A5F4EC7C290562562B09DA52FF218F8185F6788D0649F7EA0
A39: [ 합 계 ] | F39: =TRUNC(SUMIF(N38:N38, N37, F38:F38),0) -> 34000 | H39: =TRUNC(SUMIF(N38:N38, N37, H38:H38),0) -> 0 | J39: =TRUNC(SUMIF(N38:N38, N37, J38:J38),0) -> 0 | L39: =F39+H39+J39 -> 34000 | N39: TOTAL | O39: TOTAL
A41: 강화마루 프로파일[강화마루깔기에 품포함] 5.8T × 28mm × 2000mm M ( 호표 7 ) | N41: 510342D09B58E292285A5F4EC7CAE6
A42: 플로어링보드 프로파일 | B42: 5.8T × 28mm × 2000mm | C42: M | D42: 1.1 | E42: ='자재 및 노임단가'!O16 -> 4000 | F42: =TRUNC(E42*D42,1) -> 4400 | G42: ='자재 및 노임단가'!P16 -> 0 | H42: =TRUNC(G42*D42,1) -> 0 | I42: ='자재 및 노임단가'!V16 -> 0 | J42: =TRUNC(I42*D42,1) -> 0 | K42: =TRUNC(E42+G42+I42,1) -> 4000 | L42: =TRUNC(F42+H42+J42,1) -> 4400 | N42: 510342D09B58E292285A5F4EC7CAE6 | O42: 562562B09DA52FF218F8185F6788D0649F7EA5 | P42: F | Q42: F | R42: T | AW42: 510342D09B58E292285A5F4EC7CAE6562562B09DA52FF218F8185F6788D0649F7EA5
A43: [ 합 계 ] | F43: =TRUNC(SUMIF(N42:N42, N41, F42:F42),0) -> 4400 | H43: =TRUNC(SUMIF(N42:N42, N41, H42:H42),0) -> 0 | J43: =TRUNC(SUMIF(N42:N42, N41, J42:J42),0) -> 0 | L43: =F43+H43+J43 -> 4400 | N43: TOTAL | O43: TOTAL
A45: 인조잔디 깔기 나일론, 10*1820mm, 전면접합 M2 건축 5-1-1 ( 호표 8 ) | N45: 510322809DA9BC25B84B6E11B7870F
A46: 인조잔디 | B46: 인조잔디, 나일론, 10*1820mm | C46: M2 | D46: 1.05 | E46: ='자재 및 노임단가'!O10 -> 24900 | F46: =TRUNC(E46*D46,1) -> 26145 | G46: ='자재 및 노임단가'!P10 -> 0 | H46: =TRUNC(G46*D46,1) -> 0 | I46: ='자재 및 노임단가'!V10 -> 0 | J46: =TRUNC(I46*D46,1) -> 0 | K46: =TRUNC(E46+G46+I46,1) -> 24900 | L46: =TRUNC(F46+H46+J46,1) -> 26145 | N46: 510322809DA9BC25B84B6E11B7870F | O46: 562562B09DA1B2F7181CDC087774F3B2A2265A | P46: F | Q46: F | R46: T | AW46: 510322809DA9BC25B84B6E11B7870F562562B09DA1B2F7181CDC087774F3B2A2265A
A47: PVC계 바닥재 설치 - 시트 | B47: 주재료 제외, 전면접합 | C47: M2 | D47: 1 | E47: =일위대가목록!E35 -> 1017 | F47: =TRUNC(E47*D47,1) -> 1017 | G47: =일위대가목록!F35 -> 6343 | H47: =TRUNC(G47*D47,1) -> 6343 | I47: =일위대가목록!G35 -> 0 | J47: =TRUNC(I47*D47,1) -> 0 | K47: =TRUNC(E47+G47+I47,1) -> 7360 | L47: =TRUNC(F47+H47+J47,1) -> 7360 | M47: 호표 32 | N47: 510322809DA9BC25B84B6E11B7870F | O47: 510322809DA9BC25B84B6E11A7E1AB | P47: T | Q47: F | R47: F | AW47: 510322809DA9BC25B84B6E11B7870F510322809DA9BC25B84B6E11A7E1AB
A48: [ 합 계 ] | F48: =TRUNC(SUMIF(N46:N47, N45, F46:F47),0) -> 27162 | H48: =TRUNC(SUMIF(N46:N47, N45, H46:H47),0) -> 6343 | J48: =TRUNC(SUMIF(N46:N47, N45, J46:J47),0) -> 0 | L48: =F48+H48+J48 -> 33505 | N48: TOTAL | O48: TOTAL
A50: 석고판 설치(나사고정) - 바탕용 천장, 9.5t*2겹 붙임 M2 건축 5-2-3 ( 호표 9 ) | N50: 510322809F544453D8FA855127C58D
A51: 석고보드 | B51: 석고보드, 평보드, 9.5*900*2400mm(㎡) | C51: M2 | D51: 2.1 | E51: ='자재 및 노임단가'!O14 -> 2725 | F51: =TRUNC(E51*D51,1) -> 5722.5 | G51: ='자재 및 노임단가'!P14 -> 0 | H51: =TRUNC(G51*D51,1) -> 0 | I51: ='자재 및 노임단가'!V14 -> 0 | J51: =TRUNC(I51*D51,1) -> 0 | K51: =TRUNC(E51+G51+I51,1) -> 2725 | L51: =TRUNC(F51+H51+J51,1) -> 5722.5 | N51: 510322809F544453D8FA855127C58D | O51: 562562B09DA52FF05821F28FC76949844995F2 | P51: F | Q51: F | R51: T | AW51: 510322809F544453D8FA855127C58D562562B09DA52FF05821F28FC76949844995F2
A52: 석고판 설치(나사고정) - 바탕용 | B52: 천장, 2겹 붙임 | C52: M2 | D52: 1 | E52: =일위대가목록!E36 -> 0 | F52: =TRUNC(E52*D52,1) -> 0 | G52: =일위대가목록!F36 -> 19031 | H52: =TRUNC(G52*D52,1) -> 19031 | I52: =일위대가목록!G36 -> 190 | J52: =TRUNC(I52*D52,1) -> 190 | K52: =TRUNC(E52+G52+I52,1) -> 19221 | L52: =TRUNC(F52+H52+J52,1) -> 19221 | M52: 호표 33 | N52: 510322809F544453D8FA855127C58D | O52: 510322809F544453D8FA855127C588 | P52: T | Q52: F | R52: F | AW52: 510322809F544453D8FA855127C58D510322809F544453D8FA855127C588
A53: [ 합 계 ] | F53: =TRUNC(SUMIF(N51:N52, N50, F51:F52),0) -> 5722 | H53: =TRUNC(SUMIF(N51:N52, N50, H51:H52),0) -> 19031 | J53: =TRUNC(SUMIF(N51:N52, N50, J51:J52),0) -> 190 | L53: =F53+H53+J53 -> 24943 | N53: TOTAL | O53: TOTAL
A55: 오픈 단부 마감 천정, H:90, 합판 9t+각파이프ㅁ-30*30*2.1t M 건축 8-3-1,건축 4-2-3 ( 호표 10 ) | N55: 510322809F52994B785E718307A2D6
A56: 아연도각관 | B56: 30*30*t2.3mm, 1.894kg/m | C56: M | D56: 1.05 | E56: ='자재 및 노임단가'!O40 -> 2420 | F56: =TRUNC(E56*D56,1) -> 2541 | G56: ='자재 및 노임단가'!P40 -> 0 | H56: =TRUNC(G56*D56,1) -> 0 | I56: ='자재 및 노임단가'!V40 -> 0 | J56: =TRUNC(I56*D56,1) -> 0 | K56: =TRUNC(E56+G56+I56,1) -> 2420 | L56: =TRUNC(F56+H56+J56,1) -> 2541 | N56: 510322809F52994B785E718307A2D6 | O56: 5652B22093117C8B386CB9A4B719769CE1DC6F | P56: F | Q56: F | R56: T | AW56: 510322809F52994B785E718307A2D65652B22093117C8B386CB9A4B719769CE1DC6F
A57: 잡철물 제작 및 설치 | B57: 규격철물 설치, 일반철재 | C57: kg | D57: 1.894 | E57: =일위대가목록!E37 -> 87 | F57: =TRUNC(E57*D57,1) -> 164.7 | G57: =일위대가목록!F37 -> 2905 | H57: =TRUNC(G57*D57,1) -> 5502 | I57: =일위대가목록!G37 -> 145 | J57: =TRUNC(I57*D57,1) -> 274.6 | K57: =TRUNC(E57+G57+I57,1) -> 3137 | L57: =TRUNC(F57+H57+J57,1) -> 5941.3 | M57: 호표 34 | N57: 510322809F52994B785E718307A2D6 | O57: 510372009330898FB8544261A76C0A | P57: T | Q57: F | R57: F | AW57: 510322809F52994B785E718307A2D6510372009330898FB8544261A76C0A
A58: 철강설 | B58: 철강설, 고철, 작업설부산물 | C58: kg | D58: -0.0947 | E58: ='자재 및 노임단가'!O8 -> 375 | F58: =TRUNC(E58*D58,1) -> -35.5 | G58: ='자재 및 노임단가'!P8 -> 0 | H58: =TRUNC(G58*D58,1) -> 0 | I58: ='자재 및 노임단가'!V8 -> 0 | J58: =TRUNC(I58*D58,1) -> 0 | K58: =TRUNC(E58+G58+I58,1) -> 375 | L58: =TRUNC(F58+H58+J58,1) -> -35.5 | M58: 수집상차도 | N58: 510322809F52994B785E718307A2D6 | O58: 560A82C0914BEA6F3869C83FA74BAC6E2C1122 | P58: F | Q58: F | R58: T | AW58: 510322809F52994B785E718307A2D6560A82C0914BEA6F3869C83FA74BAC6E2C1122
A59: 보통합판 | B59: 보통합판, 1급, 9.0*1220*2440mm | C59: M2 | D59: 0.0945 | E59: ='자재 및 노임단가'!O7 -> 8580 | F59: =TRUNC(E59*D59,1) -> 810.8 | G59: ='자재 및 노임단가'!P7 -> 0 | H59: =TRUNC(G59*D59,1) -> 0 | I59: ='자재 및 노임단가'!V7 -> 0 | J59: =TRUNC(I59*D59,1) -> 0 | K59: =TRUNC(E59+G59+I59,1) -> 8580 | L59: =TRUNC(F59+H59+J59,1) -> 810.8 | N59: 510322809F52994B785E718307A2D6 | O59: 560A82C09140C3E64880492CB7180E25030414 | P59: F | Q59: F | R59: T | AW59: 510322809F52994B785E718307A2D6560A82C09140C3E64880492CB7180E25030414
A60: 벽체합판 설치 | B60: 합판 별도 | C60: M2 | D60: 0.09 | E60: =일위대가목록!E38 -> 0 | F60: =TRUNC(E60*D60,1) -> 0 | G60: =일위대가목록!F38 -> 17029 | H60: =TRUNC(G60*D60,1) -> 1532.6 | I60: =일위대가목록!G38 -> 340 | J60: =TRUNC(I60*D60,1) -> 30.6 | K60: =TRUNC(E60+G60+I60,1) -> 17369 | L60: =TRUNC(F60+H60+J60,1) -> 1563.2 | M60: 호표 35 | N60: 510322809F52994B785E718307A2D6 | O60: 510322809F52994B785E718307A3FD | P60: T | Q60: F | R60: F | AW60: 510322809F52994B785E718307A2D6510322809F52994B785E718307A3FD
A61: [ 합 계 ] | F61: =TRUNC(SUMIF(N56:N60, N55, F56:F60),0) -> 3481 | H61: =TRUNC(SUMIF(N56:N60, N55, H56:H60),0) -> 7034 | J61: =TRUNC(SUMIF(N56:N60, N55, J56:J60),0) -> 305 | L61: =F61+H61+J61 -> 10820 | N61: TOTAL | O61: TOTAL
A63: 오픈 단부 마감 [곡면부] 천정, H:90, 합판 4.8t*2겹+각파이프ㅁ-30*30*2.1t M 건축 8-3-1,건축 4-2-3 ( 호표 11 ) | N63: 510322809F52994B785E718307A1CF
A64: 아연도각관 | B64: 30*30*t2.3mm, 1.894kg/m | C64: M | D64: 1.05 | E64: ='자재 및 노임단가'!O40 -> 2420 | F64: =TRUNC(E64*D64,1) -> 2541 | G64: ='자재 및 노임단가'!P40 -> 0 | H64: =TRUNC(G64*D64,1) -> 0 | I64: ='자재 및 노임단가'!V40 -> 0 | J64: =TRUNC(I64*D64,1) -> 0 | K64: =TRUNC(E64+G64+I64,1) -> 2420 | L64: =TRUNC(F64+H64+J64,1) -> 2541 | N64: 510322809F52994B785E718307A1CF | O64: 5652B22093117C8B386CB9A4B719769CE1DC6F | P64: F | Q64: F | R64: T | AW64: 510322809F52994B785E718307A1CF5652B22093117C8B386CB9A4B719769CE1DC6F
A65: 잡철물 제작 및 설치 | B65: 현장제작 설치, 일반철재 | C65: kg | D65: 1.894 | E65: =일위대가목록!E39 -> 151 | F65: =TRUNC(E65*D65,1) -> 285.9 | G65: =일위대가목록!F39 -> 5040 | H65: =TRUNC(G65*D65,1) -> 9545.7 | I65: =일위대가목록!G39 -> 252 | J65: =TRUNC(I65*D65,1) -> 477.2 | K65: =TRUNC(E65+G65+I65,1) -> 5443 | L65: =TRUNC(F65+H65+J65,1) -> 10308.8 | M65: 호표 36 | N65: 510322809F52994B785E718307A1CF | O65: 510372009330898FB866A27C5798C3 | P65: T | Q65: F | R65: F | AW65: 510322809F52994B785E718307A1CF510372009330898FB866A27C5798C3
A66: 철강설 | B66: 철강설, 고철, 작업설부산물 | C66: kg | D66: -0.0947 | E66: ='자재 및 노임단가'!O8 -> 375 | F66: =TRUNC(E66*D66,1) -> -35.5 | G66: ='자재 및 노임단가'!P8 -> 0 | H66: =TRUNC(G66*D66,1) -> 0 | I66: ='자재 및 노임단가'!V8 -> 0 | J66: =TRUNC(I66*D66,1) -> 0 | K66: =TRUNC(E66+G66+I66,1) -> 375 | L66: =TRUNC(F66+H66+J66,1) -> -35.5 | M66: 수집상차도 | N66: 510322809F52994B785E718307A1CF | O66: 560A82C0914BEA6F3869C83FA74BAC6E2C1122 | P66: F | Q66: F | R66: T | AW66: 510322809F52994B785E718307A1CF560A82C0914BEA6F3869C83FA74BAC6E2C1122
A67: 보통합판 | B67: 보통합판, 1급, 4.8*1220*2440mm | C67: M2 | D67: 0.189 | E67: ='자재 및 노임단가'!O6 -> 4348 | F67: =TRUNC(E67*D67,1) -> 821.7 | G67: ='자재 및 노임단가'!P6 -> 0 | H67: =TRUNC(G67*D67,1) -> 0 | I67: ='자재 및 노임단가'!V6 -> 0 | J67: =TRUNC(I67*D67,1) -> 0 | K67: =TRUNC(E67+G67+I67,1) -> 4348 | L67: =TRUNC(F67+H67+J67,1) -> 821.7 | N67: 510322809F52994B785E718307A1CF | O67: 560A82C09140C3E64880492CB7180E25030410 | P67: F | Q67: F | R67: T | AW67: 510322809F52994B785E718307A1CF560A82C09140C3E64880492CB7180E25030410
A68: 벽체합판 설치 | B68: 합판 별도 | C68: M2 | D68: 0.18 | E68: =일위대가목록!E38 -> 0 | F68: =TRUNC(E68*D68,1) -> 0 | G68: =일위대가목록!F38 -> 17029 | H68: =TRUNC(G68*D68,1) -> 3065.2 | I68: =일위대가목록!G38 -> 340 | J68: =TRUNC(I68*D68,1) -> 61.2 | K68: =TRUNC(E68+G68+I68,1) -> 17369 | L68: =TRUNC(F68+H68+J68,1) -> 3126.4 | M68: 호표 35 | N68: 510322809F52994B785E718307A1CF | O68: 510322809F52994B785E718307A3FD | P68: T | Q68: F | R68: F | AW68: 510322809F52994B785E718307A1CF510322809F52994B785E718307A3FD
A69: [ 합 계 ] | F69: =TRUNC(SUMIF(N64:N68, N63, F64:F68),0) -> 3613 | H69: =TRUNC(SUMIF(N64:N68, N63, H64:H68),0) -> 12610 | J69: =TRUNC(SUMIF(N64:N68, N63, J64:J68),0) -> 538 | L69: =F69+H69+J69 -> 16761 | N69: TOTAL | O69: TOTAL
A71: 캡 설치 [배기구멍] Φ100, 실리콘 마감 EA ( 호표 12 ) | N71: 510322809824D2FB2810970107B5DA
A72: 배기후드 캡 | C72: EA | D72: 1 | E72: ='자재 및 노임단가'!O12 -> 15000 | F72: =TRUNC(E72*D72,1) -> 15000 | G72: ='자재 및 노임단가'!P12 -> 0 | H72: =TRUNC(G72*D72,1) -> 0 | I72: ='자재 및 노임단가'!V12 -> 0 | J72: =TRUNC(I72*D72,1) -> 0 | K72: =TRUNC(E72+G72+I72,1) -> 15000 | L72: =TRUNC(F72+H72+J72,1) -> 15000 | N72: 510322809824D2FB2810970107B5DA | O72: 562562B09DA6343138A7311C278D5506E8D23A | P72: F | Q72: F | R72: T | AW72: 510322809824D2FB2810970107B5DA562562B09DA6343138A7311C278D5506E8D23A
A73: 덕트공 | B73: 일반공사 직종 | C73: 인 | D73: 0.0125 | E73: ='자재 및 노임단가'!O57 -> 0 | F73: =TRUNC(E73*D73,1) -> 0 | G73: ='자재 및 노임단가'!P57 -> 203376 | H73: =TRUNC(G73*D73,1) -> 2542.2 | I73: ='자재 및 노임단가'!V57 -> 0 | J73: =TRUNC(I73*D73,1) -> 0 | K73: =TRUNC(E73+G73+I73,1) -> 203376 | L73: =TRUNC(F73+H73+J73,1) -> 2542.2 | N73: 510322809824D2FB2810970107B5DA | O73: 51D052209D26FBA708579E3847D41FE567EE51 | P73: F | Q73: F | R73: T | AW73: 510322809824D2FB2810970107B5DA51D052209D26FBA708579E3847D41FE567EE51
A74: 수밀코킹(실리콘) | B74: 5㎜*5㎜ | C74: M | D74: 0.628 | E74: =일위대가목록!E40 -> 570 | F74: =TRUNC(E74*D74,1) -> 357.9 | G74: =일위대가목록!F40 -> 4994 | H74: =TRUNC(G74*D74,1) -> 3136.2 | I74: =일위대가목록!G40 -> 0 | J74: =TRUNC(I74*D74,1) -> 0 | K74: =TRUNC(E74+G74+I74,1) -> 5564 | L74: =TRUNC(F74+H74+J74,1) -> 3494.1 | M74: 호표 37 | N74: 510322809824D2FB2810970107B5DA | O74: 510352C09672651648DEF57437FCBE | P74: T | Q74: F | R74: F | AW74: 510322809824D2FB2810970107B5DA510352C09672651648DEF57437FCBE
A75: [ 합 계 ] | F75: =TRUNC(SUMIF(N72:N74, N71, F72:F74),0) -> 15357 | H75: =TRUNC(SUMIF(N72:N74, N71, H72:H74),0) -> 5678 | J75: =TRUNC(SUMIF(N72:N74, N71, J72:J74),0) -> 0 | L75: =F75+H75+J75 -> 21035 | N75: TOTAL | O75: TOTAL
A77: 지정색 시트지 부착 SSTL 프레임 M2 ( 호표 13 ) | N77: 510322809824D2FB2810970137076C
A78: 인테리어필름 | B78: 0.42*1.22, 메탈계, 방염 | C78: M2 | D78: 1 | E78: ='자재 및 노임단가'!O13 -> 30000 | F78: =TRUNC(E78*D78,1) -> 30000 | G78: ='자재 및 노임단가'!P13 -> 0 | H78: =TRUNC(G78*D78,1) -> 0 | I78: ='자재 및 노임단가'!V13 -> 0 | J78: =TRUNC(I78*D78,1) -> 0 | K78: =TRUNC(E78+G78+I78,1) -> 30000 | L78: =TRUNC(F78+H78+J78,1) -> 30000 | N78: 510322809824D2FB2810970137076C | O78: 562562B09DA52FF0582137AA77E7AD9BF192C3 | P78: F | Q78: F | R78: T | AW78: 510322809824D2FB2810970137076C562562B09DA52FF0582137AA77E7AD9BF192C3
A79: [ 합 계 ] | F79: =TRUNC(SUMIF(N78:N78, N77, F78:F78),0) -> 30000 | H79: =TRUNC(SUMIF(N78:N78, N77, H78:H78),0) -> 0 | J79: =TRUNC(SUMIF(N78:N78, N77, J78:J78),0) -> 0 | L79: =F79+H79+J79 -> 30000 | N79: TOTAL | O79: TOTAL
A81: 수성페인트 붓칠 내천장 2회, 친환경, 설비파이프 M2 건축 11-2-1 ( 호표 14 ) | N81: 510332F090A62637F8C99338A78525
A82: 수성페인트 붓칠 재료비 | B82: 내부, 2회, 친환경 | C82: M2 | D82: 1 | E82: =일위대가목록!E42 -> 826 | F82: =TRUNC(E82*D82,1) -> 826 | G82: =일위대가목록!F42 -> 0 | H82: =TRUNC(G82*D82,1) -> 0 | I82: =일위대가목록!G42 -> 0 | J82: =TRUNC(I82*D82,1) -> 0 | K82: =TRUNC(E82+G82+I82,1) -> 826 | L82: =TRUNC(F82+H82+J82,1) -> 826 | M82: 호표 39 | N82: 510332F090A62637F8C99338A78525 | O82: 510332F090A62637F88368C9B7DC6F | P82: T | Q82: F | R82: F | AW82: 510332F090A62637F8C99338A78525510332F090A62637F88368C9B7DC6F
A83: 수성페인트 붓칠 | B83: 천장 2회 노무비 | C83: M2 | D83: 1 | E83: =일위대가목록!E43 -> 245 | F83: =TRUNC(E83*D83,1) -> 245 | G83: =일위대가목록!F43 -> 14752 | H83: =TRUNC(G83*D83,1) -> 14752 | I83: =일위대가목록!G43 -> 0 | J83: =TRUNC(I83*D83,1) -> 0 | K83: =TRUNC(E83+G83+I83,1) -> 14997 | L83: =TRUNC(F83+H83+J83,1) -> 14997 | M83: 호표 40 | N83: 510332F090A62637F8C99338A78525 | O83: 510332F090A62637F89DEDC5E77ACF | P83: T | Q83: F | R83: F | AW83: 510332F090A62637F8C99338A78525510332F090A62637F89DEDC5E77ACF
A84: [ 합 계 ] | F84: =TRUNC(SUMIF(N82:N83, N81, F82:F83),0) -> 1071 | H84: =TRUNC(SUMIF(N82:N83, N81, H82:H83),0) -> 14752 | J84: =TRUNC(SUMIF(N82:N83, N81, J82:J83),0) -> 0 | L84: =F84+H84+J84 -> 15823 | N84: TOTAL | O84: TOTAL
A86: 바탕만들기+수성페인트 롤러칠 내부 2회, 친환경, 지정색-1 M2 건축 11-1-1,건축 11-2-2 ( 호표 15 ) | N86: 510332F090A62636D8231660774132
A87: con'c, mortar면 바탕만들기 재료비 | B87: 내부, 친환경 | C87: M2 | D87: 1 | E87: =일위대가목록!E44 -> 36 | F87: =TRUNC(E87*D87,1) -> 36 | G87: =일위대가목록!F44 -> 0 | H87: =TRUNC(G87*D87,1) -> 0 | I87: =일위대가목록!G44 -> 0 | J87: =TRUNC(I87*D87,1) -> 0 | K87: =TRUNC(E87+G87+I87,1) -> 36 | L87: =TRUNC(F87+H87+J87,1) -> 36 | M87: 호표 41 | N87: 510332F090A62636D8231660774132 | O87: 510332E0901A8D09C827140407E345 | P87: T | Q87: F | R87: F | AW87: 510332F090A62636D8231660774132510332E0901A8D09C827140407E345
A88: con'c, mortar면 바탕만들기 | B88: 내부 친환경 노무비 | C88: M2 | D88: 1 | E88: =일위대가목록!E45 -> 79 | F88: =TRUNC(E88*D88,1) -> 79 | G88: =일위대가목록!F45 -> 2661 | H88: =TRUNC(G88*D88,1) -> 2661 | I88: =일위대가목록!G45 -> 0 | J88: =TRUNC(I88*D88,1) -> 0 | K88: =TRUNC(E88+G88+I88,1) -> 2740 | L88: =TRUNC(F88+H88+J88,1) -> 2740 | M88: 호표 42 | N88: 510332F090A62636D8231660774132 | O88: 510332E0901A8D09C8271431A7EBE8 | P88: T | Q88: F | R88: F | AW88: 510332F090A62636D8231660774132510332E0901A8D09C8271431A7EBE8
A89: 수성페인트 롤러칠 재료비 | B89: 내부, 2회, 친환경페인트 | C89: M2 | D89: 1 | E89: =일위대가목록!E46 -> 826 | F89: =TRUNC(E89*D89,1) -> 826 | G89: =일위대가목록!F46 -> 0 | H89: =TRUNC(G89*D89,1) -> 0 | I89: =일위대가목록!G46 -> 0 | J89: =TRUNC(I89*D89,1) -> 0 | K89: =TRUNC(E89+G89+I89,1) -> 826 | L89: =TRUNC(F89+H89+J89,1) -> 826 | M89: 호표 43 | N89: 510332F090A62636D8231660774132 | O89: 510332F090A62636D823314E27A12C | P89: T | Q89: F | R89: F | AW89: 510332F090A62636D8231660774132510332F090A62636D823314E27A12C
A90: 수성페인트 롤러칠 | B90: 2회 노무비 | C90: M2 | D90: 1 | E90: =일위대가목록!E47 -> 132 | F90: =TRUNC(E90*D90,1) -> 132 | G90: =일위대가목록!F47 -> 6646 | H90: =TRUNC(G90*D90,1) -> 6646 | I90: =일위대가목록!G47 -> 0 | J90: =TRUNC(I90*D90,1) -> 0 | K90: =TRUNC(E90+G90+I90,1) -> 6778 | L90: =TRUNC(F90+H90+J90,1) -> 6778 | M90: 호표 44 | N90: 510332F090A62636D8231660774132 | O90: 510332F090A62636D87B52E2C77B45 | P90: T | Q90: F | R90: F | AW90: 510332F090A62636D8231660774132510332F090A62636D87B52E2C77B45
A91: [ 합 계 ] | F91: =TRUNC(SUMIF(N87:N90, N86, F87:F90),0) -> 1073 | H91: =TRUNC(SUMIF(N87:N90, N86, H87:H90),0) -> 9307 | J91: =TRUNC(SUMIF(N87:N90, N86, J87:J90),0) -> 0 | L91: =F91+H91+J91 -> 10380 | N91: TOTAL | O91: TOTAL
A93: 바탕만들기+수성페인트 롤러칠 내부 2회, 친환경, 지정색-2 M2 건축 11-1-1,건축 11-2-2 ( 호표 16 ) | N93: 510332F090A62636D823166077402B
A94: con'c, mortar면 바탕만들기 재료비 | B94: 내부, 친환경 | C94: M2 | D94: 1 | E94: =일위대가목록!E44 -> 36 | F94: =TRUNC(E94*D94,1) -> 36 | G94: =일위대가목록!F44 -> 0 | H94: =TRUNC(G94*D94,1) -> 0 | I94: =일위대가목록!G44 -> 0 | J94: =TRUNC(I94*D94,1) -> 0 | K94: =TRUNC(E94+G94+I94,1) -> 36 | L94: =TRUNC(F94+H94+J94,1) -> 36 | M94: 호표 41 | N94: 510332F090A62636D823166077402B | O94: 510332E0901A8D09C827140407E345 | P94: T | Q94: F | R94: F | AW94: 510332F090A62636D823166077402B510332E0901A8D09C827140407E345
A95: con'c, mortar면 바탕만들기 | B95: 내부 친환경 노무비 | C95: M2 | D95: 1 | E95: =일위대가목록!E45 -> 79 | F95: =TRUNC(E95*D95,1) -> 79 | G95: =일위대가목록!F45 -> 2661 | H95: =TRUNC(G95*D95,1) -> 2661 | I95: =일위대가목록!G45 -> 0 | J95: =TRUNC(I95*D95,1) -> 0 | K95: =TRUNC(E95+G95+I95,1) -> 2740 | L95: =TRUNC(F95+H95+J95,1) -> 2740 | M95: 호표 42 | N95: 510332F090A62636D823166077402B | O95: 510332E0901A8D09C8271431A7EBE8 | P95: T | Q95: F | R95: F | AW95: 510332F090A62636D823166077402B510332E0901A8D09C8271431A7EBE8
A96: 수성페인트 롤러칠 재료비 | B96: 내부, 2회, 친환경페인트 | C96: M2 | D96: 1 | E96: =일위대가목록!E46 -> 826 | F96: =TRUNC(E96*D96,1) -> 826 | G96: =일위대가목록!F46 -> 0 | H96: =TRUNC(G96*D96,1) -> 0 | I96: =일위대가목록!G46 -> 0 | J96: =TRUNC(I96*D96,1) -> 0 | K96: =TRUNC(E96+G96+I96,1) -> 826 | L96: =TRUNC(F96+H96+J96,1) -> 826 | M96: 호표 43 | N96: 510332F090A62636D823166077402B | O96: 510332F090A62636D823314E27A12C | P96: T | Q96: F | R96: F | AW96: 510332F090A62636D823166077402B510332F090A62636D823314E27A12C
A97: 수성페인트 롤러칠 | B97: 2회 노무비 | C97: M2 | D97: 1 | E97: =일위대가목록!E47 -> 132 | F97: =TRUNC(E97*D97,1) -> 132 | G97: =일위대가목록!F47 -> 6646 | H97: =TRUNC(G97*D97,1) -> 6646 | I97: =일위대가목록!G47 -> 0 | J97: =TRUNC(I97*D97,1) -> 0 | K97: =TRUNC(E97+G97+I97,1) -> 6778 | L97: =TRUNC(F97+H97+J97,1) -> 6778 | M97: 호표 44 | N97: 510332F090A62636D823166077402B | O97: 510332F090A62636D87B52E2C77B45 | P97: T | Q97: F | R97: F | AW97: 510332F090A62636D823166077402B510332F090A62636D87B52E2C77B45
A98: [ 합 계 ] | F98: =TRUNC(SUMIF(N94:N97, N93, F94:F97),0) -> 1073 | H98: =TRUNC(SUMIF(N94:N97, N93, H94:H97),0) -> 9307 | J98: =TRUNC(SUMIF(N94:N97, N93, J94:J97),0) -> 0 | L98: =F98+H98+J98 -> 10380 | N98: TOTAL | O98: TOTAL
A100: 바탕만들기+수성페인트 롤러칠 2층 천장 2회, 기존면, 친환경 M2 건축 11-1-1,건축 11-2-2 ( 호표 17 ) | N100: 510332F090A62636D823B6B617BB12
A101: con'c, mortar면 바탕만들기 재료비 | B101: 내부, 친환경 | C101: M2 | D101: 1 | E101: =일위대가목록!E44 -> 36 | F101: =TRUNC(E101*D101,1) -> 36 | G101: =일위대가목록!F44 -> 0 | H101: =TRUNC(G101*D101,1) -> 0 | I101: =일위대가목록!G44 -> 0 | J101: =TRUNC(I101*D101,1) -> 0 | K101: =TRUNC(E101+G101+I101,1) -> 36 | L101: =TRUNC(F101+H101+J101,1) -> 36 | M101: 호표 41 | N101: 510332F090A62636D823B6B617BB12 | O101: 510332E0901A8D09C827140407E345 | P101: T | Q101: F | R101: F | AW101: 510332F090A62636D823B6B617BB12510332E0901A8D09C827140407E345
A102: con'c, mortar면 바탕만들기 | B102: 내천장 친환경 노무비 | C102: M2 | D102: 1 | E102: =일위대가목록!E48 -> 79 | F102: =TRUNC(E102*D102,1) -> 79 | G102: =일위대가목록!F48 -> 3193 | H102: =TRUNC(G102*D102,1) -> 3193 | I102: =일위대가목록!G48 -> 0 | J102: =TRUNC(I102*D102,1) -> 0 | K102: =TRUNC(E102+G102+I102,1) -> 3272 | L102: =TRUNC(F102+H102+J102,1) -> 3272 | M102: 호표 45 | N102: 510332F090A62636D823B6B617BB12 | O102: 510332E0901A8D09C827140477137B | P102: T | Q102: F | R102: F | AW102: 510332F090A62636D823B6B617BB12510332E0901A8D09C827140477137B
A103: 수성페인트 롤러칠 재료비 | B103: 내부, 2회, 친환경페인트 | C103: M2 | D103: 1 | E103: =일위대가목록!E46 -> 826 | F103: =TRUNC(E103*D103,1) -> 826 | G103: =일위대가목록!F46 -> 0 | H103: =TRUNC(G103*D103,1) -> 0 | I103: =일위대가목록!G46 -> 0 | J103: =TRUNC(I103*D103,1) -> 0 | K103: =TRUNC(E103+G103+I103,1) -> 826 | L103: =TRUNC(F103+H103+J103,1) -> 826 | M103: 호표 43 | N103: 510332F090A62636D823B6B617BB12 | O103: 510332F090A62636D823314E27A12C | P103: T | Q103: F | R103: F | AW103: 510332F090A62636D823B6B617BB12510332F090A62636D823314E27A12C
A104: 수성페인트 롤러칠 | B104: 천장 2회 노무비 | C104: M2 | D104: 1 | E104: =일위대가목록!E49 -> 132 | F104: =TRUNC(E104*D104,1) -> 132 | G104: =일위대가목록!F49 -> 7976 | H104: =TRUNC(G104*D104,1) -> 7976 | I104: =일위대가목록!G49 -> 0 | J104: =TRUNC(I104*D104,1) -> 0 | K104: =TRUNC(E104+G104+I104,1) -> 8108 | L104: =TRUNC(F104+H104+J104,1) -> 8108 | M104: 호표 46 | N104: 510332F090A62636D823B6B617BB12 | O104: 510332F090A62636D800519687291C | P104: T | Q104: F | R104: F | AW104: 510332F090A62636D823B6B617BB12510332F090A62636D800519687291C
A105: [ 합 계 ] | F105: =TRUNC(SUMIF(N101:N104, N100, F101:F104),0) -> 1073 | H105: =TRUNC(SUMIF(N101:N104, N100, H101:H104),0) -> 11169 | J105: =TRUNC(SUMIF(N101:N104, N100, J101:J104),0) -> 0 | L105: =F105+H105+J105 -> 12242 | N105: TOTAL | O105: TOTAL
A107: 바탕만들기+수성페인트 롤러칠 내천장 2회, con'c·mortar면, 친환경 M2 건축 11-1-1,건축 11-2-2 ( 호표 18 ) | N107: 510332F090A62636D823B6B617B85D
A108: con'c, mortar면 바탕만들기 재료비 | B108: 내부, 친환경 | C108: M2 | D108: 1 | E108: =일위대가목록!E44 -> 36 | F108: =TRUNC(E108*D108,1) -> 36 | G108: =일위대가목록!F44 -> 0 | H108: =TRUNC(G108*D108,1) -> 0 | I108: =일위대가목록!G44 -> 0 | J108: =TRUNC(I108*D108,1) -> 0 | K108: =TRUNC(E108+G108+I108,1) -> 36 | L108: =TRUNC(F108+H108+J108,1) -> 36 | M108: 호표 41 | N108: 510332F090A62636D823B6B617B85D | O108: 510332E0901A8D09C827140407E345 | P108: T | Q108: F | R108: F | AW108: 510332F090A62636D823B6B617B85D510332E0901A8D09C827140407E345
A109: con'c, mortar면 바탕만들기 | B109: 내천장 친환경 노무비 | C109: M2 | D109: 1 | E109: =일위대가목록!E48 -> 79 | F109: =TRUNC(E109*D109,1) -> 79 | G109: =일위대가목록!F48 -> 3193 | H109: =TRUNC(G109*D109,1) -> 3193 | I109: =일위대가목록!G48 -> 0 | J109: =TRUNC(I109*D109,1) -> 0 | K109: =TRUNC(E109+G109+I109,1) -> 3272 | L109: =TRUNC(F109+H109+J109,1) -> 3272 | M109: 호표 45 | N109: 510332F090A62636D823B6B617B85D | O109: 510332E0901A8D09C827140477137B | P109: T | Q109: F | R109: F | AW109: 510332F090A62636D823B6B617B85D510332E0901A8D09C827140477137B
A110: 수성페인트 롤러칠 재료비 | B110: 내부, 2회, 친환경페인트 | C110: M2 | D110: 1 | E110: =일위대가목록!E46 -> 826 | F110: =TRUNC(E110*D110,1) -> 826 | G110: =일위대가목록!F46 -> 0 | H110: =TRUNC(G110*D110,1) -> 0 | I110: =일위대가목록!G46 -> 0 | J110: =TRUNC(I110*D110,1) -> 0 | K110: =TRUNC(E110+G110+I110,1) -> 826 | L110: =TRUNC(F110+H110+J110,1) -> 826 | M110: 호표 43 | N110: 510332F090A62636D823B6B617B85D | O110: 510332F090A62636D823314E27A12C | P110: T | Q110: F | R110: F | AW110: 510332F090A62636D823B6B617B85D510332F090A62636D823314E27A12C
A111: 수성페인트 롤러칠 | B111: 천장 2회 노무비 | C111: M2 | D111: 1 | E111: =일위대가목록!E49 -> 132 | F111: =TRUNC(E111*D111,1) -> 132 | G111: =일위대가목록!F49 -> 7976 | H111: =TRUNC(G111*D111,1) -> 7976 | I111: =일위대가목록!G49 -> 0 | J111: =TRUNC(I111*D111,1) -> 0 | K111: =TRUNC(E111+G111+I111,1) -> 8108 | L111: =TRUNC(F111+H111+J111,1) -> 8108 | M111: 호표 46 | N111: 510332F090A62636D823B6B617B85D | O111: 510332F090A62636D800519687291C | P111: T | Q111: F | R111: F | AW111: 510332F090A62636D823B6B617B85D510332F090A62636D800519687291C
A112: [ 합 계 ] | F112: =TRUNC(SUMIF(N108:N111, N107, F108:F111),0) -> 1073 | H112: =TRUNC(SUMIF(N108:N111, N107, H108:H111),0) -> 11169 | J112: =TRUNC(SUMIF(N108:N111, N107, J108:J111),0) -> 0 | L112: =F112+H112+J112 -> 12242 | N112: TOTAL | O112: TOTAL
A114: 바탕만들기+수성페인트 롤러칠 내천장 2회, G.B.면 올퍼티, 친환경 M2 건축 11-1-2,건축 11-2-2 ( 호표 19 ) | N114: 510332F090A62636D823B6FDC74180
A115: 석고보드면 바탕만들기 재료비 | B115: 올퍼티, 친환경 | C115: M2 | D115: 1 | E115: =일위대가목록!E50 -> 859 | F115: =TRUNC(E115*D115,1) -> 859 | G115: =일위대가목록!F50 -> 0 | H115: =TRUNC(G115*D115,1) -> 0 | I115: =일위대가목록!G50 -> 0 | J115: =TRUNC(I115*D115,1) -> 0 | K115: =TRUNC(E115+G115+I115,1) -> 859 | L115: =TRUNC(F115+H115+J115,1) -> 859 | M115: 호표 47 | N115: 510332F090A62636D823B6FDC74180 | O115: 510332E0901A8D09C82726CD674BDB | P115: T | Q115: F | R115: F | AW115: 510332F090A62636D823B6FDC74180510332E0901A8D09C82726CD674BDB
A116: 석고보드면 바탕만들기 | B116: 올퍼티 천장 친환경, 노무비 | C116: M2 | D116: 1 | E116: =일위대가목록!E51 -> 776 | F116: =TRUNC(E116*D116,1) -> 776 | G116: =일위대가목록!F51 -> 23294 | H116: =TRUNC(G116*D116,1) -> 23294 | I116: =일위대가목록!G51 -> 0 | J116: =TRUNC(I116*D116,1) -> 0 | K116: =TRUNC(E116+G116+I116,1) -> 24070 | L116: =TRUNC(F116+H116+J116,1) -> 24070 | M116: 호표 48 | N116: 510332F090A62636D823B6FDC74180 | O116: 510332E0901A8D09C82726CD0720AA | P116: T | Q116: F | R116: F | AW116: 510332F090A62636D823B6FDC74180510332E0901A8D09C82726CD0720AA
A117: 수성페인트 롤러칠 재료비 | B117: 내부, 2회, 친환경페인트 | C117: M2 | D117: 1 | E117: =일위대가목록!E46 -> 826 | F117: =TRUNC(E117*D117,1) -> 826 | G117: =일위대가목록!F46 -> 0 | H117: =TRUNC(G117*D117,1) -> 0 | I117: =일위대가목록!G46 -> 0 | J117: =TRUNC(I117*D117,1) -> 0 | K117: =TRUNC(E117+G117+I117,1) -> 826 | L117: =TRUNC(F117+H117+J117,1) -> 826 | M117: 호표 43 | N117: 510332F090A62636D823B6FDC74180 | O117: 510332F090A62636D823314E27A12C | P117: T | Q117: F | R117: F | AW117: 510332F090A62636D823B6FDC74180510332F090A62636D823314E27A12C
A118: 수성페인트 롤러칠 | B118: 천장 2회 노무비 | C118: M2 | D118: 1 | E118: =일위대가목록!E49 -> 132 | F118: =TRUNC(E118*D118,1) -> 132 | G118: =일위대가목록!F49 -> 7976 | H118: =TRUNC(G118*D118,1) -> 7976 | I118: =일위대가목록!G49 -> 0 | J118: =TRUNC(I118*D118,1) -> 0 | K118: =TRUNC(E118+G118+I118,1) -> 8108 | L118: =TRUNC(F118+H118+J118,1) -> 8108 | M118: 호표 46 | N118: 510332F090A62636D823B6FDC74180 | O118: 510332F090A62636D800519687291C | P118: T | Q118: F | R118: F | AW118: 510332F090A62636D823B6FDC74180510332F090A62636D800519687291C
...

Sheet 중기단가목록
A1: 중 기 단 가 목 록
A2: [ 송포청소년문화의집 인테리어 공사 ]
A3: 코 드 | B3: 품 명 | C3: 규 격 | D3: 단위 | E3: 재 료 비 | F3: 노 무 비 | G3: 경 비 | H3: 합 계 | I3: 번 호 | J3: 비 고 | K3: START | L3: 품셈개요
A4: 5120F280917D8C37B8067464F7CA69 | B4: 철거 폐기물 소운반 | C4: 운반거리 L=20m | D4: KG | E4: 0 | F4: 0 | G4: 40 | H4: 40 | I4: 산근 1 | K4: 5120F280917D8C37B8067464F7CA69 | L4: 토목 9-3

Sheet 중기단가산출서
A1: 중 기 단 가 산 출 서
A2: [ 송포청소년문화의집 인테리어 공사 ]
A3: 산 출 내 역 | B3: 재 료 비 | C3: 노 무 비 | D3: 경 비 | E3: 합 계 | F3: 비 고 | G3: START | H3: 코드 | I3: 품명 | J3: 규격 | K3: 단위 | L3: 수량
A4: 철거 폐기물 소운반 운반거리 L=20m KG 토목 9-3 ( 산근 1 ) | G4: 5120F280917D8C37B8067464F7CA69 | I4: 철거 폐기물 소운반 | J4: 운반거리 L=20m | K4: KG
G5: 5120F280917D8C37B8067464F7CA69 | H5: C | K5: M3 | L5: 1
A6: 인력소운반지게(TON/HR)TON당 | B6: 0 | C6: 0 | D6: 0 | E6: 0 | G6: 5120F280917D8C37B8067464F7CA69 | H6: C! | I6: '인력소운반지게(TON/HR)TON당'
A7: T1 1일 실작업시간(480분-30분)) =450 | B7: 0 | C7: 0 | D7: 0 | E7: 0 | G7: 5120F280917D8C37B8067464F7CA69 | H7: C! | I7: T1 '1일 실작업시간(480분-30분))' =450
A8: Q1 1회 적재량(KG) =25 | B8: 0 | C8: 0 | D8: 0 | E8: 0 | G8: 5120F280917D8C37B8067464F7CA69 | H8: C! | I8: q1 '1회 적재량(KG)' =25
A9: L 운반거리(M) =20 | B9: 0 | C9: 0 | D9: 0 | E9: 0 | G9: 5120F280917D8C37B8067464F7CA69 | H9: C! | I9: L '운반거리(M)' =20
A10: V 운반속도양호3,000(M/HR),보통2,500(M/HR)불량2,000(M/HR) =3000 | B10: 0 | C10: 0 | D10: 0 | E10: 0 | G10: 5120F280917D8C37B8067464F7CA69 | H10: C! | I10: V '운반속도양호3,000(M/HR),보통2,500(M/HR)불량2,000(M/HR)'=3000
A11: T2 적재적하시간(MIN) 토사류1.5분,석재류 2분,혼합류 4 =2 | B11: 0 | C11: 0 | D11: 0 | E11: 0 | G11: 5120F280917D8C37B8067464F7CA69 | H11: C! | I11: t2 '적재적하시간(MIN) 토사류1.5분,석재류 2분,혼합류 4' =2
A12: N 1일 운반횟수 =(V*T1)/((120*L)+(V*T2))= 160.71 | B12: 0 | C12: 0 | D12: 0 | E12: 0 | G12: 5120F280917D8C37B8067464F7CA69 | H12: C! | I12: N '1일 운반횟수'=(V*T1)/((120*L)+(V*T2))=?
A13: Q 시간당 작업(KG/HR) =N*Q1= 4017.75 | B13: 0 | C13: 0 | D13: 0 | E13: 0 | G13: 5120F280917D8C37B8067464F7CA69 | H13: C! | I13: Q '시간당 작업(KG/HR)' =N*q1=?
A14: 노무비: 161858 / 4017.75 = 40.2 | B14: 0 | C14: 0 | D14: 40.2 | E14: 40.2 | G14: 5120F280917D8C37B8067464F7CA69 | H14: C! | I14: '노무비:' ~L001010101000002.L~ / {Q} =?EQ+
A15: 소 계 | B15: 0 | C15: 0 | D15: 40.2 | E15: 40.2 | G15: 5120F280917D8C37B8067464F7CA69 | H15: C! | I15: >'소 계'
B16: 0 | C16: 0 | D16: 0 | E16: 0 | G16: 5120F280917D8C37B8067464F7CA69 | H16: C!
B17: 0 | C17: 0 | D17: 0 | E17: 0 | G17: 5120F280917D8C37B8067464F7CA69 | H17: C!
B18: 0 | C18: 0 | D18: 0 | E18: 0 | G18: 5120F280917D8C37B8067464F7CA69 | H18: C!
B19: 0 | C19: 0 | D19: 0 | E19: 0 | G19: 5120F280917D8C37B8067464F7CA69 | H19: C!
A20: 총 계 | B20: 0 | C20: 0 | D20: 40 | E20: 40

Sheet 자재 및 노임단가
A1: 단 가 대 비 표
A2: [ 송포청소년문화의집 인테리어 공사 ]
A3: 코 드 | B3: 품 명 | C3: 규격 | D3: 단위 | E3: 재 료 비 | P3: 노 무 비 | Q3: 경 비 | W3: 번 호 | X3: 비 고 | Y3: 품목구분 | Z3: 노임구분 | AA3: 소수점처리 | AB3: 자재구분
E4: 조달청가격 | F4: PAGE | G4: 거래가격 | H4: PAGE | I4: 유통물가 | J4: PAGE | K4: 물가자료 | L4: PAGE | M4: 조사가격 | N4: PAGE | O4: 적용단가 | Q4: 조달청가격 | R4: 거래가격 | S4: 유통물가 | T4: 물가자료 | U4: 조사가격 | V4: 적용단가
A5: 560A82C0914394F608BD8296A7F8F3938EFFCA | B5: 콩자갈수지포장 | C5: t:10 미장시공 | D5: M2 | E5: 0 | G5: 0 | I5: 70000 | J5: 187 | K5: 70000 | L5: 162 | M5: 80000 | N5: 물가정보 I-183 | O5: =SMALL(E5:M5,COUNTIF(E5:M5,0)+1) -> 70000 | P5: 0 | Q5: 0 | R5: 0 | S5: 0 | T5: 0 | U5: 0 | V5: 0 | W5: 자재 1
A6: 560A82C09140C3E64880492CB7180E25030410 | B6: 보통합판 | C6: 보통합판, 1급, 4.8*1220*2440mm | D6: M2 | E6: 4348 | G6: 5710.83 | H6: 671 | I6: 4590.16 | J6: 407 | K6: 0 | M6: 0 | O6: =SMALL(E6:M6,COUNTIF(E6:M6,0)+1) -> 4348 | P6: 0 | Q6: 0 | R6: 0 | S6: 0 | T6: 0 | U6: 0 | V6: 0 | W6: 자재 2
A7: 560A82C09140C3E64880492CB7180E25030414 | B7: 보통합판 | C7: 보통합판, 1급, 9.0*1220*2440mm | D7: M2 | E7: 8580 | G7: 8834.99 | H7: 671 | I7: 8615.96 | J7: 407 | K7: 0 | M7: 0 | O7: =SMALL(E7:M7,COUNTIF(E7:M7,0)+1) -> 8580 | P7: 0 | Q7: 0 | R7: 0 | S7: 0 | T7: 0 | U7: 0 | V7: 0 | W7: 자재 3
A8: 560A82C0914BEA6F3869C83FA74BAC6E2C1122 | B8: 철강설 | C8: 철강설, 고철, 작업설부산물 | D8: kg | E8: 375 | G8: 475 | H8: 1472 | I8: 423 | J8: 1198 | K8: 0 | M8: 0 | O8: =SMALL(E8:M8,COUNTIF(E8:M8,0)+1) -> 375 | P8: 0 | Q8: 0 | R8: 0 | S8: 0 | T8: 0 | U8: 0 | V8: 0 | W8: 자재 4 | X8: 수집상차도
A9: 562562B09DA25B10E8C01A2EB730A954A76EF2 | B9: 타일시멘트 | C9: 타일시멘트, 줄눈용, 백색 | D9: kg | E9: 0 | G9: 268 | H9: 106 | I9: 300 | J9: 64 | K9: 285 | L9: 108 | M9: 0 | O9: =SMALL(E9:M9,COUNTIF(E9:M9,0)+1) -> 268 | P9: 0 | Q9: 0 | R9: 0 | S9: 0 | T9: 0 | U9: 0 | V9: 0 | W9: 자재 5
A10: 562562B09DA1B2F7181CDC087774F3B2A2265A | B10: 인조잔디 | C10: 인조잔디, 나일론, 10*1820mm | D10: M2 | E10: 0 | G10: 24900 | H10: 408 | I10: 24900 | J10: 237 | K10: 24900 | L10: 376 | M10: 24900 | N10: 물가정보 I-320 | O10: =SMALL(E10:M10,COUNTIF(E10:M10,0)+1) -> 24900 | P10: 0 | Q10: 0 | R10: 0 | S10: 0 | T10: 0 | U10: 0 | V10: 0 | W10: 자재 6
A11: 562562B09DA0ADBC189B6A47B7797F29C757C5 | B11: 모자이크타일 | C11: 지정 모자이크 타일 | D11: M2 | E11: 0 | G11: 0 | I11: 0 | K11: 0 | M11: 33000 | O11: =SMALL(E11:M11,COUNTIF(E11:M11,0)+1) -> 33000 | P11: 0 | Q11: 0 | R11: 0 | S11: 0 | T11: 0 | U11: 0 | V11: 0 | W11: 자재 7
A12: 562562B09DA6343138A7311C278D5506E8D23A | B12: 배기후드 캡 | D12: EA | E12: 0 | G12: 0 | I12: 0 | K12: 0 | M12: 15000 | O12: =SMALL(E12:M12,COUNTIF(E12:M12,0)+1) -> 15000 | P12: 0 | Q12: 0 | R12: 0 | S12: 0 | T12: 0 | U12: 0 | V12: 0 | W12: 자재 8
A13: 562562B09DA52FF0582137AA77E7AD9BF192C3 | B13: 인테리어필름 | C13: 0.42*1.22, 메탈계, 방염 | D13: M2 | E13: 0 | G13: 30000 | H13: 690 | I13: 30000 | K13: 30000 | L13: 724 | M13: 0 | O13: =SMALL(E13:M13,COUNTIF(E13:M13,0)+1) -> 30000 | P13: 0 | Q13: 0 | R13: 0 | S13: 0 | T13: 0 | U13: 0 | V13: 0 | W13: 자재 9
A14: 562562B09DA52FF05821F28FC76949844995F2 | B14: 석고보드 | C14: 석고보드, 평보드, 9.5*900*2400mm(㎡) | D14: M2 | E14: 2725 | G14: 3009.25 | H14: 675 | I14: 3238.88 | J14: 408 | K14: 0 | M14: 0 | O14: =SMALL(E14:M14,COUNTIF(E14:M14,0)+1) -> 2725 | P14: 0 | Q14: 0 | R14: 0 | S14: 0 | T14: 0 | U14: 0 | V14: 0 | W14: 자재 10
A15: 562562B09DA52FF218F8185F6788D0649F7EA0 | B15: 플로어링보드 | C15: 강화마루, 8×190×1200mm | D15: M2 | E15: 0 | G15: 0 | I15: 34000 | J15: 486 | K15: 34000 | L15: 664 | M15: 48000 | N15: 물가정보 I-626 | O15: =SMALL(E15:M15,COUNTIF(E15:M15,0)+1) -> 34000 | P15: 0 | Q15: 0 | R15: 0 | S15: 0 | T15: 0 | U15: 0 | V15: 0 | W15: 자재 11
A16: 562562B09DA52FF218F8185F6788D0649F7EA5 | B16: 플로어링보드 프로파일 | C16: 5.8T × 28mm × 2000mm | D16: M | E16: 0 | G16: 0 | I16: 5000 | J16: 485 | K16: 4000 | L16: 495 | M16: 5000 | N16: 물가정보 I-966 | O16: =SMALL(E16:M16,COUNTIF(E16:M16,0)+1) -> 4000 | P16: 0 | Q16: 0 | R16: 0 | S16: 0 | T16: 0 | U16: 0 | V16: 0 | W16: 자재 12
A17: 562562B09DAA91D1C8B10E0C7775886F3D3527 | B17: 비계안정장치 | C17: 비계안정장치, 비계기본틀, 기둥, 1.2*1.7m | D17: 개 | E17: 35349 | G17: 30000 | H17: 167 | I17: 0 | K17: 0 | M17: 42900 | N17: 물가정보 I-88 | O17: =SMALL(E17:M17,COUNTIF(E17:M17,0)+1) -> 30000 | P17: 0 | Q17: 0 | R17: 0 | S17: 0 | T17: 0 | U17: 0 | V17: 0 | W17: 자재 13
A18: 562562B09DAA91D1C8B10E0C7775886F3D3529 | B18: 비계안정장치 | C18: 비계안정장치, 가새, 1.2*1.9m | D18: 개 | E18: 10396 | G18: 10000 | H18: 167 | I18: 0 | K18: 0 | M18: 11600 | N18: 물가정보 I-88 | O18: =SMALL(E18:M18,COUNTIF(E18:M18,0)+1) -> 10000 | P18: 0 | Q18: 0 | R18: 0 | S18: 0 | T18: 0 | U18: 0 | V18: 0 | W18: 자재 14
A19: 562562B09DAA91D1C8B10E0C7775886F3D3AA0 | B19: 비계안정장치 | C19: 비계안정장치, 수평띠장, 1829mm | D19: 개 | E19: 0 | G19: 25000 | H19: 167 | I19: 0 | K19: 0 | M19: 40700 | N19: 물가정보 I-88 | O19: =SMALL(E19:M19,COUNTIF(E19:M19,0)+1) -> 25000 | P19: 0 | Q19: 0 | R19: 0 | S19: 0 | T19: 0 | U19: 0 | V19: 0 | W19: 자재 15
A20: 562562B09DAA91D1C8B10E0C7775886F3D3AA1 | B20: 비계안정장치 | C20: 비계안정장치, 손잡이, 1229mm | D20: 개 | E20: 0 | G20: 0 | I20: 0 | K20: 0 | M20: 1440 | O20: =SMALL(E20:M20,COUNTIF(E20:M20,0)+1) -> 1440 | P20: 0 | Q20: 0 | R20: 0 | S20: 0 | T20: 0 | U20: 0 | V20: 0 | W20: 자재 16
A21: 562562B09DAA91D1C8B10E0C7775886F3D3AA6 | B21: 비계안정장치 | C21: 비계안정장치, 손잡이, 1829mm | D21: 개 | E21: 0 | G21: 0 | I21: 0 | K21: 0 | M21: 2100 | O21: =SMALL(E21:M21,COUNTIF(E21:M21,0)+1) -> 2100 | P21: 0 | Q21: 0 | R21: 0 | S21: 0 | T21: 0 | U21: 0 | V21: 0 | W21: 자재 17
A22: 562562B09DAA91D1C8B10E0C7775886F3D3AA7 | B22: 비계안정장치 | C22: 비계안정장치, 손잡이기둥 | D22: 개 | E22: 0 | G22: 0 | I22: 0 | K22: 0 | M22: 5700 | O22: =SMALL(E22:M22,COUNTIF(E22:M22,0)+1) -> 5700 | P22: 0 | Q22: 0 | R22: 0 | S22: 0 | T22: 0 | U22: 0 | V22: 0 | W22: 자재 18
A23: 562562B09DAA91D1C8B10E0C7775886F3D3AA4 | B23: 비계안정장치 | C23: 비계안정장치, 바퀴 | D23: 개 | E23: 0 | G23: 13000 | H23: 167 | I23: 0 | K23: 0 | M23: 0 | O23: =SMALL(E23:M23,COUNTIF(E23:M23,0)+1) -> 13000 | P23: 0 | Q23: 0 | R23: 0 | S23: 0 | T23: 0 | U23: 0 | V23: 0 | W23: 자재 19
A24: 562562B09DAA91D1C8B10E0C7775886F3D3AA5 | B24: 비계안정장치 | C24: 비계안정장치, 쟈키 | D24: 개 | E24: 0 | G24: 11000 | H24: 167 | I24: 12620 | J24: 82 | K24: 0 | M24: 13800 | N24: 물가정보 I-88 | O24: =SMALL(E24:M24,COUNTIF(E24:M24,0)+1) -> 11000 | P24: 0 | Q24: 0 | R24: 0 | S24: 0 | T24: 0 | U24: 0 | V24: 0 | W24: 자재 20
A25: 562562B09DAA91D1C8B10E0C5745C797A805EC | B25: 비계안정장치 | C25: 비계안정장치, 발판, 40*200*2000 | D25: 장 | E25: 0 | G25: 0 | I25: 0 | K25: 15000 | L25: 148 | M25: 0 | O25: =SMALL(E25:M25,COUNTIF(E25:M25,0)+1) -> 15000 | P25: 0 | Q25: 0 | R25: 0 | S25: 0 | T25: 0 | U25: 0 | V25: 0 | W25: 자재 21
A26: 56257240924E72FFA88FB8A1F7C0E77A505CE8 | B26: 연마지 | C26: 연마지, #120~180, 230*280mm | D26: 장 | E26: 220 | G26: 230 | H26: 1337 | I26: 385 | J26: 1168 | K26: 340 | L26: 1452 | M26: 0 | O26: =SMALL(E26:M26,COUNTIF(E26:M26,0)+1) -> 220 | P26: 0 | Q26: 0 | R26: 0 | S26: 0 | T26: 0 | U26: 0 | V26: 0 | W26: 자재 22
A27: 5625724091A160AAD892046C773623E0E90A48 | B27: 초산비닐계접착제 | C27: 초산비닐계접착제, 비닐타일용 | D27: kg | E27: 2544 | G27: 0 | I27: 0 | K27: 0 | M27: 0 | O27: =SMALL(E27:M27,COUNTIF(E27:M27,0)+1) -> 2544 | P27: 0 | Q27: 0 | R27: 0 | S27: 0 | T27: 0 | U27: 0 | V27: 0 | W27: 자재 23
A28: 5625724091A160AAD89243DD47C4D6D4A342A6 | B28: 퍼티 | C28: 퍼티, 친환경, 내부 | D28: kg | E28: 0 | G28: 872 | H28: 621 | I28: 728 | J28: 469 | K28: 920 | L28: 639 | M28: 840 | N28: 물가정보 I-512 | O28: =SMALL(E28:M28,COUNTIF(E28:M28,0)+1) -> 728 | P28: 0 | Q28: 0 | R28: 0 | S28: 0 | T28: 0 | U28: 0 | V28: 0 | W28: 자재 24
A29: 5625724091A160AAD89243DD47C4D6D4A08F86 | B29: 퍼티 | C29: 퍼티, 319퍼티, 회색 | D29: kg | E29: 2307.74 | G29: 0 | I29: 0 | K29: 0 | M29: 3128 | N29: 물가정보 I-512 | O29: =SMALL(E29:M29,COUNTIF(E29:M29,0)+1) -> 2307.74 | P29: 0 | Q29: 0 | R29: 0 | S29: 0 | T29: 0 | U29: 0 | V29: 0 | W29: 자재 25 | X29: 1L=1.55kg
A30: 5625724091A160AAD89243DD47C4D6D4A08EE0 | B30: 퍼티 | C30: 퍼티, 319퍼티, 백색 | D30: kg | E30: 0 | G30: 3125.44 | H30: 621 | I30: 0 | K30: 0 | M30: 0 | O30: =SMALL(E30:M30,COUNTIF(E30:M30,0)+1) -> 3125.44 | P30: 0 | Q30: 0 | R30: 0 | S30: 0 | T30: 0 | U30: 0 | V30: 0 | W30: 자재 26 | X30: 1L=1.55kg
A31: 5625724091A160AAD89243DD47C4D6D4A19782 | B31: 휠러 | D31: kg | E31: 0 | G31: 0 | I31: 0 | K31: 0 | M31: 1150 | O31: =SMALL(E31:M31,COUNTIF(E31:M31,0)+1) -> 1150 | P31: 0 | Q31: 0 | R31: 0 | S31: 0 | T31: 0 | U31: 0 | V31: 0 | W31: 자재 27
A32: 5625724091A160AAD8926EEC37158482B1D4AE | B32: 에폭시접착제 | C32: 에폭시접착제, 세라믹타일용 | D32: kg | E32: 2498 | G32: 2750 | H32: 148 | I32: 0 | K32: 0 | M32: 2350 | N32: 물가정보 I-60 | O32: =SMALL(E32:M32,COUNTIF(E32:M32,0)+1) -> 2350 | P32: 0 | Q32: 0 | R32: 0 | S32: 0 | T32: 0 | U32: 0 | V32: 0 | W32: 자재 28
A33: 5625724091A05B6D28CDEB7DD779DD66CA3FB4 | B33: 에폭시페인트 | C33: EP1730 비철금속용 프라이머(회색) | D33: L | E33: 0 | G33: 11250 | H33: 618 | I33: 0 | K33: 12000 | L33: 641 | M33: 24000 | N33: 물가정보 I-68 | O33: =SMALL(E33:M33,COUNTIF(E33:M33,0)+1) -> 11250 | P33: 0 | Q33: 0 | R33: 0 | S33: 0 | T33: 0 | U33: 0 | V33: 0 | W33: 자재 29
A34: 5625724091A05B6D28CDEB7DD779DD66CA3EAA | B34: 유니폭시 투명라이닝 | C34: 후막형 투명 에폭시 바닥마감재(2~3mm) | D34: kg | E34: 0 | G34: 0 | I34: 11145.8 | J34: 476 | K34: 8021 | L34: 641 | M34: 8021 | N34: 물가정보 I-530 | O34: =SMALL(E34:M34,COUNTIF(E34:M34,0)+1) -> 8021 | P34: 0 | Q34: 0 | R34: 0 | S34: 0 | T34: 0 | U34: 0 | V34: 0 | W34: 자재 30
A35: 5625724091A05B6D28CDD92E17F18EC880F51F | B35: 수성페인트 | C35: 숲으로, 내부 | D35: L | E35: 0 | G35: 0 | I35: 6250 | J35: 468 | K35: 6250 | L35: 630 | M35: 4195 | N35: 물가정보 I-533 | O35: =SMALL(E35:M35,COUNTIF(E35:M35,0)+1) -> 4195 | P35: 0 | Q35: 0 | R35: 0 | S35: 0 | T35: 0 | U35: 0 | V35: 0 | W35: 자재 31
A36: 5625724091A05B6D28CD7051B72390051E2B1E | B36: 아크릴수지페인트 | C36: 아크릴수지페인트, A102.A101, 비니본, 투명 | D36: L | E36: 0 | G36: 9666.66 | H36: 616 | I36: 9389 | J36: 469 | K36: 9834 | L36: 632 | M36: 0 | O36: =SMALL(E36:M36,COUNTIF(E36:M36,0)+1) -> 9389 | P36: 0 | Q36: 0 | R36: 0 | S36: 0 | T36: 0 | U36: 0 | V36: 0 | W36: 자재 32
A37: 5625724091A05B6FD8A7E09A47F6354C5F82EB | B37: 실링재 | C37: 실링재, 실리콘, 비초산, 건축외장용, 비오염 | D37: L | E37: 19012 | G37: 19200 | H37: 606 | I37: 20000 | J37: 385 | K37: 0 | M37: 0 | O37: =SMALL(E37:M37,COUNTIF(E37:M37,0)+1) -> 19012 | P37: 0 | Q37: 0 | R37: 0 | S37: 0 | T37: 0 | U37: 0 | V37: 0 | W37: 자재 33
A38: 5625724091A05B6058530923C77A89B630FB2F | B38: 시너 | C38: 시너, KSM6060, 1종 | D38: L | E38: 0 | G38: 3494.44 | H38: 615 | I38: 3722.22 | J38: 466 | K38: 3722.22 | L38: 634 | M38: 0 | O38: =SMALL(E38:M38,COUNTIF(E38:M38,0)+1) -> 3494.44 | P38: 0 | Q38: 0 | R38: 0 | S38: 0 | T38: 0 | U38: 0 | V38: 0 | W38: 자재 34
A39: 5625724091A05B6058530923F7C6B16D02906F | B39: 에폭시계시너 | C39: 024 | D39: L | E39: 0 | G39: 0 | I39: 6738 | J39: 470 | K39: 6738 | L39: 634 | M39: 6738 | N39: 물가정보 I-512 | O39: =SMALL(E39:M39,COUNTIF(E39:M39,0)+1) -> 6738 | P39: 0 | Q39: 0 | R39: 0 | S39: 0 | T39: 0 | U39: 0 | V39: 0 | W39: 자재 35
A40: 5652B22093117C8B386CB9A4B719769CE1DC6F | B40: 아연도각관 | C40: 30*30*t2.3mm, 1.894kg/m | D40: M | E40: 0 | G40: 2460 | H40: 70 | I40: 0 | K40: 2420 | L40: 66 | M40: 3253 | N40: 물가정보 I-22 | O40: =SMALL(E40:M40,COUNTIF(E40:M40,0)+1) -> 2420 | P40: 0 | Q40: 0 | R40: 0 | S40: 0 | T40: 0 | U40: 0 | V40: 0 | W40: 자재 36
A41: 5103C29094B06C2D785679F7A7CD68 | B41: 혼합건설폐기물 | C41: 불연성 건설폐기물에 가연성 5% 이하 혼합 | D41: TON | E41: 0 | G41: 0 | I41: 0 | K41: 0 | L41: 소책자151 | M41: 0 | O41: 0 | P41: 0 | Q41: 0 | R41: 0 | S41: 0 | T41: 166193 | U41: 166193 | V41: =SMALL(Q41:U41,COUNTIF(Q41:U41,0)+1) -> 166193 | W41: 자재 37 | Y41: C
A42: 5103C29094B06C2D785679E567F88C | B42: 혼합건설폐기물 | C42: 그 밖의 건설폐기물에 가연성 5% 이하 혼합 | D42: TON | E42: 0 | G42: 0 | I42: 0 | K42: 0 | L42: 소책자151 | M42: 0 | O42: 0 | P42: 0 | Q42: 0 | R42: 0 | S42: 0 | T42: 170279 | U42: 170279 | V42: =SMALL(Q42:U42,COUNTIF(Q42:U42,0)+1) -> 170279 | W42: 자재 38 | Y42: C
A43: 5103C29094B06C2C68C48E9B572094 | B43: 혼합건설폐기물 상차비 | C43: (매립지반입대상 폐기물 포함) | D43: TON | E43: 0 | G43: 0 | I43: 0 | K43: 0 | L43: 소책자150 | M43: 0 | N43: 1583 | O43: 0 | P43: 0 | Q43: 0 | R43: 0 | S43: 0 | T43: 5810 | U43: 5810 | V43: =SMALL(Q43:U43,COUNTIF(Q43:U43,0)+1) -> 5810 | W43: 자재 39 | Y43: C
A44: 5103C29094B06C2C68C48E9B1746EB | B44: 혼합건설폐기물 운반비 | C44: 24톤 암롤트럭, 30km | D44: TON | E44: 0 | G44: 0 | I44: 0 | K44: 0 | L44: 소책자150 | M44: 0 | N44: 1583 | O44: 0 | P44: 0 | Q44: 0 | R44: 0 | S44: 0 | T44: 56690 | U44: 56690 | V44: =SMALL(Q44:U44,COUNTIF(Q44:U44,0)+1) -> 56690 | W44: 자재 40 | Y44: C
A45: 51D052209D26FBA708579E3847D41FE567EAF5 | B45: 보통인부 | C45: 일반공사 직종 | D45: 인 | E45: 0 | G45: 0 | I45: 0 | K45: 0 | M45: 0 | O45: 0 | P45: 161858 | Q45: 0 | R45: 0 | S45: 0 | T45: 0 | U45: 0 | V45: 0 | W45: 노임 1 | Y45: B
A46: 51D052209D26FBA708579E3847D41FE567EAF4 | B46: 특별인부 | C46: 일반공사 직종 | D46: 인 | E46: 0 | G46: 0 | I46: 0 | K46: 0 | M46: 0 | O46: 0 | P46: 208527 | Q46: 0 | R46: 0 | S46: 0 | T46: 0 | U46: 0 | V46: 0 | W46: 노임 2 | Y46: B
A47: 51D052209D26FBA708579E3847D41FE567EAF1 | B47: 비계공 | C47: 일반공사 직종 | D47: 인 | E47: 0 | G47: 0 | I47: 0 | K47: 0 | M47: 0 | O47: 0 | P47: 281721 | Q47: 0 | R47: 0 | S47: 0 | T47: 0 | U47: 0 | V47: 0 | W47: 노임 3 | Y47: B
A48: 51D052209D26FBA708579E3847D41FE567EAFE | B48: 철공 | C48: 일반공사 직종 | D48: 인 | E48: 0 | G48: 0 | I48: 0 | K48: 0 | M48: 0 | O48: 0 | P48: 230289 | Q48: 0 | R48: 0 | S48: 0 | T48: 0 | U48: 0 | V48: 0 | W48: 노임 4 | Y48: B
A49: 51D052209D26FBA708579E3847D41FE567EB9F | B49: 용접공 | C49: 일반공사 직종 | D49: 인 | E49: 0 | G49: 0 | I49: 0 | K49: 0 | M49: 0 | O49: 0 | P49: 262551 | Q49: 0 | R49: 0 | S49: 0 | T49: 0 | U49: 0 | V49: 0 | W49: 노임 5 | Y49: B
A50: 51D052209D26FBA708579E3847D41FE567EB98 | B50: 착암공 | C50: 일반공사 직종 | D50: 인 | E50: 0 | G50: 0 | I50: 0 | K50: 0 | M50: 0 | O50: 0 | P50: 207037 | Q50: 0 | R50: 0 | S50: 0 | T50: 0 | U50: 0 | V50: 0 | W50: 노임 6 | Y50: B
A51: 51D052209D26FBA708579E3847D41FE567E8CB | B51: 견출공 | C51: 일반공사 직종 | D51: 인 | E51: 0 | G51: 0 | I51: 0 | K51: 0 | M51: 0 | O51: 0 | P51: 240727 | Q51: 0 | R51: 0 | S51: 0 | T51: 0 | U51: 0 | V51: 0 | W51: 노임 7 | Y51: B
A52: 51D052209D26FBA708579E3847D41FE567E8CA | B52: 건축목공 | C52: 일반공사 직종 | D52: 인 | E52: 0 | G52: 0 | I52: 0 | K52: 0 | M52: 0 | O52: 0 | P52: 267639 | Q52: 0 | R52: 0 | S52: 0 | T52: 0 | U52: 0 | V52: 0 | W52: 노임 8 | Y52: B
A53: 51D052209D26FBA708579E3847D41FE567E8C1 | B53: 타일공 | C53: 일반공사 직종 | D53: 인 | E53: 0 | G53: 0 | I53: 0 | K53: 0 | M53: 0 | O53: 0 | P53: 269214 | Q53: 0 | R53: 0 | S53: 0 | T53: 0 | U53: 0 | V53: 0 | W53: 노임 9 | Y53: B
A54: 51D052209D26FBA708579E3847D41FE567E8C0 | B54: 도장공 | C54: 일반공사 직종 | D54: 인 | E54: 0 | G54: 0 | I54: 0 | K54: 0 | M54: 0 | O54: 0 | P54: 249977 | Q54: 0 | R54: 0 | S54: 0 | T54: 0 | U54: 0 | V54: 0 | W54: 노임 10 | Y54: B
A55: 51D052209D26FBA708579E3847D41FE567E9D0 | B55: 내장공 | C55: 일반공사 직종 | D55: 인 | E55: 0 | G55: 0 | I55: 0 | K55: 0 | M55: 0 | O55: 0 | P55: 236263 | Q55: 0 | R55: 0 | S55: 0 | T55: 0 | U55: 0 | V55: 0 | W55: 노임 11 | Y55: B
A56: 51D052209D26FBA708579E3847D41FE567E9D4 | B56: 줄눈공 | C56: 일반공사 직종 | D56: 인 | E56: 0 | G56: 0 | I56: 0 | K56: 0 | M56: 0 | O56: 0 | P56: 189100 | Q56: 0 | R56: 0 | S56: 0 | T56: 0 | U56: 0 | V56: 0 | W56: 노임 12 | Y56: B
... A58: 51D052209D26FBA70857D5EEF76AFF166E488C | B58: 코킹공 | C58: 기타 직종 | D58: 인 | E58: 0 | G58: 0 | I58: 0 | K58: 0 | M58: 0 | O58: 0 | P58: 199797 | Q58: 0 | R58: 0 | S58: 0 | T58: 0 | U58: 0 | V58: 0 | W58: 노임 14 | Y58: B
A59: 50BBD2709928BAB1285961BD27B232820EA760 | B59: 세라믹 폴리싱 | C59: 에폭시 라이닝, 콩자갈깔기 위 2회 도포 | D59: M2 | E59: 0 | G59: 0 | I59: 0 | K59: 0 | M59: 17000 | O59: =SMALL(E59:M59,COUNTIF(E59:M59,0)+1) -> 17000 | P59: 0 | Q59: 0 | R59: 0 | S59: 0 | T59: 0 | U59: 0 | V59: 0 | W59: 자재 41 | X59: 견적서
A60: 50BBD2709928BAB1285961BD27B232820EA762 | B60: 주방가구 [주방 상부장] | C60: W4,000 X D320 X H700 | D60: EA | E60: 0 | G60: 0 | I60: 0 | K60: 0 | M60: 1285000 | O60: =SMALL(E60:M60,COUNTIF(E60:M60,0)+1) -> 1285000 | P60: 0 | Q60: 0 | R60: 0 | S60: 0 | T60: 0 | U60: 0 | V60: 0 | W60: 자재 42 | X60: 견적서
A61: 50BBD2709928BAB1285961BD27B232820EA765 | B61: 주방가구 [아일랜드 식탁] | C61: W2,800 X D600 X H600, 상판 : W2,800 X D700 X H20, 상부구조포함 | D61: EA | E61: 0 | G61: 0 | I61: 0 | K61: 0 | M61: 3194000 | O61: =SMALL(E61:M61,COUNTIF(E61:M61,0)+1) -> 3194000 | P61: 0 | Q61: 0 | R61: 0 | S61: 0 | T61: 0 | U61: 0 | V61: 0 | W61: 자재 43 | X61: 견적서
A62: 50BBD2709928BAB1285961BD27B232820EA764 | B62: 주방가구 [기존 주방가구] | C62: W4,000 X D600 X H850, 문짝 제거 후 엘더(18T 원목)로 교체 | D62: EA | E62: 0 | G62: 0 | I62: 0 | K62: 0 | M62: 559000 | O62: =SMALL(E62:M62,COUNTIF(E62:M62,0)+1) -> 559000 | P62: 0 | Q62: 0 | R62: 0 | S62: 0 | T62: 0 | U62: 0 | V62: 0 | W62: 자재 44 | X62: 견적서
A63: 50BBD2709928BAB1285961BD27B232820EA766 | B63: 주방가구 [기기후드] | C63: 600*180*295 | D63: EA | E63: 0 | G63: 0 | I63: 0 | K63: 0 | M63: 100000 | O63: =SMALL(E63:M63,COUNTIF(E63:M63,0)+1) -> 100000 | P63: 0 | Q63: 0 | R63: 0 | S63: 0 | T63: 0 | U63: 0 | V63: 0 | W63: 자재 45 | X63: 견적서
A64: 50BBD2709928BAB1285961BD27B232820EA386 | B64: LED 채널간판 면발광 사인물 | C64: 850*850*H=50(조명725*140) | D64: EA | E64: 0 | G64: 0 | I64: 0 | K64: 0 | M64: 2700000 | O64: =SMALL(E64:M64,COUNTIF(E64:M64,0)+1) -> 2700000 | P64: 0 | Q64: 0 | R64: 0 | S64: 0 | T64: 0 | U64: 0 | V64: 0 | W64: 자재 46 | X64: 견적서
A65: 50BBD2709928BAB1285961BD27B232820EA387 | B65: 벤치 (1층, 옥탑층) (고무나무집성) | C65: W2,025 X D415 X H450(고무나무) | D65: EA | E65: 0 | G65: 0 | I65: 0 | K65: 0 | M65: 1470000 | O65: =SMALL(E65:M65,COUNTIF(E65:M65,0)+1) -> 1470000 | P65: 0 | Q65: 0 | R65: 0 | S65: 0 | T65: 0 | U65: 0 | V65: 0 | W65: 자재 47 | X65: 견적서
A66: 50BBD2709928BAB1285961BD27B232820EA384 | B66: 라운지의자(자작나무합판) | C66: W4,975(2,100) X D700 X H450 | D66: EA | E66: 0 | G66: 0 | I66: 0 | K66: 0 | M66: 3960000 | O66: =SMALL(E66:M66,COUNTIF(E66:M66,0)+1) -> 3960000 | P66: 0 | Q66: 0 | R66: 0 | S66: 0 | T66: 0 | U66: 0 | V66: 0 | W66: 자재 48 | X66: 견적서
A67: 50BBD2709928BAB1285961BD27B232820EA385 | B67: 라운지의자 콘센트(2구+C TYP) | C67: W 197.2 x D 89.8 | D67: EA | E67: 0 | G67: 0 | I67: 0 | K67: 0 | M67: 160000 | O67: =SMALL(E67:M67,COUNTIF(E67:M67,0)+1) -> 160000 | P67: 0 | Q67: 0 | R67: 0 | S67: 0 | T67: 0 | U67: 0 | V67: 0 | W67: 자재 49 | X67: 견적서
A68: 50BBD2709928BAB1285961BD27B232820EA382 | B68: 수납장(2층메이커존)(자작나무합판) | C68: W1,850 X D350 X H2,700 | D68: EA | E68: 0 | G68: 0 | I68: 0 | K68: 0 | M68: 3850000 | O68: =SMALL(E68:M68,COUNTIF(E68:M68,0)+1) -> 3850000 | P68: 0 | Q68: 0 | R68: 0 | S68: 0 | T68: 0 | U68: 0 | V68: 0 | W68: 자재 50 | X68: 견적서
A69: 50BBD2709928BAB1285961BD27B232820EA383 | B69: 기둥선반(2층메이커존)(자작나무합판) | C69: W1,020 X D1,020 X H2,655 | D69: EA | E69: 0 | G69: 0 | I69: 0 | K69: 0 | M69: 3020000 | O69: =SMALL(E69:M69,COUNTIF(E69:M69,0)+1) -> 3020000 | P69: 0 | Q69: 0 | R69: 0 | S69: 0 | T69: 0 | U69: 0 | V69: 0 | W69: 자재 51 | X69: 견적서
A70: 50BBD2709928BAB1285961BD27B232820EA380 | B70: 양면수납함(3층 힐링존)(자작나무합판) | C70: W1,450 X D715 X H2,400 | D70: EA | E70: 0 | G70: 0 | I70: 0 | K70: 0 | M70: 3380000 | O70: =SMALL(E70:M70,COUNTIF(E70:M70,0)+1) -> 3380000 | P70: 0 | Q70: 0 | R70: 0 | S70: 0 | T70: 0 | U70: 0 | V70: 0 | W70: 자재 52 | X70: 견적서
... A76: 50BBD2709928BAB1285961BD27B232820F4C38 | B76: 타공판 설치 | C76: 운반 및 설치조립 | D76: EA | E76: 0 | G76: 0 | I76: 0 | K76: 0 | M76: 205400 | O76: =SMALL(E76:M76,COUNTIF(E76:M76,0)+1) -> 205400 | P76: 0 | Q76: 0 | R76: 0 | S76: 0 | T76: 0 | U76: 0 | V76: 0 | W76: 자재 58 | X76: 견적서
A77: 50BBD2709928BAB1285961BD27B232820F4C39 | B77: 스토퍼 설치 | D77: EA | E77: 0 | G77: 0 | I77: 0 | K77: 0 | M77: 2800 | O77: =SMALL(E77:M77,COUNTIF(E77:M77,0)+1) -> 2800 | P77: 0 | Q77: 0 | R77: 0 | S77: 0 | T77: 0 | U77: 0 | V77: 0 | W77: 자재 59 | X77: 견적서
A78: 50BBD2709928BAB1285961BD27B232820F4C36 | B78: 스토퍼 설치 | C78: 운반비 | D78: EA | E78: 0 | G78: 0 | I78: 0 | K78: 0 | M78: 2900 | O78: =SMALL(E78:M78,COUNTIF(E78:M78,0)+1) -> 2900 | P78: 0 | Q78: 0 | R78: 0 | S78: 0 | T78: 0 | U78: 0 | V78: 0 | W78: 자재 60 | X78: 견적서
A79: 50BBD2709928BAB1285961BD27B232820F4DC5 | B79: A. 1F_원형 모스월 | E79: 0 | G79: 0 | I79: 0 | K79: 0 | M79: 0 | O79: 0 | P79: 0 | Q79: 0 | R79: 0 | S79: 0 | T79: 0 | U79: 0 | V79: 0 | W79: 자재 61 | X79: 견적서
A80: 50BBD2709928BAB1285961BD27B232820F4DC4 | B80: 스칸디아모 | C80: W850*H50 | D80: M2 | E80: 0 | G80: 0 | I80: 0 | K80: 0 | M80: 881000 | O80: =SMALL(E80:M80,COUNTIF(E80:M80,0)+1) -> 881000 | P80: 0 | Q80: 0 | R80: 0 | S80: 0 | T80: 0 | U80: 0 | V80: 0 | W80: 자재 62 | X80: 견적서
A81: 50BBD2709928BAB1285961BD27B232820F4DC7 | B81: B. 2F 플랜터 | C81: W5175*D200*H200 | E81: 0 | G81: 0 | I81: 0 | K81: 0 | M81: 0 | O81: 0 | P81: 0 | Q81: 0 | R81: 0 | S81: 0 | T81: 0 | U81: 0 | V81: 0 | W81: 자재 63 | X81: 견적서
A82: 50BBD2709928BAB1285961BD27B232820F4DC6 | B82: 조화나무 | C82: H1.0 내외 | D82: EA | E82: 0 | G82: 0 | I82: 0 | K82: 0 | M82: 170000 | O82: =SMALL(E82:M82,COUNTIF(E82:M82,0)+1) -> 170000 | P82: 0 | Q82: 0 | R82: 0 | S82: 0 | T82: 0 | U82: 0 | V82: 0 | W82: 자재 64 | X82: 견적서
A83: 50BBD2709928BAB1285961BD27B232820F4DC1 | B83: 하부 조화 | C83: 이미지 참고 | D83: M | E83: 0 | G83: 0 | I83: 0 | K83: 0 | M83: 226000 | O83: =SMALL(E83:M83,COUNTIF(E83:M83,0)+1) -> 226000 | P83: 0 | Q83: 0 | R83: 0 | S83: 0 | T83: 0 | U83: 0 | V83: 0 | W83: 자재 65 | X83: 견적서
A84: 50BBD2709928BAB1285961BD27B232820F4DC0 | B84: 조경석 | C84: 1-2 목 | D84: EA | E84: 0 | G84: 0 | I84: 0 | K84: 0 | M84: 17000 | O84: =SMALL(E84:M84,COUNTIF(E84:M84,0)+1) -> 17000 | P84: 0 | Q84: 0 | R84: 0 | S84: 0 | T84: 0 | U84: 0 | V84: 0 | W84: 자재 66 | X84: 견적서
A85: 50BBD2709928BAB1285961BD27B232820F4DC3 | B85: 조경석 | C85: 2-3 목 | D85: EA | E85: 0 | G85: 0 | I85: 0 | K85: 0 | M85: 28000 | O85: =SMALL(E85:M85,COUNTIF(E85:M85,0)+1) -> 28000 | P85: 0 | Q85: 0 | R85: 0 | S85: 0 | T85: 0 | U85: 0 | V85: 0 | W85: 자재 67 | X85: 견적서
A86: 50BBD2709928BAB1285961BD27B232820F4DC2 | B86: 하부 멀칭재 | C86: 마사토 | D86: M2 | E86: 0 | G86: 0 | I86: 0 | K86: 0 | M86: 62000 | O86: =SMALL(E86:M86,COUNTIF(E86:M86,0)+1) -> 62000 | P86: 0 | Q86: 0 | R86: 0 | S86: 0 | T86: 0 | U86: 0 | V86: 0 | W86: 자재 68 | X86: 견적서
A87: 50BBD2709928BAB1285961BD27B232820F4DCD | B87: 고정 부자재 | C87: 스티로폼 외 | D87: EA | E87: 0 | G87: 0 | I87: 0 | K87: 0 | M87: 90000 | O87: =SMALL(E87:M87,COUNTIF(E87:M87,0)+1) -> 90000 | P87: 0 | Q87: 0 | R87: 0 | S87: 0 | T87: 0 | U87: 0 | V87: 0 | W87: 자재 69 | X87: 견적서
A88: 50BBD2709928BAB1285961BD27B232820F4DCC | B88: B. 2F 플랜터 | C88: W2800*D200*H200 | E88: 0 | G88: 0 | I88: 0 | K88: 0 | M88: 0 | O88: 0 | P88: 0 | Q88: 0 | R88: 0 | S88: 0 | T88: 0 | U88: 0 | V88: 0 | W88: 자재 70 | X88: 견적서
A89: 50BBD2709928BAB1285961BD27B232820F4A70 | B89: 조화나무 | C89: H1.0 내외 | D89: EA | E89: 0 | G89: 0 | I89: 0 | K89: 0 | M89: 170000 | O89: =SMALL(E89:M89,COUNTIF(E89:M89,0)+1) -> 170000 | P89: 0 | Q89: 0 | R89: 0 | S89: 0 | T89: 0 | U89: 0 | V89: 0 | W89: 자재 71 | X89: 견적서
A90: 50BBD2709928BAB1285961BD27B232820F4A71 | B90: 하부 조화 | C90: 이미지 참고 | D90: M | E90: 0 | G90: 0 | I90: 0 | K90: 0 | M90: 226000 | O90: =SMALL(E90:M90,COUNTIF(E90:M90,0)+1) -> 226000 | P90: 0 | Q90: 0 | R90: 0 | S90: 0 | T90: 0 | U90: 0 | V90: 0 | W90: 자재 72 | X90: 견적서
A91: 50BBD2709928BAB1285961BD27B232820F4A72 | B91: 조경석 | C91: 1-2 목 | D91: EA | E91: 0 | G91: 0 | I91: 0 | K91: 0 | M91: 17000 | O91: =SMALL(E91:M91,COUNTIF(E91:M91,0)+1) -> 17000 | P91: 0 | Q91: 0 | R91: 0 | S91: 0 | T91: 0 | U91: 0 | V91: 0 | W91: 자재 73 | X91: 견적서
A92: 50BBD2709928BAB1285961BD27B232820F4A73 | B92: 조경석 | C92: 2-3 목 | D92: EA | E92: 0 | G92: 0 | I92: 0 | K92: 0 | M92: 28000 | O92: =SMALL(E92:M92,COUNTIF(E92:M92,0)+1) -> 28000 | P92: 0 | Q92: 0 | R92: 0 | S92: 0 | T92: 0 | U92: 0 | V92: 0 | W92: 자재 74 | X92: 견적서
A93: 50BBD2709928BAB1285961BD27B232820F4A74 | B93: 하부 멀칭재 | C93: 마사토 | D93: M2 | E93: 0 | G93: 0 | I93: 0 | K93: 0 | M93: 62000 | O93: =SMALL(E93:M93,COUNTIF(E93:M93,0)+1) -> 62000 | P93: 0 | Q93: 0 | R93: 0 | S93: 0 | T93: 0 | U93: 0 | V93: 0 | W93: 자재 75 | X93: 견적서
A94: 50BBD2709928BAB1285961BD27B232820F4A75 | B94: 고정 부자재 | C94: 스티로폼 외 | D94: EA | E94: 0 | G94: 0 | I94: 0 | K94: 0 | M94: 90000 | O94: =SMALL(E94:M94,COUNTIF(E94:M94,0)+1) -> 90000 | P94: 0 | Q94: 0 | R94: 0 | S94: 0 | T94: 0 | U94: 0 | V94: 0 | W94: 자재 76 | X94: 견적서
A95: 50BBD2709928BAB1285961BD27B232820F4A76 | B95: C. 3F 플랜터 | C95: W1120*D200*H200 | E95: 0 | G95: 0 | I95: 0 | K95: 0 | M95: 0 | O95: 0 | P95: 0 | Q95: 0 | R95: 0 | S95: 0 | T95: 0 | U95: 0 | V95: 0 | W95: 자재 77 | X95: 견적서
A96: 50BBD2709928BAB1285961BD27B232820F4A77 | B96: 조화나무 | C96: H1.0 내외 | D96: EA | E96: 0 | G96: 0 | I96: 0 | K96: 0 | M96: 170000 | O96: =SMALL(E96:M96,COUNTIF(E96:M96,0)+1) -> 170000 | P96: 0 | Q96: 0 | R96: 0 | S96: 0 | T96: 0 | U96: 0 | V96: 0 | W96: 자재 78 | X96: 견적서
A97: 50BBD2709928BAB1285961BD27B232820F4A78 | B97: 하부 조화 | C97: 이미지 참고 | D97: M | E97: 0 | G97: 0 | I97: 0 | K97: 0 | M97: 226000 | O97: =SMALL(E97:M97,COUNTIF(E97:M97,0)+1) -> 226000 | P97: 0 | Q97: 0 | R97: 0 | S97: 0 | T97: 0 | U97: 0 | V97: 0 | W97: 자재 79 | X97: 견적서
A98: 50BBD2709928BAB1285961BD27B232820F4A79 | B98: 조경석 | C98: 1-2 목 | D98: EA | E98: 0 | G98: 0 | I98: 0 | K98: 0 | M98: 17000 | O98: =SMALL(E98:M98,COUNTIF(E98:M98,0)+1) -> 17000 | P98: 0 | Q98: 0 | R98: 0 | S98: 0 | T98: 0 | U98: 0 | V98: 0 | W98: 자재 80 | X98: 견적서
A99: 50BBD2709928BAB1285961BD27B232820F4B17 | B99: 조경석 | C99: 2-3 목 | D99: EA | E99: 0 | G99: 0 | I99: 0 | K99: 0 | M99: 28000 | O99: =SMALL(E99:M99,COUNTIF(E99:M99,0)+1) -> 28000 | P99: 0 | Q99: 0 | R99: 0 | S99: 0 | T99: 0 | U99: 0 | V99: 0 | W99: 자재 81 | X99: 견적서
A100: 50BBD2709928BAB1285961BD27B232820F4B16 | B100: 하부 멀칭재 | C100: 마사토 | D100: M2 | E100: 0 | G100: 0 | I100: 0 | K100: 0 | M100: 62000 | O100: =SMALL(E100:M100,COUNTIF(E100:M100,0)+1) -> 62000 | P100: 0 | Q100: 0 | R100: 0 | S100: 0 | T100: 0 | U100: 0 | V100: 0 | W100: 자재 82 | X100: 견적서
A101: 50BBD2709928BAB1285961BD27B232820F4B15 | B101: 고정 부자재 | C101: 스티로폼 외 | D101: EA | E101: 0 | G101: 0 | I101: 0 | K101: 0 | M101: 90000 | O101: =SMALL(E101:M101,COUNTIF(E101:M101,0)+1) -> 90000 | P101: 0 | Q101: 0 | R101: 0 | S101: 0 | T101: 0 | U101: 0 | V101: 0 | W101: 자재 83 | X101: 견적서
A102: 50BBD2709928BAB1285961BD27B232820F4B14 | B102: D. 1F,옥상층_화분(2개소) | E102: 0 | G102: 0 | I102: 0 | K102: 0 | M102: 0 | O102: 0 | P102: 0 | Q102: 0 | R102: 0 | S102: 0 | T102: 0 | U102: 0 | V102: 0 | W102: 자재 84 | X102: 견적서
A103: 50BBD2709928BAB1285961BD27B232820F4B13 | B103: 조화나무 | C103: H1.0 내외 | D103: EA | E103: 0 | G103: 0 | I103: 0 | K103: 0 | M103: 170000 | O103: =SMALL(E103:M103,COUNTIF(E103:M103,0)+1) -> 170000 | P103: 0 | Q103: 0 | R103: 0 | S103: 0 | T103: 0 | U103: 0 | V103: 0 | W103: 자재 85 | X103: 견적서
A104: 50BBD2709928BAB1285961BD27B232820F4B12 | B104: 조경석 | C104: 1-2 목 | D104: EA | E104: 0 | G104: 0 | I104: 0 | K104: 0 | M104: 17000 | O104: =SMALL(E104:M104,COUNTIF(E104:M104,0)+1) -> 17000 | P104: 0 | Q104: 0 | R104: 0 | S104: 0 | T104: 0 | U104: 0 | V104: 0 | W104: 자재 86 | X104: 견적서
A105: 50BBD2709928BAB1285961BD27B232820F4B11 | B105: 화기 | C105: 245*245*H220 | D105: EA | E105: 0 | G105: 0 | I105: 0 | K105: 0 | M105: 57000 | O105: =SMALL(E105:M105,COUNTIF(E105:M105,0)+1) -> 57000 | P105: 0 | Q105: 0 | R105: 0 | S105: 0 | T105: 0 | U105: 0 | V105: 0 | W105: 자재 87 | X105: 견적서
A106: 50BBD2709928BAB1285961BD27B232820F4B10 | B106: 멀칭재 | C106: 마사토 | D106: EA | E106: 0 | G106: 0 | I106: 0 | K106: 0 | M106: 28000 | O106: =SMALL(E106:M106,COUNTIF(E106:M106,0)+1) -> 28000 | P106: 0 | Q106: 0 | R106: 0 | S106: 0 | T106: 0 | U106: 0 | V106: 0 | W106: 자재 88 | X106: 견적서
...

Sheet  공사설정 
A1: 이 Sheet는 수정하지 마십시요
A2: 공사구분 | B2: A | C2: 타이틀
A3: 확정내역 | B3: 원내역
A4: 자재단가적용 | B4: 5
A5: 경비단가적용 | B5: 5
A6: 품목코드형식 | B6: XXXX-XXXX-XXXXXXXXX
A7: 내역금액소수점처리 | B7: C | C7: T
A8: 일위대가내역소수점처리 | B8: C | C8: 2
A9: 단가명 | B9: 조달청가격 | C9: 거래가격 | D9: 유통물가 | E9: 물가자료 | F9: 조사가격2 | G9: TTTTT
A10: 환율 | B10: 1267 | C10: 0 | D10: 0
A11: 시간당작업량 | B11: R | C11: 4
A12: 1회 사이클시간 | B12: R | C12: 4
A13: 시간당 작업사이클 | B13: R | C13: 3
A14: 일반변수 | B14: R | C14: 5
A15: 시간당 노임산출 계수 | B15: A | C15: 1/8*16/12*25/20 | D15: 1/8*16/12*25/20 | E15: 1/8*16/12*25/20 | F15: 1
A16: 재료비 할증 계수 | B16: 1.11 | C16: 1.12
A17: 노무비 할증 계수 | B17: 1 | C17: 1.5 | D17: 1.16 | E17: 1.6 | F17: 1.6 | G17: 1.6 | H17: 1.94 | I17: 1.94 | J17: 1.94 | K17: 1 | L17: 1 | M17: 1
A18: 경비 할증 계수 | B18: 1.25 | C18: 1.071
A19: 내역,일위대가 품명,규격,단위 따로적용
A20: 내역단가 소수점처리 | B20: C | C20: 1
A21: 코드 | B21: 공종구분명 | C21: 원가비목코드
A22: 1 | B22: 작 업 부 산 물 | C22: A3
A23: 2 | B23: 운 반 비 | C23: C1
A24: 3 | B24: 관 급 자 재 비 | C24: DJ
A25: 4 | B25: 사 급 자 재 비 | C25: D3
A26: 5 | B26: 외 자 재
A27: 6 | B27: ...
A28: 7 | B28: 폐 기 물 처 리 | C28: D5
A29: 8 | B29: ...
A30: 9 | B30: ...

Sheet Sheet1
