Workbook

Sheet 표지
A1: 송포청소년문화의집 인테리어 공사 2023.08. 공내역서

Sheet 원가계산서
B1: 공 사 원 가 계 산 서
B2: 공사명 : 송포청소년문화의집 인테리어 공사
B3: 비 목 | E3: 금 액 | F3: 구 성 비 | G3: 비 고
A4: A1 | B4: 순 공 사 원 가 | C4: 재 료 비 | D4: 직 접 재 료 비 | E4: =TRUNC(공종별집계표!F5, 0) -> 0
A5: A2 | D5: 간 접 재 료 비 | E5: 0
A6: A3 | D6: 작업설, 부산물(△) | E6: 0
A7: AS | D7: [ 소 계 ] | E7: =TRUNC(E4+E5-E6, 0) -> 0
A8: B1 | C8: 노 무 비 | D8: 직 접 노 무 비 | E8: =TRUNC(공종별집계표!H5, 0) -> 0
A9: B2 | D9: 간 접 노 무 비 | E9: =TRUNC(E8*0.122, 0) -> 0 | F9: 직접노무비 * 12.2%
A10: BS | D10: [ 소 계 ] | E10: =TRUNC(E8+E9, 0) -> 0
A11: C2 | C11: 경 비 | D11: 경 비 | E11: =TRUNC(공종별집계표!J5, 0) -> 0
A12: C4 | D12: 산 재 보 험 료 | E12: =TRUNC(E10*0.037, 0) -> 0 | F12: 노무비 * 3.7%
A13: C5 | D13: 고 용 보 험 료 | E13: =TRUNC(E10*0.0101, 0) -> 0 | F13: 노무비 * 1.01%
A14: C6 | D14: 국민 건강 보험료 | E14: 465532 | F14: 직접노무비 * 3.545% | G14: ※ 1개월 이상
A15: C7 | D15: 국민 연금 보험료 | E15: 590944 | F15: 직접노무비 * 4.5% | G15: ※ 1개월 이상
A16: C8 | D16: 퇴직 공제 부금비 | E16: 302038 | F16: 직접노무비 * 2.3% | G16: ※ 1억원 이상
A17: CA | D17: 산업안전보건관리비 | E17: 2386548 | F17: (재료비+직노) * 2.93% | G17: ※ 2천만원 이상
A18: CB | D18: 노인장기요양보험료 | E18: 59634 | F18: 건강보험료 * 12.81% | G18: ※ 1개월 이상
A19: CG | D19: 기 타 경 비 | E19: =TRUNC((E7+E10)*0.058, 0) -> 0 | F19: (재료비+노무비) * 5.8%
A20: CH | D20: 환 경 보 전 비 | E20: =TRUNC((E7+E8+E11)*0.003, 0) -> 0 | F20: (재료비+직노+경비) * 0.3%
A21: CL | D21: 건설기계대여금지급보증서발급수수료 | E21: =TRUNC((E7+E8+E11)*0.001, 0) -> 0 | F21: (재료비+직노+경비) * 0.1% | G21: ※ 그 外
A22: CS | D22: [ 소 계 ]
A23: S1 | B23: 계
A24: D1 | B24: 일 반 관 리 비 | F24: 계 * 6%
A25: D2 | B25: 이 윤 | F25: (노무비+경비+일반관리비) * 15%
A26: D5 | B26: 폐 기 물 처 리
A27: D9 | B27: 공 급 가 액
A28: DB | B28: 부 가 가 치 세 | F28: 공급가액 * 10%
A29: DH | B29: 도 급 액
A30: S2 | B30: 총 공 사 비 | E30: =TRUNC(E29+0, 0) -> 0

Sheet 공종별집계표
A1: 공 종 별 집 계 표
A2: [ 송포청소년문화의집 인테리어 공사 ]
A3: 품 명 | B3: 규 격 | C3: 단위 | D3: 수량 | E3: 재 료 비 | G3: 노 무 비 | I3: 경 비 | K3: 합 계 | M3: 비 고 | N3: 공종코드 | O3: 변수 | P3: 상위공종 | Q3: 공종구분 | R3: 공종레벨 | S3: 공종소계 | T3: 원가계산서 연결금액
E4: 단 가 | F4: 금 액 | G4: 단 가 | H4: 금 액 | I4: 단 가 | J4: 금 액 | K4: 단 가 | L4: 금 액
A5: 01 송포 청소년 문화의집 | D5: 1 | E5: =F6 -> 0 | F5: =E5*D5 -> 0 | G5: =H6 -> 0 | H5: =G5*D5 -> 0 | I5: =J6 -> 0 | J5: =I5*D5 -> 0 | K5: =E5+G5+I5 -> 0 | L5: =F5+H5+J5 -> 0 | N5: 01 | R5: 1
A6: 0101 건축공사 | D6: 1 | E6: =F7+F8+F9+F10+F11+F12+F13+F14 -> 0 | F6: =E6*D6 -> 0 | G6: =H7+H8+H9+H10+H11+H12+H13+H14 -> 0 | H6: =G6*D6 -> 0 | I6: =J7+J8+J9+J10+J11+J12+J13+J14 -> 0 | J6: =I6*D6 -> 0 | K6: =E6+G6+I6 -> 0 | L6: =F6+H6+J6 -> 0 | N6: 0101 | P6: 01 | R6: 2
A7: 010101 가 설 공 사 | D7: 1 | E7: =공종별내역서!F8 -> 0 | F7: =E7*D7 -> 0 | G7: =공종별내역서!H8 -> 0 | H7: =G7*D7 -> 0 | I7: =공종별내역서!J8 -> 0 | J7: =I7*D7 -> 0 | K7: =E7+G7+I7 -> 0 | L7: =F7+H7+J7 -> 0 | N7: 010101 | P7: 0101 | R7: 3
A8: 010102 타 일 공 사 | D8: 1 | E8: =공종별내역서!F14 -> 0 | F8: =E8*D8 -> 0 | G8: =공종별내역서!H14 -> 0 | H8: =G8*D8 -> 0 | I8: =공종별내역서!J14 -> 0 | J8: =I8*D8 -> 0 | K8: =E8+G8+I8 -> 0 | L8: =F8+H8+J8 -> 0 | N8: 010102 | P8: 0101 | R8: 3
A9: 010103 목공사및수장공사 | D9: 1 | E9: =공종별내역서!F26 -> 0 | F9: =E9*D9 -> 0 | G9: =공종별내역서!H26 -> 0 | H9: =G9*D9 -> 0 | I9: =공종별내역서!J26 -> 0 | J9: =I9*D9 -> 0 | K9: =E9+G9+I9 -> 0 | L9: =F9+H9+J9 -> 0 | N9: 010103 | P9: 0101 | R9: 3
A10: 010104 금 속 공 사 | D10: 1 | E10: =공종별내역서!F34 -> 0 | F10: =E10*D10 -> 0 | G10: =공종별내역서!H34 -> 0 | H10: =G10*D10 -> 0 | I10: =공종별내역서!J34 -> 0 | J10: =I10*D10 -> 0 | K10: =E10+G10+I10 -> 0 | L10: =F10+H10+J10 -> 0 | N10: 010104 | P10: 0101 | R10: 3
A11: 010105 칠 공 사 | D11: 1 | E11: =공종별내역서!F46 -> 0 | F11: =E11*D11 -> 0 | G11: =공종별내역서!H46 -> 0 | H11: =G11*D11 -> 0 | I11: =공종별내역서!J46 -> 0 | J11: =I11*D11 -> 0 | K11: =E11+G11+I11 -> 0 | L11: =F11+H11+J11 -> 0 | N11: 010105 | P11: 0101 | R11: 3
A12: 010106 구 조 물 공 사 | D12: 1 | E12: =공종별내역서!F65 -> 0 | F12: =E12*D12 -> 0 | G12: =공종별내역서!H65 -> 0 | H12: =G12*D12 -> 0 | I12: =공종별내역서!J65 -> 0 | J12: =I12*D12 -> 0 | K12: =E12+G12+I12 -> 0 | L12: =F12+H12+J12 -> 0 | N12: 010106 | P12: 0101 | R12: 3
A13: 010107 조 경 연 출 | D13: 1 | E13: =공종별내역서!F101 -> 0 | F13: =E13*D13 -> 0 | G13: =공종별내역서!H101 -> 0 | H13: =G13*D13 -> 0 | I13: =공종별내역서!J101 -> 0 | J13: =I13*D13 -> 0 | K13: =E13+G13+I13 -> 0 | L13: =F13+H13+J13 -> 0 | N13: 010107 | P13: 0101 | R13: 3
A14: 010108 철 거 공 사 | D14: 1 | E14: =공종별내역서!F113 -> 0 | F14: =E14*D14 -> 0 | G14: =공종별내역서!H113 -> 0 | H14: =G14*D14 -> 0 | I14: =공종별내역서!J113 -> 0 | J14: =I14*D14 -> 0 | K14: =E14+G14+I14 -> 0 | L14: =F14+H14+J14 -> 0 | N14: 010108 | P14: 0101 | R14: 3 | S14: <
A15: 010109 건설폐기물처리비 | D15: 1 | E15: =공종별내역서!F119 -> 0 | F15: =E15*D15 -> 0 | G15: =공종별내역서!H119 -> 0 | H15: =G15*D15 -> 0 | I15: =공종별내역서!J119 -> 0 | J15: =I15*D15 -> 0 | K15: =E15+G15+I15 -> 0 | L15: =F15+H15+J15 -> 0 | M15: 별산 | N15: 010109 | Q15: 7 | R15: 3 | T15: =L15*1 -> 0
A24: [ 합 계 ] | F24: =F5 -> 0 | H24: =H5 -> 0 | J24: =J5 -> 0 | L24: =L5 -> 0

Sheet 공종별내역서
A1: [ 송포청소년문화의집 인테리어 공사 ]
A2: 품 명 | B2: 규 격 | C2: 단위 | D2: 수량 | E2: 재 료 비 | G2: 노 무 비 | I2: 경 비 | K2: 합 계 | M2: 비 고 | N2: 품목코드 | O2: 변수 | P2: 설정 | Q2: 공종코드 | R2: 일위 | S2: 단산 | T2: 자재 | U2: 손료적용 | V2: 손료저장 | W2: 적용율 | X2: JUK1 | Y2: JUK2 | Z2: JUK3 | AA2: JUK4 | AB2: JUK5 | AC2: JUK6 | AD2: JUK7 | AE2: JUK8 | AF2: JUK9 | AG2: JUK10 | AH2: JUK11 | AI2: JUK12 | AJ2: JUK13 | AK2: JUK14 | AL2: JUK15 | AM2: JUK16 | AN2: JUK17 | AO2: JUK18 | AP2: JUK19 | AQ2: JUK20 | AR2: 자재구분 | AS2: 공종구분 | AT2: 공종레벨 | AU2: 공종+자재 | AV2: 고유번호
E3: 단 가 | F3: 금 액 | G3: 단 가 | H3: 금 액 | I3: 단 가 | J3: 금 액 | K3: 단 가 | L3: 금 액
A4: 010101 가 설 공 사 | Q4: 010101
A5: 강관 조립말비계(이동식)설치 및 해체 | B5: 높이 2m, 3개월 | C5: 대 | D5: 3 | K5: =TRUNC(E5+G5+I5, 0) -> 0 | L5: =TRUNC(F5+H5+J5, 0) -> 0 | M5: 호표 1 | N5: 5103C29091FF77306803239A2711E7 | Q5: 010101 | R5: T | S5: F | T5: F | AU5: 0101015103C29091FF77306803239A2711E7 | AV5: 4
A6: 건축물현장정리 | B6: 인테리어 | C6: M2 | D6: 326 | K6: =TRUNC(E6+G6+I6, 0) -> 0 | L6: =TRUNC(F6+H6+J6, 0) -> 0 | M6: 호표 2 | N6: 5103C29094B06FE1F8CE6313A7BA11 | Q6: 010101 | R6: T | S6: F | T6: F | AU6: 0101015103C29094B06FE1F8CE6313A7BA11 | AV6: 5
A8: [ 합 계 ] | L8: =SUM(L5:L7) -> 0 | N8: TOTAL
A9: 010102 타 일 공 사 | Q9: 010102
A10: 콩자갈깔기 | B10: 바닥, 지정콩자갈, 에폭시 10mm | C10: M2 | D10: 57 | K10: =TRUNC(E10+G10+I10, 0) -> 0 | L10: =TRUNC(F10+H10+J10, 0) -> 0 | M10: 호표 3 | N10: 510302B09D64F9DA38A726BC57B610 | Q10: 010102 | R10: T | S10: F | T10: F | AU10: 010102510302B09D64F9DA38A726BC57B610 | AV10: 9
A11: 모자이크타일 | B11: 지정 모자이크 타일 | C11: M2 | D11: 14 | K11: =TRUNC(E11+G11+I11, 0) -> 0 | L11: =TRUNC(F11+H11+J11, 0) -> 0 | M11: 견적서 | N11: 562562B09DA0ADBC189B6A47B7797F29C757C5 | Q11: 010102 | R11: F | S11: F | T11: T | AU11: 010102562562B09DA0ADBC189B6A47B7797F29C757C5 | AV11: 7
A12: 타일 붙임 / 접착 붙이기 - 모자이크 | B12: 계단하부, 지정색 줄눈(초록색) | C12: M2 | D12: 14 | K12: =TRUNC(E12+G12+I12, 0) -> 0 | L12: =TRUNC(F12+H12+J12, 0) -> 0 | M12: 호표 4 | N12: 510302B09E0FC39BA8660968A7CF7D | Q12: 010102 | R12: T | S12: F | T12: F | AU12: 010102510302B09E0FC39BA8660968A7CF7D | AV12: 8
A14: [ 합 계 ] | L14: =SUM(L10:L13) -> 0 | N14: TOTAL
A15: 010103 목공사및수장공사 | Q15: 010103
A16: 기존면 바탕정리 | B16: 바닥, 그라인딩 | C16: M2 | D16: 311 | K16: =TRUNC(E16+G16+I16, 0) -> 0 | L16: =TRUNC(F16+H16+J16, 0) -> 0 | M16: 호표 5 | N16: 5103A24093CB2DC5F81E8935873350 | Q16: 010103 | R16: T | S16: F | T16: F | AU16: 0101035103A24093CB2DC5F81E8935873350 | AV16: 180
A17: 강화마루 깔기 | B17: 8mm, 지정 강화마루 | C17: M2 | D17: 52 | K17: =TRUNC(E17+G17+I17, 0) -> 0 | L17: =TRUNC(F17+H17+J17, 0) -> 0 | M17: 호표 6 | N17: 510342D09B58E292285A5F4EC7C290 | Q17: 010103 | R17: T | S17: F | T17: F | AU17: 010103510342D09B58E292285A5F4EC7C290 | AV17: 12
A18: 강화마루 프로파일[강화마루깔기에 품포함] | B18: 5.8T × 28mm × 2000mm | C18: M | D18: 3 | K18: =TRUNC(E18+G18+I18, 0) -> 0 | L18: =TRUNC(F18+H18+J18, 0) -> 0 | M18: 호표 7 | N18: 510342D09B58E292285A5F4EC7CAE6 | Q18: 010103 | R18: T | S18: F | T18: F | AU18: 010103510342D09B58E292285A5F4EC7CAE6 | AV18: 13
A19: 인조잔디 깔기 | B19: 나일론, 10*1820mm, 전면접합 | C19: M2 | D19: 3 | K19: =TRUNC(E19+G19+I19, 0) -> 0 | L19: =TRUNC(F19+H19+J19, 0) -> 0 | M19: 호표 8 | N19: 510322809DA9BC25B84B6E11B7870F | Q19: 010103 | R19: T | S19: F | T19: F | AU19: 010103510322809DA9BC25B84B6E11B7870F | AV19: 179
A20: 석고판 설치(나사고정) - 바탕용 | B20: 천장, 9.5t*2겹 붙임 | C20: M2 | D20: 28 | K20: =TRUNC(E20+G20+I20, 0) -> 0 | L20: =TRUNC(F20+H20+J20, 0) -> 0 | M20: 호표 9 | N20: 510322809F544453D8FA855127C58D | Q20: 010103 | R20: T | S20: F | T20: F | AU20: 010103510322809F544453D8FA855127C58D | AV20: 14
A21: 오픈 단부 마감 | B21: 천정, H:90, 합판 9t+각파이프ㅁ-30*30*2.1t | C21: M | D21: 41 | K21: =TRUNC(E21+G21+I21, 0) -> 0 | L21: =TRUNC(F21+H21+J21, 0) -> 0 | M21: 호표 10 | N21: 510322809F52994B785E718307A2D6 | Q21: 010103 | R21: T | S21: F | T21: F | AU21: 010103510322809F52994B785E718307A2D6 | AV21: 15
A22: 오픈 단부 마감 [곡면부] | B22: 천정, H:90, 합판 4.8t*2겹+각파이프ㅁ-30*30*2.1t | C22: M | D22: 8 | K22: =TRUNC(E22+G22+I22, 0) -> 0 | L22: =TRUNC(F22+H22+J22, 0) -> 0 | M22: 호표 11 | N22: 510322809F52994B785E718307A1CF | Q22: 010103 | R22: T | S22: F | T22: F | AU22: 010103510322809F52994B785E718307A1CF | AV22: 16
A23: 캡 설치 [배기구멍] | B23: Φ100, 실리콘 마감 | C23: EA | D23: 1 | K23: =TRUNC(E23+G23+I23, 0) -> 0 | L23: =TRUNC(F23+H23+J23, 0) -> 0 | M23: 호표 12 | N23: 510322809824D2FB2810970107B5DA | Q23: 010103 | R23: T | S23: F | T23: F | AU23: 010103510322809824D2FB2810970107B5DA | AV23: 21
A24: 지정색 시트지 부착 | B24: SSTL 프레임 | C24: M2 | D24: 60 | K24: =TRUNC(E24+G24+I24, 0) -> 0 | L24: =TRUNC(F24+H24+J24, 0) -> 0 | M24: 호표 13 | N24: 510322809824D2FB2810970137076C | Q24: 010103 | R24: T | S24: F | T24: F | AU24: 010103510322809824D2FB2810970137076C | AV24: 23
A26: [ 합 계 ] | L26: =SUM(L16:L25) -> 0 | N26: TOTAL
A27: 010104 금 속 공 사 | Q27: 010104
A28: 타공판 설치 | B28: W360 X D560 X H5, 브라켓 설치 후 타공판 부착 | C28: EA | D28: 10 | K28: =TRUNC(E28+G28+I28, 0) -> 0 | L28: =TRUNC(F28+H28+J28, 0) -> 0 | M28: 견적서 | N28: 50BBD2709928BAB1285961BD27B232820F4C3A | Q28: 010104 | R28: F | S28: F | T28: T | AU28: 01010450BBD2709928BAB1285961BD27B232820F4C3A | AV28: 106
A29: 타공판 설치 | B29: W760 X D560 X H5, 브라켓 설치 후 타공판 부착 | C29: EA | D29: 25 | K29: =TRUNC(E29+G29+I29, 0) -> 0 | L29: =TRUNC(F29+H29+J29, 0) -> 0 | M29: 견적서 | N29: 50BBD2709928BAB1285961BD27B232820F4C3B | Q29: 010104 | R29: F | S29: F | T29: T | AU29: 01010450BBD2709928BAB1285961BD27B232820F4C3B | AV29: 107
A30: 타공판 설치 | B30: 운반 및 설치조립 | C30: EA | D30: 1 | K30: =TRUNC(E30+G30+I30, 0) -> 0 | L30: =TRUNC(F30+H30+J30, 0) -> 0 | M30: 견적서 | N30: 50BBD2709928BAB1285961BD27B232820F4C38 | Q30: 010104 | R30: F | S30: F | T30: T | AU30: 01010450BBD2709928BAB1285961BD27B232820F4C38 | AV30: 108
A31: 스토퍼 설치 | C31: EA | D31: 3 | K31: =TRUNC(E31+G31+I31, 0) -> 0 | L31: =TRUNC(F31+H31+J31, 0) -> 0 | M31: 견적서 | N31: 50BBD2709928BAB1285961BD27B232820F4C39 | Q31: 010104 | R31: F | S31: F | T31: T | AU31: 01010450BBD2709928BAB1285961BD27B232820F4C39 | AV31: 109
A32: 스토퍼 설치 | B32: 운반비 | C32: EA | D32: 1 | K32: =TRUNC(E32+G32+I32, 0) -> 0 | L32: =TRUNC(F32+H32+J32, 0) -> 0 | M32: 견적서 | N32: 50BBD2709928BAB1285961BD27B232820F4C36 | Q32: 010104 | R32: F | S32: F | T32: T | AU32: 01010450BBD2709928BAB1285961BD27B232820F4C36 | AV32: 110
A34: [ 합 계 ] | L34: =SUM(L28:L33) -> 0 | N34: TOTAL
A35: 010105 칠 공 사 | Q35: 010105
A36: 수성페인트 붓칠 | B36: 내천장 2회, 친환경, 설비파이프 | C36: M2 | D36: 20 | K36: =TRUNC(E36+G36+I36, 0) -> 0 | L36: =TRUNC(F36+H36+J36, 0) -> 0 | M36: 호표 14 | N36: 510332F090A62637F8C99338A78525 | Q36: 010105 | R36: T | S36: F | T36: F | AU36: 010105510332F090A62637F8C99338A78525 | AV36: 48
A37: 바탕만들기+수성페인트 롤러칠 | B37: 내부 2회, 친환경, 지정색-1 | C37: M2 | D37: 47 | K37: =TRUNC(E37+G37+I37, 0) -> 0 | L37: =TRUNC(F37+H37+J37, 0) -> 0 | M37: 호표 15 | N37: 510332F090A62636D8231660774132 | Q37: 010105 | R37: T | S37: F | T37: F | AU37: 010105510332F090A62636D8231660774132 | AV37: 49
A38: 바탕만들기+수성페인트 롤러칠 | B38: 내부 2회, 친환경, 지정색-2 | C38: M2 | D38: 13 | K38: =TRUNC(E38+G38+I38, 0) -> 0 | L38: =TRUNC(F38+H38+J38, 0) -> 0 | M38: 호표 16 | N38: 510332F090A62636D823166077402B | Q38: 010105 | R38: T | S38: F | T38: F | AU38: 010105510332F090A62636D823166077402B | AV38: 50
A39: 바탕만들기+수성페인트 롤러칠 | B39: 2층 천장 2회, 기존면, 친환경 | C39: M2 | D39: 148 | K39: =TRUNC(E39+G39+I39, 0) -> 0 | L39: =TRUNC(F39+H39+J39, 0) -> 0 | M39: 호표 17 | N39: 510332F090A62636D823B6B617BB12 | Q39: 010105 | R39: T | S39: F | T39: F | AU39: 010105510332F090A62636D823B6B617BB12 | AV39: 160
A40: 바탕만들기+수성페인트 롤러칠 | B40: 내천장 2회, con'c·mortar면, 친환경 | C40: M2 | D40: 51 | K40: =TRUNC(E40+G40+I40, 0) -> 0 | L40: =TRUNC(F40+H40+J40, 0) -> 0 | M40: 호표 18 | N40: 510332F090A62636D823B6B617B85D | Q40: 010105 | R40: T | S40: F | T40: F | AU40: 010105510332F090A62636D823B6B617B85D | AV40: 51
A41: 바탕만들기+수성페인트 롤러칠 | B41: 내천장 2회, G.B.면 올퍼티, 친환경 | C41: M2 | D41: 32 | K41: =TRUNC(E41+G41+I41, 0) -> 0 | L41: =TRUNC(F41+H41+J41, 0) -> 0 | M41: 호표 19 | N41: 510332F090A62636D823B6FDC74180 | Q41: 010105 | R41: T | S41: F | T41: F | AU41: 010105510332F090A62636D823B6FDC74180 | AV41: 52
A42: 바탕만들기+걸레받이용 페인트칠 | B42: 붓칠 2회, 투명 에나멜 페인트 | C42: M2 | D42: 1 | K42: =TRUNC(E42+G42+I42, 0) -> 0 | L42: =TRUNC(F42+H42+J42, 0) -> 0 | M42: 호표 20 | N42: 510332F0914DAE36B82E1EDD7724EC | Q42: 010105 | R42: T | S42: F | T42: F | AU42: 010105510332F0914DAE36B82E1EDD7724EC | AV42: 47
A43: 에폭시 라이닝 | B43: 바닥, 5mm, 투명(무광) | C43: M2 | D43: 203 | K43: =TRUNC(E43+G43+I43, 0) -> 0 | L43: =TRUNC(F43+H43+J43, 0) -> 0 | M43: 호표 21 | N43: 510332F099847768E8D445D6C71CE6 | Q43: 010105 | R43: T | S43: F | T43: F | AU43: 010105510332F099847768E8D445D6C71CE6 | AV43: 66
A44: 세라믹 폴리싱 | B44: 에폭시 라이닝, 콩자갈깔기 위 2회 도포 | C44: M2 | D44: 260 | K44: =TRUNC(E44+G44+I44, 0) -> 0 | L44: =TRUNC(F44+H44+J44, 0) -> 0 | M44: 견적서 | N44: 50BBD2709928BAB1285961BD27B232820EA760 | Q44: 010105 | R44: F | S44: F | T44: T | AU44: 01010550BBD2709928BAB1285961BD27B232820EA760 | AV44: 178
...

Sheet 일위대가목록
A1: 일 위 대 가 목 록
A2: [ 송포청소년문화의집 인테리어 공사 ]
A3: 코 드 | B3: 품 명 | C3: 규 격 | D3: 단위 | E3: 재 료 비 | F3: 노 무 비 | G3: 경 비 | H3: 합 계 | I3: 번 호 | J3: 비 고 | K3: 노임계수 | L3: 할증 | M3: 품셈개요 | N3: 장비일위
A4: 5103C29091FF77306803239A2711E7 | B4: 강관 조립말비계(이동식)설치 및 해체 | C4: 높이 2m, 3개월 | D4: 대 | E4: =일위대가!F15 -> 30934 | F4: =일위대가!H15 -> 93090 | G4: =일위대가!J15 -> 0 | H4: =E4+F4+G4 -> 124024 | I4: 호표 1 | M4: 공통 2-7-4, 2-2-5
A5: 5103C29094B06FE1F8CE6313A7BA11 | B5: 건축물현장정리 | C5: 인테리어 | D5: M2 | E5: =일위대가!F19 -> 0 | F5: =일위대가!H19 -> 5665 | G5: =일위대가!J19 -> 0 | H5: =E5+F5+G5 -> 5665 | I5: 호표 2 | M5: 공통 2-11-2, 차용
A6: 510302B09D64F9DA38A726BC57B610 | B6: 콩자갈깔기 | C6: 바닥, 지정콩자갈, 에폭시 10mm | D6: M2 | E6: =일위대가!F23 -> 70000 | F6: =일위대가!H23 -> 0 | G6: =일위대가!J23 -> 0 | H6: =E6+F6+G6 -> 70000 | I6: 호표 3 | M6: 시공도, 단가대비표
A7: 510302B09E0FC39BA8660968A7CF7D | B7: 타일 붙임 / 접착 붙이기 - 모자이크 | C7: 계단하부, 지정색 줄눈(초록색) | D7: M2 | E7: =일위대가!F30 -> 4415 | F7: =일위대가!H30 -> 38457 | G7: =일위대가!J30 -> 832 | H7: =E7+F7+G7 -> 43704 | I7: 호표 4 | M7: 건축 3-2-3, 건축 3-1-2
A8: 5103A24093CB2DC5F81E8935873350 | B8: 기존면 바탕정리 | C8: 바닥, 그라인딩 | D8: M2 | E8: =일위대가!F35 -> 0 | F8: =일위대가!H35 -> 2647 | G8: =일위대가!J35 -> 79 | H8: =E8+F8+G8 -> 2726 | I8: 호표 5 | M8: 유지 3-4-5
A9: 510342D09B58E292285A5F4EC7C290 | B9: 강화마루 깔기 | C9: 8mm, 지정 강화마루 | D9: M2 | E9: =일위대가!F39 -> 34000 | F9: =일위대가!H39 -> 0 | G9: =일위대가!J39 -> 0 | H9: =E9+F9+G9 -> 34000 | I9: 호표 6 | M9: 건축 5-1-3, 시공도
A10: 510342D09B58E292285A5F4EC7CAE6 | B10: 강화마루 프로파일[강화마루깔기에 품포함] | C10: 5.8T × 28mm × 2000mm | D10: M | E10: =일위대가!F43 -> 4400 | F10: =일위대가!H43 -> 0 | G10: =일위대가!J43 -> 0 | H10: =E10+F10+G10 -> 4400 | I10: 호표 7 | M10: 시공도, 단가대비표
A11: 510322809DA9BC25B84B6E11B7870F | B11: 인조잔디 깔기 | C11: 나일론, 10*1820mm, 전면접합 | D11: M2 | E11: =일위대가!F48 -> 27162 | F11: =일위대가!H48 -> 6343 | G11: =일위대가!J48 -> 0 | H11: =E11+F11+G11 -> 33505 | I11: 호표 8 | M11: 건축 5-1-1
A12: 510322809F544453D8FA855127C58D | B12: 석고판 설치(나사고정) - 바탕용 | C12: 천장, 9.5t*2겹 붙임 | D12: M2 | E12: =일위대가!F53 -> 5722 | F12: =일위대가!H53 -> 19031 | G12: =일위대가!J53 -> 190 | H12: =E12+F12+G12 -> 24943 | I12: 호표 9 | M12: 건축 5-2-3
A13: 510322809F52994B785E718307A2D6 | B13: 오픈 단부 마감 | C13: 천정, H:90, 합판 9t+각파이프ㅁ-30*30*2.1t | D13: M | E13: =일위대가!F61 -> 3481 | F13: =일위대가!H61 -> 7034 | G13: =일위대가!J61 -> 305 | H13: =E13+F13+G13 -> 10820 | I13: 호표 10 | M13: 건축 8-3-1,건축 4-2-3
A14: 510322809F52994B785E718307A1CF | B14: 오픈 단부 마감 [곡면부] | C14: 천정, H:90, 합판 4.8t*2겹+각파이프ㅁ-30*30*2.1t | D14: M | E14: =일위대가!F69 -> 3613 | F14: =일위대가!H69 -> 12610 | G14: =일위대가!J69 -> 538 | H14: =E14+F14+G14 -> 16761 | I14: 호표 11 | M14: 건축 8-3-1,건축 4-2-3
A15: 510322809824D2FB2810970107B5DA | B15: 캡 설치 [배기구멍] | C15: Φ100, 실리콘 마감 | D15: EA | E15: =일위대가!F75 -> 15357 | F15: =일위대가!H75 -> 5678 | G15: =일위대가!J75 -> 0 | H15: =E15+F15+G15 -> 21035 | I15: 호표 12 | M15: 건축 6-6-1
A16: 510322809824D2FB2810970137076C | B16: 지정색 시트지 부착 | C16: SSTL 프레임 | D16: M2 | E16: =일위대가!F79 -> 30000 | F16: =일위대가!H79 -> 0 | G16: =일위대가!J79 -> 0 | H16: =E16+F16+G16 -> 30000 | I16: 호표 13 | M16: 시공도, 단가대비표
A17: 510332F090A62637F8C99338A78525 | B17: 수성페인트 붓칠 | C17: 내천장 2회, 친환경, 설비파이프 | D17: M2 | E17: =일위대가!F84 -> 1071 | F17: =일위대가!H84 -> 14752 | G17: =일위대가!J84 -> 0 | H17: =E17+F17+G17 -> 15823 | I17: 호표 14 | M17: 건축 11-2-1
A18: 510332F090A62636D8231660774132 | B18: 바탕만들기+수성페인트 롤러칠 | C18: 내부 2회, 친환경, 지정색-1 | D18: M2 | E18: =일위대가!F91 -> 1073 | F18: =일위대가!H91 -> 9307 | G18: =일위대가!J91 -> 0 | H18: =E18+F18+G18 -> 10380 | I18: 호표 15 | M18: 건축 11-1-1,건축 11-2-2
A19: 510332F090A62636D823166077402B | B19: 바탕만들기+수성페인트 롤러칠 | C19: 내부 2회, 친환경, 지정색-2 | D19: M2 | E19: =일위대가!F98 -> 1073 | F19: =일위대가!H98 -> 9307 | G19: =일위대가!J98 -> 0 | H19: =E19+F19+G19 -> 10380 | I19: 호표 16 | M19: 건축 11-1-1,건축 11-2-2
A20: 510332F090A62636D823B6B617BB12 | B20: 바탕만들기+수성페인트 롤러칠 | C20: 2층 천장 2회, 기존면, 친환경 | D20: M2 | E20: =일위대가!F105 -> 1073 | F20: =일위대가!H105 -> 11169 | G20: =일위대가!J105 -> 0 | H20: =E20+F20+G20 -> 12242 | I20: 호표 17 | M20: 건축 11-1-1,건축 11-2-2
A21: 510332F090A62636D823B6B617B85D | B21: 바탕만들기+수성페인트 롤러칠 | C21: 내천장 2회, con'c·mortar면, 친환경 | D21: M2 | E21: =일위대가!F112 -> 1073 | F21: =일위대가!H112 -> 11169 | G21: =일위대가!J112 -> 0 | H21: =E21+F21+G21 -> 12242 | I21: 호표 18 | M21: 건축 11-1-1,건축 11-2-2
A22: 510332F090A62636D823B6FDC74180 | B22: 바탕만들기+수성페인트 롤러칠 | C22: 내천장 2회, G.B.면 올퍼티, 친환경 | D22: M2 | E22: =일위대가!F119 -> 2593 | F22: =일위대가!H119 -> 31270 | G22: =일위대가!J119 -> 0 | H22: =E22+F22+G22 -> 33863 | I22: 호표 19 | M22: 건축 11-1-2,건축 11-2-2
A23: 510332F0914DAE36B82E1EDD7724EC | B23: 바탕만들기+걸레받이용 페인트칠 | C23: 붓칠 2회, 투명 에나멜 페인트 | D23: M2 | E23: =일위대가!F126 -> 3469 | F23: =일위대가!H126 -> 21189 | G23: =일위대가!J126 -> 0 | H23: =E23+F23+G23 -> 24658 | I23: 호표 20 | M23: 건축 11-1-1,건축 11-2-10
A24: 510332F099847768E8D445D6C71CE6 | B24: 에폭시 라이닝 | C24: 바닥, 5mm, 투명(무광) | D24: M2 | E24: =일위대가!F131 -> 56647 | F24: =일위대가!H131 -> 14721 | G24: =일위대가!J131 -> 0 | H24: =E24+F24+G24 -> 71368 | I24: 호표 21 | M24: 건축 11-2-8
A25: 5102C220957FA0AB3809F58797AB94 | B25: 콘크리트 외벽 타공 | C25: Φ100, 배기구멍 | D25: EA | E25: =일위대가!F137 -> 1556 | F25: =일위대가!H137 -> 77836 | G25: =일위대가!J137 -> 0 | H25: =E25+F25+G25 -> 79392 | I25: 호표 22 | M25: 기계 9-3-2
A26: 5102C22095749AE5B8AA0FECA749EF | B26: 경량천장철골틀 해체 | C26: M-BAR | D26: M2 | E26: =일위대가!F143 -> 0 | F26: =일위대가!H143 -> 6194 | G26: =일위대가!J143 -> 123 | H26: =E26+F26+G26 -> 6317 | I26: 호표 23 | M26: 유지 3-2-3
A27: 5102C22095749AE5B8AA57F7D795A7 | B27: 석고판 해체 | C27: 천장 | D27: M2 | E27: =일위대가!F149 -> 0 | F27: =일위대가!H149 -> 5722 | G27: =일위대가!J149 -> 114 | H27: =E27+F27+G27 -> 5836 | I27: 호표 24 | M27: 유지 3-2-6
A28: 5102C22095749AE5B8AA57F7D795A2 | B28: 석고보드 컷팅 | C28: 천장 | D28: M | E28: =일위대가!F154 -> 0 | F28: =일위대가!H154 -> 2362 | G28: =일위대가!J154 -> 47 | H28: =E28+F28+G28 -> 2409 | I28: 호표 25 | M28: 건축 5-2-3
A29: 5102C22095749AE5B8AAB88C9729F1 | B29: PVC계바닥재 해체 | D29: M2 | E29: =일위대가!F159 -> 0 | F29: =일위대가!H159 -> 2064 | G29: =일위대가!J159 -> 0 | H29: =E29+F29+G29 -> 2064 | I29: 호표 26 | M29: 유지 3-2-8
A30: 5102C22095749AE5B8AAB88C972A98 | B30: 카펫 철거 | C30: 바닥 및 수장 부분 | D30: M2 | E30: =일위대가!F164 -> 0 | F30: =일위대가!H164 -> 2064 | G30: =일위대가!J164 -> 0 | H30: =E30+F30+G30 -> 2064 | I30: 호표 27 | M30: 유지 3-2-8
A31: 5102C22095749AE5B8B4A3BD776EBB | B31: 폐기물소운반 및 상차비 | C31: 20m, 인력 | D31: KG | E31: =일위대가!F169 -> 0 | F31: =일위대가!H169 -> 0 | G31: =일위대가!J169 -> 40 | H31: =E31+F31+G31 -> 40 | I31: 호표 28 | M31: -
A32: 5103C29091FF773068032389B73FC8 | B32: 강관 조립말비계(이동식)설치 및 해체 | C32: 높이 2m, 노무비 | D32: 대 | E32: =일위대가!F174 -> 0 | F32: =일위대가!H174 -> 93090 | G32: =일위대가!J174 -> 0 | H32: =E32+F32+G32 -> 93090 | I32: 호표 29 | M32: 공통 2-7-4
A33: 510302B09E0FC39BA8660968A7CD4B | B33: 타일 붙임 / 접착 붙이기 - 모자이크(유니트형) | C33: 벽면, 타일규격(m2), 0.04∼0.10 이하 | D33: M2 | E33: =일위대가!F181 -> 0 | F33: =일위대가!H181 -> 34675 | G33: =일위대가!J181 -> 832 | H33: =E33+F33+G33 -> 35507 | I33: 호표 30 | M33: 건축 3-2-3
A34: 510302B09E0FC81DE81E0AD127ECC3 | B34: 타일줄눈 설치 / 벽면 | C34: 타일규격 m2, 0.04 ~ 0.10 이하 | D34: M2 | E34: =일위대가!F185 -> 0 | F34: =일위대가!H185 -> 3782 | G34: =일위대가!J185 -> 0 | H34: =E34+F34+G34 -> 3782 | I34: 호표 31 | M34: 건축 3-1-2
A35: 510322809DA9BC25B84B6E11A7E1AB | B35: PVC계 바닥재 설치 - 시트 | C35: 주재료 제외, 전면접합 | D35: M2 | E35: =일위대가!F191 -> 1017 | F35: =일위대가!H191 -> 6343 | G35: =일위대가!J191 -> 0 | H35: =E35+F35+G35 -> 7360 | I35: 호표 32 | M35: 건축 5-1-1
A36: 510322809F544453D8FA855127C588 | B36: 석고판 설치(나사고정) - 바탕용 | C36: 천장, 2겹 붙임 | D36: M2 | E36: =일위대가!F197 -> 0 | F36: =일위대가!H197 -> 19031 | G36: =일위대가!J197 -> 190 | H36: =E36+F36+G36 -> 19221 | I36: 호표 33 | M36: 건축 5-2-3
A37: 510372009330898FB8544261A76C0A | B37: 잡철물 제작 및 설치 | C37: 규격철물 설치, 일반철재 | D37: kg | E37: =일위대가!F206 -> 87 | F37: =일위대가!H206 -> 2905 | G37: =일위대가!J206 -> 145 | H37: =E37+F37+G37 -> 3137 | I37: 호표 34 | M37: 건축 8-3-1
A38: 510322809F52994B785E718307A3FD | B38: 벽체합판 설치 | C38: 합판 별도 | D38: M2 | E38: =일위대가!F212 -> 0 | F38: =일위대가!H212 -> 17029 | G38: =일위대가!J212 -> 340 | H38: =E38+F38+G38 -> 17369 | I38: 호표 35 | M38: 건축 4-2-3
A39: 510372009330898FB866A27C5798C3 | B39: 잡철물 제작 및 설치 | C39: 현장제작 설치, 일반철재 | D39: kg | E39: =일위대가!F221 -> 151 | F39: =일위대가!H221 -> 5040 | G39: =일위대가!J221 -> 252 | H39: =E39+F39+G39 -> 5443 | I39: 호표 36 | M39: 건축 8-3-1
A40: 510352C09672651648DEF57437FCBE | B40: 수밀코킹(실리콘) | C40: 5㎜*5㎜ | D40: M | E40: =일위대가!F226 -> 570 | F40: =일위대가!H226 -> 4994 | G40: =일위대가!J226 -> 0 | H40: =E40+F40+G40 -> 5564 | I40: 호표 37 | M40: 건축 6-6-1
...

Sheet 일위대가
A1: [ 송포청소년문화의집 인테리어 공사 ]
A2: 품 명 | B2: 규 격 | C2: 단위 | D2: 수량 | E2: 재 료 비 | G2: 노 무 비 | I2: 경 비 | K2: 합 계 | M2: 비 고 | N2: 일위대가 | O2: 품목코드 | P2: 일위 | Q2: 단산 | R2: 자재 | S2: 손료적용 | T2: 손료저장 | U2: 적용율 | V2: JUK1 | W2: JUK2 | X2: JUK3 | Y2: JUK4 | Z2: JUK5 | AA2: JUK6 | AB2: JUK7 | AC2: JUK8 | AD2: JUK9 | AE2: JUK10 | AF2: JUK11 | AG2: JUK12 | AH2: JUK13 | AI2: JUK14 | AJ2: JUK15 | AK2: JUK16 | AL2: JUK17 | AM2: JUK18 | AN2: JUK19 | AO2: JUK20 | AP2: 할증적용 | AQ2: 할증저장 | AR2: 할증율 | AS2: HAL1 | AT2: HAL2 | AU2: HAL3 | AV2: 자재구분 | AW2: 일위대가+자재 | AX2: 장비일위 | AY2: 설정
E3: 단 가 | F3: 금 액 | G3: 단 가 | H3: 금 액 | I3: 단 가 | J3: 금 액 | K3: 단 가 | L3: 금 액
A4: 강관 조립말비계(이동식)설치 및 해체 높이 2m, 3개월 대 공통 2-7-4, 2-2-5 ( 호표 1 ) | N4: 5103C29091FF77306803239A2711E7
A5: 비계안정장치 | B5: 비계안정장치, 비계기본틀, 기둥, 1.2*1.7m | C5: 개 | D5: 0.12 | E5: ='자재 및 노임단가'!O17 -> 30000 | F5: =TRUNC(E5*D5,1) -> 3600 | G5: ='자재 및 노임단가'!P17 -> 0 | H5: =TRUNC(G5*D5,1) -> 0 | I5: ='자재 및 노임단가'!V17 -> 0 | J5: =TRUNC(I5*D5,1) -> 0 | K5: =TRUNC(E5+G5+I5,1) -> 30000 | L5: =TRUNC(F5+H5+J5,1) -> 3600 | N5: 5103C29091FF77306803239A2711E7 | O5: 562562B09DAA91D1C8B10E0C7775886F3D3527 | P5: F | Q5: F | R5: T | AW5: 5103C29091FF77306803239A2711E7562562B09DAA91D1C8B10E0C7775886F3D3527
A6: 비계안정장치 | B6: 비계안정장치, 가새, 1.2*1.9m | C6: 개 | D6: 0.12 | E6: ='자재 및 노임단가'!O18 -> 10000 | F6: =TRUNC(E6*D6,1) -> 1200 | G6: ='자재 및 노임단가'!P18 -> 0 | H6: =TRUNC(G6*D6,1) -> 0 | I6: ='자재 및 노임단가'!V18 -> 0 | J6: =TRUNC(I6*D6,1) -> 0 | K6: =TRUNC(E6+G6+I6,1) -> 10000 | L6: =TRUNC(F6+H6+J6,1) -> 1200 | N6: 5103C29091FF77306803239A2711E7 | O6: 562562B09DAA91D1C8B10E0C7775886F3D3529 | P6: F | Q6: F | R6: T | AW6: 5103C29091FF77306803239A2711E7562562B09DAA91D1C8B10E0C7775886F3D3529
A7: 비계안정장치 | B7: 비계안정장치, 수평띠장, 1829mm | C7: 개 | D7: 0.24 | E7: ='자재 및 노임단가'!O19 -> 25000 | F7: =TRUNC(E7*D7,1) -> 6000 | G7: ='자재 및 노임단가'!P19 -> 0 | H7: =TRUNC(G7*D7,1) -> 0 | I7: ='자재 및 노임단가'!V19 -> 0 | J7: =TRUNC(I7*D7,1) -> 0 | K7: =TRUNC(E7+G7+I7,1) -> 25000 | L7: =TRUNC(F7+H7+J7,1) -> 6000 | N7: 5103C29091FF77306803239A2711E7 | O7: 562562B09DAA91D1C8B10E0C7775886F3D3AA0 | P7: F | Q7: F | R7: T | AW7: 5103C29091FF77306803239A2711E7562562B09DAA91D1C8B10E0C7775886F3D3AA0
A8: 비계안정장치 | B8: 비계안정장치, 손잡이기둥 | C8: 개 | D8: 0.24 | E8: ='자재 및 노임단가'!O22 -> 5700 | F8: =TRUNC(E8*D8,1) -> 1368 | G8: ='자재 및 노임단가'!P22 -> 0 | H8: =TRUNC(G8*D8,1) -> 0 | I8: ='자재 및 노임단가'!V22 -> 0 | J8: =TRUNC(I8*D8,1) -> 0 | K8: =TRUNC(E8+G8+I8,1) -> 5700 | L8: =TRUNC(F8+H8+J8,1) -> 1368 | N8: 5103C29091FF77306803239A2711E7 | O8: 562562B09DAA91D1C8B10E0C7775886F3D3AA7 | P8: F | Q8: F | R8: T | AW8: 5103C29091FF77306803239A2711E7562562B09DAA91D1C8B10E0C7775886F3D3AA7
A9: 비계안정장치 | B9: 비계안정장치, 손잡이, 1229mm | C9: 개 | D9: 0.12 | E9: ='자재 및 노임단가'!O20 -> 1440 | F9: =TRUNC(E9*D9,1) -> 172.8 | G9: ='자재 및 노임단가'!P20 -> 0 | H9: =TRUNC(G9*D9,1) -> 0 | I9: ='자재 및 노임단가'!V20 -> 0 | J9: =TRUNC(I9*D9,1) -> 0 | K9: =TRUNC(E9+G9+I9,1) -> 1440 | L9: =TRUNC(F9+H9+J9,1) -> 172.8 | N9: 5103C29091FF77306803239A2711E7 | O9: 562562B09DAA91D1C8B10E0C7775886F3D3AA1 | P9: F | Q9: F | R9: T | AW9: 5103C29091FF77306803239A2711E7562562B09DAA91D1C8B10E0C7775886F3D3AA1
A10: 비계안정장치 | B10: 비계안정장치, 손잡이, 1829mm | C10: 개 | D10: 0.24 | E10: ='자재 및 노임단가'!O21 -> 2100 | F10: =TRUNC(E10*D10,1) -> 504 | G10: ='자재 및 노임단가'!P21 -> 0 | H10: =TRUNC(G10*D10,1) -> 0 | I10: ='자재 및 노임단가'!V21 -> 0 | J10: =TRUNC(I10*D10,1) -> 0 | K10: =TRUNC(E10+G10+I10,1) -> 2100 | L10: =TRUNC(F10+H10+J10,1) -> 504 | N10: 5103C29091FF77306803239A2711E7 | O10: 562562B09DAA91D1C8B10E0C7775886F3D3AA6 | P10: F | Q10: F | R10: T | AW10: 5103C29091FF77306803239A2711E7562562B09DAA91D1C8B10E0C7775886F3D3AA6
A11: 비계안정장치 | B11: 비계안정장치, 바퀴 | C11: 개 | D11: 0.36 | E11: ='자재 및 노임단가'!O23 -> 13000 | F11: =TRUNC(E11*D11,1) -> 4680 | G11: ='자재 및 노임단가'!P23 -> 0 | H11: =TRUNC(G11*D11,1) -> 0 | I11: ='자재 및 노임단가'!V23 -> 0 | J11: =TRUNC(I11*D11,1) -> 0 | K11: =TRUNC(E11+G11+I11,1) -> 13000 | L11: =TRUNC(F11+H11+J11,1) -> 4680 | N11: 5103C29091FF77306803239A2711E7 | O11: 562562B09DAA91D1C8B10E0C7775886F3D3AA4 | P11: F | Q11: F | R11: T | AW11: 5103C29091FF77306803239A2711E7562562B09DAA91D1C8B10E0C7775886F3D3AA4
A12: 비계안정장치 | B12: 비계안정장치, 쟈키 | C12: 개 | D12: 0.36 | E12: ='자재 및 노임단가'!O24 -> 11000 | F12: =TRUNC(E12*D12,1) -> 3960 | G12: ='자재 및 노임단가'!P24 -> 0 | H12: =TRUNC(G12*D12,1) -> 0 | I12: ='자재 및 노임단가'!V24 -> 0 | J12: =TRUNC(I12*D12,1) -> 0 | K12: =TRUNC(E12+G12+I12,1) -> 11000 | L12: =TRUNC(F12+H12+J12,1) -> 3960 | N12: 5103C29091FF77306803239A2711E7 | O12: 562562B09DAA91D1C8B10E0C7775886F3D3AA5 | P12: F | Q12: F | R12: T | AW12: 5103C29091FF77306803239A2711E7562562B09DAA91D1C8B10E0C7775886F3D3AA5
A13: 비계안정장치 | B13: 비계안정장치, 발판, 40*200*2000 | C13: 장 | D13: 0.63 | E13: ='자재 및 노임단가'!O25 -> 15000 | F13: =TRUNC(E13*D13,1) -> 9450 | G13: ='자재 및 노임단가'!P25 -> 0 | H13: =TRUNC(G13*D13,1) -> 0 | I13: ='자재 및 노임단가'!V25 -> 0 | J13: =TRUNC(I13*D13,1) -> 0 | K13: =TRUNC(E13+G13+I13,1) -> 15000 | L13: =TRUNC(F13+H13+J13,1) -> 9450 | N13: 5103C29091FF77306803239A2711E7 | O13: 562562B09DAA91D1C8B10E0C5745C797A805EC | P13: F | Q13: F | R13: T | AW13: 5103C29091FF77306803239A2711E7562562B09DAA91D1C8B10E0C5745C797A805EC
A14: 강관 조립말비계(이동식)설치 및 해체 | B14: 높이 2m, 노무비 | C14: 대 | D14: 1 | E14: =일위대가목록!E32 -> 0 | F14: =TRUNC(E14*D14,1) -> 0 | G14: =일위대가목록!F32 -> 93090 | H14: =TRUNC(G14*D14,1) -> 93090 | I14: =일위대가목록!G32 -> 0 | J14: =TRUNC(I14*D14,1) -> 0 | K14: =TRUNC(E14+G14+I14,1) -> 93090 | L14: =TRUNC(F14+H14+J14,1) -> 93090 | M14: 호표 29 | N14: 5103C29091FF77306803239A2711E7 | O14: 5103C29091FF773068032389B73FC8 | P14: T | Q14: F | R14: F | AW14: 5103C29091FF77306803239A2711E75103C29091FF773068032389B73FC8
A15: [ 합 계 ] | F15: =TRUNC(SUMIF(N5:N14, N4, F5:F14),0) -> 30934 | H15: =TRUNC(SUMIF(N5:N14, N4, H5:H14),0) -> 93090 | J15: =TRUNC(SUMIF(N5:N14, N4, J5:J14),0) -> 0 | L15: =F15+H15+J15 -> 124024 | N15: TOTAL | O15: TOTAL
A17: 건축물현장정리 인테리어 M2 공통 2-11-2, 차용 ( 호표 2 ) | N17: 5103C29094B06FE1F8CE6313A7BA11
A18: 보통인부 | B18: 일반공사 직종 | C18: 인 | D18: 0.035 | E18: ='자재 및 노임단가'!O45 -> 0 | F18: =TRUNC(E18*D18,1) -> 0 | G18: ='자재 및 노임단가'!P45 -> 161858 | H18: =TRUNC(G18*D18,1) -> 5665 | I18: ='자재 및 노임단가'!V45 -> 0 | J18: =TRUNC(I18*D18,1) -> 0 | K18: =TRUNC(E18+G18+I18,1) -> 161858 | L18: =TRUNC(F18+H18+J18,1) -> 5665 | N18: 5103C29094B06FE1F8CE6313A7BA11 | O18: 51D052209D26FBA708579E3847D41FE567EAF5 | P18: F | Q18: F | R18: T | AW18: 5103C29094B06FE1F8CE6313A7BA1151D052209D26FBA708579E3847D41FE567EAF5
A19: [ 합 계 ] | F19: =TRUNC(SUMIF(N18:N18, N17, F18:F18),0) -> 0 | H19: =TRUNC(SUMIF(N18:N18, N17, H18:H18),0) -> 5665 | J19: =TRUNC(SUMIF(N18:N18, N17, J18:J18),0) -> 0 | L19: =F19+H19+J19 -> 5665 | N19: TOTAL | O19: TOTAL
A21: 콩자갈깔기 바닥, 지정콩자갈, 에폭시 10mm M2 ( 호표 3 ) | N21: 510302B09D64F9DA38A726BC57B610
A22: 콩자갈수지포장 | B22: t:10 미장시공 | C22: M2 | D22: 1 | E22: ='자재 및 노임단가'!O5 -> 70000 | F22: =TRUNC(E22*D22,1) -> 70000 | G22: ='자재 및 노임단가'!P5 -> 0 | H22: =TRUNC(G22*D22,1) -> 0 | I22: ='자재 및 노임단가'!V5 -> 0 | J22: =TRUNC(I22*D22,1) -> 0 | K22: =TRUNC(E22+G22+I22,1) -> 70000 | L22: =TRUNC(F22+H22+J22,1) -> 70000 | N22: 510302B09D64F9DA38A726BC57B610 | O22: 560A82C0914394F608BD8296A7F8F3938EFFCA | P22: F | Q22: F | R22: T | AW22: 510302B09D64F9DA38A726BC57B610560A82C0914394F608BD8296A7F8F3938EFFCA
A23: [ 합 계 ] | F23: =TRUNC(SUMIF(N22:N22, N21, F22:F22),0) -> 70000 | H23: =TRUNC(SUMIF(N22:N22, N21, H22:H22),0) -> 0 | J23: =TRUNC(SUMIF(N22:N22, N21, J22:J22),0) -> 0 | L23: =F23+H23+J23 -> 70000 | N23: TOTAL | O23: TOTAL
A25: 타일 붙임 / 접착 붙이기 - 모자이크 계단하부, 지정색 줄눈(초록색) M2 건축 3-2-3, 건축 3-1-2 ( 호표 4 ) | N25: 510302B09E0FC39BA8660968A7CF7D
A26: 에폭시접착제 | B26: 에폭시접착제, 세라믹타일용 | C26: kg | D26: 1.71 | E26: ='자재 및 노임단가'!O32 -> 2350 | F26: =TRUNC(E26*D26,1) -> 4018.5 | G26: ='자재 및 노임단가'!P32 -> 0 | H26: =TRUNC(G26*D26,1) -> 0 | I26: ='자재 및 노임단가'!V32 -> 0 | J26: =TRUNC(I26*D26,1) -> 0 | K26: =TRUNC(E26+G26+I26,1) -> 2350 | L26: =TRUNC(F26+H26+J26,1) -> 4018.5 | N26: 510302B09E0FC39BA8660968A7CF7D | O26: 5625724091A160AAD8926EEC37158482B1D4AE | P26: F | Q26: F | R26: T | AW26: 510302B09E0FC39BA8660968A7CF7D5625724091A160AAD8926EEC37158482B1D4AE
A27: 타일시멘트 | B27: 타일시멘트, 줄눈용, 백색 | C27: kg | D27: 1.48 | E27: ='자재 및 노임단가'!O9 -> 268 | F27: =TRUNC(E27*D27,1) -> 396.6 | G27: ='자재 및 노임단가'!P9 -> 0 | H27: =TRUNC(G27*D27,1) -> 0 | I27: ='자재 및 노임단가'!V9 -> 0 | J27: =TRUNC(I27*D27,1) -> 0 | K27: =TRUNC(E27+G27+I27,1) -> 268 | L27: =TRUNC(F27+H27+J27,1) -> 396.6 | N27: 510302B09E0FC39BA8660968A7CF7D | O27: 562562B09DA25B10E8C01A2EB730A954A76EF2 | P27: F | Q27: F | R27: T | AW27: 510302B09E0FC39BA8660968A7CF7D562562B09DA25B10E8C01A2EB730A954A76EF2
A28: 타일 붙임 / 접착 붙이기 - 모자이크(유니트형) | B28: 벽면, 타일규격(m2), 0.04∼0.10 이하 | C28: M2 | D28: 1 | E28: =일위대가목록!E33 -> 0 | F28: =TRUNC(E28*D28,1) -> 0 | G28: =일위대가목록!F33 -> 34675 | H28: =TRUNC(G28*D28,1) -> 34675 | I28: =일위대가목록!G33 -> 832 | J28: =TRUNC(I28*D28,1) -> 832 | K28: =TRUNC(E28+G28+I28,1) -> 35507 | L28: =TRUNC(F28+H28+J28,1) -> 35507 | M28: 호표 30 | N28: 510302B09E0FC39BA8660968A7CF7D | O28: 510302B09E0FC39BA8660968A7CD4B | P28: T | Q28: F | R28: F | AW28: 510302B09E0FC39BA8660968A7CF7D510302B09E0FC39BA8660968A7CD4B
A29: 타일줄눈 설치 / 벽면 | B29: 타일규격 m2, 0.04 ~ 0.10 이하 | C29: M2 | D29: 1 | E29: =일위대가목록!E34 -> 0 | F29: =TRUNC(E29*D29,1) -> 0 | G29: =일위대가목록!F34 -> 3782 | H29: =TRUNC(G29*D29,1) -> 3782 | I29: =일위대가목록!G34 -> 0 | J29: =TRUNC(I29*D29,1) -> 0 | K29: =TRUNC(E29+G29+I29,1) -> 3782 | L29: =TRUNC(F29+H29+J29,1) -> 3782 | M29: 호표 31 | N29: 510302B09E0FC39BA8660968A7CF7D | O29: 510302B09E0FC81DE81E0AD127ECC3 | P29: T | Q29: F | R29: F | AW29: 510302B09E0FC39BA8660968A7CF7D510302B09E0FC81DE81E0AD127ECC3
A30: [ 합 계 ] | F30: =TRUNC(SUMIF(N26:N29, N25, F26:F29),0) -> 4415 | H30: =TRUNC(SUMIF(N26:N29, N25, H26:H29),0) -> 38457 | J30: =TRUNC(SUMIF(N26:N29, N25, J26:J29),0) -> 832 | L30: =F30+H30+J30 -> 43704 | N30: TOTAL | O30: TOTAL
A32: 기존면 바탕정리 바닥, 그라인딩 M2 건축 9-2-1 ( 호표 5 ) | N32: 5103A24093CB2DC5F81E8935873350
A33: 견출공 | B33: 일반공사 직종 | C33: 인 | D33: 0.011 | E33: ='자재 및 노임단가'!O51 -> 0 | F33: =TRUNC(E33*D33,1) -> 0 | G33: ='자재 및 노임단가'!P51 -> 240727 | H33: =TRUNC(G33*D33,1) -> 2647.9 | I33: ='자재 및 노임단가'!V51 -> 0 | J33: =TRUNC(I33*D33,1) -> 0 | K33: =TRUNC(E33+G33+I33,1) -> 240727 | L33: =TRUNC(F33+H33+J33,1) -> 2647.9 | N33: 5103A24093CB2DC5F81E8935873350 | O33: 51D052209D26FBA708579E3847D41FE567E8CB | P33: F | Q33: F | R33: T | V33: 1 | AW33: 5103A24093CB2DC5F81E893587335051D052209D26FBA708579E3847D41FE567E8CB
A34: 공구손료 | B34: 인력품의 3% | C34: 식 | D34: 1 | E34: 0 | F34: =TRUNC(E34*D34,1) -> 0 | G34: 0 | H34: =TRUNC(G34*D34,1) -> 0 | I34: =TRUNC(SUMIF(V33:V34, RIGHTB(O34, 1), H33:H34)*U34, 2) -> 79.43 | J34: =TRUNC(I34*D34,1) -> 79.4 | K34: =TRUNC(E34+G34+I34,1) -> 79.4 | L34: =TRUNC(F34+H34+J34,1) -> 79.4 | N34: 5103A24093CB2DC5F81E8935873350 | O34: 501A82909084D51448F19BE8479D001 | P34: F | Q34: F | R34: F | S34: 1 | T34: 2 | U34: 0.03 | AW34: 5103A24093CB2DC5F81E8935873350501A82909084D51448F19BE8479D001
A35: [ 합 계 ] | F35: =TRUNC(SUMIF(N33:N34, N32, F33:F34),0) -> 0 | H35: =TRUNC(SUMIF(N33:N34, N32, H33:H34),0) -> 2647 | J35: =TRUNC(SUMIF(N33:N34, N32, J33:J34),0) -> 79 | L35: =F35+H35+J35 -> 2726 | N35: TOTAL | O35: TOTAL
A37: 강화마루 깔기 8mm, 지정 강화마루 M2 건축 5-1-3, 시공도 ( 호표 6 ) | N37: 510342D09B58E292285A5F4EC7C290
A38: 플로어링보드 | B38: 강화마루, 8×190×1200mm | C38: M2 | D38: 1 | E38: ='자재 및 노임단가'!O15 -> 34000 | F38: =TRUNC(E38*D38,1) -> 34000 | G38: ='자재 및 노임단가'!P15 -> 0 | H38: =TRUNC(G38*D38,1) -> 0 | I38: ='자재 및 노임단가'!V15 -> 0 | J38: =TRUNC(I38*D38,1) -> 0 | K38: =TRUNC(E38+G38+I38,1) -> 34000 | L38: =TRUNC(F38+H38+J38,1) -> 34000 | N38: 510342D09B58E292285A5F4EC7C290 | O38: 562562B09DA52FF218F8185F6788D0649F7EA0 | P38: F | Q38: F | R38: T | AW38: 510342D09B58E292285A5F4EC7C290562562B09DA52FF218F8185F6788D0649F7EA0
A39: [ 합 계 ] | F39: =TRUNC(SUMIF(N38:N38, N37, F38:F38),0) -> 34000 | H39: =TRUNC(SUMIF(N38:N38, N37, H38:H38),0) -> 0 | J39: =TRUNC(SUMIF(N38:N38, N37, J38:J38),0) -> 0 | L39: =F39+H39+J39 -> 34000 | N39: TOTAL | O39: TOTAL
A41: 강화마루 프로파일[강화마루깔기에 품포함] 5.8T × 28mm × 2000mm M ( 호표 7 ) | N41: 510342D09B58E292285A5F4EC7CAE6
A42: 플로어링보드 프로파일 | B42: 5.8T × 28mm × 2000mm | C42: M | D42: 1.1 | E42: ='자재 및 노임단가'!O16 -> 4000 | F42: =TRUNC(E42*D42,1) -> 4400 | G42: ='자재 및 노임단가'!P16 -> 0 | H42: =TRUNC(G42*D42,1) -> 0 | I42: ='자재 및 노임단가'!V16 -> 0 | J42: =TRUNC(I42*D42,1) -> 0 | K42: =TRUNC(E42+G42+I42,1) -> 4000 | L42: =TRUNC(F42+H42+J42,1) -> 4400 | N42: 510342D09B58E292285A5F4EC7CAE6 | O42: 562562B09DA52FF218F8185F6788D0649F7EA5 | P42: F | Q42: F | R42: T | AW42: 510342D09B58E292285A5F4EC7CAE6562562B09DA52FF218F8185F6788D0649F7EA5
A43: [ 합 계 ] | F43: =TRUNC(SUMIF(N42:N42, N41, F42:F42),0) -> 4400 | H43: =TRUNC(SUMIF(N42:N42, N41, H42:H42),0) -> 0 | J43: =TRUNC(SUMIF(N42:N42, N41, J42:J42),0) -> 0 | L43: =F43+H43+J43 -> 4400 | N43: TOTAL | O43: TOTAL
A45: 인조잔디 깔기 나일론, 10*1820mm, 전면접합 M2 건축 5-1-1 ( 호표 8 ) | N45: 510322809DA9BC25B84B6E11B7870F
A46: 인조잔디 | B46: 인조잔디, 나일론, 10*1820mm | C46: M2 | D46: 1.05 | E46: ='자재 및 노임단가'!O10 -> 24900 | F46: =TRUNC(E46*D46,1) -> 26145 | G46: ='자재 및 노임단가'!P10 -> 0 | H46: =TRUNC(G46*D46,1) -> 0 | I46: ='자재 및 노임단가'!V10 -> 0 | J46: =TRUNC(I46*D46,1) -> 0 | K46: =TRUNC(E46+G46+I46,1) -> 24900 | L46: =TRUNC(F46+H46+J46,1) -> 26145 | N46: 510322809DA9BC25B84B6E11B7870F | O46: 562562B09DA1B2F7181CDC087774F3B2A2265A | P46: F | Q46: F | R46: T | AW46: 510322809DA9BC25B84B6E11B7870F562562B09DA1B2F7181CDC087774F3B2A2265A
A47: PVC계 바닥재 설치 - 시트 | B47: 주재료 제외, 전면접합 | C47: M2 | D47: 1 | E47: =일위대가목록!E35 -> 1017 | F47: =TRUNC(E47*D47,1) -> 1017 | G47: =일위대가목록!F35 -> 6343 | H47: =TRUNC(G47*D47,1) -> 6343 | I47: =일위대가목록!G35 -> 0 | J47: =TRUNC(I47*D47,1) -> 0 | K47: =TRUNC(E47+G47+I47,1) -> 7360 | L47: =TRUNC(F47+H47+J47,1) -> 7360 | M47: 호표 32 | N47: 510322809DA9BC25B84B6E11B7870F | O47: 510322809DA9BC25B84B6E11A7E1AB | P47: T | Q47: F | R47: F | AW47: 510322809DA9BC25B84B6E11B7870F510322809DA9BC25B84B6E11A7E1AB
...

Sheet 중기단가목록
A1: 중 기 단 가 목 록
A2: [ 송포청소년문화의집 인테리어 공사 ]
A3: 코 드 | B3: 품 명 | C3: 규 격 | D3: 단위 | E3: 재 료 비 | F3: 노 무 비 | G3: 경 비 | H3: 합 계 | I3: 번 호 | J3: 비 고 | K3: START | L3: 품셈개요
A4: 5120F280917D8C37B8067464F7CA69 | B4: 철거 폐기물 소운반 | C4: 운반거리 L=20m | D4: KG | E4: 0 | F4: 0 | G4: 40 | H4: 40 | I4: 산근 1 | K4: 5120F280917D8C37B8067464F7CA69 | L4: 토목 9-3

Sheet 중기단가산출서
A1: 중 기 단 가 산 출 서
A2: [ 송포청소년문화의집 인테리어 공사 ]
A3: 산 출 내 역 | B3: 재 료 비 | C3: 노 무 비 | D3: 경 비 | E3: 합 계 | F3: 비 고 | G3: START | H3: 코드 | I3: 품명 | J3: 규격 | K3: 단위 | L3: 수량
A4: 철거 폐기물 소운반 운반거리 L=20m KG 토목 9-3 ( 산근 1 ) | G4: 5120F280917D8C37B8067464F7CA69 | I4: 철거 폐기물 소운반 | J4: 운반거리 L=20m | K4: KG
G5: 5120F280917D8C37B8067464F7CA69 | H5: C | K5: M3 | L5: 1
A6: 인력소운반지게(TON/HR)TON당 | B6: 0 | C6: 0 | D6: 0 | E6: 0 | G6: 5120F280917D8C37B8067464F7CA69 | H6: C! | I6: '인력소운반지게(TON/HR)TON당'
A7: T1 1일 실작업시간(480분-30분)) =450 | B7: 0 | C7: 0 | D7: 0 | E7: 0 | G7: 5120F280917D8C37B8067464F7CA69 | H7: C! | I7: T1 '1일 실작업시간(480분-30분))' =450
A8: Q1 1회 적재량(KG) =25 | B8: 0 | C8: 0 | D8: 0 | E8: 0 | G8: 5120F280917D8C37B8067464F7CA69 | H8: C! | I8: q1 '1회 적재량(KG)' =25
A9: L 운반거리(M) =20 | B9: 0 | C9: 0 | D9: 0 | E9: 0 | G9: 5120F280917D8C37B8067464F7CA69 | H9: C! | I9: L '운반거리(M)' =20
A10: V 운반속도양호3,000(M/HR),보통2,500(M/HR)불량2,000(M/HR) =3000 | B10: 0 | C10: 0 | D10: 0 | E10: 0 | G10: 5120F280917D8C37B8067464F7CA69 | H10: C! | I10: V '운반속도양호3,000(M/HR),보통2,500(M/HR)불량2,000(M/HR)'=3000
A11: T2 적재적하시간(MIN) 토사류1.5분,석재류 2분,혼합류 4 =2 | B11: 0 | C11: 0 | D11: 0 | E11: 0 | G11: 5120F280917D8C37B8067464F7CA69 | H11: C! | I11: t2 '적재적하시간(MIN) 토사류1.5분,석재류 2분,혼합류 4' =2
A12: N 1일 운반횟수 =(V*T1)/((120*L)+(V*T2))= 160.71 | B12: 0 | C12: 0 | D12: 0 | E12: 0 | G12: 5120F280917D8C37B8067464F7CA69 | H12: C! | I12: N '1일 운반횟수'=(V*T1)/((120*L)+(V*T2))=?
A13: Q 시간당 작업(KG/HR) =N*Q1= 4017.75 | B13: 0 | C13: 0 | D13: 0 | E13: 0 | G13: 5120F280917D8C37B8067464F7CA69 | H13: C! | I13: Q '시간당 작업(KG/HR)' =N*q1=?
A14: 노무비: 161858 / 4017.75 = 40.2 | B14: 0 | C14: 0 | D14: 40.2 | E14: 40.2 | G14: 5120F280917D8C37B8067464F7CA69 | H14: C! | I14: '노무비:' ~L001010101000002.L~ / {Q} =?EQ+
A15: 소 계 | B15: 0 | C15: 0 | D15: 40.2 | E15: 40.2 | G15: 5120F280917D8C37B8067464F7CA69 | H15: C! | I15: >'소 계'
B16: 0 | C16: 0 | D16: 0 | E16: 0 | G16: 5120F280917D8C37B8067464F7CA69 | H16: C!
B17: 0 | C17: 0 | D17: 0 | E17: 0 | G17: 5120F280917D8C37B8067464F7CA69 | H17: C!
B18: 0 | C18: 0 | D18: 0 | E18: 0 | G18: 5120F280917D8C37B8067464F7CA69 | H18: C!
B19: 0 | C19: 0 | D19: 0 | E19: 0 | G19: 5120F280917D8C37B8067464F7CA69 | H19: C!
A20: 총 계 | B20: 0 | C20: 0 | D20: 40 | E20: 40

Sheet 자재 및 노임단가
A1: 단 가 대 비 표
A2: [ 송포청소년문화의집 인테리어 공사 ]
A3: 코 드 | B3: 품 명 | C3: 규격 | D3: 단위 | E3: 재 료 비 | P3: 노 무 비 | Q3: 경 비 | W3: 번 호 | X3: 비 고 | Y3: 품목구분 | Z3: 노임구분 | AA3: 소수점처리 | AB3: 자재구분
E4: 조달청가격 | F4: PAGE | G4: 거래가격 | H4: PAGE | I4: 유통물가 | J4: PAGE | K4: 물가자료 | L4: PAGE | M4: 조사가격 | N4: PAGE | O4: 적용단가 | Q4: 조달청가격 | R4: 거래가격 | S4: 유통물가 | T4: 물가자료 | U4: 조사가격 | V4: 적용단가
A5: 560A82C0914394F608BD8296A7F8F3938EFFCA | B5: 콩자갈수지포장 | C5: t:10 미장시공 | D5: M2 | E5: 0 | G5: 0 | I5: 70000 | J5: 187 | K5: 70000 | L5: 162 | M5: 80000 | N5: 물가정보 I-183 | O5: =SMALL(E5:M5,COUNTIF(E5:M5,0)+1) -> 70000 | P5: 0 | Q5: 0 | R5: 0 | S5: 0 | T5: 0 | U5: 0 | V5: 0 | W5: 자재 1
A6: 560A82C09140C3E64880492CB7180E25030410 | B6: 보통합판 | C6: 보통합판, 1급, 4.8*1220*2440mm | D6: M2 | E6: 4348 | G6: 5710.83 | H6: 671 | I6: 4590.16 | J6: 407 | K6: 0 | M6: 0 | O6: =SMALL(E6:M6,COUNTIF(E6:M6,0)+1) -> 4348 | P6: 0 | Q6: 0 | R6: 0 | S6: 0 | T6: 0 | U6: 0 | V6: 0 | W6: 자재 2
A7: 560A82C09140C3E64880492CB7180E25030414 | B7: 보통합판 | C7: 보통합판, 1급, 9.0*1220*2440mm | D7: M2 | E7: 8580 | G7: 8834.99 | H7: 671 | I7: 8615.96 | J7: 407 | K7: 0 | M7: 0 | O7: =SMALL(E7:M7,COUNTIF(E7:M7,0)+1) -> 8580 | P7: 0 | Q7: 0 | R7: 0 | S7: 0 | T7: 0 | U7: 0 | V7: 0 | W7: 자재 3
A8: 560A82C0914BEA6F3869C83FA74BAC6E2C1122 | B8: 철강설 | C8: 철강설, 고철, 작업설부산물 | D8: kg | E8: 375 | G8: 475 | H8: 1472 | I8: 423 | J8: 1198 | K8: 0 | M8: 0 | O8: =SMALL(E8:M8,COUNTIF(E8:M8,0)+1) -> 375 | P8: 0 | Q8: 0 | R8: 0 | S8: 0 | T8: 0 | U8: 0 | V8: 0 | W8: 자재 4 | X8: 수집상차도
A9: 562562B09DA25B10E8C01A2EB730A954A76EF2 | B9: 타일시멘트 | C9: 타일시멘트, 줄눈용, 백색 | D9: kg | E9: 0 | G9: 268 | H9: 106 | I9: 300 | J9: 64 | K9: 285 | L9: 108 | M9: 0 | O9: =SMALL(E9:M9,COUNTIF(E9:M9,0)+1) -> 268 | P9: 0 | Q9: 0 | R9: 0 | S9: 0 | T9: 0 | U9: 0 | V9: 0 | W9: 자재 5
A10: 562562B09DA1B2F7181CDC087774F3B2A2265A | B10: 인조잔디 | C10: 인조잔디, 나일론, 10*1820mm | D10: M2 | E10: 0 | G10: 24900 | H10: 408 | I10: 24900 | J10: 237 | K10: 24900 | L10: 376 | M10: 24900 | N10: 물가정보 I-320 | O10: =SMALL(E10:M10,COUNTIF(E10:M10,0)+1) -> 24900 | P10: 0 | Q10: 0 | R10: 0 | S10: 0 | T10: 0 | U10: 0 | V10: 0 | W10: 자재 6
A11: 562562B09DA0ADBC189B6A47B7797F29C757C5 | B11: 모자이크타일 | C11: 지정 모자이크 타일 | D11: M2 | E11: 0 | G11: 0 | I11: 0 | K11: 0 | M11: 33000 | O11: =SMALL(E11:M11,COUNTIF(E11:M11,0)+1) -> 33000 | P11: 0 | Q11: 0 | R11: 0 | S11: 0 | T11: 0 | U11: 0 | V11: 0 | W11: 자재 7
A12: 562562B09DA6343138A7311C278D5506E8D23A | B12: 배기후드 캡 | D12: EA | E12: 0 | G12: 0 | I12: 0 | K12: 0 | M12: 15000 | O12: =SMALL(E12:M12,COUNTIF(E12:M12,0)+1) -> 15000 | P12: 0 | Q12: 0 | R12: 0 | S12: 0 | T12: 0 | U12: 0 | V12: 0 | W12: 자재 8
A13: 562562B09DA52FF0582137AA77E7AD9BF192C3 | B13: 인테리어필름 | C13: 0.42*1.22, 메탈계, 방염 | D13: M2 | E13: 0 | G13: 30000 | H13: 690 | I13: 30000 | K13: 30000 | L13: 724 | M13: 0 | O13: =SMALL(E13:M13,COUNTIF(E13:M13,0)+1) -> 30000 | P13: 0 | Q13: 0 | R13: 0 | S13: 0 | T13: 0 | U13: 0 | V13: 0 | W13: 자재 9
A14: 562562B09DA52FF05821F28FC76949844995F2 | B14: 석고보드 | C14: 석고보드, 평보드, 9.5*900*2400mm(㎡) | D14: M2 | E14: 2725 | G14: 3009.25 | H14: 675 | I14: 3238.88 | J14: 408 | K14: 0 | M14: 0 | O14: =SMALL(E14:M14,COUNTIF(E14:M14,0)+1) -> 2725 | P14: 0 | Q14: 0 | R14: 0 | S14: 0 | T14: 0 | U14: 0 | V14: 0 | W14: 자재 10
A15: 562562B09DA52FF218F8185F6788D0649F7EA0 | B15: 플로어링보드 | C15: 강화마루, 8×190×1200mm | D15: M2 | E15: 0 | G15: 0 | I15: 34000 | J15: 486 | K15: 34000 | L15: 664 | M15: 48000 | N15: 물가정보 I-626 | O15: =SMALL(E15:M15,COUNTIF(E15:M15,0)+1) -> 34000 | P15: 0 | Q15: 0 | R15: 0 | S15: 0 | T15: 0 | U15: 0 | V15: 0 | W15: 자재 11
A16: 562562B09DA52FF218F8185F6788D0649F7EA5 | B16: 플로어링보드 프로파일 | C16: 5.8T × 28mm × 2000mm | D16: M | E16: 0 | G16: 0 | I16: 5000 | J16: 485 | K16: 4000 | L16: 495 | M16: 5000 | N16: 물가정보 I-966 | O16: =SMALL(E16:M16,COUNTIF(E16:M16,0)+1) -> 4000 | P16: 0 | Q16: 0 | R16: 0 | S16: 0 | T16: 0 | U16: 0 | V16: 0 | W16: 자재 12
A17: 562562B09DAA91D1C8B10E0C7775886F3D3527 | B17: 비계안정장치 | C17: 비계안정장치, 비계기본틀, 기둥, 1.2*1.7m | D17: 개 | E17: 35349 | G17: 30000 | H17: 167 | I17: 0 | K17: 0 | M17: 42900 | N17: 물가정보 I-88 | O17: =SMALL(E17:M17,COUNTIF(E17:M17,0)+1) -> 30000 | P17: 0 | Q17: 0 | R17: 0 | S17: 0 | T17: 0 | U17: 0 | V17: 0 | W17: 자재 13
A18: 562562B09DAA91D1C8B10E0C7775886F3D3529 | B18: 비계안정장치 | C18: 비계안정장치, 가새, 1.2*1.9m | D18: 개 | E18: 10396 | G18: 10000 | H18: 167 | I18: 0 | K18: 0 | M18: 11600 | N18: 물가정보 I-88 | O18: =SMALL(E18:M18,COUNTIF(E18:M18,0)+1) -> 10000 | P18: 0 | Q18: 0 | R18: 0 | S18: 0 | T18: 0 | U18: 0 | V18: 0 | W18: 자재 14
A19: 562562B09DAA91D1C8B10E0C7775886F3D3AA0 | B19: 비계안정장치 | C19: 비계안정장치, 수평띠장, 1829mm | D19: 개 | E19: 0 | G19: 25000 | H19: 167 | I19: 0 | K19: 0 | M19: 40700 | N19: 물가정보 I-88 | O19: =SMALL(E19:M19,COUNTIF(E19:M19,0)+1) -> 25000 | P19: 0 | Q19: 0 | R19: 0 | S19: 0 | T19: 0 | U19: 0 | V19: 0 | W19: 자재 15
A20: 562562B09DAA91D1C8B10E0C7775886F3D3AA1 | B20: 비계안정장치 | C20: 비계안정장치, 손잡이, 1229mm | D20: 개 | E20: 0 | G20: 0 | I20: 0 | K20: 0 | M20: 1440 | O20: =SMALL(E20:M20,COUNTIF(E20:M20,0)+1) -> 1440 | P20: 0 | Q20: 0 | R20: 0 | S20: 0 | T20: 0 | U20: 0 | V20: 0 | W20: 자재 16
A21: 562562B09DAA91D1C8B10E0C7775886F3D3AA6 | B21: 비계안정장치 | C21: 비계안정장치, 손잡이, 1829mm | D21: 개 | E21: 0 | G21: 0 | I21: 0 | K21: 0 | M21: 2100 | O21: =SMALL(E21:M21,COUNTIF(E21:M21,0)+1) -> 2100 | P21: 0 | Q21: 0 | R21: 0 | S21: 0 | T21: 0 | U21: 0 | V21: 0 | W21: 자재 17
A22: 562562B09DAA91D1C8B10E0C7775886F3D3AA7 | B22: 비계안정장치 | C22: 비계안정장치, 손잡이기둥 | D22: 개 | E22: 0 | G22: 0 | I22: 0 | K22: 0 | M22: 5700 | O22: =SMALL(E22:M22,COUNTIF(E22:M22,0)+1) -> 5700 | P22: 0 | Q22: 0 | R22: 0 | S22: 0 | T22: 0 | U22: 0 | V22: 0 | W22: 자재 18
A23: 562562B09DAA91D1C8B10E0C7775886F3D3AA4 | B23: 비계안정장치 | C23: 비계안정장치, 바퀴 | D23: 개 | E23: 0 | G23: 13000 | H23: 167 | I23: 0 | K23: 0 | M23: 0 | O23: =SMALL(E23:M23,COUNTIF(E23:M23,0)+1) -> 13000 | P23: 0 | Q23: 0 | R23: 0 | S23: 0 | T23: 0 | U23: 0 | V23: 0 | W23: 자재 19
A24: 562562B09DAA91D1C8B10E0C7775886F3D3AA5 | B24: 비계안정장치 | C24: 비계안정장치, 쟈키 | D24: 개 | E24: 0 | G24: 11000 | H24: 167 | I24: 12620 | J24: 82 | K24: 0 | M24: 13800 | N24: 물가정보 I-88 | O24: =SMALL(E24:M24,COUNTIF(E24:M24,0)+1) -> 11000 | P24: 0 | Q24: 0 | R24: 0 | S24: 0 | T24: 0 | U24: 0 | V24: 0 | W24: 자재 20
A25: 562562B09DAA91D1C8B10E0C5745C797A805EC | B25: 비계안정장치 | C25: 비계안정장치, 발판, 40*200*2000 | D25: 장 | E25: 0 | G25: 0 | I25: 0 | K25: 15000 | L25: 148 | M25: 0 | O25: =SMALL(E25:M25,COUNTIF(E25:M25,0)+1) -> 15000 | P25: 0 | Q25: 0 | R25: 0 | S25: 0 | T25: 0 | U25: 0 | V25: 0 | W25: 자재 21
A26: 56257240924E72FFA88FB8A1F7C0E77A505CE8 | B26: 연마지 | C26: 연마지, #120~180, 230*280mm | D26: 장 | E26: 220 | G26: 230 | H26: 1337 | I26: 385 | J26: 1168 | K26: 340 | L26: 1452 | M26: 0 | O26: =SMALL(E26:M26,COUNTIF(E26:M26,0)+1) -> 220 | P26: 0 | Q26: 0 | R26: 0 | S26: 0 | T26: 0 | U26: 0 | V26: 0 | W26: 자재 22
A27: 5625724091A160AAD892046C773623E0E90A48 | B27: 초산비닐계접착제 | C27: 초산비닐계접착제, 비닐타일용 | D27: kg | E27: 2544 | G27: 0 | I27: 0 | K27: 0 | M27: 0 | O27: =SMALL(E27:M27,COUNTIF(E27:M27,0)+1) -> 2544 | P27: 0 | Q27: 0 | R27: 0 | S27: 0 | T27: 0 | U27: 0 | V27: 0 | W27: 자재 23
A28: 5625724091A160AAD89243DD47C4D6D4A342A6 | B28: 퍼티 | C28: 퍼티, 친환경, 내부 | D28: kg | E28: 0 | G28: 872 | H28: 621 | I28: 728 | J28: 469 | K28: 920 | L28: 639 | M28: 840 | N28: 물가정보 I-512 | O28: =SMALL(E28:M28,COUNTIF(E28:M28,0)+1) -> 728 | P28: 0 | Q28: 0 | R28: 0 | S28: 0 | T28: 0 | U28: 0 | V28: 0 | W28: 자재 24
A29: 5625724091A160AAD89243DD47C4D6D4A08F86 | B29: 퍼티 | C29: 퍼티, 319퍼티, 회색 | D29: kg | E29: 2307.74 | G29: 0 | I29: 0 | K29: 0 | M29: 3128 | N29: 물가정보 I-512 | O29: =SMALL(E29:M29,COUNTIF(E29:M29,0)+1) -> 2307.74 | P29: 0 | Q29: 0 | R29: 0 | S29: 0 | T29: 0 | U29: 0 | V29: 0 | W29: 자재 25 | X29: 1L=1.55kg
A30: 5625724091A160AAD89243DD47C4D6D4A08EE0 | B30: 퍼티 | C30: 퍼티, 319퍼티, 백색 | D30: kg | E30: 0 | G30: 3125.44 | H30: 621 | I30: 0 | K30: 0 | M30: 0 | O30: =SMALL(E30:M30,COUNTIF(E30:M30,0)+1) -> 3125.44 | P30: 0 | Q30: 0 | R30: 0 | S30: 0 | T30: 0 | U30: 0 | V30: 0 | W30: 자재 26 | X30: 1L=1.55kg
A31: 5625724091A160AAD89243DD47C4D6D4A19782 | B31: 휠러 | D31: kg | E31: 0 | G31: 0 | I31: 0 | K31: 0 | M31: 1150 | O31: =SMALL(E31:M31,COUNTIF(E31:M31,0)+1) -> 1150 | P31: 0 | Q31: 0 | R31: 0 | S31: 0 | T31: 0 | U31: 0 | V31: 0 | W31: 자재 27
A32: 5625724091A160AAD8926EEC37158482B1D4AE | B32: 에폭시접착제 | C32: 에폭시접착제, 세라믹타일용 | D32: kg | E32: 2498 | G32: 2750 | H32: 148 | I32: 0 | K32: 0 | M32: 2350 | N32: 물가정보 I-60 | O32: =SMALL(E32:M32,COUNTIF(E32:M32,0)+1) -> 2350 | P32: 0 | Q32: 0 | R32: 0 | S32: 0 | T32: 0 | U32: 0 | V32: 0 | W32: 자재 28
A33: 5625724091A05B6D28CDEB7DD779DD66CA3FB4 | B33: 에폭시페인트 | C33: EP1730 비철금속용 프라이머(회색) | D33: L | E33: 0 | G33: 11250 | H33: 618 | I33: 0 | K33: 12000 | L33: 641 | M33: 24000 | N33: 물가정보 I-68 | O33: =SMALL(E33:M33,COUNTIF(E33:M33,0)+1) -> 11250 | P33: 0 | Q33: 0 | R33: 0 | S33: 0 | T33: 0 | U33: 0 | V33: 0 | W33: 자재 29
A34: 5625724091A05B6D28CDEB7DD779DD66CA3EAA | B34: 유니폭시 투명라이닝 | C34: 후막형 투명 에폭시 바닥마감재(2~3mm) | D34: kg | E34: 0 | G34: 0 | I34: 11145.8 | J34: 476 | K34: 8021 | L34: 641 | M34: 8021 | N34: 물가정보 I-530 | O34: =SMALL(E34:M34,COUNTIF(E34:M34,0)+1) -> 8021 | P34: 0 | Q34: 0 | R34: 0 | S34: 0 | T34: 0 | U34: 0 | V34: 0 | W34: 자재 30
A35: 5625724091A05B6D28CDD92E17F18EC880F51F | B35: 수성페인트 | C35: 숲으로, 내부 | D35: L | E35: 0 | G35: 0 | I35: 6250 | J35: 468 | K35: 6250 | L35: 630 | M35: 4195 | N35: 물가정보 I-533 | O35: =SMALL(E35:M35,COUNTIF(E35:M35,0)+1) -> 4195 | P35: 0 | Q35: 0 | R35: 0 | S35: 0 | T35: 0 | U35: 0 | V35: 0 | W35: 자재 31
A36: 5625724091A05B6D28CD7051B72390051E2B1E | B36: 아크릴수지페인트 | C36: 아크릴수지페인트, A102.A101, 비니본, 투명 | D36: L | E36: 0 | G36: 9666.66 | H36: 616 | I36: 9389 | J36: 469 | K36: 9834 | L36: 632 | M36: 0 | O36: =SMALL(E36:M36,COUNTIF(E36:M36,0)+1) -> 9389 | P36: 0 | Q36: 0 | R36: 0 | S36: 0 | T36: 0 | U36: 0 | V36: 0 | W36: 자재 32
A37: 5625724091A05B6FD8A7E09A47F6354C5F82EB | B37: 실링재 | C37: 실링재, 실리콘, 비초산, 건축외장용, 비오염 | D37: L | E37: 19012 | G37: 19200 | H37: 606 | I37: 20000 | J37: 385 | K37: 0 | M37: 0 | O37: =SMALL(E37:M37,COUNTIF(E37:M37,0)+1) -> 19012 | P37: 0 | Q37: 0 | R37: 0 | S37: 0 | T37: 0 | U37: 0 | V37: 0 | W37: 자재 33
A38: 5625724091A05B6058530923C77A89B630FB2F | B38: 시너 | C38: 시너, KSM6060, 1종 | D38: L | E38: 0 | G38: 3494.44 | H38: 615 | I38: 3722.22 | J38: 466 | K38: 3722.22 | L38: 634 | M38: 0 | O38: =SMALL(E38:M38,COUNTIF(E38:M38,0)+1) -> 3494.44 | P38: 0 | Q38: 0 | R38: 0 | S38: 0 | T38: 0 | U38: 0 | V38: 0 | W38: 자재 34
A39: 5625724091A05B6058530923F7C6B16D02906F | B39: 에폭시계시너 | C39: 024 | D39: L | E39: 0 | G39: 0 | I39: 6738 | J39: 470 | K39: 6738 | L39: 634 | M39: 6738 | N39: 물가정보 I-512 | O39: =SMALL(E39:M39,COUNTIF(E39:M39,0)+1) -> 6738 | P39: 0 | Q39: 0 | R39: 0 | S39: 0 | T39: 0 | U39: 0 | V39: 0 | W39: 자재 35
A40: 5652B22093117C8B386CB9A4B719769CE1DC6F | B40: 아연도각관 | C40: 30*30*t2.3mm, 1.894kg/m | D40: M | E40: 0 | G40: 2460 | H40: 70 | I40: 0 | K40: 2420 | L40: 66 | M40: 3253 | N40: 물가정보 I-22 | O40: =SMALL(E40:M40,COUNTIF(E40:M40,0)+1) -> 2420 | P40: 0 | Q40: 0 | R40: 0 | S40: 0 | T40: 0 | U40: 0 | V40: 0 | W40: 자재 36
...

Sheet  공사설정 
A1: 이 Sheet는 수정하지 마십시요
A2: 공사구분 | B2: A | C2: 타이틀
A3: 확정내역 | B3: 원내역
A4: 자재단가적용 | B4: 5
A5: 경비단가적용 | B5: 5
A6: 품목코드형식 | B6: XXXX-XXXX-XXXXXXXXX
A7: 내역금액소수점처리 | B7: C | C7: T
A8: 일위대가내역소수점처리 | B8: C | C8: 2
A9: 단가명 | B9: 조달청가격 | C9: 거래가격 | D9: 유통물가 | E9: 물가자료 | F9: 조사가격2 | G9: TTTTT
A10: 환율 | B10: 1267 | C10: 0 | D10: 0
A11: 시간당작업량 | B11: R | C11: 4
A12: 1회 사이클시간 | B12: R | C12: 4
A13: 시간당 작업사이클 | B13: R | C13: 3
A14: 일반변수 | B14: R | C14: 5
A15: 시간당 노임산출 계수 | B15: A | C15: 1/8*16/12*25/20 | D15: 1/8*16/12*25/20 | E15: 1/8*16/12*25/20 | F15: 1
A16: 재료비 할증 계수 | B16: 1.11 | C16: 1.12
A17: 노무비 할증 계수 | B17: 1 | C17: 1.5 | D17: 1.16 | E17: 1.6 | F17: 1.6 | G17: 1.6 | H17: 1.94 | I17: 1.94 | J17: 1.94 | K17: 1 | L17: 1 | M17: 1
A18: 경비 할증 계수 | B18: 1.25 | C18: 1.071
A19: 내역,일위대가 품명,규격,단위 따로적용
A20: 내역단가 소수점처리 | B20: C | C20: 1
A21: 코드 | B21: 공종구분명 | C21: 원가비목코드
A22: 1 | B22: 작 업 부 산 물 | C22: A3
A23: 2 | B23: 운 반 비 | C23: C1
A24: 3 | B24: 관 급 자 재 비 | C24: DJ
A25: 4 | B25: 사 급 자 재 비 | C25: D3
A26: 5 | B26: 외 자 재
A27: 6 | B27: ...
A28: 7 | B28: 폐 기 물 처 리 | C28: D5
A29: 8 | B29: ...
A30: 9 | B30: ...

Sheet Sheet1
