Workbook

Sheet 내역서갑지
D2: 설 계 원 가 계 산 서
B4: 고양시 학교밖청소년 전용공간 조성공사
B6: 구 분 | G6: 금 | I6: 액 | O6: 비 고
B7: 총 공 사 비 | F7: ="일금 : "&NUMBERSTRING(L7,1)&"원정" -> 일금 : 사천구백구십구만원정 | K7: ( | L7: ='원가계산서(건축)'!D36 -> 49990000 | M7: )
B8: 도 | C8: 공 급 가 액 | F8: ="일금 : "&NUMBERSTRING(L8,1)&"원정" -> 일금 : 사천오백사십사만오천사백오십육원정 | K8: ( | L8: 45445456 | M8: )
B9: 급 | C9: 부 가 가 치 세 | F9: ="일금 : "&NUMBERSTRING(L9,1)&"원정" -> 일금 : 사백오십사만사천오백사십사원정 | K9: ( | L9: 4544544 | M9: )
B10: 비 | C10: 계 | F10: ="일금 : "&NUMBERSTRING(L10,1)&"원정" -> 일금 : 사천구백구십구만원정 | K10: ( | L10: =TRUNC(L9+L8) -> 49990000 | M10: )
B13: 감독공무원 경유 | J13: ※ 계 약 자
B14: 소 속 | J14: 주 소 : 서울시 성동구 아차산로1길 15, 2층
B15: 직 급 | J15: 상 호 : 유케이에스티 건축사사무소
B16: 성 명 | C16: (인) | J16: 대표자 : 김 유 경 (인)

Sheet 원가계산서(건축)
A1: 설 계 원 가 계 산 서
A3: =내역서갑지!B4 -> 고양시 학교밖청소년 전용공간 조성공사 | F3: 금액: | G3: =NUMBERSTRING(D36,1) &" 원정" -> 사천구백구십구만 원정
A4: 비 목 및 내 용 | D4: 금 액 | E4: 구 성 비 (%) | G4: 비 고
B5: 재 | C5: 직접재료비 | D5: =공종별집계표!F5 -> 10672775 | G5: 건축공사
A6: 순 | B6: 료 | C6: 간접재료비 | D6: 0
C7: 작 업 설,부산물(△) | D7: 0
B8: 비 | C8: 소 계 | D8: =D5+D7 -> 10672775
A9: 공 | B9: 노 | C9: 직접노무비 | D9: =공종별집계표!H5 -> 20720642
B10: 무 | C10: 간접노무비 | D10: =D9*F10 -> 2693683.4 | E10: 직접노무비 * | F10: 0.13 | G10: 6개월 이하 50억 미만
A11: 사 | B11: 비 | C11: 소 계 | D11: =D9+D10 -> 23414325
C12: 운반비 | D12: 0
C13: 기계경비 | D13: =공종별집계표!J23 -> 0
A14: 원 | C14: 산재보험료 | D14: =TRUNC(D11*F14,0) -> 866330 | E14: 노무비* | F14: 0.037
B15: 경 | C15: 고용보험료 | D15: =TRUNC(D11*F15,0) -> 236484 | E15: 노무비* | F15: 0.0101 | G15: 7등급미만
C16: 건강보험료 | D16: 0 | E16: 직접노무비* | F16: 0.03495
C17: 노인장기요양보험료 | D17: =D16*F17 -> 0 | E17: 건강보험료 | F17: 12.27%
C18: 연금보험료 | D18: 0 | E18: 직접노무비* | F18: 4.5%
A19: 가 | C19: 퇴직공제부금비 | D19: 0 | E19: 직접노무비* | F19: 0.023
C20: 안전관리비 | D20: =(D5+D9)*F20 -> 919827.1 | E20: A)(재료비+직노+관급/1.1)* | F20: 0.0293 | G20: 적용
D21: 0 | E21: B)((재료비+직접노무비)* | F21: (2.48%)*1.2
C22: 기타경비 | D22: =TRUNC((D8+D11)*F22,0) -> 1977051 | E22: (재료비+노무비) | F22: 0.058 | G22: 6개월 이하 50억 미만
B23: 비 | C23: 환경보전비 | D23: 0 | E23: (재료비+직노+산출경비)* | F23: 0.005 | G23: 전문.개보수공사 대상
C24: 건설하도급대금지급보증서발급수수료 | D24: =TRUNC((D8+D9+D13)*0.07%)*0 -> 0
C25: 건설기계대여대금지급보증서발급수수료 | D25: 0 | E25: (재료비+직노+경비)* | F25: 0.0011
C26: 소 계 | D26: =SUM(D12:D25)-D21 -> 3999692.1
C27: 계 | D27: =D8+D11+D26 -> 38086792
A28: 일 반 관 리 비 | D28: =TRUNC(D27*F28,0) -> 2285207 | E28: 계의* | F28: 0.06 | G28: 50억 추정가격미만
A29: 이 윤 | D29: =INT(((D11+D26+D28)*F29)) -> 4454883 | E29: (노무비+경비+일반관리비)* | F29: 0.15 | G29: 50억 추정가격미만
A30: 소 계 | D30: =D27+D28+D29 -> 44826882
A31: 건 설 폐 기 물 처 리 비 | D31: =내역서!M74 -> 625432.5
A32: 공 급 가 액 | D32: =D30+D31 -> 45452314
A33: 부 가 가 치 세 | D33: =D32*F33 -> 4545231.4 | E33: 총원가의 * | F33: 0.1
A34: 도 급 액 | D34: =D33+D32 -> 49997546
A36: 총 공 사 비 | D36: =TRUNC(D34, -4) -> 49990000 | G36: (천단위 절사)

Sheet 공종별집계표
F1: 공 종 별 집 계 표
A2: 공사명 : 고양시 학교밖청소년 전용공간 조성공사
A3: 품명 | B3: 규격 | C3: 단위 | D3: 수량 | E3: 재료비 | G3: 노무비 | I3: 경비 | K3: 합계 | M3: 비고
E4: 단가 | F4: 금액 | G4: 단가 | H4: 금액 | I4: 단가 | J4: 금액 | K4: 단가 | L4: 금액
A5: 고양시 학교밖청소년 전용공간 조성공사 | D5: 1 | E5: =E6 -> 10672775 | F5: =E5*D5 -> 10672775 | G5: =G6 -> 20720642 | H5: =G5*D5 -> 20720642 | I5: =I6 -> 0 | J5: =I5*D5 -> 0 | K5: =E5+G5+I5 -> 31393416 | L5: =K5*D5 -> 31393416
A6: 1. 내장공사 | D6: 1 | E6: =F7+F8+F9+F10+F11+F12+F13+F14 -> 10672775 | F6: =E6*D6 -> 10672775 | G6: =H7+H8+H9+H10+H11+H12+H13+H14 -> 20720642 | H6: =G6*D6 -> 20720642 | I6: =J7+J8+J9+J10+J11+J12+J13+J14 -> 0 | J6: =I6*D6 -> 0 | K6: =E6+G6+I6 -> 31393416 | L6: =K6*D6 -> 31393416
A7: 1-1 가설공사 | D7: 1 | E7: =내역서!G5 -> 404404.1 | F7: =E7*D7 -> 404404.1 | G7: =내역서!I20 -> 2887959.8 | H7: =G7*D7 -> 2887959.8 | I7: =내역서!K20 -> 0 | J7: =I7*D7 -> 0 | K7: =E7+G7+I7 -> 3292363.9 | L7: =K7*D7 -> 3292363.9
A8: 1-2 철거공사 | D8: 1 | E8: =내역서!G28 -> 35348.167 | F8: =E8*D8 -> 35348.167 | G8: =내역서!I28 -> 910061.29 | H8: =G8*D8 -> 910061.29 | I8: =내역서!K28 -> 0 | J8: =I8*D8 -> 0 | K8: =E8+G8+I8 -> 945409.46 | L8: =K8*D8 -> 945409.46
A9: 1-3 목공사 | D9: 1 | E9: =내역서!G33 -> 915139.38 | F9: =E9*D9 -> 915139.38 | G9: =내역서!I33 -> 1326897.3 | H9: =G9*D9 -> 1326897.3 | I9: =내역서!K33 -> 0 | J9: =I9*D9 -> 0 | K9: =E9+G9+I9 -> 2242036.7 | L9: =K9*D9 -> 2242036.7
A10: 1-4 수장공사 | D10: 1 | E10: =내역서!G43 -> 4684796.3 | F10: =E10*D10 -> 4684796.3 | G10: =내역서!I43 -> 6431565.6 | H10: =G10*D10 -> 6431565.6 | I10: =내역서!K43 -> 0 | J10: =I10*D10 -> 0 | K10: =E10+G10+I10 -> 11116362 | L10: =K10*D10 -> 11116362
A11: 1-5 금속공사 | D11: 1 | E11: =내역서!G50 -> 1865593.8 | F11: =E11*D11 -> 1865593.8 | G11: =내역서!I50 -> 2657653.2 | H11: =G11*D11 -> 2657653.2 | I11: =내역서!K50 -> 0 | J11: =I11*D11 -> 0 | K11: =E11+G11+I11 -> 4523247.1 | L11: =K11*D11 -> 4523247.1
A12: 1-6 창호공사 | D12: 1 | E12: =내역서!G58 -> 1772173.6 | F12: =E12*D12 -> 1772173.6 | G12: =내역서!I58 -> 1002193.9 | H12: =G12*D12 -> 1002193.9 | I12: =내역서!K58 -> 0 | J12: =I12*D12 -> 0 | K12: =E12+G12+I12 -> 2774367.5 | L12: =K12*D12 -> 2774367.5
A13: 1-7 도장공사 | D13: 1 | E13: =내역서!G65 -> 899319.15 | F13: =E13*D13 -> 899319.15 | G13: =내역서!I65 -> 5267862.9 | H13: =G13*D13 -> 5267862.9 | I13: =내역서!K65 -> 0 | J13: =I13*D13 -> 0 | K13: =E13+G13+I13 -> 6167182 | L13: =K13*D13 -> 6167182
A14: 1-8 설비공사 | D14: 1 | E14: =내역서!G69 -> 96000 | F14: =E14*D14 -> 96000 | G14: =내역서!I69 -> 236447.71 | H14: =G14*D14 -> 236447.71 | I14: =내역서!K69 -> 0 | J14: =I14*D14 -> 0 | K14: =E14+G14+I14 -> 332447.71 | L14: =K14*D14 -> 332447.71
A23: [ 합 계 ] | F23: =F13+F12+F11+F10+F9+F8+F7+F14 -> 10672775 | H23: =H13+H12+H11+H10+H9+H8+H7+H14 -> 20720642 | J23: =J13+J12+J11+J10+J9+J8+J7+J14 -> 0 | L23: =L13+L12+L11+L10+L9+L8+L7+L14 -> 31393416

Sheet 일위대가목록
A1: 명 칭 | B1: 규 격 | C1: 단위 | D1: 수량 | E1: 재료비 | F1: 노무비 | G1: 경비 | H1: 합계 | I1: 비고
A4: 가설공사
A5: 먹메김 | C5: M2 | D5: 1 | E5: =일위대가!F7 -> 0 | F5: =일위대가!H7 -> 1186.3 | G5: =일위대가!J7 -> 0 | H5: =E5+F5+G5 -> 1186.3 | I5: 호표1
A6: 현장보양 | C6: M2 | D6: 1 | E6: =일위대가!F14 -> 1829.8 | F6: =일위대가!H14 -> 1485.1 | G6: =일위대가!J14 -> 0 | H6: =E6+F6+G6 -> 3314.9 | I6: 호표2
A7: 현장정리및청소 | C7: M2 | D7: 1 | E7: =일위대가!F18 -> 0 | F7: =일위대가!H18 -> 10395.7 | G7: =일위대가!J18 -> 0 | H7: =E7+F7+G7 -> 10395.7 | I7: 호표3
A9: 철거공사
A10: 경량 벽체철골틀 해체 | C10: M2 | D10: 1 | E10: =일위대가!F24 -> 204.5 | F10: =일위대가!H24 -> 5113.8 | G10: =일위대가!J24 -> 0 | H10: =E10+F10+G10 -> 5318.3 | I10: 호표4
A11: 경량 천장철골틀 해체 | C11: M2 | D11: 1 | E11: =일위대가!F30 -> 227.8 | F11: =일위대가!H30 -> 5697.4 | G11: =일위대가!J30 -> 0 | H11: =E11+F11+G11 -> 5925.2 | I11: 호표5
A12: 석고판(벽체) 해체 | C12: M2 | D12: 1 | E12: =일위대가!F36 -> 181.2 | F12: =일위대가!H36 -> 4530.3 | G12: =일위대가!J36 -> 0 | H12: =E12+F12+G12 -> 4711.5 | I12: 호표6
A13: 흡음텍스 해체 | C13: M2 | D13: 1 | E13: =일위대가!F42 -> 204.5 | F13: =일위대가!H42 -> 5113.8 | G13: =일위대가!J42 -> 0 | H13: =E13+F13+G13 -> 5318.3 | I13: 호표7
A14: PVC 바닥 해체 | C14: M2 | D14: 1 | E14: =일위대가!F47 -> 0 | F14: =일위대가!H47 -> 1899.1 | G14: =일위대가!J47 -> 0 | H14: =E14+F14+G14 -> 1899.1 | I14: 호표8
A16: 목공사
A17: 벽체틀 설치 | B17: 라왕각재 70*30 | C17: M2 | D17: 1 | E17: =일위대가!F56 -> 40674.3 | F17: =일위대가!H56 -> 30555.3 | G17: =일위대가!J56 -> 0 | H17: =E17+F17+G17 -> 71229.6 | I17: 호표9
A18: 수장합판 설치 | B18: T:9MM 1PLY | C18: M2 | D18: 1 | E18: =일위대가!F65 -> 6114.7 | F18: =일위대가!H65 -> 16462.2 | G18: =일위대가!J65 -> 0 | H18: =E18+F18+G18 -> 22576.9 | I18: 호표10
A20: 수장공사
A21: PVC 타일 바닥재 설치 | C21: M2 | D21: 1 | E21: =일위대가!F73 -> 14063.6 | F21: =일위대가!H73 -> 14498.6 | G21: =일위대가!J73 -> 0 | H21: =E21+F21+G21 -> 28562.2 | I21: 호표11
A22: 흡음텍스 설치 | C22: M2 | D22: 1 | E22: =일위대가!F81 -> 9007.3 | F22: =일위대가!H81 -> 12360.9 | G22: =일위대가!J81 -> 0 | H22: =E22+F22+G22 -> 21368.2 | I22: 호표12
A23: 천정석고판 설치(치장용) | C23: M2 | D23: 1 | E23: =일위대가!F89 -> 5955.4 | F23: =일위대가!H89 -> 24943.8 | G23: =일위대가!J89 -> 0 | H23: =E23+F23+G23 -> 30899.2 | I23: 호표13
A24: 석고판 설치(접착제) | C24: M2 | D24: 1 | E24: =일위대가!F98 -> 6321.2 | F24: =일위대가!H98 -> 16912.2 | G24: =일위대가!J98 -> 0 | H24: =E24+F24+G24 -> 23233.4 | I24: 호표14
A25: 걸레받이 설치 | C25: M | D25: 1 | E25: =일위대가!F106 -> 665.3 | F25: =일위대가!H106 -> 3490.7 | G25: =일위대가!J106 -> 0 | H25: =E25+F25+G25 -> 4156 | I25: 호표15
A26: 단열재 공간넣기 | C26: M2 | D26: 1 | E26: =일위대가!F113 -> 5264.2 | F26: =일위대가!H113 -> 5814.4 | G26: =일위대가!J113 -> 0 | H26: =E26+F26+G26 -> 11078.6 | I26: 호표16
A28: 금속공사
A29: 잡철물제작설치(철제) | B29: 간단 | C29: KG | D29: 1 | E29: =일위대가!F125 -> 497.6 | F29: =일위대가!H125 -> 6630.5 | G29: =일위대가!J125 -> 0 | H29: =E29+F29+G29 -> 7128.1 | I29: 호표17
A30: 잡철물제작설치(철제) | B30: 보통 | C30: KG | D30: 1 | E30: =일위대가!F129 -> 597.12 | F30: =일위대가!H129 -> 7956.6 | G30: =일위대가!J129 -> 0 | H30: =E30+F30+G30 -> 8553.72 | I30: 호표18
A31: 잡철물제작설치(스텐) | B31: 간단 | C31: KG | D31: 1 | E31: =일위대가!F141 -> 624.2 | F31: =일위대가!H141 -> 6630.5 | G31: =일위대가!J141 -> 0 | H31: =E31+F31+G31 -> 7254.7 | I31: 호표19
A32: 잡철물제작설치(스텐) | B32: 보통 | C32: KG | D32: 1 | E32: =일위대가!F145 -> 811.46 | F32: =일위대가!H145 -> 8619.65 | G32: =일위대가!J145 -> 0 | H32: =E32+F32+G32 -> 9431.11 | I32: 호표20
A33: SST'L 재료분리대 | B33: SST'L 15*30*30*30*15 | C33: M | D33: 1 | E33: =일위대가!F150 -> 9506.1742 | F33: =일위대가!H150 -> 18920.339 | G33: =일위대가!J150 -> 0 | H33: =E33+F33+G33 -> 28426.513 | I33: 호표21
A34: ST'L PLATE | B34: ST'L 60*60*30*30 | C34: M | D34: 1 | E34: =일위대가!F155 -> 7042.9594 | F34: =일위대가!H155 -> 17464.928 | G34: =일위대가!J155 -> 0 | H34: =E34+F34+G34 -> 24507.887 | I34: 호표22
A35: ST'L PLATE | B35: ST'L 30*30*30*30 | C35: M | D35: 1 | E35: =일위대가!F160 -> 5132.2038 | F35: =일위대가!H160 -> 17464.928 | G35: =일위대가!J160 -> 0 | H35: =일위대가!L160 -> 22597.1 | I35: 호표23
A36: M-STUD | C36: M2 | D36: 1 | E36: =일위대가!F169 -> 9432.5 | F36: =일위대가!H169 -> 8859.686 | G36: =일위대가!J169 -> 0 | H36: =E36+F36+G36 -> 18292.186 | I36: 호표24
A38: 창호공사
A39: WOOD DOOR & FRAME | B39: 900*2400 | C39: SET | D39: 1 | E39: =일위대가!F176 -> 286594.7 | F39: =일위대가!H176 -> 79735.58 | G39: =일위대가!J176 -> 0 | H39: =E39+F39+G39 -> 366330.28 | I39: 호표25
A40: 도어록 설치 | C40: 개소 | D40: 1 | E40: =일위대가!F183 -> 42039.116 | F40: =일위대가!H183 -> 6955.78 | G40: =일위대가!J183 -> 0 | H40: =E40+F40+G40 -> 48994.896 | I40: 호표26
A41: CLEAR GLASS 취부 | C41: M2 | D41: 1 | E41: =일위대가!F189 -> 7620 | F41: =일위대가!H189 -> 29979.386 | G41: =일위대가!J189 -> 0 | H41: =E41+F41+G41 -> 37599.386 | I41: 호표27
A42: BACK PAINT GLASS 취부 | C42: M2 | D42: 1 | E42: =일위대가!F195 -> 64000 | F42: =일위대가!H195 -> 20307.577 | G42: =일위대가!J195 -> 0 | H42: =E42+F42+G42 -> 84307.577 | I42: 호표28
A43: 코킹 | C43: M | D43: 1 | E43: =일위대가!F201 -> 154 | F43: =일위대가!H201 -> 3802.705 | G43: =일위대가!J201 -> 0 | H43: =E43+F43+G43 -> 3956.705 | I43: 호표29
A45: 도장공사
A46: ALL PUTTY & SANDING | B46: 벽체 | C46: M2 | D46: 1 | E46: =일위대가!F211 -> 2092.7801 | F46: =일위대가!H211 -> 17805.198 | G46: =일위대가!J211 -> 0 | H46: =E46+F46+G46 -> 19897.978 | I46: 호표30
A47: 비닐페인트 | B47: 벽체 | C47: M2 | D47: 1 | E47: =일위대가!F218 -> 2182.5985 | F47: =일위대가!H218 -> 6096.592 | G47: =일위대가!J218 -> 0 | H47: =E47+F47+G47 -> 8279.1905 | I47: 호표31
A48: 비닐페인트 | B48: 천정 | C48: M2 | D48: 1 | E48: =일위대가!F225 -> 2206.9849 | F48: =일위대가!H225 -> 7315.9104 | G48: =일위대가!J225 -> 0 | H48: =E48+F48+G48 -> 9522.8953 | I48: 호표32
A49: 도장후퍼티및연마 | C49: M2 | D49: 1 | E49: =일위대가!F231 -> 38.84625 | F49: =일위대가!H231 -> 1294.875 | G49: =일위대가!J231 -> 0 | H49: =E49+F49+G49 -> 1333.7213 | I49: 호표33
A51: 설비공사
A52: 디퓨져 설치 | C52: 개 | D52: 1 | E52: =일위대가!F236 -> 24000 | F52: =일위대가!H236 -> 59111.928 | G52: =일위대가!J236 -> 0 | H52: =E52+F52+G52 -> 83111.928 | I52: 호표34

Sheet 내역서
A1: 번호 | B1: 명 칭 | C1: 규 격 | D1: 단위 | E1: 수량 | F1: 재 료 비 | H1: 노 무 비 | J1: 경 비 | L1: 합 계 | N1: 비고
F2: 단가 | G2: 금액 | H2: 단가 | I2: 금액 | J2: 단가 | K2: 금액 | L2: 단가 | M2: 금액
A3: * | B3: =내역서갑지!B4 -> 고양시 학교밖청소년 전용공간 조성공사
A4: 1 | B4: 내장공사
A5: 1-1 | B5: =B15 -> 가설공사 | D5: 식 | E5: 1 | G5: =G20 -> 404404.1 | I5: =I20 -> 2887959.8 | K5: =K20 -> 0 | M5: =M20 -> 3292363.9
A6: 1-2 | B6: 철거공사 | D6: 식 | E6: 1 | G6: =G28 -> 35348.167 | I6: =I28 -> 910061.29 | K6: =K28 -> 0 | M6: =M28 -> 945409.46
A7: 1-3 | B7: =B29 -> 목공사 | D7: 식 | E7: 1 | G7: =G33 -> 915139.38 | I7: =I33 -> 1326897.3 | K7: =K33 -> 0 | M7: =M33 -> 2242036.7
A8: 1-4 | B8: =B34 -> 수장공사 | D8: 식 | E8: 1 | G8: =G43 -> 4684796.3 | I8: =I43 -> 6431565.6 | K8: =K43 -> 0 | M8: =M43 -> 11116362
A9: 1-5 | B9: =B44 -> 금속공사 | D9: 식 | E9: 1 | G9: =G50 -> 1865593.8 | I9: =I50 -> 2657653.2 | K9: =K50 -> 0 | M9: =M50 -> 4523247.1
A10: 1-6 | B10: =B51 -> 창호공사 | D10: 식 | E10: 1 | G10: =G58 -> 1772173.6 | I10: =I58 -> 1002193.9 | K10: =K58 -> 0 | M10: =M58 -> 2774367.5
A11: 1-7 | B11: =B59 -> 도장공사 | D11: 식 | E11: 1 | G11: =G65 -> 899319.15 | I11: =I65 -> 5267862.9 | K11: =K65 -> 0 | M11: =M65 -> 6167182
A12: 1-8 | B12: 설비공사 | D12: 식 | E12: 1 | G12: =G69 -> 96000 | I12: =I69 -> 236447.71 | K12: =K88 -> 0 | M12: =M69 -> 332447.71
B14: 합 계 - 1 | G14: =SUM(G5:G13) -> 10672775 | I14: =SUM(I5:I13) -> 20720642 | K14: =SUM(K5:K13) -> 0 | M14: =SUM(M5:M13) -> 31393416
A15: 1-1 | B15: 가설공사
B16: 먹메김 | D16: M2 | E16: =물량산출서!E4 -> 221.01 | F16: =일위대가목록!E5 -> 0 | G16: =F16*E16 -> 0 | H16: =일위대가목록!F5 -> 1186.3 | I16: =H16*E16 -> 262184.16 | J16: =일위대가목록!G5 -> 0 | K16: =J16*E16 -> 0 | L16: =F16+H16+J16 -> 1186.3 | M16: =L16*E16 -> 262184.16
B17: 현장보양 | D17: M2 | E17: =물량산출서!E5 -> 221.01 | F17: =일위대가목록!E6 -> 1829.8 | G17: =F17*E17 -> 404404.1 | H17: =일위대가목록!F6 -> 1485.1 | I17: =H17*E17 -> 328221.95 | J17: =일위대가목록!G6 -> 0 | K17: =J17*E17 -> 0 | L17: =F17+H17 -> 3314.9 | M17: =L17*E17 -> 732626.05
B18: 현장정리및청소 | D18: M2 | E18: =물량산출서!E6 -> 221.01 | F18: =일위대가목록!E7 -> 0 | G18: =F18*E18 -> 0 | H18: =일위대가목록!F7 -> 10395.7 | I18: =H18*E18 -> 2297553.7 | J18: =일위대가목록!G7 -> 0 | K18: =J18*E18 -> 0 | L18: =F18+H18 -> 10395.7 | M18: =L18*E18 -> 2297553.7
B20: 소 계 1 - 1 | G20: =SUM(G16:G19) -> 404404.1 | I20: =SUM(I16:I19) -> 2887959.8 | K20: =SUM(K16:K19) -> 0 | M20: =SUM(M16:M19) -> 3292363.9
A21: 1-2 | B21: 철거공사
B22: 경량벽체철골틀 철거 | D22: M2 | E22: =물량산출서!E9 -> 51.83 | F22: =일위대가목록!E10 -> 204.5 | G22: =F22*E22 -> 10599.235 | H22: =일위대가목록!F10 -> 5113.8 | I22: =H22*E22 -> 265048.25 | J22: =일위대가목록!G10 -> 0 | K22: =J22*E22 -> 0 | L22: =F22+H22+J22 -> 5318.3 | M22: =L22*E22 -> 275647.49
B23: 경량천장철골틀 해체 | D23: M2 | E23: =물량산출서!E10 -> 13.8 | F23: =일위대가목록!E11 -> 227.8 | G23: =F23*E23 -> 3143.64 | H23: =일위대가목록!F11 -> 5697.4 | I23: =H23*E23 -> 78624.12 | J23: =일위대가목록!G11 -> 0 | K23: =J23*E23 -> 0 | L23: =F23+H23+J23 -> 5925.2 | M23: =L23*E23 -> 81767.76
B24: 석고판(벽체) 해체 | D24: M2 | E24: =물량산출서!E11 -> 103.66 | F24: =일위대가목록!E12 -> 181.2 | G24: =F24*E24 -> 18783.192 | H24: =일위대가목록!F12 -> 4530.3 | I24: =H24*E24 -> 469610.9 | J24: =일위대가목록!G12 -> 0 | K24: =J24*E24 -> 0 | L24: =F24+H24+J24 -> 4711.5 | M24: =L24*E24 -> 488394.09
B25: 석고판(천정) 해체 | D25: M2 | E25: =물량산출서!E12 -> 13.8 | F25: =일위대가목록!E13 -> 204.5 | G25: =F25*E25 -> 2822.1 | H25: =일위대가목록!F13 -> 5113.8 | I25: =H25*E25 -> 70570.44 | J25: =일위대가목록!G13 -> 0 | K25: =J25*E25 -> 0 | L25: =F25+H25+J25 -> 5318.3 | M25: =L25*E25 -> 73392.54
B26: PVC 바닥재 해체 | D26: M2 | E26: =물량산출서!E13 -> 13.8 | F26: =일위대가목록!E14 -> 0 | G26: =F26*E26 -> 0 | H26: =일위대가목록!F14 -> 1899.1 | I26: =H26*E26 -> 26207.58 | J26: =일위대가목록!G14 -> 0 | K26: =J26*E26 -> 0 | L26: =F26+H26 -> 1899.1 | M26: =L26*E26 -> 26207.58
B28: 소 계 1 - 2 | G28: =SUM(G22:G27) -> 35348.167 | I28: =SUM(I22:I27) -> 910061.29 | K28: =SUM(K22:K27) -> 0 | M28: =SUM(M22:M27) -> 945409.46
A29: 1-3 | B29: 목공사
B30: 벽체틀 설치 | C30: 라왕각재 70*30 | D30: M2 | E30: =물량산출서!E17 -> 14.4 | F30: =일위대가목록!E17 -> 40674.3 | G30: =F30*E30 -> 585709.92 | H30: =일위대가목록!F17 -> 30555.3 | I30: =H30*E30 -> 439996.32 | J30: =일위대가목록!G17 -> 0 | K30: =J30*E30 -> 0 | L30: =F30+H30 -> 71229.6 | M30: =L30*E30 -> 1025706.2
B31: 수장합판 설치 | C31: T:9MM 1PLY | D31: M2 | E31: =물량산출서!E18 -> 53.875 | F31: =일위대가목록!E18 -> 6114.7 | G31: =F31*E31 -> 329429.46 | H31: =일위대가목록!F18 -> 16462.2 | I31: =H31*E31 -> 886901.03 | J31: =일위대가목록!G18 -> 0 | K31: =J31*E31 -> 0 | L31: =F31+H31 -> 22576.9 | M31: =L31*E31 -> 1216330.5
B33: 소 계 1 - 3 | G33: =SUM(G29:G32) -> 915139.38 | I33: =SUM(I29:I32) -> 1326897.3 | K33: =SUM(K29:K32) -> 0 | M33: =SUM(M29:M32) -> 2242036.7
A34: 1-4 | B34: 수장공사
B35: PVC계 타일 바닥재 설치 | D35: M2 | E35: =물량산출서!E21 -> 54.96 | F35: =일위대가목록!E21 -> 14063.6 | G35: =F35*E35 -> 772935.46 | H35: =일위대가목록!F21 -> 14498.6 | I35: =H35*E35 -> 796843.06 | J35: =일위대가목록!G21 -> 0 | K35: =J35*E35 -> 0 | L35: =F35+H35 -> 28562.2 | M35: =L35*E35 -> 1569778.5
B36: 흡음텍스 설치 | C36: (300*600) | D36: M2 | E36: =물량산출서!E22 -> 13.8 | F36: =일위대가목록!E22 -> 9007.3 | G36: =F36*E36 -> 124300.74 | H36: =일위대가목록!F22 -> 12360.9 | I36: =H36*E36 -> 170580.42 | J36: =일위대가목록!G22 -> 0 | K36: =J36*E36 -> 0 | L36: =F36+H36 -> 21368.2 | M36: =L36*E36 -> 294881.16
B37: 천정석고판 설치(치장용) | D37: M2 | E37: =물량산출서!E23 -> 14.4 | F37: =일위대가목록!E23 -> 5955.4 | G37: =F37*E37 -> 85757.76 | H37: =일위대가목록!F23 -> 24943.8 | I37: =H37*E37 -> 359190.72 | J37: =일위대가목록!G23 -> 0 | K37: =J37*E37 -> 0 | L37: =F37+H37 -> 30899.2 | M37: =L37*E37 -> 444948.48
B38: 벽체석고판 설치 | D38: M2 | E38: =물량산출서!E24 -> 250.848 | F38: =일위대가목록!E24 -> 6321.2 | G38: =F38*E38 -> 1585660.4 | H38: =일위대가목록!F24 -> 16912.2 | I38: =H38*E38 -> 4242391.5 | J38: =일위대가목록!G24 -> 0 | K38: =J38*E38 -> 0 | L38: =F38+H38 -> 23233.4 | M38: =L38*E38 -> 5828051.9
B39: 걸레받이 설치 | D39: M2 | E39: =물량산출서!E25 -> 112.64 | F39: =일위대가목록!E25 -> 665.3 | G39: =F39*E39 -> 74939.392 | H39: =일위대가목록!F25 -> 3490.7 | I39: =H39*E39 -> 393192.45 | J39: =일위대가목록!G25 -> 0 | K39: =J39*E39 -> 0 | L39: =F39+H39 -> 4156 | M39: =L39*E39 -> 468131.84
B40: 인테리어필름 취부 | D40: M2 | E40: =물량산출서!E26 -> 53.875 | F40: =단가대비표!L54 -> 30000 | G40: =F40*E40 -> 1616250 | H40: 0 | I40: =H40*E40 -> 0 | J40: =일위대가목록!G28 -> 0 | K40: =J40*E40 -> 0 | L40: =F40+H40 -> 30000 | M40: =L40*E40 -> 1616250
B41: 단열재설치 | D41: M2 | E41: =물량산출서!E27 -> 80.725 | F41: =일위대가목록!E26 -> 5264.2 | G41: =F41*E41 -> 424952.55 | H41: =일위대가목록!F26 -> 5814.4 | I41: =H41*E41 -> 469367.44 | J41: =일위대가목록!G26 -> 0 | K41: =J41*E41 -> 0 | L41: =F41+H41 -> 11078.6 | M41: =L41*E41 -> 894319.98
B43: 소 계 1 - 4 | G43: =SUM(G34:G42) -> 4684796.3 | I43: =SUM(I34:I42) -> 6431565.6 | K43: =SUM(K34:K42) -> 0 | M43: =SUM(M34:M42) -> 11116362
A44: 1-5 | B44: 금속공사
B45: SST'L PLATE | C45: SST'L 15*15*30*15*15 | D45: M | E45: =물량산출서!E30 -> 14.25 | F45: =일위대가목록!E33 -> 9506.1742 | G45: =F45*E45 -> 135462.98 | H45: =일위대가목록!F33 -> 18920.339 | I45: =H45*E45 -> 269614.83 | J45: =일위대가목록!G33 -> 0 | K45: =J45*E45 -> 0 | L45: =F45+H45 -> 28426.513 | M45: =L45*E45 -> 405077.81
B46: ST'L PLATE | C46: ST'L 60*60*30*30 | D46: M | E46: =물량산출서!E31 -> 38.32 | F46: =일위대가목록!E34 -> 7042.9594 | G46: =F46*E46 -> 269886.2 | H46: =일위대가목록!F34 -> 17464.928 | I46: =H46*E46 -> 669256.04 | J46: =일위대가목록!G34 -> 0 | K46: =J46*E46 -> 0 | L46: =F46+H46 -> 24507.887 | M46: =L46*E46 -> 939142.24
B47: ST'L PLATE | C47: ST'L 30*30*30*30 | D47: M | E47: =물량산출서!E32 -> 27.46 | F47: =일위대가목록!E35 -> 5132.2038 | G47: =F47*E47 -> 140930.32 | H47: =일위대가목록!F35 -> 17464.928 | I47: =H47*E47 -> 479586.92 | J47: =일위대가목록!G35 -> 0 | K47: =J47*E47 -> 0 | L47: =F47+H47 -> 22597.132 | M47: =L47*E47 -> 620517.24
B48: M-STUD | D48: M2 | E48: =물량산출서!E33 -> 139.869 | F48: =일위대가목록!E36 -> 9432.5 | G48: =F48*E48 -> 1319314.3 | H48: =일위대가목록!F36 -> 8859.686 | I48: =H48*E48 -> 1239195.4 | J48: =일위대가목록!G36 -> 0 | K48: =J48*E48 -> 0 | L48: =F48+H48 -> 18292.186 | M48: =L48*E48 -> 2558509.8
B50: 소 계 1 - 5 | G50: =SUM(G44:G49) -> 1865593.8 | I50: =SUM(I44:I49) -> 2657653.2 | K50: =SUM(K44:K49) -> 0 | M50: =SUM(M44:M49) -> 4523247.1
A51: 1-6 | B51: 창호공사
B52: WOOD DOOR & FRAME | C52: 900*2400 | D52: set | E52: =물량산출서!E36 -> 3 | F52: =일위대가목록!E39 -> 286594.7 | G52: =F52*E52 -> 859784.1 | H52: =일위대가목록!F39 -> 79735.58 | I52: =H52*E52 -> 239206.74 | J52: =일위대가목록!G39 -> 0 | K52: =J52*E52 -> 0 | L52: =F52+H52 -> 366330.28 | M52: =L52*E52 -> 1098990.8
B53: 도어록 설치 | D53: set | E53: 1 | F53: =일위대가목록!E40 -> 42039.116 | G53: =F53*E53 -> 42039.116 | H53: =일위대가목록!F40 -> 6955.78 | I53: =H53*E53 -> 6955.78 | J53: =일위대가목록!G40 -> 0 | K53: =J53*E53 -> 0 | L53: =F53+H53 -> 48994.896 | M53: =L53*E53 -> 48994.896
B54: CLEAR GLASS 취부 | D54: M2 | E54: =물량산출서!E38 -> 11.2 | F54: =일위대가목록!E41 -> 7620 | G54: =F54*E54 -> 85344 | H54: =일위대가목록!F41 -> 29979.386 | I54: =H54*E54 -> 335769.12 | J54: =일위대가목록!G41 -> 0 | K54: =J54*E54 -> 0 | L54: =F54+H54 -> 37599.386 | M54: =L54*E54 -> 421113.12
B55: BACK PAINT GLASS 취부 | D55: M2 | E55: =물량산출서!E39 -> 12.156 | F55: =일위대가!F195 -> 64000 | G55: =F55*E55 -> 777984 | H55: =일위대가!H195 -> 20307.577 | I55: =H55*E55 -> 246858.91 | J55: =일위대가!J195 -> 0 | K55: =J55*E55 -> 0 | L55: =F55+H55 -> 84307.577 | M55: =L55*E55 -> 1024842.9
B56: 코킹 | D56: M | E56: =물량산출서!E40 -> 45.6 | F56: =일위대가목록!E43 -> 154 | G56: =F56*E56 -> 7022.4 | H56: =일위대가목록!F43 -> 3802.705 | I56: =H56*E56 -> 173403.35 | J56: =일위대가목록!G43 -> 0 | K56: =J56*E56 -> 0 | L56: =F56+H56 -> 3956.705 | M56: =L56*E56 -> 180425.75
B58: 소 계 1 - 6 | G58: =SUM(G51:G57) -> 1772173.6 | I58: =SUM(I51:I57) -> 1002193.9 | K58: =SUM(K51:K57) -> 0 | M58: =SUM(M51:M57) -> 2774367.5
A59: 1-7 | B59: 도장공사
B60: ALL PUTTY & SANDING | C60: 벽체 | D60: M2 | E60: =물량산출서!E43 -> 208.373 | F60: =일위대가목록!E46 -> 2092.7801 | G60: =F60*E60 -> 436078.88 | H60: =일위대가목록!F46 -> 17805.198 | I60: =H60*E60 -> 3710122.5 | J60: =일위대가목록!G46 -> 0 | K60: =J60*E60 -> 0 | L60: =F60+H60 -> 19897.978 | M60: =L60*E60 -> 4146201.4
B61: 비닐페인트 | C61: 벽체 | D61: M2 | E61: =물량산출서!E44 -> 193.973 | F61: =일위대가목록!E47 -> 2182.5985 | G61: =F61*E61 -> 423365.18 | H61: =일위대가목록!F47 -> 6096.592 | I61: =H61*E61 -> 1182574.2 | J61: =일위대가목록!G47 -> 0 | K61: =J61*E61 -> 0 | L61: =F61+H61 -> 8279.1905 | M61: =L61*E61 -> 1605939.4
B62: 비닐페인트 | C62: 천정 | D62: M2 | E62: =물량산출서!E45 -> 14.4 | F62: =일위대가목록!E48 -> 2206.9849 | G62: =F62*E62 -> 31780.582 | H62: =일위대가목록!F48 -> 7315.9104 | I62: =H62*E62 -> 105349.11 | J62: =일위대가목록!G48 -> 0 | K62: =J62*E62 -> 0 | L62: =F62+H62 -> 9522.8953 | M62: =L62*E62 -> 137129.69
B63: 도장후퍼티및연마 | D63: M2 | E63: =물량산출서!E46 -> 208.373 | F63: =일위대가목록!E49 -> 38.84625 | G63: =F63*E63 -> 8094.5097 | H63: =일위대가목록!F49 -> 1294.875 | I63: =H63*E63 -> 269816.99 | J63: =일위대가목록!G49 -> 0 | K63: =J63*E63 -> 0 | L63: =F63+H63 -> 1333.7213 | M63: =L63*E63 -> 277911.5
B65: 소 계 1 - 7 | G65: =SUM(G60:G64) -> 899319.15 | I65: =SUM(I60:I64) -> 5267862.9 | K65: =SUM(K60:K64) -> 0 | M65: =SUM(M60:M64) -> 6167182
A66: 1-8 | B66: 설비공사
B67: 디퓨져설치 | D67: 개 | E67: =물량산출서!E49 -> 4 | F67: =일위대가목록!E52 -> 24000 | G67: =F67*E67 -> 96000 | H67: =일위대가목록!F52 -> 59111.928 | I67: =H67*E67 -> 236447.71 | J67: =일위대가목록!G52 -> 0 | K67: =J67*E67 -> 0 | L67: =F67+H67 -> 83111.928 | M67: =L67*E67 -> 332447.71
B69: 소 계 1 - 8 | G69: =SUM(G67:G68) -> 96000 | I69: =SUM(I67:I68) -> 236447.71 | K69: =SUM(K67:K68) -> 0 | M69: =SUM(M67:M68) -> 332447.71
A70: 2 | B70: 폐기물처리
B71: 건설폐기물 -중간처리 | C71: 혼합건설폐기물 | D71: TON | E71: 3.5 | F71: =일위대가목록!E56 -> 0 | G71: =F71*E71 -> 0 | H71: =일위대가목록!F56 -> 0 | I71: =H71*E71 -> 0 | J71: =단가대비표!L82 -> 165035 | K71: =J71*E71 -> 577622.5 | L71: =F71+H71+J71 -> 165035 | M71: =L71*E71 -> 577622.5
B72: 건설폐기물상차·운반비 | C72: 15톤덤프, 30km | D72: TON | E72: 3.5 | J72: =단가대비표!L83 -> 13660 | K72: =J72*E72 -> 47810 | L72: =F72+H72+J72 -> 13660 | M72: =L72*E72 -> 47810
B74: 합 계 - 2 | G74: =SUM(G71:G73) -> 0 | I74: =SUM(I71:I73) -> 0 | K74: =SUM(K71:K73) -> 625432.5 | M74: =SUM(M71:M73) -> 625432.5

Sheet 일위대가
A1: =내역서!B3 -> 고양시 학교밖청소년 전용공간 조성공사
A2: 품 명 | B2: 규 격 | C2: 단위 | D2: 수량 | E2: 재 료 비 | G2: 노 무 비 | I2: 경 비 | K2: 합 계 | M2: 비 고
E3: 단 가 | F3: 금 액 | G3: 단 가 | H3: 금 액 | I3: 단 가 | J3: 금 액 | K3: 단 가 | L3: 금 액
A4: 먹매김 건축 4-1-1 ( 호표 1 ) | C4: M2
A5: 노무비 | B5: 건축목공(구조부 일반) | C5: 인 | D5: 0.005 | E5: 0 | F5: =TRUNC(E5*D5,1) -> 0 | G5: =단가대비표!L3 -> 237273 | H5: =TRUNC(G5*D5,1) -> 1186.3 | I5: 0 | J5: =TRUNC(I5*D5,1) -> 0 | K5: =TRUNC(E5+G5+I5,1) -> 237273 | L5: =TRUNC(F5+H5+J5,1) -> 1186.3
A7: [ 합 계 ] | F7: =SUM(F5:F6) -> 0 | H7: =SUM(H5:H6) -> 1186.3 | J7: =SUM(J5:J6) -> 0 | L7: =SUM(L5:L6) -> 1186.3
A8: 건축물보양 건축 2-9-1 ( 호표 2 ) | C8: M2
A9: 플로베니아 | B9: 3T | C9: M2 | D9: 1.2 | E9: =단가대비표!L36 -> 1086.4198 | F9: =TRUNC(E9*D9,1) -> 1303.7 | H9: =TRUNC(G9*D9,1) -> 0 | I9: 0 | J9: =TRUNC(I9*D9,1) -> 0 | K9: =TRUNC(E9+G9+I9,1) -> 1086.4 | L9: =TRUNC(F9+H9+J9,1) -> 1303.7
A10: 텐텐지 | B10: 0.2T | C10: M2 | D10: 1.2 | E10: =단가대비표!L37 -> 211.11111 | F10: =TRUNC(E10*D10,1) -> 253.3 | H10: =TRUNC(G10*D10,1) -> 0 | J10: =TRUNC(I10*D10,1) -> 0 | K10: =TRUNC(E10+G10+I10,1) -> 211.1 | L10: =TRUNC(F10+H10+J10,1) -> 253.3
A11: 보양테이프 | C11: M | D11: =2 -> 2 | E11: =단가대비표!L38 -> 136.4 | F11: =TRUNC(E11*D11,1) -> 272.8 | H11: =TRUNC(G11*D11,1) -> 0 | J11: =TRUNC(I11*D11,1) -> 0 | K11: =TRUNC(E11+G11+I11,1) -> 136.4 | L11: =TRUNC(F11+H11+J11,1) -> 272.8
A12: 노무비 | B12: 보통인부 | C12: 인 | D12: 0.01 | F12: =TRUNC(E12*D12,1) -> 0 | G12: =단가대비표!L7 -> 148510 | H12: =TRUNC(G12*D12,1) -> 1485.1 | J12: =TRUNC(I12*D12,1) -> 0 | K12: =TRUNC(E12+G12+I12,1) -> 148510 | L12: =TRUNC(F12+H12+J12,1) -> 1485.1
A14: [ 합 계 ] | F14: =SUM(F9:F13) -> 1829.8 | H14: =SUM(H9:H13) -> 1485.1 | J14: =SUM(J9:J13) -> 0 | L14: =SUM(L9:L13) -> 3314.9
A15: 건축물 현장정리 건축 2-9-2 ( 호표 3 ) | C15: M2
A16: 노무비 | B16: 보통인부 | C16: 인 | D16: 0.07 | F16: =TRUNC(E16*D16,1) -> 0 | G16: =단가대비표!L7 -> 148510 | H16: =TRUNC(G16*D16,1) -> 10395.7 | J16: =TRUNC(I16*D16,1) -> 0 | K16: =TRUNC(E16+G16+I16,1) -> 148510 | L16: =TRUNC(F16+H16+J16,1) -> 10395.7
A18: [ 합 계 ] | F18: =SUM(F16:F17) -> 0 | H18: =SUM(H16:H17) -> 10395.7 | J18: =SUM(J16:J17) -> 0 | L18: =SUM(L16:L17) -> 10395.7
A19: 경량 벽체철골틀 해체 건축 12-2-5 ( 호표 4 ) | C19: M2
A20: 노무비 | B20: 내장공 | C20: 인 | D20: 0.016 | F20: =TRUNC(E20*D20,1) -> 0 | G20: =단가대비표!L4 -> 217517 | H20: =TRUNC(G20*D20,1) -> 3480.2 | J20: =TRUNC(I20*D20,1) -> 0 | K20: =TRUNC(E20+G20+I20,1) -> 217517 | L20: =TRUNC(F20+H20+J20,1) -> 3480.2
A21: 노무비 | B21: 보통인부 | C21: 인 | D21: 0.011 | F21: =TRUNC(E21*D21,1) -> 0 | G21: =단가대비표!L7 -> 148510 | H21: =TRUNC(G21*D21,1) -> 1633.6 | J21: =TRUNC(I21*D21,1) -> 0 | K21: =TRUNC(E21+G21+I21,1) -> 148510 | L21: =TRUNC(F21+H21+J21,1) -> 1633.6
A22: 공구손료 및 경장비 | C22: % | D22: 2 | E22: =(H21+H20)*2% -> 102.276 | F22: =TRUNC(E22*D22,1) -> 204.5 | J22: =TRUNC(I22*D22,1) -> 0 | K22: =TRUNC(E22+G22+I22,1) -> 102.2 | L22: =TRUNC(F22+H22+J22,1) -> 204.5
A24: [ 합 계 ] | F24: =SUM(F20:F23) -> 204.5 | H24: =SUM(H20:H23) -> 5113.8 | J24: =SUM(J20:J23) -> 0 | L24: =SUM(L20:L23) -> 5318.3
A25: 경량 천장철골틀 해체 건축 12-2-5 ( 호표 5 ) | C25: M2
A26: 노무비 | B26: 내장공 | C26: 인 | D26: 0.018 | F26: =TRUNC(E26*D26,1) -> 0 | G26: =단가대비표!L4 -> 217517 | H26: =TRUNC(G26*D26,1) -> 3915.3 | J26: =TRUNC(I26*D26,1) -> 0 | K26: =TRUNC(E26+G26+I26,1) -> 217517 | L26: =TRUNC(F26+H26+J26,1) -> 3915.3
A27: 노무비 | B27: 보통인부 | C27: 인 | D27: 0.012 | F27: =TRUNC(E27*D27,1) -> 0 | G27: =단가대비표!L7 -> 148510 | H27: =TRUNC(G27*D27,1) -> 1782.1 | J27: =TRUNC(I27*D27,1) -> 0 | K27: =TRUNC(E27+G27+I27,1) -> 148510 | L27: =TRUNC(F27+H27+J27,1) -> 1782.1
A28: 공구손료 및 경장비 | C28: % | D28: 2 | E28: =(H27+H26)*2% -> 113.948 | F28: =TRUNC(E28*D28,1) -> 227.8 | J28: =TRUNC(I28*D28,1) -> 0 | K28: =TRUNC(E28+G28+I28,1) -> 113.9 | L28: =TRUNC(F28+H28+J28,1) -> 227.8
A30: [ 합 계 ] | F30: =SUM(F26:F29) -> 227.8 | H30: =SUM(H26:H29) -> 5697.4 | J30: =SUM(J26:J29) -> 0 | L30: =SUM(L26:L29) -> 5925.2
A31: 석고판(벽체) 해체 건축 12-2-5 ( 호표 6 ) | C31: M2
A32: 노무비 | B32: 내장공 | C32: 인 | D32: 0.014 | F32: =TRUNC(E32*D32,1) -> 0 | G32: =단가대비표!L4 -> 217517 | H32: =TRUNC(G32*D32,1) -> 3045.2 | J32: =TRUNC(I32*D32,1) -> 0 | K32: =TRUNC(E32+G32+I32,1) -> 217517 | L32: =TRUNC(F32+H32+J32,1) -> 3045.2
A33: 노무비 | B33: 보통인부 | C33: 인 | D33: 0.01 | F33: =TRUNC(E33*D33,1) -> 0 | G33: =단가대비표!L7 -> 148510 | H33: =TRUNC(G33*D33,1) -> 1485.1 | J33: =TRUNC(I33*D33,1) -> 0 | K33: =TRUNC(E33+G33+I33,1) -> 148510 | L33: =TRUNC(F33+H33+J33,1) -> 1485.1
A34: 공구손료 및 경장비 | C34: % | D34: 2 | E34: =(H33+H32)*2% -> 90.606 | F34: =TRUNC(E34*D34,1) -> 181.2 | J34: =TRUNC(I34*D34,1) -> 0 | K34: =TRUNC(E34+G34+I34,1) -> 90.6 | L34: =TRUNC(F34+H34+J34,1) -> 181.2
A36: [ 합 계 ] | F36: =SUM(F32:F35) -> 181.2 | H36: =SUM(H32:H35) -> 4530.3 | J36: =SUM(J32:J35) -> 0 | L36: =SUM(L32:L35) -> 4711.5
A37: 흡음텍스 해체 건축 12-2-2 ( 호표 7 ) | C37: M2
A38: 노무비 | B38: 내장공 | C38: 인 | D38: 0.016 | F38: =TRUNC(E38*D38,1) -> 0 | G38: =단가대비표!L4 -> 217517 | H38: =TRUNC(G38*D38,1) -> 3480.2 | J38: =TRUNC(I38*D38,1) -> 0 | K38: =TRUNC(E38+G38+I38,1) -> 217517 | L38: =TRUNC(F38+H38+J38,1) -> 3480.2
A39: 노무비 | B39: 보통인부 | C39: 인 | D39: 0.011 | F39: =TRUNC(E39*D39,1) -> 0 | G39: =단가대비표!L7 -> 148510 | H39: =TRUNC(G39*D39,1) -> 1633.6 | J39: =TRUNC(I39*D39,1) -> 0 | K39: =TRUNC(E39+G39+I39,1) -> 148510 | L39: =TRUNC(F39+H39+J39,1) -> 1633.6
A40: 공구손료 및 경장비 | C40: % | D40: 2 | E40: =(H39+H38)*2% -> 102.276 | F40: =TRUNC(E40*D40,1) -> 204.5 | J40: =TRUNC(I40*D40,1) -> 0 | K40: =TRUNC(E40+G40+I40,1) -> 102.2 | L40: =TRUNC(F40+H40+J40,1) -> 204.5
A42: [ 합 계 ] | F42: =SUM(F38:F41) -> 204.5 | H42: =SUM(H38:H41) -> 5113.8 | J42: =SUM(J38:J41) -> 0 | L42: =SUM(L38:L41) -> 5318.3
A43: PVC 바닥재해체 건축 12-2-8 ( 호표 8 ) | C43: M2
A44: 노무비 | B44: 내장공 | C44: 인 | D44: 0.006 | F44: =TRUNC(E44*D44,1) -> 0 | G44: =단가대비표!L4 -> 217517 | H44: =TRUNC(G44*D44,1) -> 1305.1 | J44: =TRUNC(I44*D44,1) -> 0 | K44: =TRUNC(E44+G44+I44,1) -> 217517 | L44: =TRUNC(F44+H44+J44,1) -> 1305.1
A45: 노무비 | B45: 보통인부 | C45: 인 | D45: 0.004 | G45: =단가대비표!L7 -> 148510 | H45: =TRUNC(G45*D45,1) -> 594 | J45: =TRUNC(I45*D45,1) -> 0 | K45: =TRUNC(E45+G45+I45,1) -> 148510 | L45: =TRUNC(F45+H45+J45,1) -> 594
A47: [ 합 계 ] | F47: =SUM(F44:F45) -> 0 | H47: =SUM(H44:H45) -> 1899.1 | J47: =SUM(J44:J45) -> 0 | L47: =SUM(L44:L45) -> 1899.1
A48: 칸막이 벽틀설치 건축 4-2-1 ( 호표 9) | C48: M2
A49: 라왕각재 | B49: 70*30 @450*450 | C49: 재 | D49: 6 | E49: =단가대비표!L33 -> 6300 | F49: =TRUNC(E49*D49,1) -> 37800 | H49: =TRUNC(G49*D49,1) -> 0 | J49: =TRUNC(I49*D49,1) -> 0 | K49: =TRUNC(E49+G49+I49,1) -> 6300 | L49: =TRUNC(F49+H49+J49,1) -> 37800
A50: 못 | C50: KG | D50: 0.06 | E50: =단가대비표!L60 -> 1075 | F50: =TRUNC(E50*D50,1) -> 64.5 | H50: =TRUNC(G50*D50,1) -> 0 | J50: =TRUNC(I50*D50,1) -> 0 | K50: =TRUNC(E50+G50+I50,1) -> 1075 | L50: =TRUNC(F50+H50+J50,1) -> 64.5
A51: 노무비 | B51: 건축목공 | C51: 인 | D51: 0.11 | F51: =TRUNC(E51*D51,1) -> 0 | G51: =단가대비표!L3 -> 237273 | H51: =TRUNC(G51*D51,1) -> 26100 | J51: =TRUNC(I51*D51,1) -> 0 | K51: =TRUNC(E51+G51+I51,1) -> 237273 | L51: =TRUNC(F51+H51+J51,1) -> 26100
A52: 노무비 | B52: 보통인부 | C52: 인 | D52: 0.03 | F52: =TRUNC(E52*D52,1) -> 0 | G52: =단가대비표!L7 -> 148510 | H52: =TRUNC(G52*D52,1) -> 4455.3 | J52: =TRUNC(I52*D52,1) -> 0 | K52: =TRUNC(E52+G52+I52,1) -> 148510 | L52: =TRUNC(F52+H52+J52,1) -> 4455.3
A53: 공구손료 | B53: 노무비의 3% | C53: 식 | D53: 1 | E53: =(H52+H51)*3% -> 916.659 | F53: =TRUNC(E53*D53,1) -> 916.6 | H53: =TRUNC(G53*D53,1) -> 0 | J53: =TRUNC(I53*D53,1) -> 0 | K53: =TRUNC(E53+G53+I53,1) -> 916.6 | L53: =TRUNC(F53+H53+J53,1) -> 916.6
A54: 잡재료및 소모재료 | B54: 주재료비의 5% | C54: 식 | D54: 1 | E54: =(F49+F50)*5% -> 1893.225 | F54: =TRUNC(E54*D54,1) -> 1893.2 | H54: =TRUNC(G54*D54,1) -> 0 | J54: =TRUNC(I54*D54,1) -> 0 | K54: =TRUNC(E54+G54+I54,1) -> 1893.2 | L54: =TRUNC(F54+H54+J54,1) -> 1893.2
A56: [ 합 계 ] | F56: =SUM(F49:F55) -> 40674.3 | H56: =SUM(H49:H55) -> 30555.3 | J56: =SUM(J49:J55) -> 0 | L56: =SUM(L49:L55) -> 71229.6
A57: 수장합판 설치 건축 4-2-4 ( 호표 10 ) | C57: M2
A58: MDF | B58: T:9mm | C58: M2 | D58: 1.05 | E58: =단가대비표!L72 -> 4548.6111 | F58: =TRUNC(E58*D58,1) -> 4776 | H58: =TRUNC(G58*D58,1) -> 0 | J58: =TRUNC(I58*D58,1) -> 0 | K58: =TRUNC(E58+G58+I58,1) -> 4548.6 | L58: =TRUNC(F58+H58+J58,1) -> 4776
A59: 못 | C59: KG | D59: 0.06 | E59: =단가대비표!L60 -> 1075 | F59: =TRUNC(E59*D59,1) -> 64.5 | H59: =TRUNC(G59*D59,1) -> 0 | J59: =TRUNC(I59*D59,1) -> 0 | K59: =TRUNC(E59+G59+I59,1) -> 1075 | L59: =TRUNC(F59+H59+J59,1) -> 64.5
A60: 접착제 | B60: 목공본드 | C60: KG | D60: 0.27 | E60: =단가대비표!L40 -> 3500 | F60: =TRUNC(E60*D60,1) -> 945 | H60: =TRUNC(G60*D60,1) -> 0 | J60: =TRUNC(I60*D60,1) -> 0 | K60: =TRUNC(E60+G60+I60,1) -> 3500 | L60: =TRUNC(F60+H60+J60,1) -> 945
A61: 노무비 | B61: 건축목공 | C61: 인 | D61: 0.065 | G61: =단가대비표!L3 -> 237273 | H61: =TRUNC(G61*D61,1) -> 15422.7 | J61: =TRUNC(I61*D61,1) -> 0 | K61: =TRUNC(E61+G61+I61,1) -> 237273 | L61: =TRUNC(F61+H61+J61,1) -> 15422.7
A62: 노무비 | B62: 보통인부 | C62: 인 | D62: 0.007 | G62: =단가대비표!L7 -> 148510 | H62: =TRUNC(G62*D62,1) -> 1039.5 | J62: =TRUNC(I62*D62,1) -> 0 | K62: =TRUNC(E62+G62+I62,1) -> 148510 | L62: =TRUNC(F62+H62+J62,1) -> 1039.5
A63: 공구손료 | B63: 노무비의 2% | C63: 식 | D63: 1 | E63: =(H62+H61)*2% -> 329.244 | F63: =TRUNC(E63*D63,1) -> 329.2 | J63: =TRUNC(I63*D63,1) -> 0 | K63: =TRUNC(E63+G63+I63,1) -> 329.2 | L63: =TRUNC(F63+H63+J63,1) -> 329.2
A65: [ 합 계 ] | F65: =SUM(F58:F64) -> 6114.7 | H65: =SUM(H58:H64) -> 16462.2 | J65: =SUM(J58:J64) -> 0 | L65: =SUM(L58:L64) -> 22576.9
A66: PVC계 바닥재설치 XKDLF 건축 5-1-1 ( 호표 11 ) | C66: M2
A67: PVC계 타일 | B67: T:3mm | C67: M2 | D67: 1.05 | E67: =단가대비표!L77 -> 13000 | F67: =TRUNC(E67*D67,1) -> 13650 | H67: =TRUNC(G67*D67,1) -> 0 | J67: =TRUNC(I67*D67,1) -> 0 | K67: =TRUNC(E67+G67+I67,1) -> 13000 | L67: =TRUNC(F67+H67+J67,1) -> 13650
A68: 접착제 | B68: 수장본드 | C68: KG | D68: 0.45 | E68: =단가대비표!L34 -> 275 | F68: =TRUNC(E68*D68,1) -> 123.7 | H68: =TRUNC(G68*D68,1) -> 0 | J68: =TRUNC(I68*D68,1) -> 0 | K68: =TRUNC(E68+G68+I68,1) -> 275 | L68: =TRUNC(F68+H68+J68,1) -> 123.7
A69: 노무비 | B69: 내장공 | C69: 인 | D69: 0.053 | G69: =단가대비표!L4 -> 217517 | H69: =TRUNC(G69*D69,1) -> 11528.4 | J69: =TRUNC(I69*D69,1) -> 0 | K69: =TRUNC(E69+G69+I69,1) -> 217517 | L69: =TRUNC(F69+H69+J69,1) -> 11528.4
A70: 노무비 | B70: 보통인부 | C70: 인 | D70: 0.02 | G70: =단가대비표!L7 -> 148510 | H70: =TRUNC(G70*D70,1) -> 2970.2 | J70: =TRUNC(I70*D70,1) -> 0 | K70: =TRUNC(E70+G70+I70,1) -> 148510 | L70: =TRUNC(F70+H70+J70,1) -> 2970.2
A71: 공구손료 | B71: 노무비의 2% | C71: 식 | D71: 1 | E71: =(H70+H69)*2% -> 289.972 | F71: =TRUNC(E71*D71,1) -> 289.9 | J71: =TRUNC(I71*D71,1) -> 0 | K71: =TRUNC(E71+G71+I71,1) -> 289.9 | L71: =TRUNC(F71+H71+J71,1) -> 289.9
A73: [ 합 계 ] | F73: =SUM(F67:F72) -> 14063.6 | H73: =SUM(H67:H72) -> 14498.6 | J73: =SUM(J67:J72) -> 0 | L73: =SUM(L67:L72) -> 28562.2
A74: 흡음텍스 설치 건축 5-2-1 ( 호표 12 ) | C74: M2
A75: 흡음텍스 | B75: T:12mm | C75: M2 | D75: 1.05 | E75: =단가대비표!L68 -> 8100 | F75: =TRUNC(E75*D75,1) -> 8505 | H75: =TRUNC(G75*D75,1) -> 0 | J75: =TRUNC(I75*D75,1) -> 0 | K75: =TRUNC(E75+G75+I75,1) -> 8100 | L75: =TRUNC(F75+H75+J75,1) -> 8505
A76: 노무비 | B76: 내장공 | C76: 인 | D76: 0.05 | G76: =단가대비표!L4 -> 217517 | H76: =TRUNC(G76*D76,1) -> 10875.8 | J76: =TRUNC(I76*D76,1) -> 0 | K76: =TRUNC(E76+G76+I76,1) -> 217517 | L76: =TRUNC(F76+H76+J76,1) -> 10875.8
A77: 노무비 | B77: 보통인부 | C77: 인 | D77: 0.01 | G77: =단가대비표!L7 -> 148510 | H77: =TRUNC(G77*D77,1) -> 1485.1 | J77: =TRUNC(I77*D77,1) -> 0 | K77: =TRUNC(E77+G77+I77,1) -> 148510 | L77: =TRUNC(F77+H77+J77,1) -> 1485.1
A78: 잡재료 및 소모재료 | B78: 주재료비 3% | C78: 식 | D78: 1 | E78: =F75*3% -> 255.15 | F78: =TRUNC(E78*D78,1) -> 255.1 | J78: =TRUNC(I78*D78,1) -> 0 | K78: =TRUNC(E78+G78+I78,1) -> 255.1 | L78: =TRUNC(F78+H78+J78,1) -> 255.1
A79: 공구손료 | B79: 노무비의 2% | C79: 식 | D79: 1 | E79: =(H77+H76)*2% -> 247.218 | F79: =TRUNC(E79*D79,1) -> 247.2 | J79: =TRUNC(I79*D79,1) -> 0 | K79: =TRUNC(E79+G79+I79,1) -> 247.2 | L79: =TRUNC(F79+H79+J79,1) -> 247.2
A81: [ 합 계 ] | F81: =SUM(F75:F80) -> 9007.3 | H81: =SUM(H75:H80) -> 12360.9 | J81: =SUM(J75:J80) -> 0 | L81: =SUM(L75:L80) -> 21368.2
A82: 천정석고판 설치(치장용) 건축 5-2-3 ( 호표 13 ) | C82: M2
A83: 석고보드 | B83: T:9.5MM 2PLY | C83: M2 | D83: 2.1 | E83: =단가대비표!L44 -> 2407.4074 | F83: =TRUNC(E83*D83,1) -> 5055.5 | H83: =TRUNC(G83*D83,1) -> 0 | J83: =TRUNC(I83*D83,1) -> 0 | K83: =TRUNC(E83+G83+I83,1) -> 2407.4 | L83: =TRUNC(F83+H83+J83,1) -> 5055.5
A84: 노무비 | B84: 내장공 | C84: 인 | D84: 0.086 | G84: =단가대비표!L4 -> 217517 | H84: =TRUNC(G84*D84,1) -> 18706.4 | J84: =TRUNC(I84*D84,1) -> 0 | K84: =TRUNC(E84+G84+I84,1) -> 217517 | L84: =TRUNC(F84+H84+J84,1) -> 18706.4
A85: 노무비 | B85: 보통인부 | C85: 인 | D85: 0.042 | G85: =단가대비표!L7 -> 148510 | H85: =TRUNC(G85*D85,1) -> 6237.4 | J85: =TRUNC(I85*D85,1) -> 0 | K85: =TRUNC(E85+G85+I85,1) -> 148510 | L85: =TRUNC(F85+H85+J85,1) -> 6237.4
A86: 잡재료 및 소모재료 | B86: 주재료비 3% | C86: 식 | D86: 1 | E86: =F83*3% -> 151.665 | F86: =TRUNC(E86*D86,1) -> 151.6 | J86: =TRUNC(I86*D86,1) -> 0 | K86: =TRUNC(E86+G86+I86,1) -> 151.6 | L86: =TRUNC(F86+H86+J86,1) -> 151.6
A87: 공구손료 | B87: 노무비의 3% | C87: 식 | D87: 1 | E87: =(H85+H84)*3% -> 748.314 | F87: =TRUNC(E87*D87,1) -> 748.3 | J87: =TRUNC(I87*D87,1) -> 0 | K87: =TRUNC(E87+G87+I87,1) -> 748.3 | L87: =TRUNC(F87+H87+J87,1) -> 748.3
A89: [ 합 계 ] | F89: =SUM(F83:F88) -> 5955.4 | H89: =SUM(H83:H88) -> 24943.8 | J89: =SUM(J83:J88) -> 0 | L89: =SUM(L83:L88) -> 30899.2
A90: 벽체석고판 설치(접착제) 건축 5-3-2 ( 호표 14 ) | C90: M2
A91: 석고보드 | B91: T:9.5MM 2PLY | C91: M2 | D91: 2.1 | E91: =단가대비표!L44 -> 2407.4074 | F91: =TRUNC(E91*D91,1) -> 5055.5 | H91: =TRUNC(G91*D91,1) -> 0 | J91: =TRUNC(I91*D91,1) -> 0 | K91: =TRUNC(E91+G91+I91,1) -> 2407.4 | L91: =TRUNC(F91+H91+J91,1) -> 5055.5
A92: 접착제 | B92: 목공본드 | C92: KG | D92: 0.27 | E92: =단가대비표!L40 -> 3500 | F92: =TRUNC(E92*D92,1) -> 945 | H92: =TRUNC(G92*D92,1) -> 0 | J92: =TRUNC(I92*D92,1) -> 0 | K92: =TRUNC(E92+G92+I92,1) -> 3500 | L92: =TRUNC(F92+H92+J92,1) -> 945
A93: 노무비 | B93: 내장공 | C93: 인 | D93: =0.03*2 -> 0.06 | G93: =단가대비표!L4 -> 217517 | H93: =TRUNC(G93*D93,1) -> 13051 | J93: =TRUNC(I93*D93,1) -> 0 | K93: =TRUNC(E93+G93+I93,1) -> 217517 | L93: =TRUNC(F93+H93+J93,1) -> 13051
A94: 노무비 | B94: 보통인부 | C94: 인 | D94: =0.013*2 -> 0.026 | G94: =단가대비표!L7 -> 148510 | H94: =TRUNC(G94*D94,1) -> 3861.2 | J94: =TRUNC(I94*D94,1) -> 0 | K94: =TRUNC(E94+G94+I94,1) -> 148510 | L94: =TRUNC(F94+H94+J94,1) -> 3861.2
A95: 잡재료 및 소모재료 | B95: 주재료비 3% | C95: 식 | D95: 1 | E95: =F91*3% -> 151.665 | F95: =TRUNC(E95*D95,1) -> 151.6 | J95: =TRUNC(I95*D95,1) -> 0 | K95: =TRUNC(E95+G95+I95,1) -> 151.6 | L95: =TRUNC(F95+H95+J95,1) -> 151.6
A96: 공구손료 | B96: 노무비의 1% | C96: 식 | D96: 1 | E96: =(H94+H93)*1% -> 169.122 | F96: =TRUNC(E96*D96,1) -> 169.1 | J96: =TRUNC(I96*D96,1) -> 0 | K96: =TRUNC(E96+G96+I96,1) -> 169.1 | L96: =TRUNC(F96+H96+J96,1) -> 169.1
A98: [ 합 계 ] | F98: =SUM(F91:F97) -> 6321.2 | H98: =SUM(H91:H97) -> 16912.2 | J98: =SUM(J91:J97) -> 0 | L98: =SUM(L91:L97) -> 23233.4
A99: 걸레받이 설치 (중밀도섬유판) 건축 5-4-5 ( 호표 15 ) | C99: M2
A100: 중밀도섬유판 | B100: T:9MM | C100: M2 | D100: 0.104 | E100: =단가대비표!L72 -> 4548.6111 | F100: =TRUNC(E100*D100,1) -> 473 | H100: =TRUNC(G100*D100,1) -> 0 | J100: =TRUNC(I100*D100,1) -> 0 | K100: =TRUNC(E100+G100+I100,1) -> 4548.6 | L100: =TRUNC(F100+H100+J100,1) -> 473
A101: 접착제 | B101: 목공본드 | C101: KG | D101: 0.035 | E101: =단가대비표!L40 -> 3500 | F101: =TRUNC(E101*D101,1) -> 122.5 | H101: =TRUNC(G101*D101,1) -> 0 | J101: =TRUNC(I101*D101,1) -> 0 | K101: =TRUNC(E101+G101+I101,1) -> 3500 | L101: =TRUNC(F101+H101+J101,1) -> 122.5
A102: 노무비 | B102: 내장공 | C102: 인 | D102: 0.014 | G102: =단가대비표!L4 -> 217517 | H102: =TRUNC(G102*D102,1) -> 3045.2 | J102: =TRUNC(I102*D102,1) -> 0 | K102: =TRUNC(E102+G102+I102,1) -> 217517 | L102: =TRUNC(F102+H102+J102,1) -> 3045.2
A103: 노무비 | B103: 보통인부 | C103: 인 | D103: 0.003 | G103: =단가대비표!L7 -> 148510 | H103: =TRUNC(G103*D103,1) -> 445.5 | J103: =TRUNC(I103*D103,1) -> 0 | K103: =TRUNC(E103+G103+I103,1) -> 148510 | L103: =TRUNC(F103+H103+J103,1) -> 445.5
A104: 공구손료 | B104: 노무비의 2% | C104: 식 | D104: 1 | E104: =(H103+H102)*2% -> 69.814 | F104: =TRUNC(E104*D104,1) -> 69.8 | J104: =TRUNC(I104*D104,1) -> 0 | K104: =TRUNC(E104+G104+I104,1) -> 69.8 | L104: =TRUNC(F104+H104+J104,1) -> 69.8
A106: [ 합 계 ] | F106: =SUM(F100:F105) -> 665.3 | H106: =SUM(H100:H105) -> 3490.7 | J106: =SUM(J100:J105) -> 0 | L106: =SUM(L100:L105) -> 4156
A107: 단열재 공간넣기 건축 5-4-1 ( 호표 16 ) | C107: M2
A108: 단열재 | C108: M2 | D108: 1.1 | E108: =단가대비표!L28 -> 4680 | F108: =TRUNC(E108*D108,1) -> 5148 | H108: =TRUNC(G108*D108,1) -> 0 | J108: =TRUNC(I108*D108,1) -> 0 | K108: =TRUNC(E108+G108+I108,1) -> 4680 | L108: =TRUNC(F108+H108+J108,1) -> 5148
A109: 노무비 | B109: 내장공 | C109: 인 | D109: 0.024 | F109: =TRUNC(E109*D109,1) -> 0 | G109: =단가대비표!L4 -> 217517 | H109: =TRUNC(G109*D109,1) -> 5220.4 | J109: =TRUNC(I109*D109,1) -> 0 | K109: =TRUNC(E109+G109+I109,1) -> 217517 | L109: =TRUNC(F109+H109+J109,1) -> 5220.4
A110: 노무비 | B110: 보통인부 | C110: 인 | D110: 0.004 | F110: =TRUNC(E110*D110,1) -> 0 | G110: =단가대비표!L7 -> 148510 | H110: =TRUNC(G110*D110,1) -> 594 | J110: =TRUNC(I110*D110,1) -> 0 | K110: =TRUNC(E110+G110+I110,1) -> 148510 | L110: =TRUNC(F110+H110+J110,1) -> 594
A111: 공구손료 | B111: 노무비의 2% | C111: 식 | D111: 1 | E111: =(H110+H109)*2% -> 116.288 | F111: =TRUNC(E111*D111,1) -> 116.2 | J111: =TRUNC(I111*D111,1) -> 0 | K111: =TRUNC(E111+G111+I111,1) -> 116.2 | L111: =TRUNC(F111+H111+J111,1) -> 116.2
A113: [ 합 계 ] | F113: =SUM(F108:F112) -> 5264.2 | H113: =SUM(H108:H112) -> 5814.4 | J113: =SUM(J108:J112) -> 0 | L113: =SUM(L108:L112) -> 11078.6
A114: 잡철물제작설치(철제) 건축 8-4 (호표 17) 간단 | C114: KG
A115: 용접봉(연강용) | B115: Φ3.2mm, AWSE308 | C115: KG | D115: 0.0184 | E115: =단가대비표!L53 -> 2280 | F115: =TRUNC(E115*D115,1) -> 41.9 | K115: =TRUNC(E115+G115+I115,1) -> 2280 | L115: =TRUNC(F115+H115+J115,1) -> 41.9
A116: 산소 | B116: 산소 가스 | C116: L | D116: 6.3 | E116: =단가대비표!L45 -> 1.9 | F116: =TRUNC(E116*D116,1) -> 11.9 | K116: =TRUNC(E116+G116+I116,1) -> 1.9 | L116: =TRUNC(F116+H116+J116,1) -> 11.9
...

Sheet 물량산출서
A1: 번호 | B1: 명칭 | C1: 규격 | D1: 단위 | E1: 수량 | F1: 산출근거 | G1: 비고
B2: =내역서갑지!B4 -> 고양시 학교밖청소년 전용공간 조성공사
A3: 1-1 | B3: 가설공사
B4: 먹메김 | D4: M2 | E4: =221.01 -> 221.01 | F4: =221.01
B5: 현장보양 | D5: M2 | E5: =221.01 -> 221.01 | F5: =221.01
B6: 현장정리및청소 | D6: M2 | E6: =221.01 -> 221.01 | F6: =221.01
A8: 1-2 | B8: 철거공사
B9: 경량벽체철골틀 철거 | D9: M2 | E9: =(4+4+9+2+4)*2.5-(0.9*2.1*3) -> 51.83 | F9: =(4+4+9+2+4)*2.5-(0.9*2.1*3)
B10: 경량천장철골틀 해체 | D10: M2 | E10: =(4+4+9+2+4)*0.6 -> 13.8 | F10: =(4+4+9+2+4)*0.6
B11: 석고판(벽체) 해체 | D11: M2 | E11: =(4+4+9+2+4)*2.5*2-(0.9*2.1*3*2) -> 103.66 | F11: =(4+4+9+2+4)*2.5*2-(0.9*2.1*3*2)
B12: 흡음텍스 해체 | D12: M2 | E12: =(4+4+9+2+4)*0.6 -> 13.8 | F12: =(4+4+9+2+4)*0.6
B13: PVC 바닥재 해체 | D13: M2 | E13: =(4+4+9+2+4)*0.6 -> 13.8 | F13: =(4+4+9+2+4)*0.6
A16: 1-3 | B16: 목공사
B17: 벽체틀 설치 | C17: 라왕각재 70*30 | D17: M2 | E17: =(1.8*2)*4 -> 14.4 | F17: =(1.8*2)*4
B18: 수장합판 설치 | C18: MDF 9MM 1PLY | D18: M2 | E18: =(7.55+6.51+7.55+0.88+0.62)*2.5-(1*2.1*1)-(0.5*0.9*4) -> 53.875 | F18: =(7.55+6.51+7.55+0.88+0.62)*2.5-(1*2.1*1)-(0.5*0.9*4)
A20: 1-4 | B20: 수장공사
B21: PVC계 타일 바닥재 설치 | D21: M2 | E21: =41.16+(23*0.6) -> 54.96 | F21: =(41.16+(23*0.6)
B22: 흡음텍스 설치 | D22: M2 | E22: =(4+4+9+2+4)*0.6 -> 13.8 | F22: =(4+4+9+2+4)*0.6
B23: 천정석고판 설치(치장용) | C23: T:9.5MM 2PLY | D23: M2 | E23: =14.4 -> 14.4 | F23: =14.4
B24: 벽체석고판 설치(치장용) | C24: T:9.5MM 2PLY | D24: M2 | E24: =(((1.8+1.8)*2.3+(0.41+0.41+0.55+0.55)*2.3+(1.19*1))*4+(7.65+7.65+9.66+5.34+4.45+0.62+0.88)*2.5)*2-(57.78/2)-(1*2.1*3*2) -> 250.848 | F24: =(((1.8+1.8)*2.3+(0.41+0.41+0.55+0.55)*2.3+(1.19*1))*4+(7.65+7.65+9.66+5.34+4.45+0.62+0.88)*2.5)*2-(57.78/2)-(1*2.1*3*2)
B25: 걸레받이 설치 | D25: M2 | E25: =((1.8+1.8+1.8)*2*4+(7.65+7.65+7.65+7.65+9.66+9.66+5.31+5.31+4.45+4.45)) -> 112.64 | F25: =((1.8+1.8+1.8)*2*4+(7.65+7.65+7.65+7.65+9.66+9.66+5.31+5.31+4.45+4.45))
B26: 인테리어필름 취부 | D26: M2 | E26: =(7.55+6.51+7.55+0.88+0.62)*2.5-(1*2.1*1)-(0.5*0.9*4) -> 53.875 | F26: =(7.55+6.51+7.55+0.88+0.62)*2.5-(1*2.1*1)-(0.5*0.9*4)
B27: 단열재설치 | C27: 50이하 | D27: M2 | E27: =+(7.65+7.65+9.66+5.34+4.45+0.62+0.88)*2.5-(1*2.1*3)-(0.5*0.9*8) -> 80.725 | F27: =(7.65+7.65+9.66+5.34+4.45+0.62+0.88)*2.5-(1*2.1*3)-(0.5*0.9*8)
A29: 1-5 | B29: 금속공사
B30: SST'L PLATE | C30: SST'L 10*10*10*25 | D30: M | E30: =(3.12+6.1+5.03) -> 14.25 | F30: =(3.12+6.1+5.03)
B31: ST'L MOULDING | C31: ST'L 60*30 | D31: M | E31: =(1.19+0.8+1.19+0.8)*4+(0.5+0.5+0.9+0.9)*8 -> 38.32 | F31: =(1.19+0.8+1.19+0.8)*4+(0.5+0.5+0.9+0.9)*8
B32: ST'L MOULDING | C32: ST'L 30*30 | D32: M | E32: =(4.59+1.2+1.2+4.59)+(2.84+1.2+1.2+2.84)+(2.7+2.7+1.2+1.2) -> 27.46 | F32: =(4.59+1.2+1.2+4.59)+(2.84+1.2+1.2+2.84)+(2.7+2.7+1.2+1.2)
B33: M-STUD | C33: 65mm | D33: M2 | E33: =((1.8+1.8)*2.3+(0.41+0.41+0.55+0.55)*2.3+(1.19*1))*4+(7.65+7.65+9.66+5.34+4.45+0.62+0.88)*2.5-(1*2.1*3) -> 139.869 | F33: =((1.8+1.8)*2.3+(0.41+0.41+0.55+0.55)*2.3+(1.19*1))*4+(7.65+7.65+9.66+5.34+4.45+0.62+0.88)*2.5-(1*2.1*3)
A35: 1-6 | B35: 창호공사
B36: WOOD DOOR & FRAME | D36: SET | E36: 3 | F36: =3
B37: 도어록설치 | D37: SET | E37: 3 | F37: =3
B38: CLEAR GLASS 취부 | D38: M2 | E38: =(1.9*1*4)+(0.5*0.9)*8 -> 11.2 | F38: =(1.9*1*4)+(0.5*0.9)*8
B39: BACK PAINT GLASS 취부 | D39: M2 | E39: =(4.59*1.2)+(2.84*1.2)+(2.7*1.2) -> 12.156 | F39: =(4.59*1.2)+(2.84*1.2)+(2.7*1.2)
B40: 코킹 | D40: M | E40: =(1.9+1+1.9+1)*4+(0.5+0.5+0.9+0.9)*8 -> 45.6 | F40: =(1.9+1+1.9+1)*4+(0.5+0.5+0.9+0.9)*8
A42: 1-7 | B42: 도장공사
B43: ALL PUTTY & SANDING | C43: 벽체 | D43: M2 | E43: =((1.8*2.3*2)+(0.41+0.41+0.55+0.55)*2.3*2+(1.9*1*2))*4+(7.63+9.64+4.4+2.4)*2.5+(4.34+4.34+2.84+2.84)*2.5+(2.7+5.34+2.7)*2.5+(1.8*2)*4-(1*2.1*3)*2 -> 208.373 | F43: =((1.8*2.3*2)+(0.41+0.41+0.55+0.55)*2.3*2+(1.9*1*2))*4+(7.63+9.64+4.4+2.4)*2.5+(4.34+4.34+2.84+2.84)*2.5+(2.7+5.34+2.7)*2.5+(1.8*2)*4-(1*2.1*3)*2
B44: 비닐페인트 | C44: 벽체 | D44: M2 | E44: =((1.8*2.3*2)+(0.41+0.41+0.55+0.55)*2.3*2+(1.9*1*2))*4+(7.63+9.64+4.4+2.4)*2.5+(4.34+4.34+2.84+2.84)*2.5+(2.7+5.34+2.7)*2.5-(1*2.1*3*2) -> 193.973 | F44: =((1.8*2.3*2)+(0.41+0.41+0.55+0.55)*2.3*2+(1.9*1*2))*4+(7.63+9.64+4.4+2.4)*2.5+(4.34+4.34+2.84+2.84)*2.5+(2.7+5.34+2.7)*2.5-(1*2.1*3*2)
B45: 비닐페인트 | C45: 천정 | D45: M2 | E45: =(1.8*2*4) -> 14.4 | F45: =(1.8*2*4)
B46: 도장후퍼티및연마 | D46: M2 | E46: =((1.8*2.3*2)+(0.41+0.41+0.55+0.55)*2.3*2+(1.9*1*2))*4+(7.63+9.64+4.4+2.4)*2.5+(4.34+4.34+2.84+2.84)*2.5+(2.7+5.34+2.7)*2.5+(1.8*2)*4-(1*2.1*3*2) -> 208.373 | F46: =((1.8*2.3*2)+(0.41+0.41+0.55+0.55)*2.3*2+(1.9*1*2))*4+(7.63+9.64+4.4+2.4)*2.5+(4.34+4.34+2.84+2.84)*2.5+(2.7+5.34+2.7)*2.5+(1.8*2)*4-(1*2.1*3*2)
A48: 1-9 | B48: 설비공사
B49: 디퓨져설치 | D49: 개 | E49: 4 | F49: =4

Sheet 단가대비표
A1: 품 명 | B1: 규격 | C1: 단위 | H1: 재 료 비 | M1: 노 무 비 | N1: 경 비 | T1: 번 호 | U1: 비 고
D2: 물가자료 | E2: PAGE | F2: 물가정보 | G2: PAGE | H2: 유통물가 | I2: PAGE | J2: 조사가격-1 | K2: 업체명 | L2: 적용단가 | N2: 가격정보 | O2: 물가자료 | P2: 유통물가 | Q2: 거래가격 | R2: 조사가격 | S2: 조사가격-2
A3: 건축목공 | C3: 인 | D3: 237273 | E3: 하299 | L3: =D3 -> 237273
A4: 내장공 | C4: 인 | D4: 217517 | E4: 하299 | L4: =D4 -> 217517
A5: 도장공 | C5: 인 | D5: 229273 | E5: 하299 | L5: =D5 -> 229273
A6: 도배공 | C6: 인 | D6: 192426 | E6: 하299 | L6: =D6 -> 192426
A7: 보통인부 | C7: 인 | D7: 148510 | E7: 하299 | L7: =D7 -> 148510
A8: 비계공 | C8: 인 | D8: 262297 | E8: 하299 | L8: =D8 -> 262297
A9: 철공 | C9: 인 | D9: 209189 | E9: 하299 | L9: =D9 -> 209189
A10: 창호공 | C10: 인 | D10: 224380 | E10: 하299 | L10: =D10 -> 224380
A11: 용접공 | C11: 인 | D11: 234564 | E11: 하299 | L11: =D11 -> 234564
A12: 유리공 | C12: 인 | D12: 221409 | E12: 하299 | L12: =D12 -> 221409
A13: 줄눈공 | C13: 인 | D13: 176807 | E13: 하299 | L13: =D13 -> 176807
A14: 타일공 | C14: 인 | D14: 247079 | E14: 하299 | L14: =D14 -> 247079
... A19: 덕트공 | C19: 인 | D19: 188856 | E19: 하299 | L19: =D19 -> 188856
A21: 맑은유리 | B21: T:5mm | C21: M2 | D21: 7620 | E21: 상624 | L21: =D21 -> 7620
A22: 강화유리 | B22: T:10mm 강화 | C22: M2 | D22: 32000 | E22: 상628 | F22: 33400 | G22: 1-615 | H22: 33400 | I22: 473 | L22: =D22 -> 32000
A23: 글라스울 | B23: 50MM 24K | C23: M2 | D23: 3120 | E23: 상681 | F23: 3276 | G23: 1-627 | H23: 3120 | I23: 401 | L23: =D23 -> 3120
A24: 경첩 | B24: 2*102*89 | C24: 개 | D24: 2300 | E24: 상617 | L24: =D24 -> 2300
A25: 나사 SCREW | C25: EA | J25: 10 | K25: 인터넷 | L25: =J25 -> 10
A26: 디퓨져 | B26: 250파이 | J26: 24000 | K26: 인터넷 | L26: =J26 -> 24000
A27: 달대볼트 | B27: M10 | C27: EA | D27: 1017 | E27: 상86 | L27: =D27 -> 1017
A28: 단열재 | B28: T:50MM | C28: M2 | D28: 4680 | E28: 상687 | L28: =D28 -> 4680
A29: 메탈스터드 | B29: 65*45*0.8 | C29: M | D29: 3230 | E29: 상543 | F29: 3500 | G29: 1-701 | H29: 3230 | I29: 430 | L29: =D29 -> 3230
A30: 메탈러너 | B30: 67*40*0.8 | C30: M | D30: 2680 | E30: 상543 | F30: 2200 | G30: 1-701 | H30: 4980 | I30: 430 | L30: =F30 -> 2200
A31: 문손잡이 | C31: 개 | D31: 35000 | E31: 상617 | L31: =D31 -> 35000
A32: 라왕각재 | B32: 30*30 | C32: 재 | D32: 2100 | E32: 상137 | F32: 2790 | G32: 1-129 | H32: 2100 | I32: 73 | L32: =D32 -> 2100
A33: 라왕각재 | B33: 70*30 | C33: 재 | D33: 6300 | E33: 상137 | F33: 2790 | G33: 1-129 | H33: 2100 | I33: 73 | L33: =D33 -> 6300
A34: 백시멘트 | B34: 40KG | C34: KG | D34: =11000/40 -> 275 | E34: 상105 | F34: =11600/40 -> 290 | G34: 1-102 | H34: =11480/40 -> 287 | I34: 64 | L34: =D34 -> 275
A35: 비닐페인트 | B35: 합성수지에멀젼도료/내부 1급 | C35: L | D35: =84300/18 -> 4683.3333 | E35: 상628 | F35: =85400/18 -> 4744.4444 | G35: 1-554 | H35: =84300/18 -> 4683.3333 | I35: 476 | L35: =D35 -> 4683.3333
A36: 플라베니아 | B36: 3T | C36: M2 | J36: =1760/(0.9*1.8) -> 1086.4198 | K36: 인터넷 | L36: =J36 -> 1086.4198
A37: 텐텐지 | B37: 0.2T | C37: M2 | J37: =38000/(1.8*100) -> 211.11111 | K37: 인터넷 | L37: =J37 -> 211.11111
A38: 보양테이프 | C38: M | J38: =3410/(25) -> 136.4 | K38: 인터넷 | L38: =J38 -> 136.4
A39: 조립식틀비계 | B39: 1개월 임대 | C39: 대 | D39: =26700 -> 26700 | E39: 상146 | F39: 33000 | G39: 1-132 | L39: =D39 -> 26700
A40: 접착제 | B40: 목공접착제 | C40: KG | J40: =2800/0.8 -> 3500 | K40: 인터넷 | L40: =J40 -> 3500
A41: 접착제 | B41: 데코본드 | C41: KG | J41: =30000/10 -> 3000 | K41: 인터넷 | L41: =J41 -> 3000
A42: 행거 | B42: 50mm | C42: 개 | J42: =120+20 -> 140 | K42: 인터넷 | L42: =J42 -> 140
A43: 퍼티,PUTTY | B43: 내부용,백색 | C43: KG | D43: =18200/18 -> 1011.1111 | E43: 상 639 | F43: =17700/18 -> 983.33333 | G43: 1-556 | H43: =17700/18 -> 983.33333 | I43: 478 | L43: =F43 -> 983.33333
A44: 석고보드 | B44: 9.5*900*1800 | C44: M2 | D44: =3900/1.62 -> 2407.4074 | E44: 상697 | F44: =4500/1.62 -> 2777.7778 | G44: 1-643 | H44: =3900/1.62 -> 2407.4074 | I44: 418 | L44: =H44 -> 2407.4074
A45: 산소 | B45: 산소 가스 | C45: L | D45: 1.9 | E45: 하33 | F45: 450 | G45: 1-1507 | H45: 470 | I45: 1238 | L45: =D45 -> 1.9
A46: 신너 | C46: L | D46: =55700/18 -> 3094.4444 | E46: 상634 | F46: =52100/18 -> 2894.4444 | G46: 1-556 | H46: =52100/18 -> 2894.4444 | I46: 480 | L46: =H46 -> 2894.4444
A47: 스테인리스강판(STS304) | B47: 1.5T (STS304) | C47: M2 | D47: =3750000/(28*2.88) -> 46502.976 | E47: 상70 | F47: =3750000/(28*2.88) -> 46502.976 | G47: 1-71 | H47: =3605000/(28*2.88) -> 44704.861 | I47: 36 | L47: =H47 -> 44704.861
A48: 인서트 | C48: EA | D48: 220 | E48: 상543 | F48: 170 | G48: 1-701 | H48: 220 | I48: 430 | L48: =F48 -> 170
A49: 연마지 | B49: 연마포, #120~180, 230*280 | C49: 매 | D49: 260 | E49: 상1436 | F49: 561 | G49: 1-1145 | H49: 561 | I49: 1216 | L49: 260
A50: 아세틸렌 | C50: KG | D50: 40000 | E50: 하33 | F50: 25000 | G50: 1-1507 | H50: 40000 | I50: 1238 | L50: =F50 -> 25000
A51: 아연도강판 | B51: 1.60mm | C51: M2 | D51: =26870/(0.9*1.8) -> 16586.42 | E51: 상56 | F51: =59520/2.88 -> 20666.667 | G51: 1-60 | H51: =56240/2.88 -> 19527.778 | I51: 28 | L51: =D51 -> 16586.42
A52: 용접봉(스텐용) | B52: Φ3.2mm, AWSE308 | C52: KG | D52: 9160 | E52: 상1395 | F52: 11170 | G52: 1-916 | H52: 9540 | I52: 1180 | L52: =D52 -> 9160
A53: 용접봉(연강용) | B53: ∮3.2 CR-13 | C53: KG | D53: 3100 | E53: 상1395 | F53: 2320 | G53: 1-916 | H53: 2280 | I53: 1180 | L53: =H53 -> 2280
A54: 인테리어필름 | B54: 방염 0.42MM | C54: M2 | D54: 30000 | E54: 상711 | F54: 30000 | G54: 1-693 | H54: 30000 | I54: 422 | L54: =F54 -> 30000
A55: 에폭시페인트 하도 | B55: 라이닝 | C55: L | D55: =92300/16 -> 5768.75 | E55: 상711 | L55: =D55 -> 5768.75
A56: 에폭시페인트 상도 | B56: 라이닝 | C56: L | D56: =218000/16 -> 13625 | E56: 상711 | L56: =D56 -> 13625
A57: 캐링채널 | C57: M | D57: 1560 | E57: 상543 | F57: 1300 | G57: 1-701 | H57: 1560 | I57: 430 | L57: =F57 -> 1300
A58: 캐링조인트 | C58: 개 | F58: 190 | G58: 1-701 | L58: =F58 -> 190
A59: 채널클립 | C59: 개 | J59: 130 | K59: 인터넷 | L59: =J59 -> 130
A60: 철못 | B60: N25 1" | C60: KG | D60: 1585.2174 | E60: 상67 | F60: 1540 | G60: 1-76 | H60: 1463 | I60: 43 | J60: 1075 | K60: 조달청 거래가격 | L60: 1075
A61: 철못 | B61: N 65 | C61: KG | D61: 1455.2174 | E61: 상67 | F61: 1385 | G61: 1-76 | H61: 1315.75 | I61: 43 | J61: 944 | K61: 조달청 거래가격 | L61: 944
A62: 필러 | C62: KG | F62: =9000/5 -> 1800 | G62: 1-553 | L62: =F62 -> 1800
A63: 풀 | B63: 도배용 | J63: =12000/12 -> 1000 | K63: 인터넷 | L63: =J63 -> 1000
A64: 프라이머 | B64: 에폭시 | C64: L | D64: =155980/16 -> 9748.75 | E64: 상641 | F64: =162680/18 -> 9037.7778 | G64: 1-552 | H64: =160720/16 -> 10045 | I64: 486 | L64: =F64 -> 9037.7778
A65: 합판 | B65: T:12MM | C65: M2 | D65: =17500/2.88 -> 6076.3889 | E65: 상696 | F65: =19360/2.88 -> 6722.2222 | G65: 1-642 | H65: =18400/2.88 -> 6388.8889 | I65: 407 | L65: =H65 -> 6388.8889
A66: 합판 | B66: T:9MM | C66: M2 | D66: =12500/2.88 -> 4340.2778 | E66: 상696 | F66: =13950/2.88 -> 4843.75 | G66: 1-642 | H66: =13100/2.88 -> 4548.6111 | I66: 407 | L66: =H66 -> 4548.6111
A67: 합판 | B67: T:5MM | C67: M2 | D67: =8400/2.88 -> 2916.6667 | E67: 상696 | F67: =8630/2.88 -> 2996.5278 | G67: 1-642 | H67: =8000/2.88 -> 2777.7778 | I67: 407 | L67: =D67 -> 2916.6667
A68: 흡음텍스 | B68: T:12MM (300*600) | C68: M2 | D68: 8100 | E68: 상709 | F68: 8200 | G68: 1-645 | H68: 8100 | I68: 424 | L68: =D68 -> 8100
A69: 코킹 | C69: M | J69: =3850/25 -> 154 | K69: 인터넷 | L69: =J69 -> 154
A70: 타일본드 | B70: PC-7000 | C70: KG | J70: =16000/20 -> 800 | K70: 인터넷 | L70: =J70 -> 800
A71: F-TAPE | C71: M | J71: 61.111111 | K71: 인터넷 | L71: =J71 -> 61.111111
A72: MDF (중밀도섬유판) | B72: T:9MM | C72: M2 | D72: =13400/2.88 -> 4652.7778 | E72: 상697 | F72: =13770/2.88 -> 4781.25 | G72: 1-642 | H72: =13100/2.88 -> 4548.6111 | I72: 419 | L72: =H72 -> 4548.6111
A73: M-BAR | C73: M | D73: 1160 | E73: 상542 | F73: 1060 | G73: 1-701 | H73: 1160 | I73: 430 | L73: =D73 -> 1160
A74: BAR 클립 | C74: 개 | J74: 40 | K74: 인터넷 | L74: =J74 -> 40
A75: BAR 조인트 | C75: 개 | J75: 50 | K75: 인터넷 | L75: =J75 -> 50
A76: HILTI PIN | C76: 개 | J76: =48.6 -> 48.6 | K76: 인터넷 | L76: =J76 -> 48.6
A77: P-TILE | B77: 450*450*3 | C77: M2 | D77: 13000 | E77: 상653 | F77: 13300 | G77: 1-498 | H77: 13000 | I77: 688 | L77: =D77 -> 13000
A79: WOOD DOOR & FRAME | B79: 1000*2100 | C79: SET | J79: 285000 | K79: 용천상사 | L79: =J79 -> 285000
A80: BACK PAINT GLASS | B80: T:5MM | C80: M2 | J80: 64000 | K80: 예승유리 | L80: =J80 -> 64000
A82: 혼합건설폐기물 | B82: 그 밖의 건설폐기물에 가연성 5% 이하 혼합 | C82: TON | L82: 165035
A83: 건설폐기물운반비 - 상차 포함 | B83: 15톤덤프트럭 - 30km | C83: TON | L83: 13660

Sheet 용천상사

Sheet 예승유리
