Workbook
Name 은행코드: '[1]추산계좌(2분기)'!#REF!
Name 은행코드: '[1]추산계좌(2분기)'!#REF!
Name 은행코드: '[1]추산계좌(2분기)'!#REF!
Name 은행코드: '[1]추산계좌(2분기)'!#REF!
Name 은행코드: '[1]추산계좌(2분기)'!#REF!
Name 은행코드: '[1]추산계좌(2분기)'!#REF!
Name 은행코드: '[1]추산계좌(2분기)'!#REF!
Name 은행코드: '[1]추산계좌(2분기)'!#REF!
Name 은행코드: '[1]추산계좌(2분기)'!#REF!
Name 은행코드: '[1]추산계좌(2분기)'!#REF!
Name 은행코드: '[1]추산계좌(2분기)'!#REF!
Name 은행코드: '[1]추산계좌(2분기)'!#REF!
Name 은행코드: '[1]추산계좌(2분기)'!#REF!
Name 은행코드: '[1]추산계좌(2분기)'!#REF!
Name 은행코드: '[1]추산계좌(2분기)'!#REF!
Name 은행코드: '[1]추산계좌(2분기)'!#REF!
Name 은행코드: '[1]추산계좌(2분기)'!#REF!
Name 은행코드: '[1]추산계좌(2분기)'!#REF!
Name 은행코드: '[1]추산계좌(2분기)'!#REF!
Name 은행코드: '[1]추산계좌(2분기)'!#REF!
Name 은행코드: '[1]추산계좌(2분기)'!#REF!
Name 은행코드: '[1]추산계좌(2분기)'!#REF!
Name 은행코드: '[1]추산계좌(2분기)'!#REF!
Name 은행코드: '[1]추산계좌(2분기)'!#REF!
Name 은행코드: '[1]추산계좌(2분기)'!#REF!
Name 은행코드: '[1]추산계좌(2분기)'!#REF!
Name 은행코드: '[1]추산계좌(2분기)'!#REF!
Name 은행코드: '[1]추산계좌(2분기)'!#REF!
Name 은행코드: '[1]추산계좌(2분기)'!#REF!
Name 은행코드: '[1]추산계좌(2분기)'!#REF!
Name 은행코드: '[1]추산계좌(2분기)'!#REF!
Name 은행코드: '[1]추산계좌(2분기)'!#REF!
Name 은행코드: '[1]추산계좌(2분기)'!#REF!
Name 은행코드: '[1]추산계좌(2분기)'!#REF!
Name 은행코드: '[1]추산계좌(2분기)'!#REF!
Name 은행코드: '[1]추산계좌(2분기)'!#REF!
Name 은행코드: '[1]추산계좌(2분기)'!#REF!
Name 은행코드: '[1]추산계좌(2분기)'!#REF!

Sheet 표지
A9: 2018년도 세입·세출예산서(안)

Sheet 목차
B1: 목 차
A2: 1 | B2: 예산총칙 | D2: 1
A4: 2 | B4: 2018년 세입·세출예산(안) | D4: 5
B6: ○ 2018년 세입예산규모 | D6: 6
B8: ○ 2018년 세입예산(안) 총괄표 | D8: 7
B10: ○ 2018년 세출예산(안) 총괄표 | D10: 11
B12: ○ 2018년 세입·세출예산(안) 요약 총괄표 | D12: 17
B14: ○ 2018년 세입·세출예산(안) 총괄표 | D14: 18
A16: 3 | B16: 세입예산 사업내역서 | D16: 22
A18: 4 | B18: 세출예산 사업내역서 | D18: 42
B20: ○ 사무국 | D20: 43
B22: ○ 마두청소년수련관 | D22: 50
B24: ○ 고양시청소년진로센터 | D24: 58
B26: ○ 성사청소년문화의집 | D26: 62
B28: ○ 탄현청소년문화의집 | D28: 67
B30: ○ 주교동청소년카페 | D30: 73
B32: ○ 일산서구청소년수련관 | D32: 76
B34: ○ 토당청소년수련관 | D34: 84
B36: ○ 고양시청소년상담복지센터 | D36: 94
B38: ○ 화정청소년카페 | D38: 101
B40: ○ 백마역청소년카페 | D40: 104
B42: ○ 능곡역청소년카페 | D42: 107

Sheet 간지1(예산총칙)

Sheet 예산총칙
B1: 1. 예산총칙
B3: 제1조(총칙) 2018년도 재단법인 고양시청소년재단의 본예산은 다음과 같이 정한다.
B6: 제2조(업무의 연간 예정량) 2018년도 업무의 예정량은 다음과 같다.
B7: 가. 청소년의 일상생활이 즐거운 활동생태계 조성 - 청소년활동시설 관리·운영, 청소년지원 인프라 구축, 공모사업 운영 지원 등
B9: 나. 청소년 전용시설로서 종합적인 청소년 활동 지원 - 청소년자치활동사업 운영, 청소년열린공간 운영, 평생교육 프로그램 운영 등
B11: 다. 진로탐색·작업체험 등 통합적 서비스 제공 - 진로체험 및 진로교육 프로그램 운영, 지역기반 진로체험 협력시스템 구축 등
B13: 라. 자발적 참여를 통한 정보·문화·예술활동 지원 - 청소년 주도적, 자발적 참여확대, 역량강화 프로그램, 문화감수성 향상 프로그램 등
B15: 마. 상담·긴급구조·자활·의료지원 서비스 제공 - 위기청소년 맞춤형 지원서비스 강화, 상담프로그램 운영(개인, 집단) 등
B17: 바. 청소년들의 자율 활동 공간 제공 - 청소년을 위한 문화컨텐츠 제공, 지역 네트워크 구축, 자율적 문화공간 운영 등
B21: 제3조(수익적수입 및 지출) 수익적수입 및 지출의 예정액은 다음과 같이 정한다.
B23: 수 입
B24: 제1관 재단사업수입 | D24: =+SUM(D25:D27) -> 8717874000 | E24: 천원
B25: 제1항 영업수입 | D25: =세입예산총괄표2!B44 -> 2413542000 | E25: 천원
B26: 제2항 영업외수익 | D26: =세입예산총괄표2!B8 -> 6304332000 | E26: 천원
B27: 제3항 특별이익 | D27: 0 | E27: 천원
B28: 지 출
B29: 제1관 재단사업비용 | D29: =+SUM(D30:D34) -> 8717874000 | E29: 천원
B30: 제1항 영업비용 | D30: =세입세출요약총괄표5!I9+세입세출요약총괄표5!I10+세입세출요약총괄표5!I11+세입세출요약총괄표5!I12+세입세출요약총괄표5!I13+세입세출요약총괄표5!I16+세입세출요약총괄표5!I17+세입세출요약총괄표5!I18+세입세출요약총괄표5!I19 -> 8697874000 | E30: 천원
B31: 제2항 영업외비용 | E31: 천원
B32: 제3항 특별손실 | E32: 천원
B33: 제4항 법인세등 | E33: 천원
B34: 제5항 예 비 비 | D34: =세입세출요약총괄표5!I14 -> 20000000 | E34: 천원
B35: 제4조(자본적수입 및 지출) 자본적수입 및 지출의 예정액은 다음과 같이 정한다.
B37: 수 입
B38: 제1관 자본적수입 | D38: =+SUM(D39:D44) -> 457014000 | E38: 천원
B39: 제1항 투자자산 | E39: 천원
B40: 제2항 고정자산매각수입 | E40: 천원
B41: 제3항 고정부채수입 | E41: 천원
B42: 제4항 자 본 금 | E42: 천원
B43: 제5항 자본잉여금수입 | D43: 50004000 | E43: 천원
B44: 제6항 기타자본잉여금수입 | D44: =세입세출요약총괄표5!B13+세입세출요약총괄표5!B19 -> 407010000 | E44: 천원
B46: 지 출
B47: 제1관 자본적지출 | D47: =+SUM(D48:D54) -> 448253000 | E47: 천원
B48: 제1항 투자자산 | E48: 천원
B49: 제2항 유형자산 | D49: =세입세출요약총괄표5!I12 -> 378249000 | E49: 천원
B50: 제3항 무형자산 | E50: 천원
B51: 제4항 유동부채상환금 | E51: 천원
B52: 제5항 고정부채상환금 | E52: 천원
B53: 제6항 기타 자본적지출 | D53: 50004000 | E53: 천원
B54: 제7항 예 비 비 | D54: =세입세출요약총괄표5!I14 -> 20000000 | E54: 천원
B56: 제5조(계속비) 계속비의 총액과 연할액은 다음과 같이 정한다.
B63: 제6조(채무부담행위) 채무부담행위를 할 수 있는 사항과 기간 및 한도액은 다음과
B64: 같이 정한다.
B71: 제7조(공사채 등) 해당사항 없음
B73: 제8조(일시차입금) 해당사항 없음
B75: 제9조(예산전용금지과목) 다음에 게기하는 과목의 경비는 이사회의 의결을 거치지 않고
B76: 는 그 경비를 전용할 수 없다.
B77: (1) 인 건 비 | D77: =세입세출요약총괄표5!I9+세입세출요약총괄표5!I16 -> 3338312000 | E77: 천원
B78: (2) 업무추진비(타 비목으로부터의 전용금지) | D78: 88080000 | E78: 천원
B80: 제10조(대행사업 경비)
B87: 제11조(중요자산취득 및 처분) 중요자산의 취득 및 처분은 다음과 같이 한다.

Sheet 간지2(2018년 세입·세출예산(안))

Sheet 세입예산규모1
A1: 2018년 세입예산 규모
F3: [단위:천원]
A4: 구 분 | B4: 2018년 예산액(A) | D4: 2017년예산액(B) | F4: 증감(A-B)
B5: 금액 | C5: 구성비 | D5: 금액 | E5: 구성비 | F5: 금액 | G5: 증감률
A6: 총계 | B6: =SUM(B7:B9) -> 8717874000 | C6: =SUM(C7:C9) -> 1 | D6: =ROUNDUP(SUM(D7:D9),-3) -> 5825281000 | E6: =SUM(E7:E9) -> 1 | F6: =B6-D6 -> 2892593000 | G6: =+F6/D6 -> 0.49655854
A7: 출연금 | B7: 5999764000 | C7: =+B7/$B$6 -> 0.68821412 | D7: 4323453000 | E7: =+D7/$D$6 -> 0.74218789 | F7: =B7-D7 -> 1676311000 | G7: =+F7/D7 -> 0.38772504
A8: 사업수익금 | B8: 2311100000 | C8: =+B8/$B$6 -> 0.26509904 | D8: 1312882000 | E8: =+D8/$D$6 -> 0.2253766 | F8: =B8-D8 -> 998218000 | G8: =+F8/D8 -> 0.76032576
A9: 이월금 | B9: 407010000 | C9: =+B9/$B$6 -> 0.046686841 | D9: 188946000 | E9: =+D9/$D$6 -> 0.032435517 | F9: =B9-D9 -> 218064000 | G9: =+F9/D9 -> 1.1541075

Sheet 세입예산총괄표2
A1: 2018년 세입예산(안) 총괄표
F3: [단위:천원]
A4: 세 입
A5: 예산과목 | B5: 2018년예산액(A) | D5: 2017년예산액(B) | F5: 증 감(A-B)
B6: 금액 | C6: 구성비 | D6: 금액 | E6: 구성비 | F6: 금 액 | G6: 증감률
A7: 총 계 | B7: =SUM(B8,B44) -> 8717874000 | C7: =+C8+C44 -> 1 | D7: =ROUNDUP(SUM(D8,D44),-3) -> 5825281000 | E7: =+E8+E44 -> 1 | F7: =B7-D7 -> 2892593000 | G7: =+F7/D7 -> 0.49655854
A8: 620 영업외수익 | B8: =SUM(B9,B17,B27,B40,B42) -> 6304332000 | C8: =+B8/$B$7 -> 0.72315016 | D8: =SUM(D9,D17,D27,D40,D42) -> 4411881000 | E8: =+D8/$D$7 -> 0.75736793 | F8: =SUM(F9,F17,F27,F40,F42) -> 1892451000 | G8: =+F8/D8 -> 0.42894425
A9: 625-2 지자체출자출연금 | B9: =SUM(B10:B16) -> 4598613000 | C9: =+B9/$B$7 -> 0.52749248 | D9: =SUM(D10:D16) -> 2265578000 | E9: =+D9/$D$7 -> 0.38892167 | F9: =SUM(F10:F16) -> 2333035000 | G9: =+F9/D9 -> 1.0297747
A10: 사무국 | B10: ='예산세입(사무국)'!M16 -> 1600000000 | C10: =+B10/$B$7 -> 0.18353098 | D10: =ROUNDUP('예산세입(사무국)'!N16,-3) -> 752528000 | E10: =+D10/$D$7 -> 0.12918312 | F10: =+B10-D10 -> 847472000 | G10: =+F10/D10 -> 1.1261667 | J10: 2018 | K10: 2017 | M10: 사무국 자본금 | O10: (사무국자본금 포함)
A11: 마두청소년수련관 | B11: ='예산세입(마두)'!P90 -> 861000000 | C11: =+B11/$B$7 -> 0.098762611 | D11: ='예산세입(마두)'!Q90 -> 861000000 | E11: =+D11/$D$7 -> 0.14780403 | F11: =+B11-D11 -> 0 | G11: =+F11/D11 -> 0 | I11: 사무국 | J11: =B10+B18+B28+B43 -> 1900720000 | K11: =D10+D18+D28+D43 -> 1687053000 | L11: + | M11: 50004000 | N11: = | O11: =K11+M11 -> 1737057000
A12: 고양시청소년진로센터 | B12: ='예산세입(진로)'!P14 -> 324988000 | C12: =+B12/$B$7 -> 0.037278355 | D12: ='예산세입(진로)'!Q14 -> 231000000 | E12: =+D12/$D$7 -> 0.039654739 | F12: =+B12-D12 -> 93988000 | G12: =+F12/D12 -> 0.40687446 | I12: 마두청소년수련관 | J12: =B11+B19+B29+B46+B55+B62+B69 -> 1588140000 | K12: =D11+D19+D29+D46+D55+D62+D69 -> 1586392000
A13: 성사청소년문화의집 | B13: ='예산세입(성사)'!P25 -> 331348000 | C13: =+B13/$B$7 -> 0.03800789 | D13: ='예산세입(성사)'!Q25 -> 221550000 | E13: =+D13/$D$7 -> 0.0380325 | F13: =+B13-D13 -> 109798000 | G13: =+F13/D13 -> 0.49559016 | I13: 고양시청소년진로센터 | J13: =B12+B20+B30 -> 325228000 | K13: =D12+D20+D30 -> 231000000
A14: 탄현청소년문화의집 | B14: ='예산세입(탄현)'!P37 -> 216088000 | C14: =+B14/$B$7 -> 0.024786777 | D14: ='예산세입(탄현)'!Q37 -> 152250000 | E14: =+D14/$D$7 -> 0.026136078 | F14: =+B14-D14 -> 63838000 | G14: =+F14/D14 -> 0.41929721 | I14: 성사청소년문화의집 | J14: =B13+B21+B31+B47+B56+B70 -> 358138000 | K14: =D13+D21+D31+D47+D56+D70 -> 245371000
A15: 주교동청소년카페 | B15: ='예산세입(주교)'!P21 -> 65189000 | C15: =+B15/$B$7 -> 0.0074776259 | D15: ='예산세입(주교)'!Q21 -> 47250000 | E15: =+D15/$D$7 -> 0.0081111967 | F15: =+B15-D15 -> 17939000 | G15: =+F15/D15 -> 0.37966138 | I15: 탄현청소년문화의집 | J15: =B14+B32+B48+B57+B71 -> 343038000 | K15: =D14+D32+D48+D57+D71 -> 261170000 | O15: =SUM(K11:K22) -> 5825281000
A16: 일산서구청소년수련관 | B16: 1200000000 | C16: =+B16/$B$7 -> 0.13764824 | D16: ='예산세입(일산서구)'!Q54 -> 0 | E16: =+D16/$D$7 -> 0 | F16: =+B16-D16 -> 1200000000 | G16: 1 | I16: 주교동청소년카페 | J16: =B15+B33+B72+B49 -> 66689000 | K16: =D15+D33+D72+D49 -> 50660000
A17: 623 시비보조금 | B17: =SUM(B18:B26) -> 1401151000 | C17: =+B17/$B$7 -> 0.16072164 | D17: =SUM(D18:D26) -> 2057875000 | E17: =+D17/$D$7 -> 0.35326622 | F17: =SUM(F18:F26) -> -656724000 | G17: =+F17/D17 -> -0.31912726 | I17: 일산서구청소년수련관 | J17: =B16+B34+B50+B58+B63+B73 -> 1775783000 | K17: =D16+D34+D50+D58+D63+D73 -> 0
A18: 사무국 | B18: 0 | C18: =+B18/$B$7 -> 0 | D18: 853000000 | E18: =+D18/$D$7 -> 0.1464307 | F18: =+B18-D18 -> -853000000 | G18: =+F18/D18 -> -1 | I18: 토당청소년수련관 | J18: =B22+B35+B51+B59+B64+B74+B76 -> 1705842000 | K18: =D22+D35+D51+D59+D64+D74+D76 -> 1271000000
A19: 마두청소년수련관 | B19: 0 | C19: =+B19/$B$7 -> 0 | D19: 0 | E19: =+D19/$D$7 -> 0 | F19: =+B19-D19 -> 0 | G19: 0 | I19: 고양시청소년상담복지센터 | J19: =B23+B36+B52 -> 343577000 | K19: =D23+D36+D52 -> 252040000
A20: 고양시청소년진로센터 | B20: 0 | C20: =+B20/$B$7 -> 0 | D20: 0 | E20: =+D20/$D$7 -> 0 | F20: =+B20-D20 -> 0 | G20: 0 | I20: 화정청소년카페 | J20: =B24+B37+B53+B60+B65+B41 -> 155514000 | K20: =D24+D37+D53+D60+D65+D41 -> 114345000
A21: 성사청소년문화의집 | B21: 0 | C21: =+B21/$B$7 -> 0 | D21: 0 | E21: =+D21/$D$7 -> 0 | F21: =+B21-D21 -> 0 | G21: 0 | I21: 백마역청소년카페 | J21: =B25+B38+B66 -> 85429000 | K21: =D25+D38+D66 -> 73750000
A22: 토당청소년수련관 | B22: ='예산세입(토당)'!O140 -> 822500000 | C22: =+B22/$B$7 -> 0.094346397 | D22: 783300000 | E22: =+D22/$D$7 -> 0.13446562 | F22: =+B22-D22 -> 39200000 | G22: =+F22/D22 -> 0.050044683 | I22: 능곡역청소년카페 | J22: =B26+B39+B67 -> 69776000 | K22: =D26+D39+D67 -> 52500000
A23: 고양시청소년상담복지센터 | B23: ='예산세입(상담)'!O22 -> 323393000 | C23: =+B23/$B$7 -> 0.037095397 | D23: ='예산세입(상담)'!Q20 -> 231000000 | E23: =+D23/$D$7 -> 0.039654739 | F23: =+B23-D23 -> 92393000 | G23: =+F23/D23 -> 0.3999697 | J23: =SUM(J11:J22) -> 8717874000 | K23: =O11+K12+K13+K14+K15+K16+K18+K19+K20+K21+K22 -> 5875285000
A24: 화정청소년카페 | B24: ='예산세입(화정)'!P29 -> 118473000 | C24: =+B24/$B$7 -> 0.013589666 | D24: ='예산세입(화정)'!Q29 -> 80325000 | E24: =+D24/$D$7 -> 0.013789034 | F24: =+B24-D24 -> 38148000 | G24: =+F24/D24 -> 0.47492063
A25: 백마역청소년카페 | B25: ='예산세입(백마)'!P18 -> 69415000 | C25: =+B25/$B$7 -> 0.0079623771 | D25: ='예산세입(백마)'!Q18 -> 57750000 | E25: =+D25/$D$7 -> 0.0099136849 | F25: =+B25-D25 -> 11665000 | G25: =+F25/D25 -> 0.20199134 | I25: 출연금 | J25: =B9+B17 -> 5999764000 | K25: =C9+C17 -> 0.68821412 | L25: =D9+D17 -> 4323453000 | M25: =J25-L25 -> 1676311000
A26: 능곡역청소년카페 | B26: ='예산세입(능곡)'!P18 -> 67370000 | C26: =+B26/$B$7 -> 0.0077278015 | D26: ='예산세입(능곡)'!Q18 -> 52500000 | E26: =+D26/$D$7 -> 0.0090124408 | F26: =+B26-D26 -> 14870000 | G26: =+F26/D26 -> 0.2832381 | I26: 이자 | J26: =B27 -> 2160000 | K26: =C27 -> 0.00024776683 | L26: =D27 -> 5003000 | M26: =J26-L26 -> -2843000
A27: 621 이자수익 | B27: =SUM(B28:B39) -> 2160000 | C27: =+B27/$B$7 -> 0.00024776683 | D27: =SUM(D28:D39) -> 5003000 | E27: =+D27/$D$7 -> 0.00085884269 | F27: =SUM(F28:F39) -> -2843000 | G27: =+F27/D27 -> -0.56825904 | I27: 기부금 | J27: =B40 -> 2408000 | K27: =C40 -> 0.00027621413 | L27: =D40 -> 2100000 | M27: =J27-L27 -> 308000
A28: 사무국 | B28: ='예산세입(사무국)'!M9 -> 720000 | C28: =+B28/$B$7 -> 8.2588943e-05 | D28: =ROUNDUP('예산세입(사무국)'!N9,-3) -> 200000 | E28: =+D28/$D$7 -> 3.4333108e-05 | F28: =+B28-D28 -> 520000 | G28: =+F28/D28 -> 2.6 | I28: 자체사업 | J28: =B45 -> 2002770000 | K28: =C45 -> 0.22973147 | L28: =D45 -> 1078032000 | M28: =J28-L28 -> 924738000
A29: 마두청소년수련관 | B29: ='예산세입(마두)'!P78 -> 200000 | C29: =+B29/$B$7 -> 2.2941373e-05 | D29: ='예산세입(마두)'!Q78 -> 200000 | E29: =+D29/$D$7 -> 3.4333108e-05 | F29: =+B29-D29 -> 0 | G29: =+F29/D29 -> 0 | I29: 기타영업 | J29: =B54 -> 33760000 | K29: =C54 -> 0.0038725038 | L29: =D54 -> 33960000 | M29: =J29-L29 -> -200000
A30: 고양시청소년진로센터 | B30: ='예산세입(진로)'!P9 -> 240000 | C30: =+B30/$B$7 -> 2.7529648e-05 | D30: ='예산세입(진로)'!Q9 -> 0 | E30: =+D30/$D$7 -> 0 | F30: =+B30-D30 -> 240000 | G30: 1 | I30: 판매수익 | J30: =B61 -> 220002000 | K30: =C61 -> 0.02523574 | L30: =D61 -> 143787000 | M30: =J30-L30 -> 76215000
A31: 성사청소년문화의집 | B31: ='예산세입(성사)'!P18 -> 100000 | C31: =+B31/$B$7 -> 1.1470687e-05 | D31: ='예산세입(성사)'!Q18 -> 100000 | E31: =+D31/$D$7 -> 1.7166554e-05 | F31: =+B31-D31 -> 0 | G31: =+F31/D31 -> 0 | I31: 이월금 | J31: =B42+B68 -> 407010000 | K31: =C42+C68 -> 0.046686841 | L31: =D42+D68 -> 188946000 | M31: =J31-L31 -> 218064000
A32: 탄현청소년문화의집 | B32: ='예산세입(탄현)'!P29 -> 100000 | C32: =+B32/$B$7 -> 1.1470687e-05 | D32: ='예산세입(탄현)'!Q29 -> 100000 | E32: =+D32/$D$7 -> 1.7166554e-05 | F32: =+B32-D32 -> 0 | G32: =+F32/D32 -> 0 | I32: 전입금 | J32: =B75 -> 50000000 | K32: =C75 -> 0.0057353433 | L32: =D75 -> 50000000 | M32: =J32-L32 -> 0
A33: 주교동청소년카페 | B33: ='예산세입(주교)'!P13 -> 10000 | C33: =+B33/$B$7 -> 1.1470687e-06 | D33: ='예산세입(주교)'!Q13 -> 10000 | E33: =+D33/$D$7 -> 1.7166554e-06 | F33: =+B33-D33 -> 0 | G33: =+F33/D33 -> 0
A34: 일산서구청소년수련관 | B34: ='예산세입(일산서구)'!P42 -> 233000 | C34: =+B34/$B$7 -> 2.67267e-05 | D34: ='예산세입(일산서구)'!Q42 -> 0 | E34: =+D34/$D$7 -> 0 | F34: =+B34-D34 -> 233000 | G34: 1
A35: 토당청소년수련관 | B35: ='예산세입(토당)'!P134 -> 500000 | C35: =+B35/$B$7 -> 5.7353433e-05 | D35: ='예산세입(토당)'!Q134 -> 4393000 | E35: =+D35/$D$7 -> 0.00075412671 | F35: =+B35-D35 -> -3893000 | G35: =+F35/D35 -> -0.88618256
A36: 고양시청소년상담복지센터 | B36: ='예산세입(상담)'!P16 -> 24000 | C36: =+B36/$B$7 -> 2.7529648e-06 | D36: ='예산세입(상담)'!Q16 -> 0 | E36: =+D36/$D$7 -> 0 | F36: =+B36-D36 -> 24000 | G36: 1
A37: 화정청소년카페 | B37: ='예산세입(화정)'!P25 -> 13000 | C37: =+B37/$B$7 -> 1.4911893e-06 | D37: ='예산세입(화정)'!Q25 -> 0 | E37: =+D37/$D$7 -> 0 | F37: =+B37-D37 -> 13000 | G37: 1
A38: 백마역청소년카페 | B38: ='예산세입(백마)'!P14 -> 14000 | C38: =+B38/$B$7 -> 1.6058961e-06 | D38: ='예산세입(백마)'!Q14 -> 0 | E38: =+D38/$D$7 -> 0 | F38: =+B38-D38 -> 14000 | G38: 1
A39: 능곡역청소년카페 | B39: ='예산세입(능곡)'!P14 -> 6000 | C39: =+B39/$B$7 -> 6.8824119e-07 | D39: ='예산세입(능곡)'!Q14 -> 0 | E39: =+D39/$D$7 -> 0 | F39: =+B39-D39 -> 6000 | G39: 1
A40: 624 기부금수익 | B40: =SUM(B41) -> 2408000 | C40: =+B40/$B$7 -> 0.00027621413 | D40: =SUM(D41) -> 2100000 | E40: =+D40/$D$7 -> 0.00036049763 | F40: =SUM(F41) -> 308000 | G40: =+F40/D40 -> 0.14666667
A41: 화정청소년카페 | B41: ='예산세입(화정)'!P33 -> 2408000 | C41: =+B41/$B$7 -> 0.00027621413 | D41: ='예산세입(화정)'!Q33 -> 2100000 | E41: =+D41/$B$7 -> 0.00024088442 | F41: =+B41-D41 -> 308000 | G41: =+F41/D41 -> 0.14666667
A42: 172 이월금 및 출자출연금 | B42: =SUM(B43:B43) -> 300000000 | C42: =+B42/$B$7 -> 0.03441206 | D42: =SUM(D43:D43) -> 81325000 | E42: =+D42/$D$7 -> 0.0139607 | F42: =SUM(F43:F43) -> 218675000 | G42: =+F42/D42 -> 2.6889026
A43: 사무국(이월금) | B43: ='예산세입(사무국)'!M26 -> 300000000 | C43: =+B43/$B$7 -> 0.03441206 | D43: =ROUNDUP('예산세입(사무국)'!N26,-3) -> 81325000 | E43: =+D43/$D$7 -> 0.0139607 | F43: =+B43-D43 -> 218675000 | G43: =+F43/D43 -> 2.6889026
A44: 610 영업수익 | B44: =SUM(B45,B54,B61,B68,B75) -> 2413542000 | C44: =+B44/$B$7 -> 0.27684984 | D44: =SUM(D45,D54,D61,D68,D75) -> 1413400000 | E44: =+D44/$D$7 -> 0.24263207 | F44: =B44-D44 -> 1000142000 | G44: =+F44/D44 -> 0.70761426
A45: 625-2 자체사업수익 | B45: =SUM(B46:B53) -> 2002770000 | C45: =+B45/$B$7 -> 0.22973147 | D45: =SUM(D46:D53) -> 1078032000 | E45: =+D45/$D$7 -> 0.18506094 | F45: =SUM(F46:F53) -> 924738000 | G45: =+F45/D45 -> 0.85780199
A46: 마두청소년수련관 | B46: ='예산세입(마두)'!P8 -> 597440000 | C46: =+B46/$B$7 -> 0.06853047 | D46: ='예산세입(마두)'!Q8 -> 597192000 | E46: =+D46/$D$7 -> 0.10251729 | F46: =+B46-D46 -> 248000 | G46: =+F46/D46 -> 0.00041527683
A47: 성사청소년문화의집 | B47: ='예산세입(성사)'!P8 -> 8690000 | C47: =+B47/$B$7 -> 0.00099680266 | D47: ='예산세입(성사)'!Q9 -> 10000000 | E47: =+D47/$D$7 -> 0.0017166554 | F47: =+B47-D47 -> -1310000 | G47: =+F47/D47 -> -0.131
A48: 탄현청소년문화의집 | B48: ='예산세입(탄현)'!P8 -> 107650000 | C48: =+B48/$B$7 -> 0.012348194 | D48: ='예산세입(탄현)'!Q8 -> 90220000 | E48: =+D48/$D$7 -> 0.015487665 | F48: =+B48-D48 -> 17430000 | G48: =+F48/D48 -> 0.19319441
A49: 주교동청소년카페 | B49: ='예산세입(주교)'!P8 -> 1480000 | C49: =+B49/$B$7 -> 0.00016976616 | D49: ='예산세입(주교)'!Q9 -> 2000000 | E49: =+D49/$D$7 -> 0.00034333108 | F49: =+B49-D49 -> -520000 | G49: =+F49/D49 -> -0.26
A50: 일산서구청소년수련관 | B50: ='예산세입(일산서구)'!P8 -> 529550000 | C50: =+B50/$B$7 -> 0.060743021 | D50: ='예산세입(일산서구)'!Q8 -> 0 | E50: =+D50/$D$7 -> 0 | F50: =+B50-D50 -> 529550000 | G50: 1
A51: 토당청소년수련관 | B51: ='예산세입(토당)'!P8 -> 736180000 | C51: =+B51/$B$7 -> 0.0844449 | D51: ='예산세입(토당)'!Q8 -> 356020000 | E51: =+D51/$D$7 -> 0.061116365 | F51: =+B51-D51 -> 380160000 | G51: =+F51/D51 -> 1.0678052
A52: 고양시청소년상담복지센터 | B52: ='예산세입(상담)'!P8 -> 20160000 | C52: =+B52/$B$7 -> 0.0023124904 | D52: ='예산세입(상담)'!Q9 -> 21040000 | E52: =+D52/$D$7 -> 0.0036118429 | F52: =+B52-D52 -> -880000 | G52: =+F52/D52 -> -0.041825095
A53: 화정청소년카페 | B53: ='예산세입(화정)'!P8 -> 1620000 | C53: =+B53/$B$7 -> 0.00018582512 | D53: ='예산세입(화정)'!Q8 -> 1560000 | E53: =+D53/$D$7 -> 0.00026779824 | F53: =+B53-D53 -> 60000 | G53: =+F53/D53 -> 0.038461538
A54: 617 기타영업수익 | B54: =SUM(B55:B60) -> 33760000 | C54: =+B54/$B$7 -> 0.0038725038 | D54: =SUM(D55:D60) -> 33960000 | E54: =+D54/$D$7 -> 0.0058297617 | F54: =SUM(F55:F60) -> -200000 | G54: =+F54/D54 -> -0.0058892815
A55: 마두청소년수련관 | B55: ='예산세입(마두)'!P63 -> 3500000 | C55: =+B55/$B$7 -> 0.00040147403 | D55: ='예산세입(마두)'!Q63 -> 3500000 | E55: =+D55/$D$7 -> 0.00060082938 | F55: =+B55-D55 -> 0 | G55: =+F55/D55 -> 0
A56: 성사청소년문화의집 | B56: ='예산세입(성사)'!P12 -> 4000000 | C56: =+B56/$B$7 -> 0.00045882746 | D56: ='예산세입(성사)'!Q12 -> 2000000 | E56: =+D56/$D$7 -> 0.00034333108 | F56: =+B56-D56 -> 2000000 | G56: =+F56/D56 -> 1
A57: 탄현청소년문화의집 | B57: ='예산세입(탄현)'!P21 -> 1200000 | C57: =+B57/$B$7 -> 0.00013764824 | D57: ='예산세입(탄현)'!Q21 -> 3600000 | E57: =+D57/$D$7 -> 0.00061799594 | F57: =+B57-D57 -> -2400000 | G57: =+F57/D57 -> -0.66666667
A58: 일산서구청소년수련관 | B58: ='예산세입(일산서구)'!P27 -> 3500000 | C58: =+B58/$B$7 -> 0.00040147403 | D58: ='예산세입(일산서구)'!Q27 -> 0 | E58: =+D58/$D$7 -> 0 | F58: =+B58-D58 -> 3500000 | G58: 1
A59: 토당청소년수련관 | B59: ='예산세입(토당)'!P117 -> 21200000 | C59: =+B59/$B$7 -> 0.0024317855 | D59: ='예산세입(토당)'!Q117 -> 24500000 | E59: =+D59/$D$7 -> 0.0042058057 | F59: =+B59-D59 -> -3300000 | G59: =+F59/D59 -> -0.13469388
A60: 화정청소년카페 | B60: ='예산세입(화정)'!P15 -> 360000 | C60: =+B60/$B$7 -> 4.1294472e-05 | D60: ='예산세입(화정)'!Q15 -> 360000 | E60: =+D60/$D$7 -> 6.1799594e-05 | F60: =+B60-D60 -> 0 | G60: =+F60/D60 -> 0
A61: 618 판매수익 | B61: =SUM(B62:B67) -> 220002000 | C61: =+B61/$B$7 -> 0.02523574 | D61: =SUM(D62:D67) -> 143787000 | E61: =+D61/$D$7 -> 0.024683273 | F61: =SUM(F62:F67) -> 76215000 | G61: =+F61/D61 -> 0.53005487
A62: 마두청소년수련관 | B62: ='예산세입(마두)'!P72 -> 51000000 | C62: =+B62/$B$7 -> 0.0058500501 | D62: ='예산세입(마두)'!Q72 -> 45000000 | E62: =+D62/$D$7 -> 0.0077249492 | F62: =+B62-D62 -> 6000000 | G62: =+F62/D62 -> 0.13333333
A63: 일산서구청소년수련관 | B63: ='예산세입(일산서구)'!P36 -> 42500000 | C63: =+B63/$B$7 -> 0.0048750418 | D63: ='예산세입(일산서구)'!Q36 -> 0 | E63: =+D63/$B$7 -> 0 | F63: =+B63-D63 -> 42500000 | G63: 1
A64: 토당청소년수련관 | B64: ='예산세입(토당)'!P124 -> 75462000 | C64: =+B64/$B$7 -> 0.0086560095 | D64: ='예산세입(토당)'!Q124 -> 52787000 | E64: =+D64/$D$7 -> 0.0090617088 | F64: =+B64-D64 -> 22675000 | G64: =+F64/D64 -> 0.42955652
A65: 화정청소년카페 | B65: ='예산세입(화정)'!P19 -> 32640000 | C65: =+B65/$B$7 -> 0.0037440321 | D65: ='예산세입(화정)'!Q19 -> 30000000 | E65: =+D65/$D$7 -> 0.0051499662 | F65: =+B65-D65 -> 2640000 | G65: =+F65/D65 -> 0.088
A66: 백마역청소년카페 | B66: ='예산세입(백마)'!P9 -> 16000000 | C66: =+B66/$B$7 -> 0.0018353098 | D66: ='예산세입(백마)'!Q9 -> 16000000 | E66: =+D66/$D$7 -> 0.0027466486 | F66: =+B66-D66 -> 0 | G66: =+F66/D66 -> 0
A67: 능곡역청소년카페 | B67: ='예산세입(능곡)'!P9 -> 2400000 | C67: =+B67/$B$7 -> 0.00027529648 | D67: ='예산세입(능곡)'!Q9 -> 0 | E67: =+D67/$D$7 -> 0 | F67: =+B67-D67 -> 2400000 | G67: 1
A68: 621 이월금 | B68: =SUM(B69:B74) -> 107010000 | C68: =+B68/$B$7 -> 0.012274782 | D68: =SUM(D69:D74) -> 107621000 | E68: =+D68/$D$7 -> 0.018474817 | F68: =SUM(F69:F74) -> -611000 | G68: =+F68/D68 -> -0.0056773306
A69: 마두청소년수련관 | B69: ='예산세입(마두)'!P96 -> 75000000 | C69: =+B69/$B$7 -> 0.0086030149 | D69: ='예산세입(마두)'!Q96 -> 79500000 | E69: =+D69/$D$7 -> 0.01364741 | F69: =+B69-D69 -> -4500000 | G69: =+F69/D69 -> -0.056603774
A70: 성사청소년문화의집 | B70: ='예산세입(성사)'!P31 -> 14000000 | C70: =+B70/$B$7 -> 0.0016058961 | D70: =ROUNDDOWN('예산세입(성사)'!Q31,-3) -> 11721000 | E70: =+D70/$D$7 -> 0.0020120918 | F70: =+B70-D70 -> 2279000 | G70: =+F70/D70 -> 0.19443733
A71: 탄현청소년문화의집 | B71: ='예산세입(탄현)'!P43 -> 18000000 | C71: =+B71/$B$7 -> 0.0020647236 | D71: ='예산세입(탄현)'!Q43 -> 15000000 | E71: =+D71/$D$7 -> 0.0025749831 | F71: =+B71-D71 -> 3000000 | G71: =+F71/D71 -> 0.2
A72: 주교동청소년카페 | B72: ='예산세입(주교)'!P27 -> 10000 | C72: =+B72/$B$7 -> 1.1470687e-06 | D72: ='예산세입(주교)'!Q27 -> 1400000 | E72: =+D72/$D$7 -> 0.00024033175 | F72: =+B72-D72 -> -1390000 | G72: =+F72/D72 -> -0.99285714
A73: 일산서구청소년수련관 | B73: 0 | C73: =+B73/$B$7 -> 0 | D73: 0 | E73: =+D73/$D$7 -> 0 | F73: =+B73-D73 -> 0 | G73: 0
A74: 토당청소년수련관 | B74: 0 | C74: =+B74/$B$7 -> 0 | D74: 0 | E74: =+D74/$D$7 -> 0 | F74: =+B74-D74 -> 0 | G74: 0
A75: 625-3 기타출자출연금 | B75: =SUM(B76) -> 50000000 | C75: =+B75/$B$7 -> 0.0057353433 | D75: =SUM(D76) -> 50000000 | E75: =+D75/$D$7 -> 0.0085832769 | F75: =SUM(F76) -> 0 | G75: =+F75/D75 -> 0
A76: 토당청소년수련관 | B76: ='예산세입(토당)'!P145 -> 50000000 | C76: =+B76/$B$7 -> 0.0057353433 | D76: ='예산세입(토당)'!Q145 -> 50000000 | E76: =+D76/$D$7 -> 0.0085832769 | F76: =+B76-D76 -> 0 | G76: =+F76/D76 -> 0

Sheet 세출예산총괄표3
A1: 2018년 세출예산(안) 총괄표
F3: [단위:천원]
A4: 세 출
A5: 구 분 | B5: 2018년예산액(A) | D5: 2017년예산액(B) | F5: 증 감(A-B)
B6: 금액 | C6: 구성비 | D6: 금액 | E6: 구성비 | F6: 금 액 | G6: 증감률
A7: 총 계 | B7: =SUM(B8:B19) -> 8717874000 | C7: =+B7/$B$7 -> 1 | D7: =SUM(D8:D19) -> 5825281000 | E7: =+D7/$D$7 -> 1 | F7: =+B7-D7 -> 2892593000 | G7: =+F7/D7 -> 0.49655854
A8: 사무국 | B8: 1900720000 | C8: =+B8/$B$7 -> 0.21802563 | D8: 1687053000 | E8: =+D8/$D$7 -> 0.28960886 | F8: =+B8-D8 -> 213667000 | G8: =+F8/D8 -> 0.12665103
A9: 마두청소년수련관 | B9: 1588140000 | C9: =+B9/$B$7 -> 0.18217056 | D9: 1586392000 | E9: =+D9/$D$7 -> 0.27232884 | F9: =+B9-D9 -> 1748000 | G9: =+F9/D9 -> 0.0011018714
A10: 고양시청소년진로센터 | B10: 325228000 | C10: =+B10/$B$7 -> 0.037305884 | D10: 231000000 | E10: =+D10/$D$7 -> 0.039654739 | F10: =+B10-D10 -> 94228000 | G10: =+F10/D10 -> 0.40791342
A11: 성사청소년문화의집 | B11: 358138000 | C11: =+B11/$B$7 -> 0.041080887 | D11: 245371000 | E11: =+D11/$D$7 -> 0.042121745 | F11: =+B11-D11 -> 112767000 | G11: =+F11/D11 -> 0.45957754
A12: 탄현청소년문화의집 | B12: 343038000 | C12: =+B12/$B$7 -> 0.039348814 | D12: 261170000 | E12: =+D12/$D$7 -> 0.044833889 | F12: =+B12-D12 -> 81868000 | G12: =+F12/D12 -> 0.31346632
A13: 주교동청소년카페 | B13: 66689000 | C13: =+B13/$B$7 -> 0.0076496862 | D13: 50660000 | E13: =+D13/$D$7 -> 0.0086965762 | F13: =+B13-D13 -> 16029000 | G13: =+F13/D13 -> 0.31640347
A14: 일산서구청소년수련관 | B14: 1775783000 | C14: =+B14/$B$7 -> 0.2036945 | D14: 0 | E14: =+D14/$D$7 -> 0 | F14: =+B14-D14 -> 1775783000 | G14: 1
A15: 토당청소년수련관 | B15: 1705842000 | C15: =+B15/$B$7 -> 0.19567179 | D15: 1271000000 | E15: =+D15/$D$7 -> 0.2181869 | F15: =+B15-D15 -> 434842000 | G15: =+F15/D15 -> 0.34212589
A16: 고양시청소년상담복지센터 | B16: 343577000 | C16: =+B16/$B$7 -> 0.039410641 | D16: 252040000 | E16: =+D16/$D$7 -> 0.043266582 | F16: =+B16-D16 -> 91537000 | G16: =+F16/D16 -> 0.36318442
A17: 화정청소년카페 | B17: 155514000 | C17: =+B17/$B$7 -> 0.017838523 | D17: 114345000 | E17: =+D17/$D$7 -> 0.019629096 | F17: =+B17-D17 -> 41169000 | G17: =+F17/D17 -> 0.36004198
A18: 백마역청소년카페 | B18: 85429000 | C18: =+B18/$B$7 -> 0.0097992928 | D18: 73750000 | E18: =+D18/$D$7 -> 0.012660333 | F18: =+B18-D18 -> 11679000 | G18: =+F18/D18 -> 0.15835932
A19: 능곡역청소년카페 | B19: 69776000 | C19: =+B19/$B$7 -> 0.0080037862 | D19: 52500000 | E19: =+D19/$D$7 -> 0.0090124408 | F19: =+B19-D19 -> 17276000 | G19: =+F19/D19 -> 0.32906667

Sheet 세출총괄표4
A1: 2018년 세출예산(안) 총괄표
F3: [단위:천원] | M3: 6299764000
A4: 세 출
A5: 예산과목 | B5: 2018년예산액(A) | D5: 2017년예산액(B) | F5: 증 감(A-B)
B6: 금액 | C6: 구성비 | D6: 금액 | E6: 구성비 | F6: 금 액 | G6: 증감률
A7: 총 계 | B7: =SUM(B8,B58) -> 8717874000 | C7: =+C8+C58 -> 1 | D7: =SUM(D8,D58) -> 5825281000 | E7: =+E8+E58 -> 1 | F7: =SUM(F8,F58) -> 2892593000 | G7: =+F7/D7 -> 0.49655854
A8: 700 사업비용 | B8: =SUM(B9,B22,B35,B55,B47,B53) -> 6299764000 | C8: =+B8/B7 -> 0.72262618 | D8: =SUM(D9,D22,D35,D55,D47,D53) -> 4404978000 | E8: =+D8/D7 -> 0.75618292 | F8: =SUM(F9,F22,F35,F55,F47,F53) -> 1894786000 | G8: =+F8/D8 -> 0.43014653
A9: 100 인건비 | B9: =SUM(B10:B21) -> 3051022000 | C9: =+B9/$B$7 -> 0.34997317 | D9: =SUM(D10:D21) -> 2297396000 | E9: =+D9/$D$7 -> 0.39438372 | F9: =SUM(F10:F21) -> 753626000 | G9: =+F9/D9 -> 0.32803487 | M9: 2018 | N9: 2017 | P9: 사무국 자본금 | R9: (사무국자본금 포함) | U9: 2018 | V9: 2017
A10: 사무국 | B10: ='예산세출(사무국)'!Q8 -> 545114000 | C10: =+B10/$B$7 -> 0.062528318 | D10: ='예산세출(사무국)'!R8 -> 456347000 | E10: =+D10/$D$7 -> 0.078339054 | F10: =+B10-D10 -> 88767000 | G10: =+F10/D10 -> 0.19451645 | L10: 사무국 | M10: =SUMIFS($B$10:$B$100,$A$10:$A$100,"사무국") -> 1900720000 | N10: =SUMIF($A$10:$A$100,"사무국",$D$10:$D$100) -> 1687053000 | O10: + | P10: 50004000 | Q10: = | R10: =N10+P10 -> 1737057000 | T10: 사무국 | U10: 1900720000 | V10: 1687053000
A11: 마두청소년수련관 | B11: ='예산세출(마두)'!Q8 -> 518616000 | C11: =+B11/$B$7 -> 0.059488816 | D11: ='예산세출(마두)'!R8 -> 501971000 | E11: =+D11/$D$7 -> 0.086171122 | F11: =+B11-D11 -> 16645000 | G11: =+F11/D11 -> 0.033159286 | L11: 마두청소년수련관 | M11: =SUMIFS($B$10:$B$100,$A$10:$A$100,"마두청소년수련관") -> 1588140000 | N11: =SUMIF($A$10:$A$100,"마두청소년수련관",$D$10:$D$100) -> 1586392000 | T11: 마두청소년수련관 | U11: 1588140000 | V11: 1586392000
A12: 고양시청소년진로센터 | B12: ='예산세출(진로)'!Q8 -> 176359000 | C12: =+B12/$B$7 -> 0.020229588 | D12: =ROUNDUP('예산세출(진로)'!R8,-3) -> 170770000 | E12: =+D12/$D$7 -> 0.029315324 | F12: =+B12-D12 -> 5589000 | G12: =+F12/D12 -> 0.032728231 | L12: 고양시청소년진로센터 | M12: =SUMIFS($B$10:$B$100,$A$10:$A$100,"고양시청소년진로센터") -> 325228000 | N12: =SUMIF($A$10:$A$100,"고양시청소년진로센터",$D$10:$D$100) -> 231000000 | T12: 고양시청소년진로센터 | U12: 325228000 | V12: 231000000
A13: 성사청소년문화의집 | B13: ='예산세출(성사)'!R8 -> 185845000 | C13: =+B13/$B$7 -> 0.021317697 | D13: ='예산세출(성사)'!S8 -> 132723000 | E13: =+D13/$D$7 -> 0.022783965 | F13: =+B13-D13 -> 53122000 | G13: =+F13/D13 -> 0.40024713 | L13: 성사청소년문화의집 | M13: =SUMIFS($B$10:$B$100,$A$10:$A$100,"성사청소년문화의집") -> 358138000 | N13: =SUMIF($A$10:$A$100,"성사청소년문화의집",$D$10:$D$100) -> 245371000 | T13: 성사청소년문화의집 | U13: 358138000 | V13: 245371000
A14: 탄현청소년문화의집 | B14: ='예산세출(탄현)'!Q8 -> 133061000 | C14: =+B14/$B$7 -> 0.01526301 | D14: ='예산세출(탄현)'!R8 -> 115502000 | E14: =+D14/$D$7 -> 0.019827713 | F14: =+B14-D14 -> 17559000 | G14: =+F14/D14 -> 0.15202334 | L14: 탄현청소년문화의집 | M14: =SUMIFS($B$10:$B$100,$A$10:$A$100,"탄현청소년문화의집") -> 343038000 | N14: =SUMIF($A$10:$A$100,"탄현청소년문화의집",$D$10:$D$100) -> 261170000 | T14: 탄현청소년문화의집 | U14: 343038000 | V14: 261170000
A15: 주교동청소년카페 | B15: ='예산세출(주교)'!Q8 -> 46863000 | C15: =+B15/$B$7 -> 0.0053755078 | D15: ='예산세출(주교)'!R8 -> 32193000 | E15: =+D15/$D$7 -> 0.0055264287 | F15: =+B15-D15 -> 14670000 | G15: =+F15/D15 -> 0.45568912 | L15: 주교동청소년카페 | M15: =SUMIFS($B$10:$B$100,$A$10:$A$100,"주교동청소년카페") -> 66689000 | N15: =SUMIF($A$10:$A$100,"주교동청소년카페",$D$10:$D$100) -> 50660000 | T15: 주교동청소년카페 | U15: 66689000 | V15: 50660000
A16: 일산서구청소년수련관 | B16: ='예산세출(일산서구)'!Q8 -> 500000000 | C16: =+B16/$B$7 -> 0.057353433 | D16: 0 | E16: =+D16/$D$7 -> 0 | F16: =+B16-D16 -> 500000000 | G16: 1 | L16: 일산서구청소년수련관 | M16: =SUMIFS($B$10:$B$100,$A$10:$A$100,"일산서구청소년수련관") -> 1775783000 | N16: =SUMIF($A$10:$A$100,"일산서구청소년수련관",$D$10:$D$100) -> 0 | T16: 일산서구청소년수련관 | U16: 1775783000 | V16: 0
A17: 토당청소년수련관 | B17: ='예산세출(토당)'!O8 -> 574933000 | C17: =+B17/$B$7 -> 0.065948762 | D17: ='예산세출(토당)'!P8 -> 597800000 | E17: =+D17/$D$7 -> 0.10262166 | F17: =+B17-D17 -> -22867000 | G17: =+F17/D17 -> -0.038251924 | L17: 토당청소년수련관 | M17: =SUMIFS($B$10:$B$100,$A$10:$A$100,"토당청소년수련관") -> 1705842000 | N17: =SUMIF($A$10:$A$100,"토당청소년수련관",$D$10:$D$100) -> 1271000000 | T17: 토당청소년수련관 | U17: 1705842000 | V17: 1271000000
A18: 고양시청소년상담복지센터 | B18: ='예산세출(상담)'!Q8 -> 224951000 | C18: =+B18/$B$7 -> 0.025803424 | D18: ='예산세출(상담)'!R8 -> 184510000 | E18: =+D18/$D$7 -> 0.031674009 | F18: =+B18-D18 -> 40441000 | G18: =+F18/D18 -> 0.21918053 | L18: 고양시청소년상담복지센터 | M18: =SUMIFS($B$10:$B$100,$A$10:$A$100,"고양시청소년상담복지센터") -> 343577000 | N18: =SUMIF($A$10:$A$100,"고양시청소년상담복지센터",$D$10:$D$100) -> 252040000 | T18: 고양시청소년상담복지센터 | U18: 343577000 | V18: 252040000
A19: 화정청소년카페 | B19: ='예산세출(화정)'!O8 -> 63200000 | C19: =+B19/$B$7 -> 0.0072494739 | D19: ='예산세출(화정)'!P8 -> 42000000 | E19: =+D19/$D$7 -> 0.0072099526 | F19: =+B19-D19 -> 21200000 | G19: =+F19/D19 -> 0.5047619 | L19: 화정청소년카페 | M19: =SUMIFS($B$10:$B$100,$A$10:$A$100,"화정청소년카페") -> 155514000 | N19: =SUMIF($A$10:$A$100,"화정청소년카페",$D$10:$D$100) -> 114345000 | T19: 화정청소년카페 | U19: 155514000 | V19: 114345000
A20: 백마역청소년카페 | B20: ='예산세출(백마)'!Q8 -> 44880000 | C20: =+B20/$B$7 -> 0.0051480441 | D20: ='예산세출(백마)'!R8 -> 38380000 | E20: =+D20/$D$7 -> 0.0065885234 | F20: =+B20-D20 -> 6500000 | G20: =+F20/D20 -> 0.16935904 | L20: 백마역청소년카페 | M20: =SUMIFS($B$10:$B$100,$A$10:$A$100,"백마역청소년카페") -> 85429000 | N20: =SUMIF($A$10:$A$100,"백마역청소년카페",$D$10:$D$100) -> 73750000 | T20: 백마역청소년카페 | U20: 85429000 | V20: 73750000
A21: 능곡역청소년카페 | B21: ='예산세출(능곡)'!Q8 -> 37200000 | C21: =+B21/$B$7 -> 0.0042670954 | D21: ='예산세출(능곡)'!R8 -> 25200000 | E21: =+D21/$D$7 -> 0.0043259716 | F21: =+B21-D21 -> 12000000 | G21: =+F21/D21 -> 0.47619048 | L21: 능곡역청소년카페 | M21: =SUMIFS($B$10:$B$100,$A$10:$A$100,"능곡역청소년카페") -> 69776000 | N21: =SUMIF($A$10:$A$100,"능곡역청소년카페",$D$10:$D$100) -> 52500000 | T21: 능곡역청소년카페 | U21: 69776000 | V21: 52500000
A22: 200 경비 | B22: =SUM(B23:B34) -> 1303908000 | C22: =B22/$B$7 -> 0.1495672 | D22: =SUM(D23:D34) -> 912749000 | E22: =+D22/$D$7 -> 0.15668755 | F22: =SUM(F23:F34) -> 391159000 | G22: =+F22/D22 -> 0.42855046 | M22: =SUM(M10:M21) -> 8717874000 | N22: =SUM(N10:N21) -> 5825281000 | U22: =SUM(U10:U21) -> 8717874000 | V22: =SUM(V10:V21) -> 5825281000
A23: 사무국 | B23: ='예산세출(사무국)'!Q51 -> 247458000 | C23: =+B23/$B$7 -> 0.028385132 | D23: ='예산세출(사무국)'!R51 -> 251533000 | E23: =+D23/$D$7 -> 0.043179548 | F23: =+B23-D23 -> -4075000 | G23: =+F23/D23 -> -0.016200658 | R23: =B22+B47+B53+B55 -> 1793605000
A24: 마두청소년수련관 | B24: ='예산세출(마두)'!W50 -> 274384000 | C24: =+B24/$B$7 -> 0.031473729 | D24: ='예산세출(마두)'!X50 -> 291029000 | E24: =+D24/$D$7 -> 0.04995965 | F24: =+B24-D24 -> -16645000 | G24: =+F24/D24 -> -0.057193613
A25: 고양시청소년진로센터 | B25: ='예산세출(진로)'!W44 -> 45429000 | C25: =+B25/$B$7 -> 0.0052110182 | D25: ='예산세출(진로)'!X44 -> 44074000 | E25: =+D25/$D$7 -> 0.0075659869 | F25: =+B25-D25 -> 1355000 | G25: =+F25/D25 -> 0.030743749 | M25: 인건비 | N25: 인건비 | P25: =B9+B59 -> 3338312000
A26: 성사청소년문화의집 | B26: ='예산세출(성사)'!X49 -> 86703000 | C26: =+B26/$B$7 -> 0.0099454294 | D26: ='예산세출(성사)'!Y49 -> 44427000 | E26: =+D26/$D$7 -> 0.0076265849 | F26: =+B26-D26 -> 42276000 | G26: =+F26/D26 -> 0.9515835 | M26: 경비 | N26: 경비 | P26: =B22+B66+B47+B53 -> 2228997000
A27: 탄현청소년문화의집 | B27: ='예산세출(탄현)'!Q40 -> 34827000 | C27: =+B27/$B$7 -> 0.003994896 | D27: ='예산세출(탄현)'!R40 -> 26203000 | E27: =+D27/$D$7 -> 0.0044981521 | F27: =+B27-D27 -> 8624000 | G27: =+F27/D27 -> 0.32912262 | M27: 경상이전 | N27: 사회보장보험
A28: 주교동청소년카페 | B28: ='예산세출(주교)'!Q36 -> 14296000 | C28: =+B28/$B$7 -> 0.0016398493 | D28: ='예산세출(주교)'!R36 -> 13457000 | E28: =+D28/$D$7 -> 0.0023101032 | F28: =+B28-D28 -> 839000 | G28: =+F28/D28 -> 0.062346734 | M28: 예비비 | P28: =B55+B96 -> 20000000 | X28: =D21+D34+D46 -> 52500000
A29: 일산서구청소년수련관 | B29: ='예산세출(일산서구)'!W55 -> 237151000 | C29: =+B29/$B$7 -> 0.027202848 | D29: 0 | E29: =+D29/$D$7 -> 0 | F29: =+B29-D29 -> 237151000 | G29: 1 | M29: 기타 | N29: 이자반환금 | P29: =B83 -> 85154000
A30: 토당청소년수련관 | B30: ='예산세출(토당)'!O52 -> 247567000 | C30: =+B30/$B$7 -> 0.028397635 | D30: ='예산세출(토당)'!P52 -> 153500000 | E30: =+D30/$D$7 -> 0.02635066 | F30: =+B30-D30 -> 94067000 | G30: =+F30/D30 -> 0.61281433 | M30: 사업비 | P30: =B35+B77 -> 3045411000
A31: 고양시청소년상담복지센터 | B31: ='예산세출(상담)'!Q83 -> 48841000 | C31: =+B31/$B$7 -> 0.005602398 | D31: =ROUNDUP('예산세출(상담)'!R83,-3) -> 37166000 | E31: =+D31/$D$7 -> 0.0063801214 | F31: =+B31-D31 -> 11675000 | G31: =+F31/D31 -> 0.3141312 | P31: =SUM(P25:P30) -> 8717874000
A32: 화정청소년카페 | B32: ='예산세출(화정)'!O31 -> 23047000 | C32: =+B32/$B$7 -> 0.0026436491 | D32: ='예산세출(화정)'!P31 -> 14840000 | E32: =+D32/$D$7 -> 0.0025475166 | F32: =+B32-D32 -> 8207000 | G32: =+F32/D32 -> 0.55303235 | N32: 사업비 | P32: =B7-P33-P34 -> 8612720000
A33: 백마역청소년카페 | B33: ='예산세출(백마)'!Q22 -> 24535000 | C33: =+B33/$B$7 -> 0.0028143329 | D33: ='예산세출(백마)'!R22 -> 19370000 | E33: =+D33/$D$7 -> 0.0033251615 | F33: =+B33-D33 -> 5165000 | G33: =+F33/D33 -> 0.26664946 | N33: 이자반환 | P33: =B83 -> 85154000
A34: 능곡역청소년카페 | B34: ='예산세출(능곡)'!Q14 -> 19670000 | C34: =+B34/$B$7 -> 0.002256284 | D34: ='예산세출(능곡)'!R14+'예산세출(능곡)'!R73 -> 17150000 | E34: =+D34/$D$7 -> 0.002944064 | F34: =+B34-D34 -> 2520000 | G34: =+F34/D34 -> 0.14693878 | N34: 예비비 | P34: =B55 -> 20000000
A35: 720 목적사업비 | B35: =SUM(B36:B46) -> 1455137000 | C35: =+B35/$B$7 -> 0.1669142 | D35: =SUM(D36:D46) -> 1161504000 | E35: =+D35/$D$7 -> 0.19939021 | F35: =SUM(F36:F46) -> 293633000 | G35: =+F35/D35 -> 0.25280412
A36: 사무국 | B36: ='예산세출(사무국)'!Q188 -> 990980000 | C36: =+B36/$B$7 -> 0.11367221 | D36: ='예산세출(사무국)'!R184 -> 953000000 | E36: =+D36/$D$7 -> 0.16359726 | F36: =+B36-D36 -> 37980000 | G36: =+F36/D36 -> 0.039853095
A37: 마두청소년수련관 | B37: ='예산세출(마두)'!Q133 -> 65000000 | C37: =+B37/$B$7 -> 0.0074559463 | D37: ='예산세출(마두)'!R133 -> 65000000 | E37: =+D37/$D$7 -> 0.01115826 | F37: =+B37-D37 -> 0 | G37: =+F37/D37 -> 0
A38: 고양시청소년진로센터 | B38: ='예산세출(진로)'!Q100 -> 102000000 | C38: =+B38/$B$7 -> 0.0117001 | D38: ='예산세출(진로)'!R100 -> 15000000 | E38: =+D38/$D$7 -> 0.0025749831 | F38: =+B38-D38 -> 87000000 | G38: =+F38/D38 -> 5.8 | L38: 사무국 | M38: =SUMIFS($B$23:$B$57,$A$23:$A$57,"사무국") -> 1354886000 | N38: =SUMIFS($B$36:$B$46,$A$36:$A$46,"사무국") -> 990980000 | P38: =M38-N38 -> 363906000 | S38: =SUMIFS($D$23:$D$57,$A$23:$A$57,"사무국") -> 1230706000 | T38: =SUMIFS($D$36:$D$46,$A$36:$A$46,"사무국") -> 953000000 | V38: =S38-T38 -> 277706000
A39: 성사청소년문화의집 | B39: ='예산세출(성사)'!R121 -> 52600000 | C39: =+B39/$B$7 -> 0.0060335811 | D39: ='예산세출(성사)'!S121 -> 41400000 | E39: =+D39/$D$7 -> 0.0071069533 | F39: =+B39-D39 -> 11200000 | G39: =+F39/D39 -> 0.2705314 | L39: 마두청소년수련관 | M39: =SUMIFS($B$23:$B$57,$A$23:$A$57,"마두청소년수련관") -> 342384000 | N39: =SUMIFS($B$36:$B$46,$A$36:$A$46,"마두청소년수련관") -> 65000000 | P39: =M39-N39 -> 277384000 | S39: =SUMIFS($D$23:$D$57,$A$23:$A$57,"마두청소년수련관") -> 359029000 | T39: =SUMIFS($D$36:$D$46,$A$36:$A$46,"마두청소년수련관") -> 65000000 | V39: =S39-T39 -> 294029000
A40: 탄현청소년문화의집 | B40: ='예산세출(탄현)'!Q80 -> 48200000 | C40: =+B40/$B$7 -> 0.0055288709 | D40: ='예산세출(탄현)'!R80 -> 10545000 | E40: =+D40/$D$7 -> 0.0018102131 | F40: =+B40-D40 -> 37655000 | G40: =+F40/D40 -> 3.5708867 | L40: 고양시청소년진로센터 | M40: =SUMIFS($B$23:$B$57,$A$23:$A$57,"고양시청소년진로센터") -> 148629000 | N40: =SUMIFS($B$36:$B$46,$A$36:$A$46,"고양시청소년진로센터") -> 102000000 | P40: =M40-N40 -> 46629000 | S40: =SUMIFS($D$23:$D$57,$A$23:$A$57,"고양시청소년진로센터") -> 60230000 | T40: =SUMIFS($D$36:$D$46,$A$36:$A$46,"고양시청소년진로센터") -> 15000000 | V40: =S40-T40 -> 45230000
A41: 주교동청소년카페 | B41: ='예산세출(주교)'!Q80 -> 4030000 | C41: =+B41/$B$7 -> 0.00046226867 | D41: ='예산세출(주교)'!R80 -> 1600000 | E41: =+D41/$D$7 -> 0.00027466486 | F41: =+B41-D41 -> 2430000 | G41: =+F41/D41 -> 1.51875 | L41: 성사청소년문화의집 | M41: =SUMIFS($B$23:$B$57,$A$23:$A$57,"성사청소년문화의집") -> 145503000 | N41: =SUMIFS($B$36:$B$46,$A$36:$A$46,"성사청소년문화의집") -> 52600000 | P41: =M41-N41 -> 92903000 | S41: =SUMIFS($D$23:$D$57,$A$23:$A$57,"성사청소년문화의집") -> 88827000 | T41: =SUMIFS($D$36:$D$46,$A$36:$A$46,"성사청소년문화의집") -> 41400000 | V41: =S41-T41 -> 47427000
A42: 일산서구청소년수련관 | B42: ='예산세출(일산서구)'!Q135 -> 100000000 | C42: =+B42/$B$7 -> 0.011470687 | D42: 0 | E42: =+D42/$D$7 -> 0 | F42: =+B42-D42 -> 100000000 | G42: 1 | L42: 탄현청소년문화의집 | M42: =SUMIFS($B$23:$B$57,$A$23:$A$57,"탄현청소년문화의집") -> 83027000 | N42: =SUMIFS($B$36:$B$46,$A$36:$A$46,"탄현청소년문화의집") -> 48200000 | P42: =M42-N42 -> 34827000 | S42: =SUMIFS($D$23:$D$57,$A$23:$A$57,"탄현청소년문화의집") -> 36748000 | T42: =SUMIFS($D$36:$D$46,$A$36:$A$46,"탄현청소년문화의집") -> 10545000 | V42: =S42-T42 -> 26203000
A43: 토당청소년수련관 | B43: ='예산세출(토당)'!O84 -> 0 | C43: =+B43/$B$7 -> 0 | D43: ='예산세출(토당)'!P84 -> 32000000 | E43: =+D43/$D$7 -> 0.0054932972 | F43: =+B43-D43 -> -32000000 | G43: =+F43/D43 -> -1 | L43: 주교동청소년카페 | M43: =SUMIFS($B$23:$B$57,$A$23:$A$57,"주교동청소년카페") -> 18326000 | N43: =SUMIFS($B$36:$B$46,$A$36:$A$46,"주교동청소년카페") -> 4030000 | P43: =M43-N43 -> 14296000 | S43: =SUMIFS($D$23:$D$57,$A$23:$A$57,"주교동청소년카페") -> 15057000 | T43: =SUMIFS($D$36:$D$46,$A$36:$A$46,"주교동청소년카페") -> 1600000 | V43: =S43-T43 -> 13457000
A44: 고양시청소년상담복지센터 | B44: ='예산세출(상담)'!Q137 -> 49601000 | C44: =+B44/$B$7 -> 0.0056895752 | D44: ='예산세출(상담)'!R137 -> 9324000 | E44: =+D44/$D$7 -> 0.0016006095 | F44: =+B44-D44 -> 40277000 | G44: =+F44/D44 -> 4.3197126 | L44: 일산서구청소년수련관 | M44: =SUMIFS($B$23:$B$57,$A$23:$A$57,"일산서구청소년수련관") -> 700000000 | N44: =SUMIFS($B$36:$B$46,$A$36:$A$46,"일산서구청소년수련관") -> 100000000 | P44: =M44-N44 -> 600000000 | S44: =SUMIFS($D$23:$D$57,$A$23:$A$57,"일산서구청소년수련관") -> 0 | T44: =SUMIFS($D$36:$D$46,$A$36:$A$46,"일산서구청소년수련관") -> 0 | V44: =S44-T44 -> 0
A45: 화정청소년카페 | B45: ='예산세출(화정)'!O60 -> 32226000 | C45: =+B45/$B$7 -> 0.0036965434 | D45: ='예산세출(화정)'!P60 -> 23485000 | E45: =+D45/$D$7 -> 0.0040315652 | F45: =+B45-D45 -> 8741000 | G45: =+F45/D45 -> 0.37219502 | L45: 토당청소년수련관 | M45: =SUMIFS($B$23:$B$57,$A$23:$A$57,"토당청소년수련관") -> 247567000 | N45: =SUMIFS($B$36:$B$46,$A$36:$A$46,"토당청소년수련관") -> 0 | P45: =M45-N45 -> 247567000 | S45: =SUMIFS($D$23:$D$57,$A$23:$A$57,"토당청소년수련관") -> 185500000 | T45: =SUMIFS($D$36:$D$46,$A$36:$A$46,"토당청소년수련관") -> 32000000 | V45: =S45-T45 -> 153500000
A46: 능곡역청소년카페 | B46: ='예산세출(능곡)'!Q55 -> 10500000 | C46: =+B46/$B$7 -> 0.0012044221 | D46: ='예산세출(능곡)'!R55 -> 10150000 | E46: =+D46/$D$7 -> 0.0017424052 | F46: =+B46-D46 -> 350000 | G46: =+F46/D46 -> 0.034482759 | L46: 고양시청소년상담복지센터 | M46: =SUMIFS($B$23:$B$57,$A$23:$A$57,"고양시청소년상담복지센터") -> 98442000 | N46: =SUMIFS($B$36:$B$46,$A$36:$A$46,"고양시청소년상담복지센터") -> 49601000 | P46: =M46-N46 -> 48841000 | S46: =SUMIFS($D$23:$D$57,$A$23:$A$57,"고양시청소년상담복지센터") -> 46490000 | T46: =SUMIFS($D$36:$D$46,$A$36:$A$46,"고양시청소년상담복지센터") -> 9324000 | V46: =S46-T46 -> 37166000
A47: 405 자산취득비 | B47: =SUM(B48:B52) -> 378249000 | C47: =+B47/$B$7 -> 0.043387757 | D47: =SUM(D48:D52) -> 12500000 | E47: =+D47/$D$7 -> 0.0021458192 | F47: =SUM(F48:F52) -> 365749000 | G47: =+F47/D47 -> 29.25992 | L47: 화정청소년카페 | M47: =SUMIFS($B$23:$B$57,$A$23:$A$57,"화정청소년카페") -> 55273000 | N47: =SUMIFS($B$36:$B$46,$A$36:$A$46,"화정청소년카페") -> 32226000 | P47: =M47-N47 -> 23047000 | S47: =SUMIFS($D$23:$D$57,$A$23:$A$57,"화정청소년카페") -> 38325000 | T47: =SUMIFS($D$36:$D$46,$A$36:$A$46,"화정청소년카페") -> 23485000 | V47: =S47-T47 -> 14840000
A48: 사무국 | B48: ='예산세출(사무국)'!Q175 -> 5000000 | C48: =+B48/$B$7 -> 0.00057353433 | D48: ='예산세출(사무국)'!R175 -> 5500000 | E48: =+D48/$D$7 -> 0.00094416046 | F48: =+B48-D48 -> -500000 | G48: =+F48/D48 -> -0.090909091 | L48: 백마역청소년카페 | M48: =SUMIFS($B$23:$B$57,$A$23:$A$57,"백마역청소년카페") -> 24535000 | N48: =SUMIFS($B$36:$B$46,$A$36:$A$46,"백마역청소년카페") -> 0 | P48: =M48-N48 -> 24535000 | S48: =SUMIFS($D$23:$D$57,$A$23:$A$57,"백마역청소년카페") -> 19370000 | T48: =SUMIFS($D$36:$D$46,$A$36:$A$46,"백마역청소년카페") -> 0 | V48: =S48-T48 -> 19370000
A49: 마두청소년수련관 | B49: ='예산세출(마두)'!W51 -> 3000000 | C49: =+B49/$B$7 -> 0.0003441206 | D49: ='예산세출(마두)'!X51 -> 3000000 | E49: =+D49/$D$7 -> 0.00051499662 | F49: =+B49-D49 -> 0 | G49: =+F49/D49 -> 0 | L49: 능곡역청소년카페 | M49: =SUMIFS($B$23:$B$57,$A$23:$A$57,"능곡역청소년카페") -> 30170000 | N49: =SUMIFS($B$36:$B$46,$A$36:$A$46,"능곡역청소년카페") -> 10500000 | P49: =M49-N49 -> 19670000 | S49: =SUMIFS($D$23:$D$57,$A$23:$A$57,"능곡역청소년카페") -> 27300000 | T49: =SUMIFS($D$36:$D$46,$A$36:$A$46,"능곡역청소년카페") -> 10150000 | V49: =S49-T49 -> 17150000
A50: 고양시청소년진로센터 | B50: ='예산세출(진로)'!W45 -> 1200000 | C50: =+B50/$B$7 -> 0.00013764824 | D50: ='예산세출(진로)'!X45 -> 1000000 | E50: =+D50/$D$7 -> 0.00017166554 | F50: =+B50-D50 -> 200000 | G50: =+F50/D50 -> 0.2
A51: 성사청소년문화의집 | B51: ='예산세출(성사)'!X50 -> 6200000 | C51: =+B51/$B$7 -> 0.00071118257 | D51: ='예산세출(성사)'!Y50 -> 3000000 | E51: =+D51/$D$7 -> 0.00051499662 | F51: =+B51-D51 -> 3200000 | G51: =+F51/D51 -> 1.0666667
A52: 일산서구청소년수련관 | B52: ='예산세출(일산서구)'!W56 -> 362849000 | C52: =+B52/$B$7 -> 0.041621271 | D52: 0 | E52: =+D52/$D$7 -> 0 | F52: =+B52-D52 -> 362849000 | G52: 1
A53: 713 성과급 | B53: =SUM(B54:B54) -> 91448000 | C53: =+B53/$B$7 -> 0.010489713 | D53: =SUM(D54:D54) -> 17500000 | E53: =+D53/$D$7 -> 0.0030041469 | F53: =B53-D53 -> 73948000 | G53: =+F53/D53 -> 4.2256 | M53: 인건비 | N53: =D9+D59 -> 2517933000
A54: 사무국 | B54: ='예산세출(사무국)'!Q179 -> 91448000 | C54: =+B54/$B$7 -> 0.010489713 | D54: ='예산세출(사무국)'!R179 -> 17500000 | E54: =+D54/$D$7 -> 0.0030041469 | F54: =+B54-D54 -> 73948000 | G54: =+F54/D54 -> 4.2256 | M54: 경비 | N54: =D22+D66 -> 1226955000
A55: 801-1 예비비(차기년도이월금) | B55: =SUM(B56:B57) -> 20000000 | C55: =+B55/$B$7 -> 0.0022941373 | D55: =SUM(D56:D57) -> 3329000 | E55: =+D55/$D$7 -> 0.00057147458 | F55: =B55-D55 -> 16671000 | G55: =+F55/D55 -> 5.0078102 | M55: 사업비 | N55: =D35+D77 -> 1988954000
A56: 사무국 | B56: ='예산세출(사무국)'!Q243 -> 20000000 | C56: =+B56/$B$7 -> 0.0022941373 | D56: ='예산세출(사무국)'!R243 -> 3173000 | E56: =+D56/$D$7 -> 0.00054469475 | F56: =+B56-D56 -> 16827000 | G56: =+F56/D56 -> 5.3031831 | M56: 자산취득비 | N56: =D47 -> 12500000
A57: 고양시청소년진로센터 | B57: ='예산세출(진로)'!Q162 -> 0 | C57: =+B57/$B$7 -> 0 | D57: ='예산세출(진로)'!R162 -> 156000 | E57: =+D57/$D$7 -> 2.6779824e-05 | F57: =+B57-D57 -> -156000 | G57: =+F57/D57 -> -1 | M57: 성과급
A58: 700 사업비용 | B58: =SUM(B59,B66,B77,B83,B96) -> 2418110000 | C58: =+B58/$B$7 -> 0.27737382 | D58: =SUM(D59,D66,D77,D83,D96) -> 1420303000 | E58: =+D58/$D$7 -> 0.24381708 | F58: =SUM(F59,F66,F77,F83,F96) -> 997807000 | G58: =+F58/D58 -> 0.70253108 | M58: 재산적립
A59: 100 인건비 | B59: =SUM(B60:B65) -> 287290000 | C59: =+B59/$B$7 -> 0.032954135 | D59: =SUM(D60:D65) -> 220537000 | E59: =+D59/$D$7 -> 0.037858603 | F59: =SUM(F60:F65) -> 66753000 | G59: =+F59/D59 -> 0.3026839 | M59: 예비비
A60: 마두청소년수련관 | B60: ='예산세출(마두)'!Q175+'예산세출(마두)'!Q178 -> 171310000 | C60: =+B60/$B$7 -> 0.019650433 | D60: ='예산세출(마두)'!R175+'예산세출(마두)'!R178 -> 189437000 | E60: =+D60/$D$7 -> 0.032519805 | F60: =+B60-D60 -> -18127000 | G60: =+F60/D60 -> -0.095688804
A61: 일산서구청소년수련관 | B61: ='예산세출(일산서구)'!Q182+'예산세출(일산서구)'!Q185 -> 67640000 | C61: =+B61/$B$7 -> 0.0077587724 | D61: ='예산세출(일산서구)'!R182+'예산세출(일산서구)'!R185 -> 0 | E61: =+D61/$D$7 -> 0 | F61: =+B61-D61 -> 67640000 | G61: 1
A62: 토당청소년수련관 | B62: ='예산세출(토당)'!O86 -> 25640000 | C62: =+B62/$B$7 -> 0.002941084 | D62: ='예산세출(토당)'!P86 -> 11600000 | E62: =+D62/$D$7 -> 0.0019913202 | F62: =+B62-D62 -> 14040000 | G62: =+F62/D62 -> 1.2103448
A63: 고양시청소년상담복지센터 | B63: ='예산세출(상담)'!Q211 -> 0 | C63: =+B63/$B$7 -> 0 | D63: ='예산세출(상담)'!R211 -> 600000 | E63: =+D63/$D$7 -> 0.00010299932 | F63: =+B63-D63 -> -600000 | G63: =+F63/D63 -> -1
A64: 화정청소년카페 | B64: ='예산세출(화정)'!O119 -> 14700000 | C64: =+B64/$B$7 -> 0.0016861909 | D64: ='예산세출(화정)'!P119 -> 14400000 | E64: =+D64/$D$7 -> 0.0024719838 | F64: =+B64-D64 -> 300000 | G64: =+F64/D64 -> 0.020833333
A65: 백마역청소년카페 | B65: ='예산세출(백마)'!Q75 -> 8000000 | C65: =+B65/$B$7 -> 0.00091765492 | D65: ='예산세출(백마)'!R75 -> 4500000 | E65: =+D65/$D$7 -> 0.00077249492 | F65: =+B65-D65 -> 3500000 | G65: =+F65/D65 -> 0.77777778
A66: 200 경비 | B66: =SUM(B67:B76) -> 455392000 | C66: =+B66/$B$7 -> 0.052236589 | D66: =SUM(D67:D76) -> 314206000 | E66: =+D66/$D$7 -> 0.053938342 | F66: =SUM(F67:F76) -> 141186000 | G66: =+F66/D66 -> 0.44934215
A67: 마두청소년수련관 | B67: ='예산세출(마두)'!W178 -> 82237000 | C67: =+B67/$B$7 -> 0.0094331485 | D67: ='예산세출(마두)'!X178 -> 70995000 | E67: =+D67/$D$7 -> 0.012187395 | F67: =+B67-D67 -> 11242000 | G67: =+F67/D67 -> 0.15834918
A68: 성사청소년문화의집 | B68: ='예산세출(성사)'!X185 -> 16790000 | C68: =+B68/$B$7 -> 0.0019259283 | D68: ='예산세출(성사)'!Y185 -> 11721000 | E68: =+D68/$D$7 -> 0.0020120918 | F68: =+B68-D68 -> 5069000 | G68: =+F68/D68 -> 0.43247163
A69: 탄현청소년문화의집 | B69: ='예산세출(탄현)'!W169 -> 40250000 | C69: =+B69/$B$7 -> 0.0046169513 | D69: ='예산세출(탄현)'!X169 -> 34314000 | E69: =+D69/$D$7 -> 0.0058905313 | F69: =+B69-D69 -> 5936000 | G69: =+F69/D69 -> 0.17299062
A70: 주교동청소년카페 | B70: ='예산세출(주교)'!Q101 -> 1480000 | C70: =+B70/$B$7 -> 0.00016976616 | D70: ='예산세출(주교)'!R101 -> 1400000 | E70: =+D70/$D$7 -> 0.00024033175 | F70: =+B70-D70 -> 80000 | G70: =+F70/D70 -> 0.057142857
A71: 일산서구청소년수련관 | B71: ='예산세출(일산서구)'!W183 -> 94377000 | C71: =+B71/$B$7 -> 0.01082569 | D71: ='예산세출(일산서구)'!X183 -> 0 | E71: =+D71/$D$7 -> 0 | F71: =+B71-D71 -> 94377000 | G71: 1
A72: 토당청소년수련관 | B72: ='예산세출(토당)'!O95 -> 187530000 | C72: =+B72/$B$7 -> 0.021510978 | D72: ='예산세출(토당)'!P95 -> 155256000 | E72: =+D72/$D$7 -> 0.026652105 | F72: =+B72-D72 -> 32274000 | G72: =+F72/D72 -> 0.20787602
A73: 고양시청소년상담복지센터 | B73: ='예산세출(상담)'!W211 -> 0 | C73: =+B73/$B$7 -> 0 | D73: ='예산세출(상담)'!X211 -> 9400000 | E73: =+D73/$D$7 -> 0.0016136561 | F73: =+B73-D73 -> -9400000 | G73: =+F73/D73 -> -1
A74: 화정청소년카페 | B74: ='예산세출(화정)'!T121 -> 22328000 | C74: =+B74/$B$7 -> 0.0025611749 | D74: ='예산세출(화정)'!U121 -> 19620000 | E74: =+D74/$D$7 -> 0.0033680779 | F74: =+B74-D74 -> 2708000 | G74: =+F74/D74 -> 0.13802243
A75: 백마역청소년카페 | B75: ='예산세출(백마)'!W73 -> 8000000 | C75: =+B75/$B$7 -> 0.00091765492 | D75: ='예산세출(백마)'!X73 -> 11500000 | E75: =+D75/$D$7 -> 0.0019741537 | F75: =+B75-D75 -> -3500000 | G75: =+F75/D75 -> -0.30434783
A76: 능곡역청소년카페 | B76: ='예산세출(능곡)'!Q67+'예산세출(능곡)'!Q70 -> 2400000 | C76: =+B76/$B$7 -> 0.00027529648 | D76: ='예산세출(능곡)'!R67+'예산세출(능곡)'!R70 -> 0 | E76: =+D76/$D$7 -> 0 | F76: =+B76-D76 -> 2400000 | G76: 1
A77: 731-1 사업비 | B77: =SUM(B78:B82) -> 1590274000 | C77: =+B77/$B$7 -> 0.18241535 | D77: =SUM(D78:D82) -> 827450000 | E77: =+D77/$D$7 -> 0.14204465 | F77: =SUM(F78:F82) -> 762824000 | G77: =+F77/D77 -> 0.9218974
A78: 마두청소년수련관 | B78: ='예산세출(마두)'!W179 -> 431350000 | C78: =+B78/$B$7 -> 0.049478806 | D78: ='예산세출(마두)'!X179 -> 421960000 | E78: =+D78/$D$7 -> 0.072435991 | F78: =+B78-D78 -> 9390000 | G78: =+F78/D78 -> 0.022253294
A79: 일산서구청소년수련관 | B79: ='예산세출(일산서구)'!W184 -> 413766000 | C79: =+B79/$B$7 -> 0.047461801 | D79: ='예산세출(일산서구)'!X184 -> 0 | E79: =+D79/$D$7 -> 0 | F79: =+B79-D79 -> 413766000 | G79: 1
A80: 탄현청소년문화의집 | B80: ='예산세출(탄현)'!W170 -> 85700000 | C80: =+B80/$B$7 -> 0.0098303784 | D80: ='예산세출(탄현)'!X170 -> 73606000 | E80: =+D80/$D$7 -> 0.012635614 | F80: =+B80-D80 -> 12094000 | G80: =+F80/D80 -> 0.16430726
A81: 토당청소년수련관 | B81: ='예산세출(토당)'!O189 -> 639298000 | C81: =+B81/$B$7 -> 0.07333187 | D81: ='예산세출(토당)'!P189 -> 320844000 | E81: =+D81/$D$7 -> 0.055077858 | F81: =+B81-D81 -> 318454000 | G81: =+F81/D81 -> 0.9925509
A82: 고양시청소년상담복지센터 | B82: ='예산세출(상담)'!Q215 -> 20160000 | C82: =+B82/$B$7 -> 0.0023124904 | D82: ='예산세출(상담)'!R215 -> 11040000 | E82: =+D82/$D$7 -> 0.0018951875 | F82: =+B82-D82 -> 9120000 | G82: =+F82/D82 -> 0.82608696
A83: 775 기타영업외비용 | B83: =SUM(B84:B95) -> 85154000 | C83: =+B83/$B$7 -> 0.0097677484 | D83: =SUM(D84:D95) -> 0 | E83: =+D83/$D$7 -> 0 | F83: =SUM(F84:F95) -> 85154000 | G83: 1
A84: 사무국 | B84: ='예산세출(사무국)'!Q237 -> 720000 | C84: =+B84/$B$7 -> 8.2588943e-05 | D84: ='예산세출(사무국)'!R237 -> 0 | E84: =+D84/$D$7 -> 0 | F84: =+B84-D84 -> 720000 | G84: 1
A85: 마두청소년수련관 | B85: ='예산세출(마두)'!Q271 -> 42243000 | C85: =+B85/$B$7 -> 0.0048455621 | D85: ='예산세출(마두)'!R271 -> 0 | E85: =+D85/$D$7 -> 0 | F85: =+B85-D85 -> 42243000 | G85: 1
A86: 고양시청소년진로센터 | B86: ='예산세출(진로)'!Q156 -> 240000 | C86: =+B86/$B$7 -> 2.7529648e-05 | D86: ='예산세출(진로)'!R156 -> 0 | E86: =+D86/$D$7 -> 0 | F86: =+B86-D86 -> 240000 | G86: 1
A87: 성사청소년문화의집 | B87: ='예산세출(성사)'!R200 -> 10000000 | C87: =+B87/$B$7 -> 0.0011470687 | D87: ='예산세출(성사)'!S200 -> 0 | E87: =+D87/$D$7 -> 0 | F87: =+B87-D87 -> 10000000 | G87: 1
A88: 탄현청소년문화의집 | B88: ='예산세출(탄현)'!Q269 -> 1000000 | C88: =+B88/$B$7 -> 0.00011470687 | D88: ='예산세출(탄현)'!R269 -> 0 | E88: =+D88/$D$7 -> 0 | F88: =+B88-D88 -> 1000000 | G88: 1
A89: 주교동청소년카페 | B89: ='예산세출(주교)'!Q107 -> 20000 | C89: =+B89/$B$7 -> 2.2941373e-06 | D89: ='예산세출(주교)'!R107 -> 0 | E89: =+D89/$D$7 -> 0 | F89: =+B89-D89 -> 20000 | G89: 1
A90: 일산서구청소년수련관 | B90: 0 | C90: =+B90/$B$7 -> 0 | D90: 0 | E90: =+D90/$D$7 -> 0 | F90: =+B90-D90 -> 0 | G90: 1
A91: 토당청소년수련관 | B91: ='예산세출(토당)'!O440 -> 30874000 | C91: =+B91/$B$7 -> 0.0035414598 | D91: ='예산세출(토당)'!P440 -> 0 | E91: =+D91/$D$7 -> 0 | F91: =+B91-D91 -> 30874000 | G91: 1
A92: 고양시청소년상담복지센터 | B92: ='예산세출(상담)'!Q225 -> 24000 | C92: =+B92/$B$7 -> 2.7529648e-06 | D92: ='예산세출(상담)'!R225 -> 0 | E92: =+D92/$D$7 -> 0 | F92: =+B92-D92 -> 24000 | G92: 1
A93: 화정청소년카페 | B93: ='예산세출(화정)'!O138 -> 13000 | C93: =+B93/$B$7 -> 1.4911893e-06 | D93: ='예산세출(화정)'!P138 -> 0 | E93: =+D93/$D$7 -> 0 | F93: =+B93-D93 -> 13000 | G93: 1
A94: 백마역청소년카페 | B94: ='예산세출(백마)'!Q83 -> 14000 | C94: =+B94/$B$7 -> 1.6058961e-06 | D94: ='예산세출(백마)'!R83 -> 0 | E94: =+D94/$D$7 -> 0 | F94: =+B94-D94 -> 14000 | G94: 1
A95: 능곡역청소년카페 | B95: ='예산세출(능곡)'!Q74 -> 6000 | C95: =+B95/$B$7 -> 6.8824119e-07 | D95: ='예산세출(백마)'!R83 -> 0 | E95: =+D95/$D$7 -> 0 | F95: =+B95-D95 -> 6000 | G95: 1
A96: 801-1 예비비(차기년도이월금) | B96: =SUM(B97:B100) -> 0 | C96: =+B96/$B$7 -> 0 | D96: =SUM(D97:D100) -> 58110000 | E96: =+D96/$D$7 -> 0.0099754844 | F96: =SUM(F97:F100) -> -58110000 | G96: =+F96/D96 -> -1
A97: 마두청소년수련관 | B97: ='예산세출(마두)'!Q278 -> 0 | C97: =+B97/$B$7 -> 0 | D97: ='예산세출(마두)'!R278 -> 43000000 | E97: =+D97/$D$7 -> 0.0073816182 | F97: =+B97-D97 -> -43000000 | G97: =+F97/D97 -> -1
A98: 성사청소년문화의집 | B98: ='예산세출(성사)'!R207 -> 0 | C98: =+B98/$B$7 -> 0 | D98: ='예산세출(성사)'!S207 -> 12100000 | E98: =+D98/$D$7 -> 0.002077153 | F98: =+B98-D98 -> -12100000 | G98: =+F98/D98 -> -1
A99: 탄현청소년문화의집 | B99: ='예산세출(탄현)'!Q276 -> 0 | C99: =+B99/$B$7 -> 0 | D99: ='예산세출(탄현)'!R276 -> 1000000 | E99: =+D99/$D$7 -> 0.00017166554 | F99: =+B99-D99 -> -1000000 | G99: =+F99/D99 -> -1
A100: 주교동청소년카페 | B100: ='예산세출(주교)'!Q114 -> 0 | C100: =+B100/$B$7 -> 0 | D100: ='예산세출(주교)'!R114 -> 2010000 | E100: =+D100/$D$7 -> 0.00034504773 | F100: =+B100-D100 -> -2010000 | G100: =+F100/D100 -> -1

Sheet 세입세출요약총괄표5
A1: 2018년 세입·세출예산(안) 요약 총괄표
M3: [단위:천원]
A4: 세 입 | H4: 세 출
A5: 예산과목 | B5: 2018년예산액(A) | D5: 2017년예산액(B) | F5: 증 감(A-B) | H5: =A5 -> 예산과목 | I5: =B5 -> 2018년예산액(A) | K5: =D5 -> 2017년예산액(B) | M5: 증 감(A-B)
B6: 금 액 | C6: 구성비 | D6: 금 액 | E6: 구성비 | F6: 금 액 | G6: 증감률 | I6: 금 액 | J6: 구성비 | K6: 금 액 | L6: 구성비 | M6: 금 액 | N6: 증감률
A7: 총 계 | B7: =SUM(B8,B15) -> 8717874000 | C7: =+C8+C15 -> 1 | D7: =SUM(D8,D15) -> 5825281000 | E7: =+E8+E15 -> 1 | F7: =+B7-D7 -> 2892593000 | G7: =+F7/D7 -> 0.49655854 | H7: =A7 -> 총 계 | I7: =SUM(I8,I15) -> 8717874000 | J7: =+J8+J15 -> 1 | K7: =SUM(K8,K15) -> 5825281000 | L7: =+L8+L15 -> 1 | M7: =+I7-K7 -> 2892593000 | N7: =+M7/K7 -> 0.49655854
A8: 620 영업외수익 | B8: =SUM(B9:B14) -> 6304332000 | C8: =+B8/$B$7 -> 0.72315016 | D8: =SUM(D9:D14) -> 4411881000 | E8: =+D8/$D$7 -> 0.75736793 | F8: =+B8-D8 -> 1892451000 | G8: =+F8/D8 -> 0.42894425 | H8: 700 사업비용 | I8: =SUM(I9:I14) -> 6299764000 | J8: =+I8/I7 -> 0.72262618 | K8: =SUM(K9:K14) -> 4404978000 | L8: =+K8/K7 -> 0.75618292 | M8: =+I8-K8 -> 1894786000 | N8: =+M8/K8 -> 0.43014653
A9: 625-2 지자체출자출연금 | B9: =세입예산총괄표2!B9 -> 4598613000 | C9: =+B9/$B$7 -> 0.52749248 | D9: =세입예산총괄표2!D9 -> 2265578000 | E9: =+D9/$D$7 -> 0.38892167 | F9: =+B9-D9 -> 2333035000 | G9: =+F9/D9 -> 1.0297747 | H9: 100 인건비 | I9: =세출총괄표4!B9 -> 3051022000 | J9: =+I9/$I$7 -> 0.34997317 | K9: =세출총괄표4!D9 -> 2297396000 | L9: =+K9/$K$7 -> 0.39438372 | M9: =+I9-K9 -> 753626000 | N9: =+M9/K9 -> 0.32803487
A10: 623 시비보조금 | B10: =세입예산총괄표2!B17 -> 1401151000 | C10: =+B10/$B$7 -> 0.16072164 | D10: =세입예산총괄표2!D17 -> 2057875000 | E10: =+D10/$D$7 -> 0.35326622 | F10: =+B10-D10 -> -656724000 | G10: =+F10/D10 -> -0.31912726 | H10: 200 경비 | I10: =세출총괄표4!B22 -> 1303908000 | J10: =+I10/$I$7 -> 0.1495672 | K10: =세출총괄표4!D22 -> 912749000 | L10: =+K10/$K$7 -> 0.15668755 | M10: =+I10-K10 -> 391159000 | N10: =+M10/K10 -> 0.42855046
A11: 621 이자수익 | B11: =세입예산총괄표2!B27 -> 2160000 | C11: =+B11/$B$7 -> 0.00024776683 | D11: =세입예산총괄표2!D27 -> 5003000 | E11: =+D11/$D$7 -> 0.00085884269 | F11: =+B11-D11 -> -2843000 | G11: =+F11/D11 -> -0.56825904 | H11: 720 목적사업비 | I11: =세출총괄표4!B35 -> 1455137000 | J11: =+I11/$I$7 -> 0.1669142 | K11: =세출총괄표4!D35 -> 1161504000 | L11: =+K11/$K$7 -> 0.19939021 | M11: =+I11-K11 -> 293633000 | N11: =+M11/K11 -> 0.25280412
A12: 624 기부금수익 | B12: =세입예산총괄표2!B40 -> 2408000 | C12: =+B12/$B$7 -> 0.00027621413 | D12: =세입예산총괄표2!D40 -> 2100000 | E12: =+D12/$D$7 -> 0.00036049763 | F12: =+B12-D12 -> 308000 | G12: =+F12/D12 -> 0.14666667 | H12: 405-1 자산취득비 | I12: =세출총괄표4!B47 -> 378249000 | J12: =+I12/$I$7 -> 0.043387757 | K12: =세출총괄표4!D47 -> 12500000 | L12: =+K12/$K$7 -> 0.0021458192 | M12: =+I12-K12 -> 365749000 | N12: =+M12/K12 -> 29.25992
A13: 172 이월금 및 출자출연금 | B13: =세입예산총괄표2!B42 -> 300000000 | C13: =+B13/$B$7 -> 0.03441206 | D13: =세입예산총괄표2!D42 -> 81325000 | E13: =+D13/$D$7 -> 0.0139607 | F13: =+B13-D13 -> 218675000 | G13: =+F13/D13 -> 2.6889026 | H13: 713 성과급 | I13: =세출총괄표4!B53 -> 91448000 | J13: =+I13/$I$7 -> 0.010489713 | K13: =세출총괄표4!D53 -> 17500000 | L13: =+K13/$K$7 -> 0.0030041469 | M13: =+I13-K13 -> 73948000 | N13: =+M13/K13 -> 4.2256
H14: 801-1 예비비(차기년도이월금) | I14: =세출총괄표4!B55 -> 20000000 | J14: =+I14/$I$7 -> 0.0022941373 | K14: =세출총괄표4!D55 -> 3329000 | L14: =+K14/$K$7 -> 0.00057147458 | M14: =+I14-K14 -> 16671000 | N14: =+M14/K14 -> 5.0078102
A15: 610 영업수익(수익) | B15: =SUM(B16:B20) -> 2413542000 | C15: =+B15/$B$7 -> 0.27684984 | D15: =SUM(D16:D20) -> 1413400000 | E15: =+D15/$D$7 -> 0.24263207 | F15: =+B15-D15 -> 1000142000 | G15: =+F15/D15 -> 0.70761426 | H15: 700 사업비용(수익) | I15: =SUM(I16:I20) -> 2418110000 | J15: =+I15/$I$7 -> 0.27737382 | K15: =SUM(K16:K20) -> 1420303000 | L15: =+K15/$K$7 -> 0.24381708 | M15: =+I15-K15 -> 997807000 | N15: =+M15/K15 -> 0.70253108
A16: 625-2 자체사업수익 | B16: =세입예산총괄표2!B45 -> 2002770000 | C16: =+B16/$B$7 -> 0.22973147 | D16: =세입예산총괄표2!D45 -> 1078032000 | E16: =+D16/$D$7 -> 0.18506094 | F16: =+B16-D16 -> 924738000 | G16: =+F16/D16 -> 0.85780199 | H16: 100 인건비 | I16: =세출총괄표4!B59 -> 287290000 | J16: =+I16/$I$7 -> 0.032954135 | K16: =세출총괄표4!D59 -> 220537000 | L16: =+K16/$K$7 -> 0.037858603 | M16: =+I16-K16 -> 66753000 | N16: =+M16/K16 -> 0.3026839
A17: 617 기타영업수익 | B17: =세입예산총괄표2!B54 -> 33760000 | C17: =+B17/$B$7 -> 0.0038725038 | D17: =세입예산총괄표2!D54 -> 33960000 | E17: =+D17/$D$7 -> 0.0058297617 | F17: =+B17-D17 -> -200000 | G17: =+F17/D17 -> -0.0058892815 | H17: 200 경비 | I17: =세출총괄표4!B66 -> 455392000 | J17: =+I17/$I$7 -> 0.052236589 | K17: =세출총괄표4!D66 -> 314206000 | L17: =+K17/$K$7 -> 0.053938342 | M17: =+I17-K17 -> 141186000 | N17: =+M17/K17 -> 0.44934215
A18: 618 판매수익 | B18: =세입예산총괄표2!B61 -> 220002000 | C18: =+B18/$B$7 -> 0.02523574 | D18: =세입예산총괄표2!D61 -> 143787000 | E18: =+D18/$D$7 -> 0.024683273 | F18: =+B18-D18 -> 76215000 | G18: =+F18/D18 -> 0.53005487 | H18: 731-1 사업비 | I18: =세출총괄표4!B77 -> 1590274000 | J18: =+I18/$I$7 -> 0.18241535 | K18: =세출총괄표4!D77 -> 827450000 | L18: =+K18/$K$7 -> 0.14204465 | M18: =+I18-K18 -> 762824000 | N18: =+M18/K18 -> 0.9218974
A19: 621 이월금 | B19: =세입예산총괄표2!B68 -> 107010000 | C19: =+B19/$B$7 -> 0.012274782 | D19: =세입예산총괄표2!D68 -> 107621000 | E19: =+D19/$D$7 -> 0.018474817 | F19: =+B19-D19 -> -611000 | G19: =+F19/D19 -> -0.0056773306 | H19: 775 기타영업외비용 | I19: =세출총괄표4!B83 -> 85154000 | J19: =+I19/$I$7 -> 0.0097677484 | K19: =세출총괄표4!D83 -> 0 | L19: =+K19/$K$7 -> 0 | M19: =+I19-K19 -> 85154000 | N19: 1
A20: 625-3 기타출자출연금 | B20: =세입예산총괄표2!B75 -> 50000000 | C20: =+B20/$B$7 -> 0.0057353433 | D20: =세입예산총괄표2!D75 -> 50000000 | E20: =+D20/$D$7 -> 0.0085832769 | F20: =+B20-D20 -> 0 | G20: =+F20/D20 -> 0 | H20: 801-1 예비비(차기년도이월금) | I20: =세출총괄표4!B96 -> 0 | J20: =+I20/$I$7 -> 0 | K20: =세출총괄표4!D96 -> 58110000 | L20: =+K20/$K$7 -> 0.0099754844 | M20: =+I20-K20 -> -58110000 | N20: =+M20/K20 -> -1

Sheet 세입세출세부총괄표6
A1: 2018년 세입·세출예산(안) 총괄표
M3: [단위:천원]
A4: 세 입 | H4: 세 출
A5: 예산과목 | B5: 2018년예산액(A) | D5: 2017년예산액(B) | F5: 증 감(A-B) | H5: =A5 -> 예산과목 | I5: =B5 -> 2018년예산액(A) | K5: =D5 -> 2017년예산액(B) | M5: 증 감(A-B)
B6: 금 액 | C6: 구성비 | D6: 금 액 | E6: 구성비 | F6: 금 액 | G6: 증감률 | I6: 금 액 | J6: 구성비 | K6: 금 액 | L6: 구성비 | M6: 금 액 | N6: 증감률 | R6: 2018 | S6: 구성비 | T6: 2017 | U6: 구성비 | V6: 증감
A7: 합 계 | B7: =B8+B58 -> 8717874000 | C7: =C8+C58 -> 1 | D7: =D8+D58 -> 5825281000 | E7: =E8+E58 -> 1 | F7: =B7-D7 -> 2892593000 | G7: =F7/D7 -> 0.49655854 | H7: =A7 -> 합 계 | I7: =I8+I58 -> 8717874000 | J7: =J8+J58 -> 1 | K7: =K8+K58 -> 5825281000 | L7: =L8+L58 -> 1 | M7: =I7-K7 -> 2892593000 | N7: =M7/K7 -> 0.49655854 | Q7: 합계 | R7: =SUM(R8:R13) -> 69776000 | T7: =SUM(T8:T13) -> 52500000 | V7: =R7-T7 -> 17276000 | W7: =V7/T7 -> 0.32906667
A8: 620 영업외수익 | B8: =B9+B17+B27+B40+B42 -> 6304332000 | C8: =B8/$B$7 -> 0.72315016 | D8: =D9+D17+D27+D40+D42 -> 4411881000 | E8: =D8/$D$7 -> 0.75736793 | F8: =B8-D8 -> 1892451000 | G8: =F8/D8 -> 0.42894425 | H8: 700 사업비용 | I8: =I9+I22+I35+I47+I53+I55 -> 6299764000 | J8: =I8/$I$7 -> 0.72262618 | K8: =K9+K22+K35+K47+K53+K55 -> 4404978000 | L8: =K8/$K$7 -> 0.75618292 | M8: =I8-K8 -> 1894786000 | N8: =M8/K8 -> 0.43014653 | P8: 능곡역청소년카페 | Q8: 자체사업수익 | R8: 0 | T8: 0 | V8: =R8-T8 -> 0 | W8: =V8/T8 -> #DIV/0!
A9: 625-2 지자체출자출연금 | B9: =SUM(B10:B16) -> 4598613000 | C9: =B9/$B$7 -> 0.52749248 | D9: =SUM(D10:D16) -> 2265578000 | E9: =D9/$D$7 -> 0.38892167 | F9: =B9-D9 -> 2333035000 | G9: =F9/D9 -> 1.0297747 | H9: 100 인건비 | I9: =SUM(I10:I21) -> 3051022000 | J9: =I9/$I$7 -> 0.34997317 | K9: =SUM(K10:K21) -> 2297396000 | L9: =K9/$K$7 -> 0.39438372 | M9: =I9-K9 -> 753626000 | N9: =M9/K9 -> 0.32803487 | Q9: 기타영업수익 | R9: 0 | T9: 0 | V9: =R9-T9 -> 0 | W9: 0
A10: 사무국 | B10: =세입예산총괄표2!B10 -> 1600000000 | C10: =B10/$B$7 -> 0.18353098 | D10: =세입예산총괄표2!D10 -> 752528000 | E10: =D10/$D$7 -> 0.12918312 | F10: =B10-D10 -> 847472000 | G10: =F10/D10 -> 1.1261667 | H10: 사무국 | I10: =세출총괄표4!B10 -> 545114000 | J10: =I10/$I$7 -> 0.062528318 | K10: =세출총괄표4!D10 -> 456347000 | L10: =K10/$K$7 -> 0.078339054 | M10: =I10-K10 -> 88767000 | N10: =M10/K10 -> 0.19451645 | Q10: 판매수익 | R10: =B81 -> 2400000 | S10: =R10/$R$7 -> 0.034395781 | T10: =D81 -> 0 | V10: =R10-T10 -> 2400000 | W10: 1
A11: 마두청소년수련관 | B11: =세입예산총괄표2!B11 -> 861000000 | C11: =B11/$B$7 -> 0.098762611 | D11: =세입예산총괄표2!D11 -> 861000000 | E11: =D11/$D$7 -> 0.14780403 | F11: =B11-D11 -> 0 | G11: =F11/D11 -> 0 | H11: 마두청소년수련관 | I11: =세출총괄표4!B11 -> 518616000 | J11: =I11/$I$7 -> 0.059488816 | K11: =세출총괄표4!D11 -> 501971000 | L11: =K11/$K$7 -> 0.086171122 | M11: =I11-K11 -> 16645000 | N11: =M11/K11 -> 0.033159286 | Q11: 이자수익 | R11: =B39 -> 6000 | T11: =D39 -> 0 | V11: =R11-T11 -> 6000 | W11: 1
A12: 고양시청소년진로센터 | B12: =세입예산총괄표2!B12 -> 324988000 | C12: =B12/$B$7 -> 0.037278355 | D12: =세입예산총괄표2!D12 -> 231000000 | E12: =D12/$D$7 -> 0.039654739 | F12: =B12-D12 -> 93988000 | G12: =F12/D12 -> 0.40687446 | H12: 고양시청소년진로센터 | I12: =세출총괄표4!B12 -> 176359000 | J12: =I12/$I$7 -> 0.020229588 | K12: =세출총괄표4!D12 -> 170770000 | L12: =K12/$K$7 -> 0.029315324 | M12: =I12-K12 -> 5589000 | N12: =M12/K12 -> 0.032728231 | Q12: 보조금수익 | R12: =B26 -> 67370000 | S12: =R12/$R$7 -> 0.96551823 | T12: =D26 -> 52500000 | V12: =R12-T12 -> 14870000 | W12: =V12/T12 -> 0.2832381
A13: 성사청소년문화의집 | B13: =세입예산총괄표2!B13 -> 331348000 | C13: =B13/$B$7 -> 0.03800789 | D13: =세입예산총괄표2!D13 -> 221550000 | E13: =D13/$D$7 -> 0.0380325 | F13: =B13-D13 -> 109798000 | G13: =F13/D13 -> 0.49559016 | H13: 성사청소년문화의집 | I13: =세출총괄표4!B13 -> 185845000 | J13: =I13/$I$7 -> 0.021317697 | K13: =세출총괄표4!D13 -> 132723000 | L13: =K13/$K$7 -> 0.022783965 | M13: =I13-K13 -> 53122000 | N13: =M13/K13 -> 0.40024713 | Q13: 이월금 | R13: 0 | S13: 0 | T13: 0 | V13: =R13-T13 -> 0 | W13: 0
A14: 탄현청소년문화의집 | B14: =세입예산총괄표2!B14 -> 216088000 | C14: =B14/$B$7 -> 0.024786777 | D14: =세입예산총괄표2!D14 -> 152250000 | E14: =D14/$D$7 -> 0.026136078 | F14: =B14-D14 -> 63838000 | G14: =F14/D14 -> 0.41929721 | H14: 탄현청소년문화의집 | I14: =세출총괄표4!B14 -> 133061000 | J14: =I14/$I$7 -> 0.01526301 | K14: =세출총괄표4!D14 -> 115502000 | L14: =K14/$K$7 -> 0.019827713 | M14: =I14-K14 -> 17559000 | N14: =M14/K14 -> 0.15202334 | Q14: 합계 | R14: =SUM(R15:R19) -> 69776000 | T14: =SUM(T15:T19) -> 52500000 | V14: =R14-T14 -> 17276000 | W14: =V14/T14 -> 0.32906667
A15: 주교동청소년카페 | B15: =세입예산총괄표2!B15 -> 65189000 | C15: =B15/$B$7 -> 0.0074776259 | D15: =세입예산총괄표2!D15 -> 47250000 | E15: =D15/$D$7 -> 0.0081111967 | F15: =B15-D15 -> 17939000 | G15: =F15/D15 -> 0.37966138 | H15: 주교동청소년카페 | I15: =세출총괄표4!B15 -> 46863000 | J15: =I15/$I$7 -> 0.0053755078 | K15: =세출총괄표4!D15 -> 32193000 | L15: =K15/$K$7 -> 0.0055264287 | M15: =I15-K15 -> 14670000 | N15: =M15/K15 -> 0.45568912 | Q15: 인건비 | R15: =I21 -> 37200000 | S15: =R15/$R$14 -> 0.5331346 | T15: =K21 -> 25200000 | U15: =T15/$T$14 -> 0.48 | V15: =R15-T15 -> 12000000 | W15: =V15/T15 -> 0.47619048
A16: 일산서구청소년수련관 | B16: =세입예산총괄표2!B16 -> 1200000000 | C16: =B16/$B$7 -> 0.13764824 | D16: =세입예산총괄표2!D16 -> 0 | E16: =D16/$D$7 -> 0 | F16: =B16-D16 -> 1200000000 | G16: 1 | H16: 일산서구청소년수련관 | I16: =세출총괄표4!B16 -> 500000000 | J16: =I16/$I$7 -> 0.057353433 | K16: =세출총괄표4!D16 -> 0 | L16: =K16/$K$7 -> 0 | M16: =I16-K16 -> 500000000 | N16: 1 | Q16: 경비 | R16: =I34 -> 19670000 | S16: =R16/$R$14 -> 0.28190209 | T16: =K34 -> 17150000 | U16: =T16/$T$14 -> 0.32666667 | V16: =R16-T16 -> 2520000 | W16: =V16/T16 -> 0.14693878
A17: 623 시비보조금 | B17: =SUM(B18:B26) -> 1401151000 | C17: =B17/$B$7 -> 0.16072164 | D17: =SUM(D18:D26) -> 2057875000 | E17: =D17/$D$7 -> 0.35326622 | F17: =B17-D17 -> -656724000 | G17: =F17/D17 -> -0.31912726 | H17: 토당청소년수련관 | I17: =세출총괄표4!B17 -> 574933000 | J17: =I17/$I$7 -> 0.065948762 | K17: =세출총괄표4!D17 -> 597800000 | L17: =K17/$K$7 -> 0.10262166 | M17: =I17-K17 -> -22867000 | N17: =M17/K17 -> -0.038251924 | Q17: 목적사업비 | R17: =I46 -> 10500000 | S17: =R17/$R$14 -> 0.15048154 | T17: =K46 -> 10150000 | U17: =T17/$T$14 -> 0.19333333 | V17: =R17-T17 -> 350000 | W17: =V17/T17 -> 0.034482759
A18: 사무국 | B18: =세입예산총괄표2!B18 -> 0 | C18: =B18/$B$7 -> 0 | D18: =세입예산총괄표2!D18 -> 853000000 | E18: =D18/$D$7 -> 0.1464307 | F18: =B18-D18 -> -853000000 | G18: =F18/D18 -> -1 | H18: 고양시청소년상담복지센터 | I18: =세출총괄표4!B18 -> 224951000 | J18: =I18/$I$7 -> 0.025803424 | K18: =세출총괄표4!D18 -> 184510000 | L18: =K18/$K$7 -> 0.031674009 | M18: =I18-K18 -> 40441000 | N18: =M18/K18 -> 0.21918053 | Q18: 자체사업비 | R18: =I76 -> 2400000 | S18: =R18/$R$14 -> 0.034395781 | T18: =K76 -> 0 | U18: =T18/$T$14 -> 0 | V18: =R18-T18 -> 2400000 | W18: 1
A19: 마두청소년수련관 | B19: =세입예산총괄표2!B19 -> 0 | C19: =B19/$B$7 -> 0 | D19: =세입예산총괄표2!D19 -> 0 | E19: =D19/$D$7 -> 0 | F19: =B19-D19 -> 0 | G19: 0 | H19: 화정청소년카페 | I19: =세출총괄표4!B19 -> 63200000 | J19: =I19/$I$7 -> 0.0072494739 | K19: =세출총괄표4!D19 -> 42000000 | L19: =K19/$K$7 -> 0.0072099526 | M19: =I19-K19 -> 21200000 | N19: =M19/K19 -> 0.5047619 | Q19: 기타영업외비용 | R19: =I95 -> 6000 | S19: =R19/$R$14 -> 8.5989452e-05 | T19: =K95 -> 0 | U19: =T19/$T$14 -> 0 | V19: =R19-T19 -> 6000 | W19: 1
A20: 고양시청소년진로센터 | B20: =세입예산총괄표2!B20 -> 0 | C20: =B20/$B$7 -> 0 | D20: =세입예산총괄표2!D20 -> 0 | E20: =D20/$D$7 -> 0 | F20: =B20-D20 -> 0 | G20: 0 | H20: 백마역청소년카페 | I20: =세출총괄표4!B20 -> 44880000 | J20: =I20/$I$7 -> 0.0051480441 | K20: =세출총괄표4!D20 -> 38380000 | L20: =K20/$K$7 -> 0.0065885234 | M20: =I20-K20 -> 6500000 | N20: =M20/K20 -> 0.16935904
A21: 성사청소년문화의집 | B21: =세입예산총괄표2!B21 -> 0 | C21: =B21/$B$7 -> 0 | D21: =세입예산총괄표2!D21 -> 0 | E21: =D21/$D$7 -> 0 | F21: =B21-D21 -> 0 | G21: 0 | H21: 능곡역청소년카페 | I21: =세출총괄표4!B21 -> 37200000 | J21: =I21/$I$7 -> 0.0042670954 | K21: =세출총괄표4!D21 -> 25200000 | L21: =K21/$K$7 -> 0.0043259716 | M21: =I21-K21 -> 12000000 | N21: =M21/K21 -> 0.47619048 | P21: 백마역청소년카페 | R21: 2018 | S21: 구성비 | T21: 2017 | U21: 구성비 | V21: 증감
A22: 토당청소년수련관 | B22: =세입예산총괄표2!B22 -> 822500000 | C22: =B22/$B$7 -> 0.094346397 | D22: =세입예산총괄표2!D22 -> 783300000 | E22: =D22/$D$7 -> 0.13446562 | F22: =B22-D22 -> 39200000 | G22: =F22/D22 -> 0.050044683 | H22: 200 경비 | I22: =SUM(I23:I34) -> 1303908000 | J22: =I22/$I$7 -> 0.1495672 | K22: =SUM(K23:K34) -> 912749000 | L22: =K22/$K$7 -> 0.15668755 | M22: =I22-K22 -> 391159000 | N22: =M22/K22 -> 0.42855046 | Q22: 합계 | R22: =SUM(R23:R28) -> 85429000 | T22: =SUM(T23:T28) -> 73750000 | V22: =R22-T22 -> 11679000 | W22: =V22/T22 -> 0.15835932
A23: 고양시청소년상담복지센터 | B23: =세입예산총괄표2!B23 -> 323393000 | C23: =B23/$B$7 -> 0.037095397 | D23: =세입예산총괄표2!D23 -> 231000000 | E23: =D23/$D$7 -> 0.039654739 | F23: =B23-D23 -> 92393000 | G23: =F23/D23 -> 0.3999697 | H23: 사무국 | I23: =세출총괄표4!B23 -> 247458000 | J23: =I23/$I$7 -> 0.028385132 | K23: =세출총괄표4!D23 -> 251533000 | L23: =K23/$K$7 -> 0.043179548 | M23: =I23-K23 -> -4075000 | N23: =M23/K23 -> -0.016200658 | Q23: 자체사업수익 | R23: 0 | V23: =R23-T23 -> 0 | W23: 0
A24: 화정청소년카페 | B24: =세입예산총괄표2!B24 -> 118473000 | C24: =B24/$B$7 -> 0.013589666 | D24: =세입예산총괄표2!D24 -> 80325000 | E24: =D24/$D$7 -> 0.013789034 | F24: =B24-D24 -> 38148000 | G24: =F24/D24 -> 0.47492063 | H24: 마두청소년수련관 | I24: =세출총괄표4!B24 -> 274384000 | J24: =I24/$I$7 -> 0.031473729 | K24: =세출총괄표4!D24 -> 291029000 | L24: =K24/$K$7 -> 0.04995965 | M24: =I24-K24 -> -16645000 | N24: =M24/K24 -> -0.057193613 | Q24: 기타영업수익 | R24: 0 | V24: =R24-T24 -> 0 | W24: 0
A25: 백마역청소년카페 | B25: =세입예산총괄표2!B25 -> 69415000 | C25: =B25/$B$7 -> 0.0079623771 | D25: =세입예산총괄표2!D25 -> 57750000 | E25: =D25/$D$7 -> 0.0099136849 | F25: =B25-D25 -> 11665000 | G25: =F25/D25 -> 0.20199134 | H25: 고양시청소년진로센터 | I25: =세출총괄표4!B25 -> 45429000 | J25: =I25/$I$7 -> 0.0052110182 | K25: =세출총괄표4!D25 -> 44074000 | L25: =K25/$K$7 -> 0.0075659869 | M25: =I25-K25 -> 1355000 | N25: =M25/K25 -> 0.030743749 | Q25: 판매수익 | R25: =B80 -> 16000000 | S25: =R25/$R$22 -> 0.18729003 | T25: =D80 -> 16000000 | U25: =T25/$T$22 -> 0.21694915 | V25: =R25-T25 -> 0 | W25: =V25/T25 -> 0
A26: 능곡역청소년카페 | B26: =세입예산총괄표2!B26 -> 67370000 | C26: =B26/$B$7 -> 0.0077278015 | D26: =세입예산총괄표2!D26 -> 52500000 | E26: =D26/$D$7 -> 0.0090124408 | F26: =B26-D26 -> 14870000 | G26: =F26/D26 -> 0.2832381 | H26: 성사청소년문화의집 | I26: =세출총괄표4!B26 -> 86703000 | J26: =I26/$I$7 -> 0.0099454294 | K26: =세출총괄표4!D26 -> 44427000 | L26: =K26/$K$7 -> 0.0076265849 | M26: =I26-K26 -> 42276000 | N26: =M26/K26 -> 0.9515835 | Q26: 이자수익 | R26: =B38 -> 14000 | S26: =R26/$R$22 -> 0.00016387878 | T26: =D38 -> 0 | U26: =T26/$T$22 -> 0 | V26: =R26-T26 -> 14000 | W26: 1
A27: 621 이자수익 | B27: =SUM(B28:B39) -> 2160000 | C27: =B27/$B$7 -> 0.00024776683 | D27: =SUM(D28:D39) -> 5003000 | E27: =D27/$D$7 -> 0.00085884269 | F27: =B27-D27 -> -2843000 | G27: =F27/D27 -> -0.56825904 | H27: 탄현청소년문화의집 | I27: =세출총괄표4!B27 -> 34827000 | J27: =I27/$I$7 -> 0.003994896 | K27: =세출총괄표4!D27 -> 26203000 | L27: =K27/$K$7 -> 0.0044981521 | M27: =I27-K27 -> 8624000 | N27: =M27/K27 -> 0.32912262 | Q27: 보조금수익 | R27: =B25 -> 69415000 | S27: =R27/$R$22 -> 0.81254609 | T27: =D25 -> 57750000 | U27: =T27/$T$22 -> 0.78305085 | V27: =R27-T27 -> 11665000 | W27: =V27/T27 -> 0.20199134
A28: 사무국 | B28: =세입예산총괄표2!B28 -> 720000 | C28: =B28/$B$7 -> 8.2588943e-05 | D28: =세입예산총괄표2!D28 -> 200000 | E28: =D28/$D$7 -> 3.4333108e-05 | F28: =B28-D28 -> 520000 | G28: =F28/D28 -> 2.6 | H28: 주교동청소년카페 | I28: =세출총괄표4!B28 -> 14296000 | J28: =I28/$I$7 -> 0.0016398493 | K28: =세출총괄표4!D28 -> 13457000 | L28: =K28/$K$7 -> 0.0023101032 | M28: =I28-K28 -> 839000 | N28: =M28/K28 -> 0.062346734 | Q28: 이월금 | R28: 0 | S28: =R28/$R$22 -> 0 | T28: 0 | U28: =T28/$T$22 -> 0 | V28: =R28-T28 -> 0 | W28: 0
A29: 마두청소년수련관 | B29: =세입예산총괄표2!B29 -> 200000 | C29: =B29/$B$7 -> 2.2941373e-05 | D29: =세입예산총괄표2!D29 -> 200000 | E29: =D29/$D$7 -> 3.4333108e-05 | F29: =B29-D29 -> 0 | G29: =F29/D29 -> 0 | H29: 일산서구청소년수련관 | I29: =세출총괄표4!B29 -> 237151000 | J29: =I29/$I$7 -> 0.027202848 | K29: =세출총괄표4!D29 -> 0 | L29: =K29/$K$7 -> 0 | M29: =I29-K29 -> 237151000 | N29: 1 | Q29: 합계 | R29: =SUM(R30:R34) -> 85429000 | T29: =SUM(T30:T34) -> 73750000 | U29: =T29/$T$22 -> 1 | V29: =R29-T29 -> 11679000 | W29: =V29/T29 -> 0.15835932
A30: 고양시청소년진로센터 | B30: =세입예산총괄표2!B30 -> 240000 | C30: =B30/$B$7 -> 2.7529648e-05 | D30: =세입예산총괄표2!D30 -> 0 | E30: =D30/$D$7 -> 0 | F30: =B30-D30 -> 240000 | G30: 1 | H30: 토당청소년수련관 | I30: =세출총괄표4!B30 -> 247567000 | J30: =I30/$I$7 -> 0.028397635 | K30: =세출총괄표4!D30 -> 153500000 | L30: =K30/$K$7 -> 0.02635066 | M30: =I30-K30 -> 94067000 | N30: =M30/K30 -> 0.61281433 | Q30: 인건비 | R30: =I20 -> 44880000 | S30: =R30/$R$22 -> 0.52534854 | T30: =K20 -> 38380000 | U30: =T30/$T$22 -> 0.52040678 | V30: =R30-T30 -> 6500000 | W30: =V30/T30 -> 0.16935904
A31: 성사청소년문화의집 | B31: =세입예산총괄표2!B31 -> 100000 | C31: =B31/$B$7 -> 1.1470687e-05 | D31: =세입예산총괄표2!D31 -> 100000 | E31: =D31/$D$7 -> 1.7166554e-05 | F31: =B31-D31 -> 0 | G31: =F31/D31 -> 0 | H31: 고양시청소년상담복지센터 | I31: =세출총괄표4!B31 -> 48841000 | J31: =I31/$I$7 -> 0.005602398 | K31: =세출총괄표4!D31 -> 37166000 | L31: =K31/$K$7 -> 0.0063801214 | M31: =I31-K31 -> 11675000 | N31: =M31/K31 -> 0.3141312 | Q31: 경비 | R31: =I33 -> 24535000 | S31: =R31/$R$22 -> 0.28719756 | T31: =K33 -> 19370000 | U31: =T31/$T$22 -> 0.26264407 | V31: =R31-T31 -> 5165000 | W31: =V31/T31 -> 0.26664946
A32: 탄현청소년문화의집 | B32: =세입예산총괄표2!B32 -> 100000 | C32: =B32/$B$7 -> 1.1470687e-05 | D32: =세입예산총괄표2!D32 -> 100000 | E32: =D32/$D$7 -> 1.7166554e-05 | F32: =B32-D32 -> 0 | G32: =F32/D32 -> 0 | H32: 화정청소년카페 | I32: =세출총괄표4!B32 -> 23047000 | J32: =I32/$I$7 -> 0.0026436491 | K32: =세출총괄표4!D32 -> 14840000 | L32: =K32/$K$7 -> 0.0025475166 | M32: =I32-K32 -> 8207000 | N32: =M32/K32 -> 0.55303235 | Q32: 목적사업비 | R32: 0 | S32: =R32/$R$22 -> 0 | U32: =T32/$T$22 -> 0 | V32: =R32-T32 -> 0 | W32: 0
A33: 주교동청소년카페 | B33: =세입예산총괄표2!B33 -> 10000 | C33: =B33/$B$7 -> 1.1470687e-06 | D33: =세입예산총괄표2!D33 -> 10000 | E33: =D33/$D$7 -> 1.7166554e-06 | F33: =B33-D33 -> 0 | G33: =F33/D33 -> 0 | H33: 백마역청소년카페 | I33: =세출총괄표4!B33 -> 24535000 | J33: =I33/$I$7 -> 0.0028143329 | K33: =세출총괄표4!D33 -> 19370000 | L33: =K33/$K$7 -> 0.0033251615 | M33: =I33-K33 -> 5165000 | N33: =M33/K33 -> 0.26664946 | Q33: 자체사업비 | R33: =I65+I75 -> 16000000 | S33: =R33/$R$22 -> 0.18729003 | T33: =K65+K75 -> 16000000 | U33: =T33/$T$22 -> 0.21694915 | V33: =R33-T33 -> 0 | W33: 0
A34: 일산서구청소년수련관 | B34: =세입예산총괄표2!B34 -> 233000 | C34: =B34/$B$7 -> 2.67267e-05 | D34: =세입예산총괄표2!D34 -> 0 | E34: =D34/$D$7 -> 0 | F34: =B34-D34 -> 233000 | G34: 1 | H34: 능곡역청소년카페 | I34: =세출총괄표4!B34 -> 19670000 | J34: =I34/$I$7 -> 0.002256284 | K34: =세출총괄표4!D34 -> 17150000 | L34: =K34/$K$7 -> 0.002944064 | M34: =I34-K34 -> 2520000 | N34: =M34/K34 -> 0.14693878 | Q34: 기타영업외비용 | R34: =I94 -> 14000 | S34: =R34/$R$22 -> 0.00016387878 | U34: =T34/$T$22 -> 0 | V34: =R34-T34 -> 14000 | W34: 1
A35: 토당청소년수련관 | B35: =세입예산총괄표2!B35 -> 500000 | C35: =B35/$B$7 -> 5.7353433e-05 | D35: =세입예산총괄표2!D35 -> 4393000 | E35: =D35/$D$7 -> 0.00075412671 | F35: =B35-D35 -> -3893000 | G35: =F35/D35 -> -0.88618256 | H35: 720 목적사업비 | I35: =SUM(I36:I46) -> 1455137000 | J35: =I35/$I$7 -> 0.1669142 | K35: =SUM(K36:K46) -> 1161504000 | L35: =K35/$K$7 -> 0.19939021 | M35: =I35-K35 -> 293633000 | N35: =M35/K35 -> 0.25280412
A36: 고양시청소년상담복지센터 | B36: =세입예산총괄표2!B36 -> 24000 | C36: =B36/$B$7 -> 2.7529648e-06 | D36: =세입예산총괄표2!D36 -> 0 | E36: =D36/$D$7 -> 0 | F36: =B36-D36 -> 24000 | G36: 1 | H36: 사무국 | I36: =세출총괄표4!B36 -> 990980000 | J36: =I36/$I$7 -> 0.11367221 | K36: =세출총괄표4!D36 -> 953000000 | L36: =K36/$K$7 -> 0.16359726 | M36: =I36-K36 -> 37980000 | N36: =M36/K36 -> 0.039853095 | R36: 2018 | S36: 구성비 | T36: 2017 | U36: 구성비 | V36: 증감
A37: 화정청소년카페 | B37: =세입예산총괄표2!B37 -> 13000 | C37: =B37/$B$7 -> 1.4911893e-06 | D37: =세입예산총괄표2!D37 -> 0 | E37: =D37/$D$7 -> 0 | F37: =B37-D37 -> 13000 | G37: 1 | H37: 마두청소년수련관 | I37: =세출총괄표4!B37 -> 65000000 | J37: =I37/$I$7 -> 0.0074559463 | K37: =세출총괄표4!D37 -> 65000000 | L37: =K37/$K$7 -> 0.01115826 | M37: =I37-K37 -> 0 | N37: =M37/K37 -> 0 | P37: 화정역청소년카페 | Q37: 합계 | R37: =SUM(R38:R44) -> 155514000 | S37: =SUM(S38:S44) -> 1 | T37: =SUM(T38:T44) -> 114345000 | U37: =SUM(U38:U44) -> 1 | V37: =R37-T37 -> 41169000 | W37: =V37/T37 -> 0.36004198
A38: 백마역청소년카페 | B38: =세입예산총괄표2!B38 -> 14000 | C38: =B38/$B$7 -> 1.6058961e-06 | D38: =세입예산총괄표2!D38 -> 0 | E38: =D38/$D$7 -> 0 | F38: =B38-D38 -> 14000 | G38: 1 | H38: 고양시청소년진로센터 | I38: =세출총괄표4!B38 -> 102000000 | J38: =I38/$I$7 -> 0.0117001 | K38: =세출총괄표4!D38 -> 15000000 | L38: =K38/$K$7 -> 0.0025749831 | M38: =I38-K38 -> 87000000 | N38: =M38/K38 -> 5.8 | Q38: 자체사업수익 | R38: =B67 -> 1620000 | S38: =R38/$R$37 -> 0.010417069 | T38: =D67 -> 1560000 | U38: =T38/$T$37 -> 0.013642923 | V38: =R38-T38 -> 60000 | W38: =V38/T38 -> 0.038461538
A39: 능곡역청소년카페 | B39: =세입예산총괄표2!B39 -> 6000 | C39: =B39/$B$7 -> 6.8824119e-07 | D39: =세입예산총괄표2!D39 -> 0 | E39: =D39/$D$7 -> 0 | F39: =B39-D39 -> 6000 | G39: 1 | H39: 성사청소년문화의집 | I39: =세출총괄표4!B39 -> 52600000 | J39: =I39/$I$7 -> 0.0060335811 | K39: =세출총괄표4!D39 -> 41400000 | L39: =K39/$K$7 -> 0.0071069533 | M39: =I39-K39 -> 11200000 | N39: =M39/K39 -> 0.2705314 | Q39: 기타영업수익 | R39: =B74 -> 360000 | S39: =R39/$R$37 -> 0.0023149041 | T39: =D74 -> 360000 | U39: =T39/$T$37 -> 0.0031483668 | V39: =R39-T39 -> 0 | W39: =V39/T39 -> 0
A40: 624 기부금수익 | B40: =B41 -> 2408000 | C40: =B40/$B$7 -> 0.00027621413 | D40: =D41 -> 2100000 | E40: =D40/$D$7 -> 0.00036049763 | F40: =B40-D40 -> 308000 | G40: =F40/D40 -> 0.14666667 | H40: 탄현청소년문화의집 | I40: =세출총괄표4!B40 -> 48200000 | J40: =I40/$I$7 -> 0.0055288709 | K40: =세출총괄표4!D40 -> 10545000 | L40: =K40/$K$7 -> 0.0018102131 | M40: =I40-K40 -> 37655000 | N40: =M40/K40 -> 3.5708867 | Q40: 판매수익 | R40: =B79 -> 32640000 | S40: =R40/$R$37 -> 0.20988464 | T40: =D79 -> 30000000 | U40: =T40/$T$37 -> 0.2623639 | V40: =R40-T40 -> 2640000 | W40: =V40/T40 -> 0.088
A41: 화정청소년카페 | B41: =세입예산총괄표2!B41 -> 2408000 | C41: =B41/$B$7 -> 0.00027621413 | D41: 2100000 | E41: =D41/$D$7 -> 0.00036049763 | F41: =B41-D41 -> 308000 | G41: =F41/D41 -> 0.14666667 | H41: 주교동청소년카페 | I41: =세출총괄표4!B41 -> 4030000 | J41: =I41/$I$7 -> 0.00046226867 | K41: =세출총괄표4!D41 -> 1600000 | L41: =K41/$K$7 -> 0.00027466486 | M41: =I41-K41 -> 2430000 | N41: =M41/K41 -> 1.51875 | Q41: 이자수익 | R41: =B37 -> 13000 | S41: =R41/$R$37 -> 8.359376e-05 | T41: =D37 -> 0 | U41: =T41/$T$37 -> 0 | V41: =R41-T41 -> 13000 | W41: 1
A42: 172 이월금 및 출자출연금 | B42: =B43 -> 300000000 | C42: =B42/$B$7 -> 0.03441206 | D42: =D43 -> 81325000 | E42: =D42/$D$7 -> 0.0139607 | F42: =B42-D42 -> 218675000 | G42: =F42/D42 -> 2.6889026 | H42: 일산서구청소년수련관 | I42: =세출총괄표4!B42 -> 100000000 | J42: =I42/$I$7 -> 0.011470687 | K42: =세출총괄표4!D42 -> 0 | L42: =K42/$K$7 -> 0 | M42: =I42-K42 -> 100000000 | N42: 1 | Q42: 보조금수익 | R42: =B24 -> 118473000 | S42: =R42/$R$37 -> 0.76181566 | T42: =D24 -> 80325000 | U42: =T42/$T$37 -> 0.70247934 | V42: =R42-T42 -> 38148000 | W42: =V42/T42 -> 0.47492063
A43: 사무국(이월금) | B43: =세입예산총괄표2!B43 -> 300000000 | C43: =B43/$B$7 -> 0.03441206 | D43: =세입예산총괄표2!D43 -> 81325000 | E43: =D43/$D$7 -> 0.0139607 | F43: =B43-D43 -> 218675000 | G43: =F43/D43 -> 2.6889026 | H43: 토당청소년수련관 | I43: =세출총괄표4!B43 -> 0 | J43: =I43/$I$7 -> 0 | K43: =세출총괄표4!D43 -> 32000000 | L43: =K43/$K$7 -> 0.0054932972 | M43: =I43-K43 -> -32000000 | N43: =M43/K43 -> -1 | Q43: 이월금 | R43: 0 | S43: =R43/$R$37 -> 0 | U43: =T43/$T$37 -> 0 | V43: =R43-T43 -> 0 | W43: 0
H44: 고양시청소년상담복지센터 | I44: =세출총괄표4!B44 -> 49601000 | J44: =I44/$I$7 -> 0.0056895752 | K44: =세출총괄표4!D44 -> 9324000 | L44: =K44/$K$7 -> 0.0016006095 | M44: =I44-K44 -> 40277000 | N44: =M44/K44 -> 4.3197126 | Q44: 기부금수익 | R44: =B41 -> 2408000 | S44: =R44/$R$37 -> 0.015484136 | T44: =D41 -> 2100000 | U44: =T44/$T$37 -> 0.018365473 | V44: =R44-T44 -> 308000 | W44: =V44/T44 -> 0.14666667
H45: 화정청소년카페 | I45: =세출총괄표4!B45 -> 32226000 | J45: =I45/$I$7 -> 0.0036965434 | K45: =세출총괄표4!D45 -> 23485000 | L45: =K45/$K$7 -> 0.0040315652 | M45: =I45-K45 -> 8741000 | N45: =M45/K45 -> 0.37219502 | Q45: 합계 | R45: =SUM(R46:R50) -> 155514000 | S45: =R45/$R$37 -> 1 | T45: =SUM(T46:T50) -> 114345000 | U45: =T45/$T$37 -> 1 | V45: =R45-T45 -> 41169000 | W45: =V45/T45 -> 0.36004198
H46: 능곡역청소년카페 | I46: =세출총괄표4!B46 -> 10500000 | J46: =I46/$I$7 -> 0.0012044221 | K46: =세출총괄표4!D46 -> 10150000 | L46: =K46/$K$7 -> 0.0017424052 | M46: =I46-K46 -> 350000 | N46: =M46/K46 -> 0.034482759 | Q46: 인건비 | R46: =I19 -> 63200000 | S46: =R46/$R$37 -> 0.40639428 | T46: =K19 -> 42000000 | U46: =T46/$T$37 -> 0.36730946 | V46: =R46-T46 -> 21200000 | W46: =V46/T46 -> 0.5047619
H47: 405 자산취득비 | I47: =SUM(I48:I52) -> 378249000 | J47: =I47/$I$7 -> 0.043387757 | K47: =SUM(K48:K52) -> 12500000 | L47: =K47/$K$7 -> 0.0021458192 | M47: =I47-K47 -> 365749000 | N47: =M47/K47 -> 29.25992 | Q47: 경비 | R47: =I32 -> 23047000 | S47: =R47/$R$37 -> 0.14819888 | T47: =K32 -> 14840000 | U47: =T47/$T$37 -> 0.12978268 | V47: =R47-T47 -> 8207000 | W47: =V47/T47 -> 0.55303235
H48: 사무국 | I48: =세출총괄표4!B48 -> 5000000 | J48: =I48/$I$7 -> 0.00057353433 | K48: =세출총괄표4!D48 -> 5500000 | L48: =K48/$K$7 -> 0.00094416046 | M48: =I48-K48 -> -500000 | N48: =M48/K48 -> -0.090909091 | Q48: 목적사업비 | R48: =I45 -> 32226000 | S48: =R48/$R$37 -> 0.2072225 | T48: =K45 -> 23485000 | U48: =T48/$T$37 -> 0.20538721 | V48: =R48-T48 -> 8741000 | W48: =V48/T48 -> 0.37219502
H49: 마두청소년수련관 | I49: =세출총괄표4!B49 -> 3000000 | J49: =I49/$I$7 -> 0.0003441206 | K49: =세출총괄표4!D49 -> 3000000 | L49: =K49/$K$7 -> 0.00051499662 | M49: =I49-K49 -> 0 | N49: =M49/K49 -> 0 | Q49: 자체사업비 | R49: =I64+I74 -> 37028000 | S49: =R49/$R$37 -> 0.23810075 | T49: =K64+K74 -> 34020000 | U49: =T49/$T$37 -> 0.29752066 | V49: =R49-T49 -> 3008000 | W49: =V49/T49 -> 0.088418577
H50: 고양시청소년진로센터 | I50: =세출총괄표4!B50 -> 1200000 | J50: =I50/$I$7 -> 0.00013764824 | K50: =세출총괄표4!D50 -> 1000000 | L50: =K50/$K$7 -> 0.00017166554 | M50: =I50-K50 -> 200000 | N50: =M50/K50 -> 0.2 | Q50: 기타영업외비용 | R50: =I93 -> 13000 | S50: =R50/$R$37 -> 8.359376e-05 | T50: =K93 -> 0 | U50: =T50/$T$37 -> 0 | V50: =R50-T50 -> 13000 | W50: 1
H51: 성사청소년문화의집 | I51: =세출총괄표4!B51 -> 6200000 | J51: =I51/$I$7 -> 0.00071118257 | K51: =세출총괄표4!D51 -> 3000000 | L51: =K51/$K$7 -> 0.00051499662 | M51: =I51-K51 -> 3200000 | N51: =M51/K51 -> 1.0666667
H52: 일산서구청소년수련관 | I52: =세출총괄표4!B52 -> 362849000 | J52: =I52/$I$7 -> 0.041621271 | K52: =세출총괄표4!D52 -> 0 | L52: =K52/$K$7 -> 0 | M52: =I52-K52 -> 362849000 | N52: 1
H53: 713 성과급 | I53: =I54 -> 91448000 | J53: =I53/$I$7 -> 0.010489713 | K53: =K54 -> 17500000 | L53: =K53/$K$7 -> 0.0030041469 | M53: =I53-K53 -> 73948000 | N53: =M53/K53 -> 4.2256 | Q53: 인건비 | R53: =K9+K59 -> 2517933000
H54: 사무국 | I54: =세출총괄표4!B54 -> 91448000 | J54: =I54/$I$7 -> 0.010489713 | K54: =세출총괄표4!D54 -> 17500000 | L54: =K54/$K$7 -> 0.0030041469 | M54: =I54-K54 -> 73948000 | N54: =M54/K54 -> 4.2256 | Q54: 경비 | R54: =K22+K66 -> 1226955000
H55: 801-1 예비비(차기년도이월금) | I55: =SUM(I56:I57) -> 20000000 | J55: =I55/$I$7 -> 0.0022941373 | K55: =SUM(K56:K57) -> 3329000 | L55: =K55/$K$7 -> 0.00057147458 | M55: =I55-K55 -> 16671000 | N55: =M55/K55 -> 5.0078102 | Q55: 사업비 | R55: =K35+K77 -> 1988954000
H56: 사무국 | I56: =세출총괄표4!B56 -> 20000000 | J56: =I56/$I$7 -> 0.0022941373 | K56: =세출총괄표4!D56 -> 3173000 | L56: =K56/$K$7 -> 0.00054469475 | M56: =I56-K56 -> 16827000 | N56: =M56/K56 -> 5.3031831 | Q56: 자산취득비 | R56: =K47 -> 12500000
H57: 고양시청소년진로센터 | I57: =세출총괄표4!B57 -> 0 | J57: =I57/$I$7 -> 0 | K57: =세출총괄표4!D57 -> 156000 | L57: =K57/$K$7 -> 2.6779824e-05 | M57: =I57-K57 -> -156000 | N57: =M57/K57 -> -1 | Q57: 성과급 | R57: =K53 -> 17500000
A58: 610 영업수익 | B58: =B59+B68+B75+B82+B89 -> 2413542000 | C58: =B58/$B$7 -> 0.27684984 | D58: =D59+D68+D75+D82+D89 -> 1413400000 | E58: =D58/$D$7 -> 0.24263207 | F58: =B58-D58 -> 1000142000 | G58: =F58/D58 -> 0.70761426 | H58: 700 사업비용 | I58: =I59+I66+I77+I83+I96 -> 2418110000 | J58: =I58/$I$7 -> 0.27737382 | K58: =K59+K66+K77+K83+K96 -> 1420303000 | L58: =K58/$K$7 -> 0.24381708 | M58: =I58-K58 -> 997807000 | N58: =M58/K58 -> 0.70253108 | Q58: 재산적립
A59: 625-2 자체사업수익 | B59: =SUM(B60:B67) -> 2002770000 | C59: =B59/$B$7 -> 0.22973147 | D59: =SUM(D60:D67) -> 1078032000 | E59: =D59/$D$7 -> 0.18506094 | F59: =B59-D59 -> 924738000 | G59: =F59/D59 -> 0.85780199 | H59: 100 인건비 | I59: =SUM(I60:I65) -> 287290000 | J59: =I59/$I$7 -> 0.032954135 | K59: =SUM(K60:K65) -> 220537000 | L59: =K59/$K$7 -> 0.037858603 | M59: =I59-K59 -> 66753000 | N59: =M59/K59 -> 0.3026839 | Q59: 예비비 | R59: =K55+K96 -> 61439000
A60: 마두청소년수련관 | B60: =세입예산총괄표2!B46 -> 597440000 | C60: =B60/$B$7 -> 0.06853047 | D60: =세입예산총괄표2!D46 -> 597192000 | E60: =D60/$D$7 -> 0.10251729 | F60: =B60-D60 -> 248000 | G60: =F60/D60 -> 0.00041527683 | H60: 마두청소년수련관 | I60: =세출총괄표4!B60 -> 171310000 | J60: =I60/$I$7 -> 0.019650433 | K60: =세출총괄표4!D60 -> 189437000 | L60: =K60/$K$7 -> 0.032519805 | M60: =I60-K60 -> -18127000 | N60: =M60/K60 -> -0.095688804 | R60: =SUM(R53:R59) -> 5825281000
A61: 성사청소년문화의집 | B61: =세입예산총괄표2!B47 -> 8690000 | C61: =B61/$B$7 -> 0.00099680266 | D61: =세입예산총괄표2!D47 -> 10000000 | E61: =D61/$D$7 -> 0.0017166554 | F61: =B61-D61 -> -1310000 | G61: =F61/D61 -> -0.131 | H61: 일산서구청소년수련관 | I61: =세출총괄표4!B61 -> 67640000 | J61: =I61/$I$7 -> 0.0077587724 | K61: =세출총괄표4!D61 -> 0 | L61: =K61/$K$7 -> 0 | M61: =I61-K61 -> 67640000 | N61: 1
A62: 탄현청소년문화의집 | B62: =세입예산총괄표2!B48 -> 107650000 | C62: =B62/$B$7 -> 0.012348194 | D62: =세입예산총괄표2!D48 -> 90220000 | E62: =D62/$D$7 -> 0.015487665 | F62: =B62-D62 -> 17430000 | G62: =F62/D62 -> 0.19319441 | H62: 토당청소년수련관 | I62: =세출총괄표4!B62 -> 25640000 | J62: =I62/$I$7 -> 0.002941084 | K62: =세출총괄표4!D62 -> 11600000 | L62: =K62/$K$7 -> 0.0019913202 | M62: =I62-K62 -> 14040000 | N62: =M62/K62 -> 1.2103448 | R62: 2018 | S62: 구성비 | T62: 2017 | U62: 구성비 | V62: 증감
A63: 주교동청소년카페 | B63: =세입예산총괄표2!B49 -> 1480000 | C63: =B63/$B$7 -> 0.00016976616 | D63: =세입예산총괄표2!D49 -> 2000000 | E63: =D63/$D$7 -> 0.00034333108 | F63: =B63-D63 -> -520000 | G63: =F63/D63 -> -0.26 | H63: 고양시청소년상담복지센터 | I63: =세출총괄표4!B63 -> 0 | J63: =I63/$I$7 -> 0 | K63: =세출총괄표4!D63 -> 600000 | L63: =K63/$K$7 -> 0.00010299932 | M63: =I63-K63 -> -600000 | N63: =M63/K63 -> -1 | P63: 마두청소년수련관 | Q63: 합계 | R63: =SUM(R64:R70) -> 0 | S63: =SUM(S64:S70) -> 0 | T63: =SUM(T64:T70) -> 0 | U63: =SUM(U64:U70) -> 0 | V63: =R63-T63 -> 0 | W63: =V63/T63 -> #DIV/0!
A64: 일산서구청소년수련관 | B64: =세입예산총괄표2!B50 -> 529550000 | C64: =B64/$B$7 -> 0.060743021 | D64: =세입예산총괄표2!D50 -> 0 | E64: =D64/$D$7 -> 0 | F64: =B64-D64 -> 529550000 | G64: 1 | H64: 화정청소년카페 | I64: =세출총괄표4!B64 -> 14700000 | J64: =I64/$I$7 -> 0.0016861909 | K64: =세출총괄표4!D64 -> 14400000 | L64: =K64/$K$7 -> 0.0024719838 | M64: =I64-K64 -> 300000 | N64: =M64/K64 -> 0.020833333 | Q64: 자체사업수익
A65: 토당청소년수련관 | B65: =세입예산총괄표2!B51 -> 736180000 | C65: =B65/$B$7 -> 0.0844449 | D65: =세입예산총괄표2!D51 -> 356020000 | E65: =D65/$D$7 -> 0.061116365 | F65: =B65-D65 -> 380160000 | G65: =F65/D65 -> 1.0678052 | H65: 백마역청소년카페 | I65: =세출총괄표4!B65 -> 8000000 | J65: =I65/$I$7 -> 0.00091765492 | K65: =세출총괄표4!D65 -> 4500000 | L65: =K65/$K$7 -> 0.00077249492 | M65: =I65-K65 -> 3500000 | N65: =M65/K65 -> 0.77777778 | Q65: 기타영업수익
A66: 고양시청소년상담복지센터 | B66: =세입예산총괄표2!B52 -> 20160000 | C66: =B66/$B$7 -> 0.0023124904 | D66: =세입예산총괄표2!D52 -> 21040000 | E66: =D66/$D$7 -> 0.0036118429 | F66: =B66-D66 -> -880000 | G66: =F66/D66 -> -0.041825095 | H66: 200 경비 | I66: =SUM(I67:I76) -> 455392000 | J66: =I66/$I$7 -> 0.052236589 | K66: =SUM(K67:K76) -> 314206000 | L66: =K66/$K$7 -> 0.053938342 | M66: =I66-K66 -> 141186000 | N66: =M66/K66 -> 0.44934215 | Q66: 판매수익
A67: 화정청소년카페 | B67: =세입예산총괄표2!B53 -> 1620000 | C67: =B67/$B$7 -> 0.00018582512 | D67: =세입예산총괄표2!D53 -> 1560000 | E67: =D67/$D$7 -> 0.00026779824 | F67: =B67-D67 -> 60000 | G67: =F67/D67 -> 0.038461538 | H67: 마두청소년수련관 | I67: =세출총괄표4!B67 -> 82237000 | J67: =I67/$I$7 -> 0.0094331485 | K67: =세출총괄표4!D67 -> 70995000 | L67: =K67/$K$7 -> 0.012187395 | M67: =I67-K67 -> 11242000 | N67: =M67/K67 -> 0.15834918 | Q67: 이자수익
A68: 617 기타영업수익 | B68: =SUM(B69:B74) -> 33760000 | C68: =B68/$B$7 -> 0.0038725038 | D68: =SUM(D69:D74) -> 33960000 | E68: =D68/$D$7 -> 0.0058297617 | F68: =B68-D68 -> -200000 | G68: =F68/D68 -> -0.0058892815 | H68: 성사청소년문화의집 | I68: =세출총괄표4!B68 -> 16790000 | J68: =I68/$I$7 -> 0.0019259283 | K68: =세출총괄표4!D68 -> 11721000 | L68: =K68/$K$7 -> 0.0020120918 | M68: =I68-K68 -> 5069000 | N68: =M68/K68 -> 0.43247163 | Q68: 보조금수익
A69: 마두청소년수련관 | B69: =세입예산총괄표2!B55 -> 3500000 | C69: =B69/$B$7 -> 0.00040147403 | D69: =세입예산총괄표2!D55 -> 3500000 | E69: =D69/$D$7 -> 0.00060082938 | F69: =B69-D69 -> 0 | G69: =F69/D69 -> 0 | H69: 탄현청소년문화의집 | I69: =세출총괄표4!B69 -> 40250000 | J69: =I69/$I$7 -> 0.0046169513 | K69: =세출총괄표4!D69 -> 34314000 | L69: =K69/$K$7 -> 0.0058905313 | M69: =I69-K69 -> 5936000 | N69: =M69/K69 -> 0.17299062 | Q69: 이월금
A70: 성사청소년문화의집 | B70: =세입예산총괄표2!B56 -> 4000000 | C70: =B70/$B$7 -> 0.00045882746 | D70: =세입예산총괄표2!D56 -> 2000000 | E70: =D70/$D$7 -> 0.00034333108 | F70: =B70-D70 -> 2000000 | G70: =F70/D70 -> 1 | H70: 주교동청소년카페 | I70: =세출총괄표4!B70 -> 1480000 | J70: =I70/$I$7 -> 0.00016976616 | K70: =세출총괄표4!D70 -> 1400000 | L70: =K70/$K$7 -> 0.00024033175 | M70: =I70-K70 -> 80000 | N70: =M70/K70 -> 0.057142857
A71: 탄현청소년문화의집 | B71: =세입예산총괄표2!B57 -> 1200000 | C71: =B71/$B$7 -> 0.00013764824 | D71: =세입예산총괄표2!D57 -> 3600000 | E71: =D71/$D$7 -> 0.00061799594 | F71: =B71-D71 -> -2400000 | G71: =F71/D71 -> -0.66666667 | H71: 일산서구청소년수련관 | I71: =세출총괄표4!B71 -> 94377000 | J71: =I71/$I$7 -> 0.01082569 | K71: =세출총괄표4!D71 -> 0 | L71: =K71/$K$7 -> 0 | M71: =I71-K71 -> 94377000 | N71: 1 | Q71: 합계 | R71: =SUM(R72:R78) -> 0 | S71: =SUM(S72:S78) -> 0 | T71: =SUM(T72:T78) -> 0 | U71: =SUM(U72:U78) -> 0 | V71: =R71-T71 -> 0 | W71: =V71/T71 -> #DIV/0!
A72: 일산서구청소년수련관 | B72: =세입예산총괄표2!B58 -> 3500000 | C72: =B72/$B$7 -> 0.00040147403 | D72: =세입예산총괄표2!D58 -> 0 | E72: =D72/$D$7 -> 0 | F72: =B72-D72 -> 3500000 | G72: 1 | H72: 토당청소년수련관 | I72: =세출총괄표4!B72 -> 187530000 | J72: =I72/$I$7 -> 0.021510978 | K72: =세출총괄표4!D72 -> 155256000 | L72: =K72/$K$7 -> 0.026652105 | M72: =I72-K72 -> 32274000 | N72: =M72/K72 -> 0.20787602 | Q72: 자체사업수익
A73: 토당청소년수련관 | B73: =세입예산총괄표2!B59 -> 21200000 | C73: =B73/$B$7 -> 0.0024317855 | D73: =세입예산총괄표2!D59 -> 24500000 | E73: =D73/$D$7 -> 0.0042058057 | F73: =B73-D73 -> -3300000 | G73: =F73/D73 -> -0.13469388 | H73: 고양시청소년상담복지센터 | I73: =세출총괄표4!B73 -> 0 | J73: =I73/$I$7 -> 0 | K73: =세출총괄표4!D73 -> 9400000 | L73: =K73/$K$7 -> 0.0016136561 | M73: =I73-K73 -> -9400000 | N73: =M73/K73 -> -1 | Q73: 기타영업수익
A74: 화정청소년카페 | B74: =세입예산총괄표2!B60 -> 360000 | C74: =B74/$B$7 -> 4.1294472e-05 | D74: =세입예산총괄표2!D60 -> 360000 | E74: =D74/$D$7 -> 6.1799594e-05 | F74: =B74-D74 -> 0 | G74: =F74/D74 -> 0 | H74: 화정청소년카페 | I74: =세출총괄표4!B74 -> 22328000 | J74: =I74/$I$7 -> 0.0025611749 | K74: =세출총괄표4!D74 -> 19620000 | L74: =K74/$K$7 -> 0.0033680779 | M74: =I74-K74 -> 2708000 | N74: =M74/K74 -> 0.13802243 | Q74: 판매수익
A75: 618 판매수익 | B75: =SUM(B76:B81) -> 220002000 | C75: =B75/$B$7 -> 0.02523574 | D75: =SUM(D76:D81) -> 143787000 | E75: =D75/$D$7 -> 0.024683273 | F75: =B75-D75 -> 76215000 | G75: =F75/D75 -> 0.53005487 | H75: 백마역청소년카페 | I75: =세출총괄표4!B75 -> 8000000 | J75: =I75/$I$7 -> 0.00091765492 | K75: =세출총괄표4!D75 -> 11500000 | L75: =K75/$K$7 -> 0.0019741537 | M75: =I75-K75 -> -3500000 | N75: =M75/K75 -> -0.30434783 | Q75: 이자수익
A76: 마두청소년수련관 | B76: =세입예산총괄표2!B62 -> 51000000 | C76: =B76/$B$7 -> 0.0058500501 | D76: =세입예산총괄표2!D62 -> 45000000 | E76: =D76/$D$7 -> 0.0077249492 | F76: =B76-D76 -> 6000000 | G76: =F76/D76 -> 0.13333333 | H76: 능곡역청소년카페 | I76: =세출총괄표4!B76 -> 2400000 | J76: =I76/$I$7 -> 0.00027529648 | K76: =세출총괄표4!D76 -> 0 | L76: =K76/$K$7 -> 0 | M76: =I76-K76 -> 2400000 | N76: 1 | Q76: 보조금수익
A77: 일산서구청소년수련관 | B77: =세입예산총괄표2!B63 -> 42500000 | C77: =B77/$B$7 -> 0.0048750418 | D77: =세입예산총괄표2!D63 -> 0 | E77: =D77/$D$7 -> 0 | F77: =B77-D77 -> 42500000 | G77: 1 | H77: 731-1 사업비 | I77: =SUM(I78:I82) -> 1590274000 | J77: =I77/$I$7 -> 0.18241535 | K77: =SUM(K78:K82) -> 827450000 | L77: =K77/$K$7 -> 0.14204465 | M77: =I77-K77 -> 762824000 | N77: =M77/K77 -> 0.9218974 | Q77: 이월금
A78: 토당청소년수련관 | B78: =세입예산총괄표2!B64 -> 75462000 | C78: =B78/$B$7 -> 0.0086560095 | D78: =세입예산총괄표2!D64 -> 52787000 | E78: =D78/$D$7 -> 0.0090617088 | F78: =B78-D78 -> 22675000 | G78: =F78/D78 -> 0.42955652 | H78: 마두청소년수련관 | I78: =세출총괄표4!B78 -> 431350000 | J78: =I78/$I$7 -> 0.049478806 | K78: =세출총괄표4!D78 -> 421960000 | L78: =K78/$K$7 -> 0.072435991 | M78: =I78-K78 -> 9390000 | N78: =M78/K78 -> 0.022253294
A79: 화정청소년카페 | B79: =세입예산총괄표2!B65 -> 32640000 | C79: =B79/$B$7 -> 0.0037440321 | D79: =세입예산총괄표2!D65 -> 30000000 | E79: =D79/$D$7 -> 0.0051499662 | F79: =B79-D79 -> 2640000 | G79: =F79/D79 -> 0.088 | H79: 일산서구청소년수련관 | I79: =세출총괄표4!B79 -> 413766000 | J79: =I79/$I$7 -> 0.047461801 | K79: =세출총괄표4!D79 -> 0 | L79: =K79/$K$7 -> 0 | M79: =I79-K79 -> 413766000 | N79: 1
A80: 백마역청소년카페 | B80: =세입예산총괄표2!B66 -> 16000000 | C80: =B80/$B$7 -> 0.0018353098 | D80: =세입예산총괄표2!D66 -> 16000000 | E80: =D80/$D$7 -> 0.0027466486 | F80: =B80-D80 -> 0 | G80: =F80/D80 -> 0 | H80: 탄현청소년문화의집 | I80: =세출총괄표4!B80 -> 85700000 | J80: =I80/$I$7 -> 0.0098303784 | K80: =세출총괄표4!D80 -> 73606000 | L80: =K80/$K$7 -> 0.012635614 | M80: =I80-K80 -> 12094000 | N80: =M80/K80 -> 0.16430726
A81: 능곡역청소년카페 | B81: =세입예산총괄표2!B67 -> 2400000 | C81: =B81/$B$7 -> 0.00027529648 | D81: =세입예산총괄표2!D67 -> 0 | E81: =D81/$D$7 -> 0 | F81: =B81-D81 -> 2400000 | G81: 1 | H81: 토당청소년수련관 | I81: =세출총괄표4!B81 -> 639298000 | J81: =I81/$I$7 -> 0.07333187 | K81: =세출총괄표4!D81 -> 320844000 | L81: =K81/$K$7 -> 0.055077858 | M81: =I81-K81 -> 318454000 | N81: =M81/K81 -> 0.9925509
A82: 621 이월금 | B82: =SUM(B83:B88) -> 107010000 | C82: =B82/$B$7 -> 0.012274782 | D82: =SUM(D83:D88) -> 107621000 | E82: =D82/$D$7 -> 0.018474817 | F82: =B82-D82 -> -611000 | G82: =F82/D82 -> -0.0056773306 | H82: 고양시청소년상담복지센터 | I82: =세출총괄표4!B82 -> 20160000 | J82: =I82/$I$7 -> 0.0023124904 | K82: =세출총괄표4!D82 -> 11040000 | L82: =K82/$K$7 -> 0.0018951875 | M82: =I82-K82 -> 9120000 | N82: =M82/K82 -> 0.82608696
A83: 마두청소년수련관 | B83: =세입예산총괄표2!B69 -> 75000000 | C83: =B83/$B$7 -> 0.0086030149 | D83: =세입예산총괄표2!D69 -> 79500000 | E83: =D83/$D$7 -> 0.01364741 | F83: =B83-D83 -> -4500000 | G83: =F83/D83 -> -0.056603774 | H83: 775 기타영업외비용 | I83: =SUM(I84:I95) -> 85154000 | J83: =I83/$I$7 -> 0.0097677484 | K83: =SUM(K84:K95) -> 0 | L83: =K83/$K$7 -> 0 | M83: =I83-K83 -> 85154000 | N83: 1
A84: 성사청소년문화의집 | B84: =세입예산총괄표2!B70 -> 14000000 | C84: =B84/$B$7 -> 0.0016058961 | D84: =세입예산총괄표2!D70 -> 11721000 | E84: =D84/$D$7 -> 0.0020120918 | F84: =B84-D84 -> 2279000 | G84: =F84/D84 -> 0.19443733 | H84: 사무국 | I84: =세출총괄표4!B84 -> 720000 | J84: =I84/$I$7 -> 8.2588943e-05 | K84: =세출총괄표4!D84 -> 0 | L84: =K84/$K$7 -> 0 | M84: =I84-K84 -> 720000 | N84: 1
A85: 탄현청소년문화의집 | B85: =세입예산총괄표2!B71 -> 18000000 | C85: =B85/$B$7 -> 0.0020647236 | D85: =세입예산총괄표2!D71 -> 15000000 | E85: =D85/$D$7 -> 0.0025749831 | F85: =B85-D85 -> 3000000 | G85: =F85/D85 -> 0.2 | H85: 마두청소년수련관 | I85: =세출총괄표4!B85 -> 42243000 | J85: =I85/$I$7 -> 0.0048455621 | K85: =세출총괄표4!D85 -> 0 | L85: =K85/$K$7 -> 0 | M85: =I85-K85 -> 42243000 | N85: 1
A86: 주교동청소년카페 | B86: =세입예산총괄표2!B72 -> 10000 | C86: =B86/$B$7 -> 1.1470687e-06 | D86: =세입예산총괄표2!D72 -> 1400000 | E86: =D86/$D$7 -> 0.00024033175 | F86: =B86-D86 -> -1390000 | G86: =F86/D86 -> -0.99285714 | H86: 고양시청소년진로센터 | I86: =세출총괄표4!B86 -> 240000 | J86: =I86/$I$7 -> 2.7529648e-05 | K86: =세출총괄표4!D86 -> 0 | L86: =K86/$K$7 -> 0 | M86: =I86-K86 -> 240000 | N86: 1
A87: 일산서구청소년수련관 | B87: =세입예산총괄표2!B73 -> 0 | C87: =B87/$B$7 -> 0 | D87: =세입예산총괄표2!D73 -> 0 | E87: =D87/$D$7 -> 0 | F87: =B87-D87 -> 0 | G87: 0 | H87: 성사청소년문화의집 | I87: =세출총괄표4!B87 -> 10000000 | J87: =I87/$I$7 -> 0.0011470687 | K87: =세출총괄표4!D87 -> 0 | L87: =K87/$K$7 -> 0 | M87: =I87-K87 -> 10000000 | N87: 1
A88: 토당청소년수련관 | B88: =세입예산총괄표2!B74 -> 0 | C88: =B88/$B$7 -> 0 | D88: =세입예산총괄표2!D74 -> 0 | E88: =D88/$D$7 -> 0 | F88: =B88-D88 -> 0 | G88: 0 | H88: 탄현청소년문화의집 | I88: =세출총괄표4!B88 -> 1000000 | J88: =I88/$I$7 -> 0.00011470687 | K88: =세출총괄표4!D88 -> 0 | L88: =K88/$K$7 -> 0 | M88: =I88-K88 -> 1000000 | N88: 1
A89: 625-3 기타출자출연금 | B89: =SUM(B90) -> 50000000 | C89: =B89/$B$7 -> 0.0057353433 | D89: =SUM(D90) -> 50000000 | E89: =D89/$D$7 -> 0.0085832769 | F89: =B89-D89 -> 0 | G89: =F89/D89 -> 0 | H89: 주교동청소년카페 | I89: =세출총괄표4!B89 -> 20000 | J89: =I89/$I$7 -> 2.2941373e-06 | K89: =세출총괄표4!D89 -> 0 | L89: =K89/$K$7 -> 0 | M89: =I89-K89 -> 20000 | N89: 1
A90: 토당청소년수련관 | B90: =세입예산총괄표2!B76 -> 50000000 | C90: =B90/$B$7 -> 0.0057353433 | D90: =세입예산총괄표2!D76 -> 50000000 | E90: =D90/$D$7 -> 0.0085832769 | F90: =B90-D90 -> 0 | G90: =F90/D90 -> 0 | H90: 일산서구청소년수련관 | I90: =세출총괄표4!B90 -> 0 | J90: =I90/$I$7 -> 0 | K90: =세출총괄표4!D90 -> 0 | L90: =K90/$K$7 -> 0 | M90: =I90-K90 -> 0 | N90: 1
H91: 토당청소년수련관 | I91: =세출총괄표4!B91 -> 30874000 | J91: =I91/$I$7 -> 0.0035414598 | K91: =세출총괄표4!D91 -> 0 | L91: =K91/$K$7 -> 0 | M91: =I91-K91 -> 30874000 | N91: 1
H92: 고양시청소년상담복지센터 | I92: =세출총괄표4!B92 -> 24000 | J92: =I92/$I$7 -> 2.7529648e-06 | K92: =세출총괄표4!D92 -> 0 | L92: =K92/$K$7 -> 0 | M92: =I92-K92 -> 24000 | N92: 1
H93: 화정청소년카페 | I93: =세출총괄표4!B93 -> 13000 | J93: =I93/$I$7 -> 1.4911893e-06 | K93: =세출총괄표4!D93 -> 0 | L93: =K93/$K$7 -> 0 | M93: =I93-K93 -> 13000 | N93: 1
H94: 백마역청소년카페 | I94: =세출총괄표4!B94 -> 14000 | J94: =I94/$I$7 -> 1.6058961e-06 | K94: =세출총괄표4!D94 -> 0 | L94: =K94/$K$7 -> 0 | M94: =I94-K94 -> 14000 | N94: 1
H95: 능곡역청소년카페 | I95: =세출총괄표4!B95 -> 6000 | J95: =I95/$I$7 -> 6.8824119e-07 | K95: =세출총괄표4!D95 -> 0 | L95: =K95/$K$7 -> 0 | M95: =I95-K95 -> 6000 | N95: 1
H96: 801-1 예비비(차기년도이월금) | I96: =SUM(I97:I100) -> 0 | J96: =I96/$I$7 -> 0 | K96: =SUM(K97:K100) -> 58110000 | L96: =K96/$K$7 -> 0.0099754844 | M96: =I96-K96 -> -58110000 | N96: =M96/K96 -> -1
H97: 마두청소년수련관 | I97: =세출총괄표4!B97 -> 0 | J97: =I97/$I$7 -> 0 | K97: =세출총괄표4!D97 -> 43000000 | L97: =K97/$K$7 -> 0.0073816182 | M97: =I97-K97 -> -43000000 | N97: =M97/K97 -> -1
H98: 성사청소년문화의집 | I98: =세출총괄표4!B98 -> 0 | J98: =I98/$I$7 -> 0 | K98: =세출총괄표4!D98 -> 12100000 | L98: =K98/$K$7 -> 0.002077153 | M98: =I98-K98 -> -12100000 | N98: =M98/K98 -> -1
H99: 탄현청소년문화의집 | I99: =세출총괄표4!B99 -> 0 | J99: =I99/$I$7 -> 0 | K99: =세출총괄표4!D99 -> 1000000 | L99: =K99/$K$7 -> 0.00017166554 | M99: =I99-K99 -> -1000000 | N99: =M99/K99 -> -1
H100: 주교동청소년카페 | I100: =세출총괄표4!B100 -> 0 | J100: =I100/$I$7 -> 0 | K100: =세출총괄표4!D100 -> 2010000 | L100: =K100/$K$7 -> 0.00034504773 | M100: =I100-K100 -> -2010000 | N100: =M100/K100 -> -1

Sheet 간지3(세입예산 사업내역서)

Sheet 예산세입(사무국)
A1: 2018년 세입예산서(안)
A2: [일반회계] | O2: (단위:천원)
A3: 예산과목 | G3: 산출내역 | M3: 예산액 | N3: 전년도 예산액 | O3: 증감 | P3: 증감률
A4: 장 | B4: 관 | C4: 항 | D4: 목 | E4: 세목 | F4: 세세목
A5: 고양시청소년재단사무국 | M5: =M6+M19 -> 1900720000 | N5: =N6+N19 -> 1687052841 | O5: =+M5-N5 -> 213667159 | P5: =+O5/N5 -> 0.12665114
B6: 600 사업수익 | M6: =SUM(M7) -> 1600720000 | N6: =SUM(N7) -> 1605728000 | O6: =+M6-N6 -> -5008000 | P6: =+O6/N6 -> -0.0031188346
C7: 620 영업외수익 | M7: =SUM(M8,M12,M15) -> 1600720000 | N7: =SUM(N8,N12,N15) -> 1605728000 | O7: =+M7-N7 -> -5008000 | P7: =+O7/N7 -> -0.0031188346
D8: 621 이자수익 | M8: =M9 -> 720000 | N8: =N9 -> 200000 | O8: =+M8-N8 -> 520000 | P8: =+O8/N8 -> 2.6
E9: 621-1 예금이자수익 | M9: =ROUNDUP(L10,-3) -> 720000 | N9: 200000 | O9: =+M9-N9 -> 520000 | P9: =+O9/N9 -> 2.6
F10: ㅇ예금이자수익 | L10: =SUM(L11:L11) -> 720000
F11: ­ 예금이자 | G11: 720000 | H11: × | I11: 1 | K11: = | L11: =G11*I11 -> 720000
D12: 623 보조금수익 | M12: =M13 -> 0 | N12: =N13 -> 853000000 | O12: =+M12-N12 -> -853000000 | P12: =+O12/N12 -> -1
E13: 623-1 국도시비보조금 | M13: =ROUNDUP(L14,-3) -> 0 | N13: 853000000 | O13: =+M13-N13 -> -853000000 | P13: =+O13/N13 -> -1
D15: 625 출자출연금수익 | M15: =SUM(M16:M18) -> 1600000000 | N15: =N16 -> 752528000 | O15: =+M15-N15 -> 847472000 | P15: =+O15/N15 -> 1.1261667
E16: 625-2 지자체출자출연금 | M16: =ROUNDUP(L17,-3) -> 1600000000 | N16: 752528000 | O16: =+M16-N16 -> 847472000 | P16: =+O16/N16 -> 1.1261667
F17: ㅇ고양시지원금 | L17: =SUM(L18:L18) -> 1600000000
F18: ­ 재단지원금 | G18: 1600000000 | H18: × | I18: 1 | K18: = | L18: =G18 -> 1600000000
B19: 100 자본적수입 | M19: =M20 -> 300000000 | N19: =SUM(N20) -> 81324841 | O19: =+M19-N19 -> 218675159 | P19: =+O19/N19 -> 2.6889098
C20: 170 자본잉여금수입 | M20: =M21+M25 -> 300000000 | N20: =N21+N25 -> 81324841 | O20: =+M20-N20 -> 218675159 | P20: =+O20/N20 -> 2.6889098
D21: 171 잉여금 | M21: =SUM(M22) -> 0 | N21: =SUM(N22) -> 0 | O21: =+M21-N21 -> 0 | P21: 0
E22: 171-1 순세계잉여금 | M22: =SUM(L23) -> 0 | N22: 0 | O22: =+M22-N22 -> 0 | P22: 0
F23: ㅇ순세계잉여금 | L23: =SUM(L24) -> 0
F24: ­ 사무국잉여금 | H24: × | I24: 1 | L24: =G24*I24 -> 0
D25: 172 이월금 | M25: =SUM(M26) -> 300000000 | N25: =N26 -> 81324841 | O25: =+M25-N25 -> 218675159 | P25: =+O25/N25 -> 2.6889098
E26: 172-3 전년도이월사업비 | M26: =SUM(L27) -> 300000000 | N26: 81324841 | O26: =+M26-N26 -> 218675159 | P26: =+O26/N26 -> 2.6889098
F27: ㅇ전년도이월금 | L27: =SUM(L28) -> 300000000
F28: ­ 2017년사업비이월금 | G28: 300000000 | H28: × | I28: 1 | K28: = | L28: =G28*I28 -> 300000000
E322: 청소녀

Sheet 예산세입(마두)
A1: 2018년 세입예산서(안)
A2: [일반회계] | R2: (단위:천원)
A3: 예산과목 | G3: 산출내역 | P3: 예산액 | Q3: 전년도 예산액 | R3: 증감 | S3: 증감률
A4: 장 | B4: 관 | C4: 항 | D4: 목 | E4: 세목 | F4: 세세목
A5: 마두청소년수련관 | P5: =P6+P93 -> 1588140000 | Q5: =Q6+Q93 -> 1586392000 | R5: =+P5-Q5 -> 1748000 | S5: =+R5/Q5 -> 0.0011018714
B6: 600 사업수익 | P6: =SUM(P7,P76) -> 1513140000 | Q6: =SUM(Q7,Q76) -> 1506892000 | R6: =+P6-Q6 -> 6248000 | S6: =+R6/Q6 -> 0.0041462825
C7: 610 영업수익 | P7: =SUM(P8,P63,P72) -> 651940000 | Q7: =SUM(Q8,Q63,Q72) -> 645692000 | R7: =+P7-Q7 -> 6248000 | S7: =+R7/Q7 -> 0.0096764402
D8: 611 자체사업수익 | P8: =SUM(P9:P62) -> 597440000 | Q8: =SUM(Q9:Q62) -> 597192000 | R8: =+P8-Q8 -> 248000 | S8: =+R8/Q8 -> 0.00041527683
E9: 611-1 사업운영수익 | P9: =ROUNDUP((O10+O25+O46),-3) -> 455040000 | Q9: =67140000+340632000+47460000 -> 455232000 | R9: =+P9-Q9 -> -192000 | S9: =+R9/Q9 -> -0.00042176297
F10: ㅇ교육문화프로그램 | O10: =SUM(O11:O24) -> 71760000
F11: ­ 기타교실(청소년) | G11: 30000 | H11: × | I11: 5 | J11: × | K11: 2 | L11: × | M11: 12 | N11: = | O11: =+M11*K11*I11*G11 -> 3600000
F12: ­ 기타교실(성인) | G12: 35000 | H12: × | I12: 5 | J12: × | K12: 2 | L12: × | M12: 12 | N12: = | O12: =+M12*K12*I12*G12 -> 4200000
F13: ­ 초등미술 | G13: 35000 | H13: × | I13: 8 | J13: × | K13: 3 | L13: × | M13: 12 | N13: = | O13: =+M13*K13*I13*G13 -> 10080000
F14: ­ 성인미술 | G14: 35000 | H14: × | I14: 10 | J14: × | K14: 1 | L14: × | M14: 12 | N14: = | O14: =+M14*K14*I14*G14 -> 4200000
F15: ­ 손뜨개질 | G15: 30000 | H15: × | I15: 5 | J15: × | K15: 1 | L15: × | M15: 12 | N15: = | O15: =+M15*K15*I15*G15 -> 1800000
F16: ­ 캘리그라피 | G16: 40000 | H16: × | I16: 6 | J16: × | K16: 2 | L16: × | M16: 12 | N16: = | O16: =+M16*K16*I16*G16 -> 5760000
F17: ­ 바이올린 | G17: 40000 | H17: × | I17: 5 | J17: × | K17: 2 | L17: × | M17: 12 | N17: = | O17: =+M17*K17*I17*G17 -> 4800000
F18: ­ 플룻 | G18: 40000 | H18: × | I18: 5 | J18: × | K18: 2 | L18: × | M18: 12 | N18: = | O18: =+M18*K18*I18*G18 -> 4800000
F19: ­ 클라리넷 | G19: 40000 | H19: × | I19: 5 | J19: × | K19: 1 | L19: × | M19: 12 | N19: = | O19: =+M19*K19*I19*G19 -> 2400000
F20: ­ 우쿨렐레 | G20: 30000 | H20: × | I20: 5 | J20: × | K20: 1 | L20: × | M20: 12 | N20: = | O20: =+M20*K20*I20*G20 -> 1800000
F21: ­ 과학실험 | G21: 30000 | H21: × | I21: 10 | J21: × | K21: 2 | L21: × | M21: 12 | N21: = | O21: =+M21*K21*I21*G21 -> 7200000
F22: ­ 독서논술 | G22: 40000 | H22: × | I22: 8 | J22: × | K22: 3 | L22: × | M22: 12 | N22: = | O22: =+M22*K22*I22*G22 -> 11520000
... F24: ­ 중국어 | G24: 40000 | H24: × | I24: 5 | J24: × | K24: 2 | L24: × | M24: 12 | N24: = | O24: =+M24*K24*I24*G24 -> 4800000
F25: ㅇ생활체육프로그램 | O25: =SUM(O26:O45) -> 334200000
F26: ­ 요가(청소년) | G26: 25000 | H26: × | I26: 1 | J26: × | K26: 4 | L26: × | M26: 12 | N26: = | O26: =G26*I26*K26*M26 -> 1200000
F27: ­ 요가(성인) | G27: 35000 | H27: × | I27: 17 | J27: × | K27: 4 | L27: × | M27: 12 | N27: = | O27: =G27*I27*K27*M27 -> 28560000
F28: ­ 필라테스(청소년) | G28: 25000 | H28: × | I28: 1 | J28: × | K28: 4 | L28: × | M28: 12 | N28: = | O28: =G28*I28*K28*M28 -> 1200000
F29: ­ 필라테스(성인) | G29: 35000 | H29: × | I29: 17 | J29: × | K29: 4 | L29: × | M29: 12 | N29: = | O29: =G29*I29*K29*M29 -> 28560000
F30: ­ 발레 | G30: 35000 | H30: × | I30: 15 | J30: × | K30: 6 | L30: × | M30: 12 | N30: = | O30: =G30*I30*K30*M30 -> 37800000
F31: ­ 방송댄스 | G31: 25000 | H31: × | I31: 8 | J31: × | K31: 4 | L31: × | M31: 12 | N31: = | O31: =G31*I31*K31*M31 -> 9600000
F32: ­ 라인댄스 | G32: 25000 | H32: × | I32: 12 | J32: × | K32: 2 | L32: × | M32: 12 | N32: = | O32: =G32*I32*K32*M32 -> 7200000
F33: ­ 청소년요가필라테스 | G33: 30000 | H33: × | I33: 7 | J33: × | K33: 2 | L33: × | M33: 12 | N33: = | O33: =G33*I33*K33*M33 -> 5040000
F34: ­ 그룹트레이닝 | G34: 30000 | H34: × | I34: 5 | J34: × | K34: 2 | L34: × | M34: 12 | N34: = | O34: =G34*I34*K34*M34 -> 3600000
F35: ­ 발레핏 | G35: 40000 | H35: × | I35: 15 | J35: × | K35: 3 | L35: × | M35: 12 | N35: = | O35: =G35*I35*K35*M35 -> 21600000
F36: ­ 클레식발레 | G36: 40000 | H36: × | I36: 7 | J36: × | K36: 1 | L36: × | M36: 12 | N36: = | O36: =G36*I36*K36*M36 -> 3360000
F37: ­ 줌바댄스 | G37: 40000 | H37: × | I37: 8 | J37: × | K37: 2 | L37: × | M37: 12 | N37: = | O37: =G37*I37*K37*M37 -> 7680000
... F45: ­ 휘트니스(성인) | G45: 30000 | H45: × | I45: 100 | J45: × | K45: 1 | L45: × | M45: 12 | N45: = | O45: =G45*I45*K45*M45 -> 36000000
F46: ㅇ놀토(놀라운토요일)학교 | O46: =SUM(O47:O56) -> 49080000
F47: ­ 청소년농구 | G47: 25000 | H47: × | I47: 15 | J47: × | K47: 3 | L47: × | M47: 12 | N47: = | O47: =G47*I47*K47*M47 -> 13500000
F48: ­ 음악줄넘기 | G48: 25000 | H48: × | I48: 10 | J48: × | K48: 2 | L48: × | M48: 12 | N48: = | O48: =G48*I48*K48*M48 -> 6000000
F49: ­ 클라이밍 | G49: 25000 | H49: × | I49: 10 | J49: × | K49: 2 | L49: × | M49: 12 | N49: = | O49: =G49*I49*K49*M49 -> 6000000
F50: ­ 방송댄스 | G50: 35000 | H50: × | I50: 12 | J50: × | K50: 2 | L50: × | M50: 12 | N50: = | O50: =G50*I50*K50*M50 -> 10080000
F51: ­ 클레이아트 | G51: 25000 | H51: × | I51: 3 | J51: × | K51: 1 | L51: × | M51: 12 | N51: = | O51: =G51*I51*K51*M51 -> 900000
F52: ­ 소묘 | G52: 25000 | H52: × | I52: 5 | J52: × | K52: 1 | L52: × | M52: 12 | N52: = | O52: =G52*I52*K52*M52 -> 1500000
F53: ­ 토요캘리그라피 | G53: 30000 | H53: × | I53: 10 | J53: × | K53: 1 | L53: × | M53: 12 | N53: = | O53: =G53*I53*K53*M53 -> 3600000
F54: ­ 중등논술 | G54: 40000 | H54: × | I54: 3 | J54: × | K54: 2 | L54: × | M54: 12 | N54: = | O54: =G54*I54*K54*M54 -> 2880000
F55: ­ 원어민영어(청소년) | G55: 45000 | H55: × | I55: 3 | J55: × | K55: 1 | L55: × | M55: 12 | N55: = | O55: =G55*I55*K55*M55 -> 1620000
F56: ­ 원어민영어(성인) | G56: 50000 | H56: × | I56: 5 | J56: × | K56: 1 | L56: × | M56: 12 | N56: = | O56: =G56*I56*K56*M56 -> 3000000
E57: 611-2 참가금수익 | P57: =SUM(O58:O62) -> 142400000 | Q57: 141960000 | R57: =+P57-Q57 -> 440000 | S57: =+R57/Q57 -> 0.0030994646
F58: ㅇ고양형평화통일사업 | G58: 30000 | H58: × | I58: 30 | N58: = | O58: =G58*I58 -> 900000
F59: ㅇ학교연계참가비 | G59: 1000000 | H59: × | I59: 10 | N59: = | O59: =+I59*G59 -> 10000000
F60: ㅇ청소년문화캠프 | G60: 50000 | H60: × | I60: 30 | N60: = | O60: =+I60*G60 -> 1500000
F61: ㅇ청소년글로벌캠프 | G61: 4000000 | H61: × | I61: 30 | N61: = | O61: =+I61*G61 -> 120000000
F62: ㅇ국가간청소년교류캠프 | G62: 500000 | H62: × | I62: 20 | N62: = | O62: =+I62*G62 -> 10000000
D63: 617 기타영업수익 | P63: =SUM(P64:P71) -> 3500000 | Q63: =SUM(Q64,Q67) -> 3500000 | R63: =+P63-Q63 -> 0 | S63: =+R63/Q63 -> 0
E64: 617-1 시설사용료수익 | P64: =ROUNDUP(O65,-3) -> 2400000 | Q64: 2400000 | R64: =+P64-Q64 -> 0 | S64: =+R64/Q64 -> 0
F65: ㅇ대관수입 | O65: =SUM(O66:O66) -> 2400000
F66: ­ 대관사용료 | G66: 100000 | H66: × | I66: 2 | J66: × | K66: 12 | N66: = | O66: =G66*I66*K66 -> 2400000
E67: 617-3 기타수수료수입 | P67: =ROUNDUP(O68+O70,-3) -> 1100000 | Q67: 1100000 | R67: =+P67-Q67 -> 0 | S67: =+R67/Q67 -> 0
F68: ㅇ부가가치세환급 | O68: =SUM(O69:O69) -> 1000000
F69: ­ 부가세환급 | G69: 250000 | H69: × | I69: 4 | N69: = | O69: =SUM(G69*I69) -> 1000000
F70: ㅇ기타수입 | O70: =SUM(O71:O71) -> 100000
F71: ­ 기타수입 | G71: 100000 | H71: × | I71: 1 | N71: = | O71: =SUM(G71*I71) -> 100000
D72: 618 판매수익 | P72: =SUM(P73:P75) -> 51000000 | Q72: =+Q73 -> 45000000 | R72: =+P72-Q72 -> 6000000 | S72: =+R72/Q72 -> 0.13333333
E73: 618-1 상품판매수익 | P73: =ROUNDUP(O74,-3) -> 51000000 | Q73: 45000000 | R73: =+P73-Q73 -> 6000000 | S73: =+R73/Q73 -> 0.13333333
F74: ㅇ북카페운영 | O74: =SUM(O75:O75) -> 51000000
F75: ­ 판매수입 | G75: 2500 | H75: × | I75: 68 | J75: × | K75: 25 | L75: × | M75: 12 | N75: = | O75: =G75*I75*K75*M75 -> 51000000
C76: 620 영업외수익 | P76: =SUM(P77,P89) -> 861200000 | Q76: =SUM(Q77,Q81,Q89) -> 861200000 | R76: =+P76-Q76 -> 0 | S76: =+R76/Q76 -> 0
D77: 621 이자수익 | P77: =SUM(P78:P80) -> 200000 | Q77: =+Q78 -> 200000 | R77: =+P77-Q77 -> 0 | S77: =+R77/Q77 -> 0
E78: 621-1 예금이자수익 | P78: =ROUNDUP(O79,-3) -> 200000 | Q78: 200000 | R78: =+P78-Q78 -> 0 | S78: =+R78/Q78 -> 0
F79: ㅇ예금이자수익 | O79: =SUM(O80:O80) -> 200000
F80: ­ 예금이자 | G80: 200000 | H80: × | I80: 1 | N80: = | O80: =G80*I80 -> 200000
D81: 623 보조금수익 | P81: =SUM(P82:P88) -> 0 | Q81: =SUM(Q82,Q86) -> 0 | R81: =+P81-Q81 -> 0 | S81: 0
E82: 623-1 국도시비보조금 | P82: =O83 -> 0 | Q82: =+O83 -> 0 | R82: =+P82-Q82 -> 0 | S82: 0
F83: ㅇ외부공모사업금 | O83: =SUM(O84:O85) -> 0
F84: ­ 동아리지원
F85: ­ 국가교류
E86: 623-1 경기도교육청 | P86: =O87 -> 0 | Q86: =+O87 -> 0 | R86: =+P86-Q86 -> 0 | S86: 0
F87: ㅇ공모사업금 | O87: =+O88 -> 0
F88: ­ 청소년활동
D89: 625 출자출연금수익 | P89: =SUM(P90:P92) -> 861000000 | Q89: =+Q90 -> 861000000 | R89: =+P89-Q89 -> 0 | S89: =+R89/Q89 -> 0
E90: 625-2 지자체출자출연금 | P90: =ROUNDUP(O91,-3) -> 861000000 | Q90: 861000000 | R90: =+P90-Q90 -> 0 | S90: =+R90/Q90 -> 0
F91: ㅇ고양시지원금 | O91: =SUM(O92:O92) -> 861000000
F92: ­ 마두지원금 | G92: 861000000 | H92: × | I92: 1 | N92: = | O92: =G92 -> 861000000
B93: 100 자본적수입 | P93: =P94 -> 75000000 | Q93: =+Q94 -> 79500000 | R93: =+P93-Q93 -> -4500000 | S93: =+R93/Q93 -> -0.056603774
C94: 170 자본잉여금수입 | P94: =P95 -> 75000000 | Q94: =+Q95 -> 79500000 | R94: =+P94-Q94 -> -4500000 | S94: =+R94/Q94 -> -0.056603774
D95: 172 이월금 | P95: =SUM(P96) -> 75000000 | Q95: =+Q96 -> 79500000 | R95: =+P95-Q95 -> -4500000 | S95: =+R95/Q95 -> -0.056603774
E96: 172-3 전년도이월사업비 | P96: =O97 -> 75000000 | Q96: 79500000 | R96: =+P96-Q96 -> -4500000 | S96: =+R96/Q96 -> -0.056603774
F97: ㅇ전년도이월금 | O97: =SUM(O98) -> 75000000
F98: ­ 2017년도사업비이월금 | G98: 75000000 | H98: × | I98: 1 | N98: = | O98: 75000000

Sheet 예산세입(진로)
A1: 2018년 세입예산서(안)
A2: [일반회계] | R2: (단위:천원)
A3: 예산과목 | G3: 산출내역 | P3: 예산액 | Q3: 전년도 예산액 | R3: 증감 | S3: 증감률
A4: 장 | B4: 관 | C4: 항 | D4: 목 | E4: 세목 | F4: 세세목
A5: 고양시청소년진로센터 | P5: =P6 -> 325228000 | Q5: =Q6 -> 231000000 | R5: =+P5-Q5 -> 94228000 | S5: =+R5/Q5 -> 0.40791342
B6: 600 사업수익 | P6: =P7 -> 325228000 | Q6: =Q7 -> 231000000 | R6: =+P6-Q6 -> 94228000 | S6: =+R6/Q6 -> 0.40791342
C7: 620 영업외수익 | P7: =SUM(P8,P13) -> 325228000 | Q7: =SUM(Q13) -> 231000000 | R7: =+P7-Q7 -> 94228000 | S7: =+R7/Q7 -> 0.40791342
D8: 621 이자수익 | P8: =SUM(P9:P11) -> 240000 | Q8: 0 | R8: =+P8-Q8 -> 240000 | S8: 1
E9: 621-1 예금이자수익 | P9: =ROUNDUP(O10,-3) -> 240000 | Q9: 0 | R9: =+P9-Q9 -> 240000 | S9: 1
F10: ㅇ예금이자수익 | O10: =SUM(O11:O11) -> 240000
F11: ­ 예금이자 | G11: 240000 | H11: × | I11: 1 | N11: = | O11: =G11*I11 -> 240000
D12: 623 보조금수익 | P12: 0 | Q12: 0 | R12: 0 | S12: 0
D13: 625 출자출연금수익 | P13: =SUM(P14:P16) -> 324988000 | Q13: =Q14 -> 231000000 | R13: =+P13-Q13 -> 93988000 | S13: =+R13/Q13 -> 0.40687446
E14: 625-2 지자체출자출연금 | P14: =ROUNDUP(O15,-3) -> 324988000 | Q14: 231000000 | R14: =+P14-Q14 -> 93988000 | S14: =+R14/Q14 -> 0.40687446
F15: ㅇ고양시지원금 | O15: =SUM(O16:O16) -> 324988000
F16: ­ 진로지원금 | G16: 324988000 | H16: × | I16: 1 | N16: = | O16: =G16*I16 -> 324988000

Sheet 예산세입(성사)
A1: 2018년 세입예산서(안)
A2: [일반회계] | R2: (단위:천원)
A3: 예산과목 | G3: 산출내역 | P3: 예산액 | Q3: 전년도 예산액 | R3: 증감 | S3: 증감률
A4: 장 | B4: 관 | C4: 항 | D4: 목 | E4: 세목 | F4: 세세목
A5: 성사청소년문화의집 | P5: =P6+P28 -> 358138000 | Q5: =Q6+Q28 -> 245371380 | R5: =+P5-Q5 -> 112766620 | S5: =+R5/Q5 -> 0.45957528
B6: 600 사업수익 | P6: =SUM(P7,P16) -> 344138000 | Q6: =SUM(Q7,Q16) -> 233650000 | R6: =+P6-Q6 -> 110488000 | S6: =+R6/Q6 -> 0.47287824
C7: 610 영업수익 | P7: =SUM(P8,P12) -> 12690000 | Q7: =SUM(Q8,Q12) -> 12000000 | R7: =+P7-Q7 -> 690000 | S7: =+R7/Q7 -> 0.0575
D8: 611 자체사업수익 | P8: =SUM(P9:P11) -> 8690000 | Q8: =SUM(Q9:Q11) -> 10000000 | R8: =+P8-Q8 -> -1310000 | S8: =+R8/Q8 -> -0.131
E9: 611-2 참가금수익 | P9: =SUM(O10) -> 8690000 | Q9: 10000000 | R9: =+P9-Q9 -> -1310000 | S9: =+R9/Q9 -> -0.131
F10: ㅇ교육프로그램 | O10: =SUM(O11:O11) -> 8690000
F11: ­ 청소년특강 | G11: 8690000 | H11: × | I11: 1 | N11: = | O11: =G11*I11 -> 8690000
D12: 617 기타영업수익 | P12: =SUM(P13:P15) -> 4000000 | Q12: =SUM(Q13:Q15) -> 2000000 | R12: =+P12-Q12 -> 2000000 | S12: =+R12/Q12 -> 1
E13: 617-1 시설사용료수익 | P13: =ROUNDUP(O14,-3) -> 4000000 | Q13: 2000000 | R13: =+P13-Q13 -> 2000000 | S13: =+R13/Q13 -> 1
F14: ㅇ대관수입 | O14: =SUM(O15) -> 4000000
F15: ­ 시설/장비사용료 | G15: 4000000 | H15: × | I15: 1 | N15: = | O15: =G15*I15 -> 4000000
C16: 620 영업외수익 | P16: =SUM(P17,P21,P24) -> 331448000 | Q16: =SUM(Q17,Q21,Q24) -> 221650000 | R16: =+P16-Q16 -> 109798000 | S16: =+R16/Q16 -> 0.49536657
D17: 621 이자수익 | P17: =SUM(P18:P20) -> 100000 | Q17: =SUM(Q18:Q20) -> 100000 | R17: =+P17-Q17 -> 0 | S17: =+R17/Q17 -> 0
E18: 621-1 예금이자수익 | P18: =ROUNDUP(O19,-3) -> 100000 | Q18: 100000 | R18: =+P18-Q18 -> 0 | S18: =+R18/Q18 -> 0
F19: ㅇ예금이자수익 | O19: =SUM(O20) -> 100000
F20: ­ 예금이자 | G20: 100000 | H20: × | I20: 1 | N20: = | O20: =G20*I20 -> 100000
D21: 623 보조금수익 | P21: =SUM(P22:P23) -> 0 | Q21: =SUM(Q22:Q23) -> 0 | R21: =+P21-Q21 -> 0 | S21: 0
E22: 623-1 국도시비보조금 | P22: =ROUNDUP(O23,-3) -> 0 | Q22: 0 | R22: =+P22-Q22 -> 0 | S22: 0
D24: 625 출자출연금수익 | P24: =P25 -> 331348000 | Q24: =Q25 -> 221550000 | R24: =+P24-Q24 -> 109798000 | S24: =+R24/Q24 -> 0.49559016
E25: 625-2 지자체출자출연금 | P25: =ROUNDUP(O26,-3) -> 331348000 | Q25: 221550000 | R25: =+P25-Q25 -> 109798000 | S25: =+R25/Q25 -> 0.49559016
F26: ㅇ고양시지원금 | O26: =SUM(O27) -> 331348000
F27: ­ 성사지원금 | G27: 331348000 | H27: × | I27: 1 | N27: = | O27: =G27*I27 -> 331348000
B28: 100 자본적수입 | P28: =P29 -> 14000000 | Q28: =Q29 -> 11721380 | R28: =+P28-Q28 -> 2278620 | S28: =+R28/Q28 -> 0.19439861
C29: 170 자본잉여금수입 | P29: =P30 -> 14000000 | Q29: =Q30 -> 11721380 | R29: =+P29-Q29 -> 2278620 | S29: =+R29/Q29 -> 0.19439861
D30: 172 이월금 | P30: =SUM(P31) -> 14000000 | Q30: =SUM(Q31) -> 11721380 | R30: =+P30-Q30 -> 2278620 | S30: =+R30/Q30 -> 0.19439861
E31: 172-3 전년도이월사업비 | P31: =O32 -> 14000000 | Q31: 11721380 | R31: =+P31-Q31 -> 2278620 | S31: =+R31/Q31 -> 0.19439861
F32: ㅇ전년도이월금 | O32: =SUM(O33) -> 14000000
F33: ­ 전년도이월금 | G33: 14000000 | H33: × | I33: 1 | N33: = | O33: =G33*I33 -> 14000000

Sheet 예산세입(탄현)
A1: 2018년 세입예산서(안)
A2: [일반회계] | R2: (단위:천원)
A3: 예산과목 | G3: 산출내역 | P3: 예산액 | Q3: 전년도 예산액 | R3: 증감 | S3: 증감률
A4: 장 | B4: 관 | C4: 항 | D4: 목 | E4: 세목 | F4: 세세목
A5: 탄현청소년문화의집 | P5: =P6+P40 -> 343038000 | Q5: =Q6+Q40 -> 261170000 | R5: =+P5-Q5 -> 81868000 | S5: =+R5/Q5 -> 0.31346632
B6: 600 사업수익 | P6: =SUM(P7,P27) -> 325038000 | Q6: =SUM(Q7,Q27) -> 246170000 | R6: =+P6-Q6 -> 78868000 | S6: =+R6/Q6 -> 0.32038023
C7: 610 영업수익 | P7: =SUM(P8,P21) -> 108850000 | Q7: =SUM(Q8,Q21) -> 93820000 | R7: =+P7-Q7 -> 15030000 | S7: =+R7/Q7 -> 0.16020038
D8: 611 자체사업수익 | P8: =SUM(P9,P16) -> 107650000 | Q8: =SUM(Q9,Q16) -> 90220000 | R8: =+P8-Q8 -> 17430000 | S8: =+R8/Q8 -> 0.19319441
E9: 611-1 사업운영수익 | P9: =O10 -> 100400000 | Q9: 59220000 | R9: =+P9-Q9 -> 41180000 | S9: =+R9/Q9 -> 0.69537318
F10: ㅇ별빛학당 | O10: =SUM(O11:O15) -> 100400000
F11: ­ 청소년 GX | G11: 40000 | H11: × | I11: 46 | J11: × | K11: 12 | N11: = | O11: =G11*I11*K11 -> 22080000
F12: ­ 청소년 문화예술 | G12: 40000 | H12: × | I12: 32 | J12: × | K12: 12 | N12: = | O12: =G12*I12*K12 -> 15360000
F13: ­ 청소년 여가취미 | G13: 40000 | H13: × | I13: 21 | J13: × | K13: 12 | N13: = | O13: =G13*I13*K13 -> 10080000
F14: ­ 청소년 방학특강 | G14: 40000 | H14: × | I14: 31 | J14: × | K14: 2 | N14: = | O14: =G14*I14*K14 -> 2480000
F15: ­ 성인 여가취미 | G15: 40000 | H15: × | I15: 105 | J15: × | K15: 12 | N15: = | O15: =G15*I15*K15 -> 50400000
E16: 611-2 참가금수익 | P16: =SUM(O18:O20) -> 7250000 | Q16: 31000000 | R16: =+P16-Q16 -> -23750000 | S16: =+R16/Q16 -> -0.76612903
F17: 참가금수익 | O17: =SUM(O18:O20) -> 7250000
F18: ㅇ 프로그램 참가비 | G18: 3750 | H18: × | I18: 20 | J18: × | K18: 12 | N18: = | O18: =G18*I18*K18 -> 900000
F19: ㅇ 캠프 참가비 | G19: 50000 | H19: × | I19: 25 | J19: × | K19: 1 | N19: = | O19: =G19*I19*K19 -> 1250000
F20: ㅇ 국제청소년활동 참가비 | G20: 340000 | H20: × | I20: 15 | J20: × | K20: 1 | N20: = | O20: =G20*I20*K20 -> 5100000
D21: 617 기타영업수익 | P21: =SUM(P22) -> 1200000 | Q21: =SUM(Q22,Q26) -> 3600000 | R21: =+P21-Q21 -> -2400000 | S21: =+R21/Q21 -> -0.66666667
E22: 617-1 시설사용료수익 | P22: =O23 -> 1200000 | Q22: 2400000 | R22: =+P22-Q22 -> -1200000 | S22: =+R22/Q22 -> -0.5
F23: ㅇ시설사용료수익 | O23: =SUM(O24:O25) -> 1200000
F24: ­ 대관사용료 | G24: 20000 | H24: × | I24: 4 | J24: × | K24: 12 | N24: = | O24: =G24*I24*K24 -> 960000
F25: ­ 노래방사용료 | G25: 1000 | H25: × | I25: 20 | J25: × | K25: 12 | N25: = | O25: =G25*I25*K25 -> 240000
E26: 617-3 기타수수료수입 | P26: =O27 -> 0 | Q26: 1200000 | R26: =+P26-Q26 -> -1200000 | S26: =+R26/Q26 -> -1
C27: 620 영업외수익 | P27: =SUM(P28,P32,P36) -> 216188000 | Q27: =SUM(Q28,Q32,Q36) -> 152350000 | R27: =+P27-Q27 -> 63838000 | S27: =+R27/Q27 -> 0.41902199
D28: 621 이자수익 | P28: =P29 -> 100000 | Q28: =Q29 -> 100000 | R28: =+P28-Q28 -> 0 | S28: =+R28/Q28 -> 0
E29: 621-1 예금이자수익 | P29: =O30 -> 100000 | Q29: 100000 | R29: =+P29-Q29 -> 0 | S29: =+R29/Q29 -> 0
F30: ㅇ예금이자수익 | O30: =SUM(O31:O31) -> 100000
F31: ­ 예금이자 | G31: 100000 | H31: × | I31: 1 | N31: = | O31: =G31*I31 -> 100000
D32: 623 보조금수익 | P32: =P33 -> 0 | Q32: =Q33 -> 0 | R32: =+P32-Q32 -> 0 | S32: 0
E33: 623-1 국도시비보조금 | P33: =ROUNDUP(O34,-3) -> 0 | Q33: 0 | R33: =+P33-Q33 -> 0 | S33: 0
D36: 625 출자출연금수익 | P36: =P37 -> 216088000 | Q36: =Q37 -> 152250000 | R36: =+P36-Q36 -> 63838000 | S36: =+R36/Q36 -> 0.41929721
E37: 625-2 지자체출자출연금 | P37: =ROUNDUP(O38,-3) -> 216088000 | Q37: 152250000 | R37: =+P37-Q37 -> 63838000 | S37: =+R37/Q37 -> 0.41929721
F38: ㅇ 고양시지원금 | O38: =SUM(O39:O39) -> 216088000
F39: ­ 탄현지원금 | G39: 216088000 | H39: × | I39: 1 | N39: = | O39: =G39 -> 216088000
B40: 100 자본적수입 | P40: =P41 -> 18000000 | Q40: =Q41 -> 15000000 | R40: =+P40-Q40 -> 3000000 | S40: =+R40/Q40 -> 0.2
C41: 170 자본잉여금수입 | P41: =P42 -> 18000000 | Q41: =Q42 -> 15000000 | R41: =+P41-Q41 -> 3000000 | S41: =+R41/Q41 -> 0.2
D42: 172 이월금 | P42: =SUM(P43) -> 18000000 | Q42: =SUM(Q43) -> 15000000 | R42: =+P42-Q42 -> 3000000 | S42: =+R42/Q42 -> 0.2
E43: 172-3 전년도이월사업비 | P43: =O44 -> 18000000 | Q43: 15000000 | R43: =+P43-Q43 -> 3000000 | S43: =+R43/Q43 -> 0.2
F44: ㅇ전년도이월금 | O44: =SUM(O45) -> 18000000
F45: ­ 2017년수익이월금 | G45: 18000000 | H45: × | I45: 1 | N45: = | O45: =G45*I45 -> 18000000

Sheet 예산세입(주교)
A1: 2018년 세입예산서(안)
A2: [일반회계] | R2: (단위:천원)
A3: 예산과목 | G3: 산출내역 | P3: 예산액 | Q3: 전년도 예산액 | R3: 증감 | S3: 증감률
A4: 장 | B4: 관 | C4: 항 | D4: 목 | E4: 세목 | F4: 세세목
A5: 주교동청소년카페 | P5: =P6+P24 -> 66689000 | Q5: =Q6+Q24 -> 50660000 | R5: =R6+R24 -> 16029000 | S5: =+R5/Q5 -> 0.31640347
B6: 600 사업수익 | P6: =SUM(P7,P11) -> 66679000 | Q6: =SUM(Q7,Q11) -> 49260000 | R6: =+P6-Q6 -> 17419000 | S6: =+R6/Q6 -> 0.35361348
C7: 610 영업수익 | P7: =SUM(P8) -> 1480000 | Q7: =SUM(Q8) -> 2000000 | R7: =+P7-Q7 -> -520000 | S7: =+R7/Q7 -> -0.26
D8: 611 자체사업수익 | P8: =SUM(P9:P10) -> 1480000 | Q8: =SUM(Q9:Q10) -> 2000000 | R8: =+P8-Q8 -> -520000 | S8: =+R8/Q8 -> -0.26
E9: 611-1 사업운영수익 | P9: =ROUNDUP((O10),-3) -> 1480000 | Q9: 2000000 | R9: =+P9-Q9 -> -520000 | S9: =+R9/Q9 -> -0.26
F10: ㅇ교육프로그램 참가비 | G10: 1480000 | H10: × | I10: 1 | N10: = | O10: =G10*I10 -> 1480000
C11: 620 영업외수익 | P11: =P12+P20 -> 65199000 | Q11: =SUM(Q12,Q16,Q20) -> 47260000 | R11: =+P11-Q11 -> 17939000 | S11: =+R11/Q11 -> 0.37958104
D12: 621 이자수익 | P12: =P13 -> 10000 | Q12: =SUM(Q13:Q15) -> 10000 | R12: =+P12-Q12 -> 0 | S12: =+R12/Q12 -> 0
E13: 621-1 예금이자수익 | P13: =ROUNDUP(O14,-3) -> 10000 | Q13: 10000 | R13: =+P13-Q13 -> 0 | S13: =+R13/Q13 -> 0
F14: ㅇ예금이자수익 | O14: =SUM(O15) -> 10000
F15: ­ 예금이자 | G15: 10000 | H15: × | I15: 1 | N15: = | O15: =G15*I15 -> 10000
D16: 623 보조금수익 | P16: 0 | Q16: 0 | R16: 0 | S16: 0
E17: 623-1 기타보조금수익 | P17: 0 | Q17: 0 | R17: 0 | S17: 0
F18: ㅇ공모지원금 | O18: =SUM(O19:O19) -> 0
F19: ­공모지원금 | H19: × | N19: = | O19: =G19*I19 -> 0
D20: 625 출자출연금수익 | P20: =SUM(P21:P23) -> 65189000 | Q20: =Q21 -> 47250000 | R20: =+P20-Q20 -> 17939000 | S20: =+R20/Q20 -> 0.37966138
E21: 625-2 지자체출자출연금 | P21: =ROUNDUP(O22,-3) -> 65189000 | Q21: 47250000 | R21: =+P21-Q21 -> 17939000 | S21: =+R21/Q21 -> 0.37966138
F22: ㅇ고양시지원금 | O22: =SUM(O23:O23) -> 65189000
F23: ­ 주교지원금 | G23: 65189000 | H23: × | I23: 1 | N23: = | O23: =G23*I23 -> 65189000
B24: 100 자본적수입 | P24: =P25 -> 10000 | Q24: =Q25 -> 1400000 | R24: =+P24-Q24 -> -1390000 | S24: =+R24/Q24 -> -0.99285714
C25: 170 자본잉여금수입 | P25: =P26 -> 10000 | Q25: =SUM(Q26) -> 1400000 | R25: =+P25-Q25 -> -1390000 | S25: =+R25/Q25 -> -0.99285714
D26: 172 이월금 | P26: =SUM(P27) -> 10000 | Q26: =SUM(Q27) -> 1400000 | R26: =+P26-Q26 -> -1390000 | S26: =+R26/Q26 -> -0.99285714
E27: 172-03 전년도이월사업비 | P27: =O28 -> 10000 | Q27: 1400000 | R27: =+P27-Q27 -> -1390000 | S27: =+R27/Q27 -> -0.99285714
F28: ㅇ전년도이월금 | O28: =SUM(O29) -> 10000
F29: ­ 2017년사업비이월금 | G29: 10000 | H29: × | I29: 1 | N29: = | O29: =+I29*G29 -> 10000

Sheet 예산세입(일산서구)
A1: 2018년 세입예산서(안)
A2: [일반회계] | R2: (단위:천원)
A3: 예산과목 | G3: 산출내역 | P3: 예산액 | Q3: 전년도 예산액 | R3: 증감 | S3: 증감률
A4: 장 | B4: 관 | C4: 항 | D4: 목 | E4: 세목 | F4: 세세목
A5: 일산서구청소년수련관 | P5: =P6 -> 1775783000 | Q5: =Q6 -> 0 | R5: =+P5-Q5 -> 1775783000 | S5: 1
B6: 600 사업수익 | P6: =SUM(P7,P40) -> 1775783000 | Q6: =SUM(Q7,Q40) -> 0 | R6: =+P6-Q6 -> 1775783000 | S6: 1
C7: 610 영업수익 | P7: =SUM(P8,P27,P36) -> 575550000 | Q7: =SUM(Q8,Q27,Q36) -> 0 | R7: =+P7-Q7 -> 575550000 | S7: 1
D8: 611 자체사업수익 | P8: =SUM(P9:P26) -> 529550000 | Q8: =SUM(Q9:Q26) -> 0 | R8: =+P8-Q8 -> 529550000 | S8: 1
E9: 611-1 사업운영수익 | P9: =ROUNDUP((O10+O12+O14+O16+O19),-3) -> 387150000 | Q9: 0 | R9: =+P9-Q9 -> 387150000 | S9: 1
F10: ㅇ교육문화프로그램 | O10: =O11 -> 63000000
F11: - 기타교실 외 12강좌 | G11: 36000 | H11: × | I11: 7 | J11: × | K11: 25 | L11: × | M11: 10 | N11: = | O11: =G11*I11*K11*M11 -> 63000000
F12: ㅇG.X.프로그램 | O12: =O13 -> 129500000
F13: - 요가 외 9강좌 | G13: 35000 | H13: × | I13: 10 | J13: × | K13: 37 | L13: × | M13: 10 | N13: = | O13: =G13*I13*K13*M13 -> 129500000
F14: ㅇ생활체육프로그램 | O14: =O15 -> 92400000
F15: - 음악줄넘기 외 4강좌 | G15: 35000 | H15: × | I15: 12 | J15: × | K15: 22 | L15: × | M15: 10 | N15: = | O15: =G15*I15*K15*M15 -> 92400000
F16: ㅇ휘트니스 | O16: =SUM(O17:O18) -> 55000000
F17: ­ 휘트니스(청소년) | G17: 20000 | H17: × | I17: 110 | J17: × | K17: 1 | L17: × | M17: 10 | N17: = | O17: =G17*I17*K17*M17 -> 22000000
F18: ­ 휘트니스(성인) | G18: 30000 | H18: × | I18: 110 | J18: × | K18: 1 | L18: × | M18: 10 | N18: = | O18: =G18*I18*K18*M18 -> 33000000
F19: ㅇ놀토(놀라운토요일)학교 | O19: =O20 -> 47250000
F20: - 청소년농구 외 8강좌 | G20: 35000 | H20: × | I20: 9 | J20: × | K20: 15 | L20: × | M20: 10 | N20: = | O20: =G20*I20*K20*M20 -> 47250000
E21: 611-2 참가금수익 | P21: =SUM(O22:O26) -> 142400000 | Q21: 0 | R21: =+P21-Q21 -> 142400000 | S21: 1
F22: ㅇ고양형평화통일사업 | G22: 30000 | H22: × | I22: 30 | N22: = | O22: =G22*I22 -> 900000
F23: ㅇ학교연계참가비 | G23: 1000000 | H23: × | I23: 10 | N23: = | O23: =+I23*G23 -> 10000000
F24: ㅇ청소년문화캠프 | G24: 50000 | H24: × | I24: 30 | N24: = | O24: =+I24*G24 -> 1500000
F25: ㅇ청소년글로벌캠프 | G25: 4000000 | H25: × | I25: 30 | N25: = | O25: =+I25*G25 -> 120000000
F26: ㅇ국가간청소년교류캠프 | G26: 500000 | H26: × | I26: 20 | N26: = | O26: =+I26*G26 -> 10000000
D27: 617 기타영업수익 | P27: =SUM(P28:P35) -> 3500000 | Q27: =SUM(Q28,Q31) -> 0 | R27: =+P27-Q27 -> 3500000 | S27: 1
E28: 617-1 시설사용료수익 | P28: =ROUNDUP(O29,-3) -> 2000000 | Q28: 0 | R28: =+P28-Q28 -> 2000000 | S28: 1
F29: ㅇ대관수입 | O29: =SUM(O30:O30) -> 2000000
F30: ­ 대관사용료 | G30: 100000 | H30: × | I30: 2 | J30: × | K30: 10 | N30: = | O30: =G30*I30*K30 -> 2000000
E31: 617-3 기타수수료수입 | P31: =ROUNDUP(O32+O34,-3) -> 1500000 | Q31: 0 | R31: =+P31-Q31 -> 1500000 | S31: 1
F32: ㅇ부가가치세환급 | O32: =SUM(O33:O33) -> 1400000
F33: ­ 부가세환급 | G33: 350000 | H33: × | I33: 4 | N33: = | O33: =SUM(G33*I33) -> 1400000
F34: ㅇ기타수입 | O34: =SUM(O35:O35) -> 100000
F35: ­ 기타수입 | G35: 100000 | H35: × | I35: 1 | N35: = | O35: =SUM(G35*I35) -> 100000
D36: 618 판매수익 | P36: =SUM(P37:P39) -> 42500000 | Q36: =+Q37 -> 0 | R36: =+P36-Q36 -> 42500000 | S36: 1
E37: 618-1 상품판매수익 | P37: =ROUNDUP(O38,-3) -> 42500000 | Q37: 0 | R37: =+P37-Q37 -> 42500000 | S37: 1
F38: ㅇ북카페운영 | O38: =SUM(O39:O39) -> 42500000
F39: ­ 판매수입 | G39: 2500 | H39: × | I39: 68 | J39: × | K39: 25 | L39: × | M39: 10 | N39: = | O39: =G39*I39*K39*M39 -> 42500000
C40: 620 영업외수익 | P40: =SUM(P41,P53) -> 1200233000 | Q40: =SUM(Q41,Q45,Q53) -> 0 | R40: =+P40-Q40 -> 1200233000 | S40: 1
D41: 621 이자수익 | P41: =SUM(P42:P44) -> 233000 | Q41: =+Q42 -> 0 | R41: =+P41-Q41 -> 233000 | S41: 1
E42: 621-1 예금이자수익 | P42: =ROUNDUP(O43,-3) -> 233000 | Q42: 0 | R42: =+P42-Q42 -> 233000 | S42: 1
F43: ㅇ예금이자수익 | O43: =SUM(O44:O44) -> 233000
F44: ­ 예금이자 | G44: 233000 | H44: × | I44: 1 | N44: = | O44: =G44*I44 -> 233000
D45: 623 보조금수익 | P45: =SUM(P46:P52) -> 0 | Q45: =SUM(Q46,Q50) -> 0 | R45: =+P45-Q45 -> 0 | S45: 0
E46: 623-1 국도시비보조금 | P46: =O47 -> 0 | Q46: =+O47 -> 0 | R46: =+P46-Q46 -> 0 | S46: 0
F47: ㅇ외부공모사업금 | O47: =SUM(O48:O49) -> 0
F48: ­ 동아리지원
F49: ­ 국가교류
E50: 623-1 경기도교육청 | P50: =O51 -> 0 | Q50: =+O51 -> 0 | R50: =+P50-Q50 -> 0 | S50: 0
F51: ㅇ공모사업금 | O51: =+O52 -> 0
F52: ­ 청소년활동
D53: 625 출자출연금수익 | P53: =SUM(P54:P56) -> 1200000000 | Q53: =+Q54 -> 0 | R53: =+P53-Q53 -> 1200000000 | S53: 1
E54: 625-2 지자체출자출연금 | P54: =ROUNDUP(O55,-3) -> 1200000000 | Q54: 0 | R54: =+P54-Q54 -> 1200000000 | S54: 1
F55: ㅇ고양시지원금 | O55: =SUM(O56:O56) -> 1200000000
F56: ­ 일산서구지원금 | G56: 1200000000 | H56: × | I56: 1 | N56: = | O56: =G56 -> 1200000000

Sheet 예산세입(토당)
A1: 2018년 세입예산서(안)
A2: [일반회계] | R2: (단위:천원)
A3: 예산과목 | G3: 산출내역 | P3: 예산액 | Q3: 전년도 예산액 | R3: 증감 | S3: 증감률
A4: 장 | B4: 관 | C4: 항 | D4: 목 | E4: 세목 | F4: 세세목
A5: 토당청소년수련관 | P5: =P6 -> 1705842000 | Q5: =Q6 -> 1271000000 | R5: =P5-Q5 -> 434842000 | S5: =+R5/Q5 -> 0.34212589
B6: 600 사업수익 | P6: =SUM(P7,P132) -> 1705842000 | Q6: =SUM(Q7,Q132) -> 1271000000 | R6: =+P6-Q6 -> 434842000 | S6: =+R6/Q6 -> 0.34212589
C7: 610 영업수익 | P7: =P8+P117+P124 -> 832842000 | Q7: =Q8+Q117+Q124 -> 433307000 | R7: =+P7-Q7 -> 399535000 | S7: =+R7/Q7 -> 0.92205988
D8: 611 자체사업수익 | P8: =SUM(P9+P100) -> 736180000 | Q8: =SUM(Q9+Q100) -> 356020000 | R8: =+P8-Q8 -> 380160000 | S8: =+R8/Q8 -> 1.0678052
E9: 611-1 사업운영수익 | P9: =ROUNDUP((O10),-3) -> 455740000 | Q9: 310820000 | R9: =+P9-Q9 -> 144920000 | S9: =+R9/Q9 -> 0.46625056
F10: ㅇ교육문화프로그램 | O10: =SUM(O11,O13,O15,O17,O20,O22,O24,O30,O35,O38,O40,O43,O45,O50,O53,O56,O59,O63,O65,O67,O69,O72,O74,O77,O81,O84,O86,O88,O92,O94,O97) -> 455740000
F11: ­ 발레 | O11: =SUM(O12) -> 28800000
F12: 청소년 | G12: 40000 | H12: × | I12: 30 | J12: × | K12: 12 | L12: × | M12: 2 | N12: = | O12: =G12*I12*K12*M12 -> 28800000
F13: ­ 건강요가 | O13: =SUM(O14) -> 14400000
F14: 성인, 청소년 | G14: 30000 | H14: × | I14: 40 | J14: × | K14: 12 | L14: × | M14: 1 | N14: = | O14: =G14*I14*K14*M14 -> 14400000
F15: ­ 인라인안전교실 | O15: =SUM(O16) -> 18000000
F16: 청소년 | G16: 50000 | H16: × | I16: 15 | J16: × | K16: 8 | L16: × | M16: 3 | N16: = | O16: =G16*I16*K16*M16 -> 18000000
F17: ­ 키성장 농구 | O17: =SUM(O18:O19) -> 25200000
F18: 청소년 | G18: 45000 | H18: × | I18: 15 | J18: × | K18: 12 | L18: × | M18: 2 | N18: = | O18: =G18*I18*K18*M18 -> 16200000
F19: 청소년 | G19: 50000 | H19: × | I19: 15 | J19: × | K19: 12 | L19: × | M19: 1 | N19: = | O19: =G19*I19*K19*M19 -> 9000000
F20: ­ 방송댄스 | O20: =SUM(O21) -> 9000000
F21: 청소년 | G21: 25000 | H21: × | I21: 30 | J21: × | K21: 12 | L21: × | M21: 1 | N21: = | O21: =G21*I21*K21*M21 -> 9000000
F22: ­ 신나는 음악줄넘기 | O22: =SUM(O23) -> 6000000
F23: 청소년 | G23: 25000 | H23: × | I23: 20 | J23: × | K23: 12 | L23: × | M23: 1 | N23: = | O23: =G23*I23*K23*M23 -> 6000000
F24: ­ 스쿼시 | O24: =SUM(O25:O29) -> 91200000
F25: 성인 | G25: 55000 | H25: × | I25: 70 | J25: × | K25: 12 | L25: × | M25: 1 | N25: = | O25: =G25*I25*K25*M25 -> 46200000
F26: 청소년 | G26: 40000 | H26: × | I26: 60 | J26: × | K26: 12 | L26: × | M26: 1 | N26: = | O26: =G26*I26*K26*M26 -> 28800000
F27: 자유스쿼시 | G27: 60000 | H27: × | I27: 20 | J27: × | K27: 12 | L27: × | M27: 1 | N27: = | O27: =G27*I27*K27*M27 -> 14400000
F28: 자유스쿼시(토) | G28: 20000 | H28: × | I28: 5 | J28: × | K28: 12 | L28: × | M28: 1 | N28: = | O28: =G28*I28*K28*M28 -> 1200000
F29: 자유스쿼시(일) | G29: 5000 | H29: × | I29: 10 | J29: × | K29: 12 | L29: × | M29: 1 | N29: = | O29: =G29*I29*K29*M29 -> 600000
F30: ­ 헬스 | O30: =SUM(O31:O34) -> 37600000
F31: 성인(1개월) | G31: 31000 | H31: × | I31: 30 | J31: × | K31: 12 | L31: × | M31: 1 | N31: = | O31: =G31*I31*K31*M31 -> 11160000
F32: 성인(3개월) | G32: 81000 | H32: × | I32: 30 | J32: × | K32: 4 | L32: × | M32: 1 | N32: = | O32: =G32*I32*K32*M32 -> 9720000
F33: 청소년(1개월) | G33: 20000 | H33: × | I33: 60 | J33: × | K33: 12 | L33: × | M33: 1 | N33: = | O33: =G33*I33*K33*M33 -> 14400000
F34: 청소년(3개월) | G34: 58000 | H34: × | I34: 10 | J34: × | K34: 4 | L34: × | M34: 1 | N34: = | O34: =G34*I34*K34*M34 -> 2320000
F35: - 헬스(건강한 몸집중관리) | O35: =SUM(O36:O37) -> 6720000
F36: 성인 | G36: 100000 | H36: × | I36: 4 | J36: × | K36: 12 | L36: × | M36: 1 | N36: = | O36: =G36*I36*K36*M36 -> 4800000
F37: 청소년 | G37: 80000 | H37: × | I37: 2 | J37: × | K37: 12 | L37: × | M37: 1 | N37: = | O37: =G37*I37*K37*M37 -> 1920000
F38: - 헬스(키쑥 건강 프로그램) | O38: =SUM(O39) -> 960000
F39: 청소년 | G39: 40000 | H39: × | I39: 2 | J39: × | K39: 12 | L39: × | M39: 1 | N39: = | O39: =G39*I39*K39*M39 -> 960000
F40: - 헬스(배쑥 건강 프로그램) | O40: =SUM(O41:O42) -> 2700000
F41: 성인 | G41: 40000 | H41: × | I41: 3 | J41: × | K41: 12 | L41: × | M41: 1 | N41: = | O41: =G41*I41*K41*M41 -> 1440000
F42: 청소년 | G42: 35000 | H42: × | I42: 3 | J42: × | K42: 12 | L42: × | M42: 1 | N42: = | O42: =G42*I42*K42*M42 -> 1260000
F43: ­ 태권도 및 호신술 | O43: =SUM(O44) -> 12600000
F44: 청소년 | G44: 35000 | H44: × | I44: 30 | J44: × | K44: 12 | L44: × | M44: 1 | N44: = | O44: =G44*I44*K44*M44 -> 12600000
F45: ­ 피아노 | O45: =SUM(O46:O49) -> 60480000
F46: 청소년( 주3회) | G46: 50000 | H46: × | I46: 9 | J46: × | K46: 12 | L46: × | M46: 4 | N46: = | O46: =G46*I46*K46*M46 -> 21600000
F47: 청소년( 주2회) | G47: 40000 | H47: × | I47: 9 | J47: × | K47: 12 | L47: × | M47: 4 | N47: = | O47: =G47*I47*K47*M47 -> 17280000
F48: 성인( 주3회) | G48: 55000 | H48: × | I48: 6 | J48: × | K48: 12 | L48: × | M48: 3 | N48: = | O48: =G48*I48*K48*M48 -> 11880000
F49: 성인( 주2회) | G49: 45000 | H49: × | I49: 6 | J49: × | K49: 12 | L49: × | M49: 3 | N49: = | O49: =G49*I49*K49*M49 -> 9720000
F50: ­ 통기타, 클래식기타, 우크렐레 | O50: =SUM(O51:O52) -> 9600000
F51: 청소년 | G51: 35000 | H51: × | I51: 10 | J51: × | K51: 12 | L51: × | M51: 1 | N51: = | O51: =G51*I51*K51*M51 -> 4200000
F52: 성인 | G52: 45000 | H52: × | I52: 10 | J52: × | K52: 12 | L52: × | M52: 1 | N52: = | O52: =G52*I52*K52*M52 -> 5400000
F53: ­ 바이올린 | O53: =SUM(O54:O55) -> 7800000
F54: 청소년 | G54: 30000 | H54: × | I54: 10 | J54: × | K54: 12 | L54: × | M54: 1 | N54: = | O54: =G54*I54*K54*M54 -> 3600000
F55: 성인 | G55: 35000 | H55: × | I55: 10 | J55: × | K55: 12 | L55: × | M55: 1 | N55: = | O55: =G55*I55*K55*M55 -> 4200000
F56: ­ 보컬트레이닝 | O56: =SUM(O57:O58) -> 5700000
F57: 청소년 | G57: 30000 | H57: × | I57: 10 | J57: × | K57: 12 | L57: × | M57: 1 | N57: = | O57: =G57*I57*K57*M57 -> 3600000
F58: 성인 | G58: 35000 | H58: × | I58: 5 | J58: × | K58: 12 | L58: × | M58: 1 | N58: = | O58: =G58*I58*K58*M58 -> 2100000
F59: ­ 유화 | O59: =SUM(O60:O62) -> 10560000
F60: 청소년 | G60: 30000 | H60: × | I60: 2 | J60: × | K60: 12 | L60: × | M60: 3 | N60: = | O60: =G60*I60*K60*M60 -> 2160000
F61: 성인 | G61: 35000 | H61: × | I61: 3 | J61: × | K61: 12 | L61: × | M61: 6 | N61: = | O61: =G61*I61*K61*M61 -> 7560000
F62: 보강료 | G62: 10000 | H62: × | I62: 7 | J62: × | K62: 12 | L62: × | M62: 1 | N62: = | O62: =G62*I62*K62*M62 -> 840000
F63: ­ 한국화 | O63: =SUM(O64) -> 6300000
F64: 성인 | G64: 35000 | H64: × | I64: 15 | J64: × | K64: 12 | L64: × | M64: 1 | N64: = | O64: =G64*I64*K64*M64 -> 6300000
F65: ­ 미술창작 | O65: =SUM(O66) -> 10800000
F66: 청소년 | G66: 30000 | H66: × | I66: 15 | J66: × | K66: 12 | L66: × | M66: 2 | N66: = | O66: =G66*I66*K66*M66 -> 10800000
F67: ­ 자신감 UP 유아미술 | O67: =SUM(O68) -> 10800000
F68: 유아 | G68: 30000 | H68: × | I68: 15 | J68: × | K68: 12 | L68: × | M68: 2 | N68: = | O68: =G68*I68*K68*M68 -> 10800000
F69: ­ 데생 | O69: =SUM(O70:O71) -> 13500000
F70: 청소년 | G70: 40000 | H70: × | I70: 5 | J70: × | K70: 12 | L70: × | M70: 3 | N70: = | O70: =G70*I70*K70*M70 -> 7200000
F71: 성인 | G71: 35000 | H71: × | I71: 5 | J71: × | K71: 12 | L71: × | M71: 3 | N71: = | O71: =G71*I71*K71*M71 -> 6300000
F72: ­ 칼라클레이 | O72: =SUM(O73) -> 3600000
F73: 유아, 청소년 | G73: 30000 | H73: × | I73: 5 | J73: × | K73: 12 | L73: × | M73: 2 | N73: = | O73: =G73*I73*K73*M73 -> 3600000
F74: ­ 수채화 | O74: =SUM(O75:O76) -> 5400000
F75: 청소년 | G75: 40000 | H75: × | I75: 5 | J75: × | K75: 12 | L75: × | M75: 1 | N75: = | O75: =G75*I75*K75*M75 -> 2400000
F76: 성인 | G76: 25000 | H76: × | I76: 10 | J76: × | K76: 12 | L76: × | M76: 1 | N76: = | O76: =G76*I76*K76*M76 -> 3000000
F77: ­ 바리스타 | O77: =SUM(O78:O80) -> 10920000
F78: 청소년 | G78: 75000 | H78: × | I78: 3 | J78: × | K78: 12 | L78: × | M78: 1 | N78: = | O78: =G78*I78*K78*M78 -> 2700000
F79: 성인 | G79: 95000 | H79: × | I79: 3 | J79: × | K79: 12 | L79: × | M79: 1 | N79: = | O79: =G79*I79*K79*M79 -> 3420000
F80: 자격증반 | G80: 200000 | H80: × | I80: 2 | J80: × | K80: 12 | L80: × | M80: 1 | N80: = | O80: =G80*I80*K80*M80 -> 4800000
F81: ­ 캘리크라피, 서예 | O81: =SUM(O82:O83) -> 3900000
F82: 청소년 | G82: 30000 | H82: × | I82: 5 | J82: × | K82: 12 | L82: × | M82: 1 | N82: = | O82: =G82*I82*K82*M82 -> 1800000
F83: 성인 | G83: 35000 | H83: × | I83: 5 | J83: × | K83: 12 | L83: × | M83: 1 | N83: = | O83: =G83*I83*K83*M83 -> 2100000
F84: ­ 상상의 나래(종이접기) | O84: =SUM(O85) -> 3600000
F85: 청소년 | G85: 30000 | H85: × | I85: 10 | J85: × | K85: 12 | L85: × | M85: 1 | N85: = | O85: =G85*I85*K85*M85 -> 3600000
F86: ­ 풍물 | O86: =SUM(O87) -> 3600000
F87: 장애 청소년 가족 | G87: 15000 | H87: × | I87: 20 | J87: × | K87: 12 | L87: × | M87: 1 | N87: = | O87: =G87*I87*K87*M87 -> 3600000
F88: ­ 도예 | O88: =SUM(O89:O91) -> 10500000
F89: 청소년 | G89: 35000 | H89: × | I89: 5 | J89: × | K89: 12 | L89: × | M89: 1 | N89: = | O89: =G89*I89*K89*M89 -> 2100000
F90: 성인(물레반) | G90: 70000 | H90: × | I90: 5 | J90: × | K90: 12 | L90: × | M90: 1 | N90: = | O90: =G90*I90*K90*M90 -> 4200000
F91: 성인 | G91: 35000 | H91: × | I91: 10 | J91: × | K91: 12 | L91: × | M91: 1 | N91: = | O91: =G91*I91*K91*M91 -> 4200000
F92: ­ 과학체험활동 | O92: =SUM(O93) -> 4500000
F93: 청소년 | G93: 25000 | H93: × | I93: 15 | J93: × | K93: 12 | L93: × | M93: 1 | N93: = | O93: =G93*I93*K93*M93 -> 4500000
F94: ­ 영어 | O94: =SUM(O95:O96) -> 8400000
F95: 청소년 | G95: 45000 | H95: × | I95: 5 | J95: × | K95: 12 | L95: × | M95: 2 | N95: = | O95: =G95*I95*K95*M95 -> 5400000
F96: 성인 | G96: 50000 | H96: × | I96: 5 | J96: × | K96: 12 | L96: × | M96: 1 | N96: = | O96: =G96*I96*K96*M96 -> 3000000
F97: ­ 중국어 | O97: =SUM(O98:O99) -> 12600000
F98: 청소년 | G98: 40000 | H98: × | I98: 10 | J98: × | K98: 12 | L98: × | M98: 2 | N98: = | O98: =G98*I98*K98*M98 -> 9600000
F99: 성인 | G99: 50000 | H99: × | I99: 5 | J99: × | K99: 12 | L99: × | M99: 1 | N99: = | O99: =G99*I99*K99*M99 -> 3000000
E100: 611-1 참가금수익 | P100: =SUM(O101,O104:O116) -> 280440000 | Q100: 45200000 | R100: =+P100-Q100 -> 235240000 | S100: =+R100/Q100 -> 5.2044248
...

Sheet 예산세입(상담)
A1: 2018년 세입예산서(안)
A2: [일반회계] | R2: (단위:천원)
A3: 예산과목 | G3: 산출내역 | P3: 예산액 | Q3: 전년도 예산액 | R3: 증감 | S3: 증감률
A4: 장 | B4: 관 | C4: 항 | D4: 목 | E4: 세목 | F4: 세세목
A5: 고양시청소년상담복지센터 | P5: =P6 -> 343577000 | Q5: =Q6 -> 252040000 | R5: =+P5-Q5 -> 91537000 | S5: =+R5/Q5 -> 0.36318442
B6: 600 사업수익 | P6: =P7+P14 -> 343577000 | Q6: =Q7+Q14 -> 252040000 | R6: =+P6-Q6 -> 91537000 | S6: =+R6/Q6 -> 0.36318442
C7: 610 영업수익 | P7: =SUM(P8) -> 20160000 | Q7: =SUM(Q8) -> 21040000 | R7: =+P7-Q7 -> -880000 | S7: =+R7/Q7 -> -0.041825095
D8: 611 자체사업수익 | P8: =SUM(P9:P13) -> 20160000 | Q8: =SUM(Q9:Q13) -> 21040000 | R8: =+P8-Q8 -> -880000 | S8: =+R8/Q8 -> -0.041825095
E9: 611-1 사업운영수익 | P9: =ROUNDUP((O10),-3) -> 20160000 | Q9: 21040000 | R9: =+P9-Q9 -> -880000 | S9: =+R9/Q9 -> -0.041825095
F10: ㅇ프로그램 | O10: =SUM(O11:O13) -> 20160000
F11: ­ 놀이치료 | G11: 30000 | H11: × | I11: 10 | J11: × | K11: 4 | L11: × | M11: 12 | N11: = | O11: =+G11*I11*K11*M11 -> 14400000
F12: ­ 심리검사 | G12: 10000 | H12: × | I12: 8 | J12: × | K12: 12 | N12: = | O12: =+G12*I12*K12 -> 960000
F13: ­ 집단및상설 | G13: 50000 | H13: × | I13: 8 | J13: × | K13: 12 | N13: = | O13: =+G13*I13*K13 -> 4800000
C14: 620 영업외수익 | P14: =P15+P19 -> 323417000 | Q14: =Q15+Q19 -> 231000000 | R14: =+P14-Q14 -> 92417000 | S14: =+R14/Q14 -> 0.40007359
D15: 621 이자수익 | P15: =P16 -> 24000 | Q15: =Q16 -> 0 | R15: =+P15-Q15 -> 24000 | S15: 1
E16: 621-1 예금이자수익 | P16: =ROUNDUP(O17,-3) -> 24000 | Q16: =Q18 -> 0 | R16: =+P16-Q16 -> 24000 | S16: 1
F17: ㅇ예금이자수익 | O17: =SUM(O18:O18) -> 24000
F18: ­ 예금이자 | G18: 24000 | H18: × | I18: 1 | N18: = | O18: =ROUNDUP(G18*I18,-3) -> 24000
D19: 623 보조금수익 | P19: =P20 -> 323393000 | Q19: =Q20 -> 231000000 | R19: =+P19-Q19 -> 92393000 | S19: =+R19/Q19 -> 0.3999697
E20: 623-1 국도시비보조금 | P20: =ROUNDUP(O21,-3) -> 323393000 | Q20: 231000000 | R20: =+P20-Q20 -> 92393000 | S20: =+R20/Q20 -> 0.3999697
F21: ㅇ고양시위탁보조금 | O21: =SUM(O22:O22) -> 323393000
F22: ­ 상담지원금 | G22: 323393000 | H22: × | I22: 1 | N22: = | O22: =G22 -> 323393000

Sheet 예산세입(화정)
A1: 2018년 세입예산서(안)
A2: [일반회계] | R2: (단위:천원)
A3: 예산과목 | G3: 산출내역 | P3: 예산액 | Q3: 전년도 예산액 | R3: 증감 | S3: 증감률
A4: 장 | B4: 관 | C4: 항 | D4: 목 | E4: 세목 | F4: 세세목
A5: 화정청소년카페 | P5: =P6 -> 155514000 | Q5: =Q6 -> 114345000 | R5: =+P5-Q5 -> 41169000 | S5: =+R5/Q5 -> 0.36004198
B6: 600 사업수익 | P6: =SUM(P7,P23) -> 155514000 | Q6: =SUM(Q7,Q23) -> 114345000 | R6: =+P6-Q6 -> 41169000 | S6: =+R6/Q6 -> 0.36004198
C7: 610 영업수익 | P7: =SUM(P8,P15,P19) -> 34620000 | Q7: =SUM(Q8,Q15,Q19) -> 31920000 | R7: =+P7-Q7 -> 2700000 | S7: =+R7/Q7 -> 0.084586466
D8: 611 자체사업수익 | P8: =SUM(P9,P12) -> 1620000 | Q8: =SUM(Q9,Q12) -> 1560000 | R8: =+P8-Q8 -> 60000 | S8: =+R8/Q8 -> 0.038461538
E9: 611-1 사업운영수익 | P9: =O10 -> 420000 | Q9: 360000 | R9: =+P9-Q9 -> 60000 | S9: =+R9/Q9 -> 0.16666667 | V9: =P9+P12+P16 -> 1980000 | W9: =Q9+Q12+Q16 -> 1920000
F10: ㅇ보드게임 | O10: =SUM(O11:O11) -> 420000
F11: ­ 보드게임 | G11: 35000 | H11: × | I11: 12 | N11: = | O11: =G11*I11 -> 420000
E12: 611-2 참가금수익 | P12: =O13 -> 1200000 | Q12: 1200000 | R12: =+P12-Q12 -> 0 | S12: =+R12/Q12 -> 0
F13: ㅇ프로그램 참가비 | O13: =O14 -> 1200000
F14: - 프로그램참가비 | G14: 5000 | H14: × | I14: 20 | J14: × | K14: 12 | N14: = | O14: =G14*I14*K14 -> 1200000
D15: 617 기타영업수익 | P15: =SUM(P16:P18) -> 360000 | Q15: =Q16 -> 360000 | R15: =+P15-Q15 -> 0 | S15: =+R15/Q15 -> 0
E16: 617-1 시설사용료수익 | P16: =ROUNDUP(O17,-3) -> 360000 | Q16: 360000 | R16: =+P16-Q16 -> 0 | S16: =+R16/Q16 -> 0
F17: ㅇ대관수입 | O17: =SUM(O18:O18) -> 360000
F18: ­ 대관사용료 | G18: 5000 | H18: × | I18: 6 | J18: × | K18: 12 | N18: = | O18: =G18*I18*K18 -> 360000
D19: 618 판매수익 | P19: =SUM(P20:P22) -> 32640000 | Q19: =Q20 -> 30000000 | R19: =+P19-Q19 -> 2640000 | S19: =+R19/Q19 -> 0.088
E20: 618-1 상품판매수익 | M20: ㅂ | P20: =ROUNDUP(O21,-3) -> 32640000 | Q20: 30000000 | R20: =+P20-Q20 -> 2640000 | S20: =+R20/Q20 -> 0.088
F21: ㅇ북카페운영 | O21: =SUM(O22:O22) -> 32640000
F22: ­ 판매수입 | G22: 2720000 | H22: × | I22: 12 | N22: = | O22: =G22*I22 -> 32640000
C23: 620 영업외수익 | P23: =SUM(P24,P28,P32) -> 120894000 | Q23: =SUM(Q24,Q28,Q32) -> 82425000 | R23: =+P23-Q23 -> 38469000 | S23: =+R23/Q23 -> 0.4667152
D24: 621 이자수익 | P24: =SUM(P25:P27) -> 13000 | Q24: =SUM(Q25:Q27) -> 0 | R24: =+P24-Q24 -> 13000 | S24: 1
E25: 621-1 예금이자수익 | P25: =ROUNDUP(O26,-3) -> 13000 | Q25: =Q27 -> 0 | R25: =+P25-Q25 -> 13000 | S25: 1
F26: ㅇ예금이자수익 | O26: =SUM(O27:O27) -> 13000
F27: ­ 예금이자 | G27: 13000 | H27: × | I27: 1 | N27: = | O27: =G27*I27 -> 13000
D28: 623 보조금수익 | P28: =SUM(P29:P31) -> 118473000 | Q28: =Q29 -> 80325000 | R28: =+P28-Q28 -> 38148000 | S28: =+R28/Q28 -> 0.47492063
E29: 623-1 국도시비보조금 | P29: =ROUNDUP(O30,-3) -> 118473000 | Q29: 80325000 | R29: =+P29-Q29 -> 38148000 | S29: =+R29/Q29 -> 0.47492063
F30: ㅇ고양시위탁보조금 | O30: =SUM(O31:O31) -> 118473000
F31: ­ 화정지원금 | G31: 118473000 | H31: × | I31: 1 | N31: = | O31: =G31 -> 118473000
D32: 624 기부금수익 | P32: =SUM(P33:P37) -> 2408000 | Q32: =Q33 -> 2100000 | R32: =+P32-Q32 -> 308000 | S32: =+R32/Q32 -> 0.14666667
E33: 624-1 기부금수익 | P33: =ROUNDUP(O34,-3) -> 2408000 | Q33: 2100000 | R33: =+P33-Q33 -> 308000 | S33: =+R33/Q33 -> 0.14666667
F34: ㅇ기부금수익 | O34: =SUM(O35:O37) -> 2408000
F35: - 자부담후원 | G35: 1500000 | H35: × | I35: 1 | N35: = | O35: =G35 -> 1500000
F36: - 자원봉사후원 | G36: 600000 | H36: × | I36: 1 | N36: = | O36: =G36 -> 600000
F37: - 지역운영회후원 | G37: 308000 | H37: × | I37: 1 | N37: = | O37: =G37 -> 308000

Sheet 예산세입(백마)
A1: 2018년 세입예산서(안)
A2: [일반회계] | R2: (단위:천원)
A3: 예산과목 | G3: 산출내역 | P3: 예산액 | Q3: 전년도 예산액 | R3: 증감 | S3: 증감률
A4: 장 | B4: 관 | C4: 항 | D4: 목 | E4: 세목 | F4: 세세목
A5: 백마역청소년카페 | P5: =P6 -> 85429000 | Q5: =Q6 -> 73750000 | R5: =+P5-Q5 -> 11679000 | S5: =+R5/Q5 -> 0.15835932
B6: 600 사업수익 | P6: =P7+P12 -> 85429000 | Q6: =Q7+Q12 -> 73750000 | R6: =+P6-Q6 -> 11679000 | S6: =+R6/Q6 -> 0.15835932
C7: 610 영업수익 | P7: =P8 -> 16000000 | Q7: =Q8 -> 16000000 | R7: =+P7-Q7 -> 0 | S7: =+R7/Q7 -> 0
D8: 618 판매수익 | P8: =SUM(P9:P11) -> 16000000 | Q8: =Q9 -> 16000000 | R8: =+P8-Q8 -> 0 | S8: =+R8/Q8 -> 0
E9: 618-1 상품판매수익 | P9: =O10 -> 16000000 | Q9: 16000000 | R9: =+P9-Q9 -> 0 | S9: =+R9/Q9 -> 0
F10: ㅇ북카페운영 | O10: =SUM(O11:O11) -> 16000000
F11: ­ 판매수입 | G11: 1000 | H11: × | I11: 64 | J11: × | K11: 250 | N11: = | O11: =G11*I11*K11 -> 16000000
C12: 620 영업외수익 | P12: =P13+P17 -> 69429000 | Q12: =Q13+Q17 -> 57750000 | R12: =+P12-Q12 -> 11679000 | S12: =+R12/Q12 -> 0.20223377
D13: 621 이자수익 | P13: =SUM(P14:P16) -> 14000 | Q13: =Q14 -> 0 | R13: =+P13-Q13 -> 14000 | S13: 0
E14: 621-1 예금이자수익 | P14: =ROUNDUP(O15,-3) -> 14000 | Q14: 0 | R14: =+P14-Q14 -> 14000 | S14: 0
F15: ㅇ예금이자수익 | O15: =SUM(O16:O16) -> 14000
F16: ­ 예금이자 | G16: 14000 | H16: × | I16: 1 | N16: = | O16: =G16*I16 -> 14000
D17: 623 보조금수익 | P17: =P18 -> 69415000 | Q17: =Q18 -> 57750000 | R17: =+P17-Q17 -> 11665000 | S17: =+R17/Q17 -> 0.20199134
E18: 623-1 국도시비보조금 | P18: =ROUNDUP(O19,-3) -> 69415000 | Q18: 57750000 | R18: =+P18-Q18 -> 11665000 | S18: =+R18/Q18 -> 0.20199134
F19: ㅇ고양시위탁보조금 | O19: =SUM(O20:O20) -> 69415000
F20: ­ 백마지원금 | G20: 69415000 | H20: × | I20: 1 | N20: = | O20: =G20 -> 69415000

Sheet 예산세입(능곡)
A1: 2018년 세입예산서(안)
A2: [일반회계] | R2: (단위:천원)
A3: 예산과목 | G3: 산출내역 | P3: 예산액 | Q3: 전년도 예산액 | R3: 증감 | S3: 증감률
A4: 장 | B4: 관 | C4: 항 | D4: 목 | E4: 세목 | F4: 세세목
A5: 능곡역청소년카페 | P5: =P6 -> 69776000 | Q5: =Q6 -> 52500000 | R5: =+P5-Q5 -> 17276000 | S5: =+R5/Q5 -> 0.32906667
B6: 600 사업수익 | P6: =P7+P12 -> 69776000 | Q6: =Q7+Q12 -> 52500000 | R6: =+P6-Q6 -> 17276000 | S6: =+R6/Q6 -> 0.32906667
C7: 610 영업수익 | P7: =P8 -> 2400000 | Q7: =Q8 -> 0 | R7: =+P7-Q7 -> 2400000 | S7: 1
D8: 618 판매수익 | P8: =P9 -> 2400000 | Q8: 0 | R8: =+P8-Q8 -> 2400000 | S8: 1
E9: 618-1 상품판매수익 | P9: =ROUNDDOWN(O10,-3) -> 2400000 | Q9: 0 | R9: =+P9-Q9 -> 2400000 | S9: 1
F10: ㅇ북카페운영 | O10: =SUM(O11:O11) -> 2400000
F11: ­ 판매수입 | G11: 200000 | H11: × | I11: 12 | N11: = | O11: =G11*I11 -> 2400000
C12: 620 영업외수익 | P12: =P13+P17 -> 67376000 | Q12: =Q13+Q17 -> 52500000 | R12: =+P12-Q12 -> 14876000 | S12: =+R12/Q12 -> 0.28335238
D13: 621 이자수익 | P13: =P14 -> 6000 | Q13: =Q14 -> 0 | R13: =+P13-Q13 -> 6000 | S13: 1
E14: 621-1 예금이자수익 | P14: =ROUNDUP(O15,-3) -> 6000 | Q14: =Q16 -> 0 | R14: =+P14-Q14 -> 6000 | S14: 1
F15: ㅇ예금이자수익 | O15: =SUM(O16:O16) -> 6000
F16: ­ 예금이자 | G16: 6000 | H16: × | I16: 1 | N16: = | O16: =G16*I16 -> 6000
D17: 623 보조금수익 | P17: =SUM(P18:P20) -> 67370000 | Q17: =Q18 -> 52500000 | R17: =+P17-Q17 -> 14870000 | S17: =+R17/Q17 -> 0.2832381
E18: 623-1 국도시비보조금 | P18: =ROUNDDOWN(O19,-3) -> 67370000 | Q18: 52500000 | R18: =+P18-Q18 -> 14870000 | S18: =+R18/Q18 -> 0.2832381
F19: ㅇ고양시위탁보조금 | O19: =SUM(O20:O20) -> 67370000
F20: ­ 능곡지원금 | G20: 67370000 | H20: × | I20: 1식 | N20: = | O20: =G20 -> 67370000
I50: 0
I54: 300000

Sheet 간지4(세출예산 사업내역서)

Sheet 예산세출(사무국)
A1: 2018년 세출예산서(안)
A2: [일반회계] | S2: (단위:천원)
A3: 예산과목 | G3: 산출내역 | Q3: 예산액 | R3: 전년도 예산액 | S3: 증감 | T3: 증감률
A4: 장 | B4: 관 | C4: 항 | D4: 목 | E4: 세목 | F4: 세세목
A5: 고양시청소년재단사무국 | Q5: =Q6+Q246 -> 1900720000 | R5: =R6+R246 -> 1687053000 | S5: =Q5-R5 -> 213667000 | T5: =S5/R5 -> 0.12665103 | W5: 1900720000 | Y5: =Q5-W5 -> 0
B6: 700 사업비용 | Q6: =Q7+Q184+Q236+Q241 -> 1900720000 | R6: =R7+R184+R241 -> 1687053000 | S6: =Q6-R6 -> 213667000 | T6: =S6/R6 -> 0.12665103
C7: 710 영업비용 | Q7: =Q8+Q51+Q175+Q179 -> 889020000 | R7: =R8+R51+R175+R179 -> 730880000 | S7: =Q7-R7 -> 158140000 | T7: =S7/R7 -> 0.21636931
D8: 100 인건비 | Q8: =SUM(Q9:Q50) -> 545114000 | R8: =SUM(R9:R50) -> 456347000 | S8: =Q8-R8 -> 88767000 | T8: =S8/R8 -> 0.19451645
E9: 101 급여 | Q9: =SUM(P10) -> 335175000 | R9: =293583000 -> 293583000 | S9: =Q9-R9 -> 41592000 | T9: =S9/R9 -> 0.14167033
F10: ㅇ기본급 | P10: =SUM(P11:P14) -> 335175000
F11: - 대표이사 | G11: 5292700 | H11: × | I11: 1 | J11: × | K11: 12 | O11: = | P11: =ROUNDUP(G11*I11*K11,-3) -> 63513000
F12: - 사무국장 | G12: 3594000 | H12: × | I12: 1 | J12: × | K12: 12 | O12: = | P12: =ROUNDUP(G12*I12*K12,-3) -> 43128000
F13: - 부장(5급)-(7급상당) | G13: 2961500 | H13: × | I13: 2 | J13: × | K13: 12 | O13: = | P13: =ROUNDUP(G13*I13*K13,-3) -> 71076000
F14: - 사원(7급)-(9급상당) | G14: 1874500 | H14: × | I14: 7 | J14: × | K14: 12 | O14: = | P14: =ROUNDUP(G14*I14*K14,-3) -> 157458000
E15: 102 제수당 | Q15: =P16+P21+P25+P27+P30+P32+P40+P43+P35 -> 164654000 | R15: 117155000 | S15: =Q15-R15 -> 47499000 | T15: =S15/R15 -> 0.40543724
F16: ㅇ직급보조비 | P16: =SUM(P17:P20) -> 21660000
F17: - 대표이사 | G17: 400000 | H17: × | I17: 1 | J17: × | K17: 12 | O17: = | P17: =ROUNDUP(G17*I17*K17,-3) -> 4800000
F18: - 사무국장 | G18: 250000 | H18: × | I18: 1 | J18: × | K18: 12 | O18: = | P18: =ROUNDUP(G18*I18*K18,-3) -> 3000000
F19: - 부장 5급(7급상당) | G19: 140000 | H19: × | I19: 2 | J19: × | K19: 12 | O19: = | P19: =ROUNDUP(G19*I19*K19,-3) -> 3360000
F20: - 사원 7급(9급상당) | G20: 125000 | H20: × | I20: 7 | J20: × | K20: 12 | O20: = | P20: =ROUNDUP(G20*I20*K20,-3) -> 10500000
F21: ㅇ가족수당 | P21: =SUM(P22:P24) -> 8400000
F22: - 배우자 | G22: 40000 | H22: × | I22: 8 | J22: × | K22: 12 | O22: = | P22: =ROUNDUP(G22*I22*K22,-3) -> 3840000
F23: - 부양가족 | G23: 20000 | H23: × | I23: 10 | J23: × | K23: 12 | O23: = | P23: =ROUNDUP(G23*I23*K23,-3) -> 2400000
F24: - 부양가족 가산(둘째자녀) | G24: 60000 | H24: × | I24: 3 | J24: × | K24: 12 | O24: = | P24: =ROUNDUP(G24*I24*K24,-3) -> 2160000
F25: ㅇ급량비 | P25: =SUM(P26:P26) -> 17160000
F26: - 정액급식비 | G26: 130000 | H26: × | I26: 11 | J26: × | K26: 12 | O26: = | P26: =ROUNDUP(G26*I26*K26,-3) -> 17160000
F27: ㅇ자격수당 | P27: =SUM(P28:P29) -> 3600000
F28: - 청소년지도사 | G28: 30000 | H28: × | I28: 6 | J28: × | K28: 12 | O28: = | P28: =ROUNDUP(G28*I28*K28,-3) -> 2160000
F29: - 회계, 노무담당 | G29: 40000 | H29: × | I29: 3 | J29: × | K29: 12 | O29: = | P29: =ROUNDUP(G29*I29*K29,-3) -> 1440000
F30: ㅇ시간외/당직근무수당 | P30: =SUM(P31:P31) -> 70092000
F31: - 시간외및당직근무수당 | G31: 584100 | H31: × | I31: 10 | J31: × | K31: 12 | O31: = | P31: =ROUNDUP(G31*I31*K31,-3) -> 70092000
F32: ㅇ정근수당 | P32: =SUM(P33:P34) -> 13582000
F33: - 부장 5급(7급상당) | G33: 1476600 | H33: × | I33: 2 | J33: × | K33: 2 | O33: = | P33: =ROUNDUP(G33*I33*K33,-3) -> 5907000
F34: - 사원 7급(9급상당) | G34: 548200 | H34: × | I34: 7 | J34: × | K34: 2 | O34: = | P34: =ROUNDUP(G34*I34*K34,-3) -> 7675000
F35: ㅇ정근수당가산금 | P35: =SUM(P36:P39) -> 4140000
F36: - 5년 이상 | G36: 50000 | H36: × | I36: 4 | J36: × | K36: 12 | O36: = | P36: =ROUNDUP(G36*I36*K36,-3) -> 2400000
F37: - 10년 이상 | G37: 60000 | H37: × | I37: 1 | J37: × | K37: 12 | O37: = | P37: =ROUNDUP(G37*I37*K37,-3) -> 720000
F38: - 10년 이상 | G38: 60000 | H38: × | I38: 1 | J38: × | K38: 1 | O38: = | P38: =ROUNDUP(G38*I38*K38,-3) -> 60000
F39: - 15년 이상 | G39: 80000 | H39: × | I39: 1 | J39: × | K39: 12 | O39: = | P39: =ROUNDUP(G39*I39*K39,-3) -> 960000
F40: ㅇ명절휴가비 | P40: =SUM(P41:P42) -> 22782000
F41: - 부장 5급 | G41: 1771900 | H41: × | I41: 2 | J41: × | K41: 2 | O41: = | P41: =ROUNDUP(G41*I41*K41,-3) -> 7088000
F42: - 사원 7급 | G42: 1121000 | H42: × | I42: 7 | J42: × | K42: 2 | O42: = | P42: =ROUNDUP(G42*I42*K42,-3) -> 15694000
F43: ㅇ연가보상비 | P43: =SUM(P44:P44) -> 3238000
F44: - 연가보상비 | G44: 129500 | H44: × | I44: 5 | J44: × | K44: 5 | O44: = | P44: =ROUNDUP(G44*I44*K44,-3) -> 3238000
E45: 105 기간제근로자보수 | Q45: =P46 -> 3632000 | R45: 12500000 | S45: =Q45-R45 -> -8868000 | T45: =S45/R45 -> -0.70944
F46: ㅇ대체인력인건비 | P46: =SUM(P47) -> 3632000
F47: - 기본급 및 수당포함 | G47: 9080 | H47: × | I47: 100 | J47: × | K47: 4 | O47: = | P47: =ROUNDUP(G47*I47*K47,-3) -> 3632000
E48: 106 퇴직급여 | Q48: =SUM(P49) -> 41653000 | R48: 33109000 | S48: =Q48-R48 -> 8544000 | T48: =S48/R48 -> 0.25805672
F49: ㅇ퇴직급여충당금 | P49: =SUM(P50:P50) -> 41653000
F50: ­ 퇴직급여충당금 | G50: 499829000 | H50: × | I50: 12 | O50: = | P50: =ROUNDUP((G50/12),-3) -> 41653000
D51: 200 경비 | Q51: =SUM(Q52:Q174) -> 247458000 | R51: =SUM(R52:R174) -> 251533000 | S51: =Q51-R51 -> -4075000 | T51: =S51/R51 -> -0.016200658
E52: 201 복리후생비 | Q52: =P53+P59+P61 -> 73568000 | R52: 59789000 | S52: =Q52-R52 -> 13779000 | T52: =S52/R52 -> 0.23046045
F53: ㅇ사회4대보험 | P53: =SUM(P54:P58) -> 47788000
F54: ­ 국민연금부담금 | G54: 499829000 | H54: × | I54: 0.045 | O54: = | P54: =ROUNDUP(G54*I54,-3) -> 22493000
F55: ­ 국민건강보험부담금 | G55: 499829000 | H55: × | I55: 0.0306 | O55: = | P55: =ROUNDUP(G55*I55,-3) -> 15295000
F56: ­ 장기요양보험부담금 | G56: =P55 -> 15295000 | H56: × | I56: 0.0655 | O56: = | P56: =ROUNDUP(G56*I56,-3) -> 1002000
F57: ­ 고용보험부담금 | G57: 499829000 | H57: × | I57: 0.009 | O57: = | P57: =ROUNDUP(G57*I57,-3) -> 4499000
F58: ­ 산재보험부담금 | G58: 499829000 | H58: × | I58: 0.009 | O58: = | P58: =ROUNDUP(G58*I58,-3) -> 4499000
F59: ㅇ급량비 | P59: =SUM(P60) -> 7680000
F60: ­ 특근매식비 | G60: 8000 | H60: × | I60: 10 | J60: × | K60: 8 | L60: × | M60: 12 | O60: = | P60: =G60*I60*K60*M60 -> 7680000
F61: ㅇ직원복지제도 | P61: =SUM(P62:P65) -> 18100000
F62: ­ 상해보장보험 | G62: 150000 | H62: × | I62: 10 | O62: = | P62: =ROUNDUP(G62*I62,-3) -> 1500000
F63: ­ 종합건강검진 | G63: 400000 | H63: × | I63: 5 | O63: = | P63: =ROUNDUP(G63*I63,-3) -> 2000000
F64: ­ 선택적복지제도 | G64: 1100000 | H64: × | I64: 10 | O64: = | P64: =ROUNDUP(G64*I64,-3) -> 11000000
F65: ­ 동호회 활동지원 | G65: 300000 | H65: × | I65: 6 | J65: × | K65: 2 | O65: = | P65: =G65*I65*K65 -> 3600000
E66: 202 여비 | Q66: =SUM(P67) -> 18600000 | R66: 30000000 | S66: =Q66-R66 -> -11400000 | T66: =S66/R66 -> -0.38
F67: ㅇ여비 | P67: =SUM(P68:P69) -> 18600000
F68: ­ 국내여비 | G68: 150000 | H68: × | I68: 9 | J68: × | K68: 12 | O68: = | P68: =G68*I68*K68 -> 16200000
F69: ­ 국외여비 | G69: 100000 | H69: × | I69: 4 | J69: × | K69: 6 | O69: = | P69: =G69*I69*K69 -> 2400000
E70: 203 공공요금 및 제세 | Q70: =SUM(P71+P73+P75+P77) -> 6080000 | R70: 4880000 | S70: =Q70-R70 -> 1200000 | T70: =S70/R70 -> 0.24590164
F71: ㅇ발송비 | P71: =SUM(P72:P72) -> 960000
F72: ­ 우편물,택배 발송비 | G72: 80000 | H72: × | I72: 1 | J72: × | K72: 12 | O72: = | P72: =ROUNDUP(G72*I72*K72,-3) -> 960000
F73: ㅇ통신비 | P73: =SUM(P74:P74) -> 3000000
F74: ­ 전화 인터넷 사용료 | G74: 250000 | H74: × | I74: 1 | J74: × | K74: 12 | O74: = | P74: =ROUNDUP(G74*I74*K74,-3) -> 3000000
F75: ㅇ협회비 | P75: =SUM(P76:P76) -> 2000000
F76: ­ 경기도청소년재단협회비 | G76: 2000000 | H76: × | I76: 1 | O76: = | P76: =ROUNDUP(G76*I76,-3) -> 2000000
F77: ㅇ기타공공요금 | P77: =SUM(P78:P78) -> 120000
F78: ­ 법인세 등 제세 | G78: 120000 | H78: × | I78: 1 | O78: = | P78: =ROUNDUP(G78*I78,-3) -> 120000
E79: 204 수도광열비 | Q79: =P80 -> 10800000 | R79: 10800000 | S79: =Q79-R79 -> 0 | T79: =S79/R79 -> 0
F80: ㅇ수도광열비 | P80: =SUM(P81:P81) -> 10800000
F81: ­ 수도, 전기 등 공과금 | G81: 900000 | H81: × | I81: 1 | J81: × | K81: 12 | O81: = | P81: =G81*I81*K81 -> 10800000
E82: 206 소모품비 | Q82: =P83+P86+P88+P90 -> 6100000 | R82: 7532000 | S82: =Q82-R82 -> -1432000 | T82: =S82/R82 -> -0.19012215
F83: ㅇ사무용품비 | P83: =SUM(P84:P85) -> 4200000
F84: ­ 사무용품 | G84: 200000 | H84: × | I84: 1 | J84: × | K84: 12 | O84: = | P84: =ROUNDUP(G84*I84*K84,-3) -> 2400000
F85: ­ 복사용지 | G85: 150000 | H85: × | I85: 1 | J85: × | K85: 12 | O85: = | P85: =ROUNDUP(G85*I85*K85,-3) -> 1800000
F86: ㅇ전산소모품비 | P86: =SUM(P87:P87) -> 1000000
F87: ­ 사무용 소프트웨어, 백신 등 | G87: 100000 | H87: × | I87: 10 | O87: = | P87: =ROUNDUP(G87*I87,-3) -> 1000000
F88: ㅇ청소용품비 | P88: =SUM(P89:P89) -> 300000
F89: ­청소용소모품비 | G89: 50000 | H89: × | I89: 1 | J89: × | K89: 6 | O89: = | P89: =G89*I89*K89 -> 300000
F90: ㅇ소모성비품구입 | P90: =SUM(P91:P91) -> 600000
F91: ­냉온수기용 물 | G91: 50000 | H91: × | I91: 1 | J91: × | K91: 12 | O91: = | P91: =G91*I91*K91 -> 600000
E92: 207 피복비 | Q92: =P93 -> 800000 | R92: 1500000 | S92: =Q92-R92 -> -700000 | T92: =S92/R92 -> -0.46666667
F93: ㅇ피복비 | P93: =SUM(P94:P94) -> 800000
F94: ­ 직원피복비 | G94: 80000 | H94: × | I94: 10 | O94: = | P94: =ROUNDUP(G94*I94,-3) -> 800000
E95: 208 도서인쇄비 | Q95: =P96+P98 -> 7320000 | R95: 5300000 | S95: =Q95-R95 -> 2020000 | T95: =S95/R95 -> 0.38113208
F96: ㅇ구독료 | P96: =SUM(P97:P97) -> 600000
F97: ­ 신문구독 | G97: 10000 | H97: × | I97: 5 | J97: × | K97: 12 | O97: = | P97: =ROUNDUP(G97*I97*K97,-3) -> 600000
F98: ㅇ도서인쇄비 | P98: =SUM(P99:P102) -> 6720000
F99: ­ 예결산서 | G99: 26000 | H99: × | I99: 4 | J99: × | K99: 30 | O99: = | P99: =G99*I99*K99 -> 3120000
F100: ­ 규정집 | G100: 50000 | H100: × | I100: 2 | J100: × | K100: 20 | O100: = | P100: =G100*I100*K100 -> 2000000
...

Sheet 예산세출(마두)
A1: 2018년 세출예산서(안)
A2: [일반회계] | S2: (단위:천원)
A3: 예산과목 | G3: 산출내역 | Q3: 예산액 | R3: 전년도 예산액 | S3: 증감 | T3: 증감률
A4: 장 | B4: 관 | C4: 항 | D4: 목 | E4: 세목 | F4: 세세목
A5: 마두청소년수련관 | Q5: =Q6 -> 1588140000 | R5: =R6 -> 1586392000 | S5: =Q5-R5 -> 1748000 | T5: =S5/R5 -> 0.0011018714 | W5: 1588140000 | Y5: =Q5-W5 -> 0
B6: 700 사업비용 | Q6: =Q7+Q124+Q173+Q270+Q277 -> 1588140000 | R6: =R7+R124+R173+R270+R277 -> 1586392000 | S6: =Q6-R6 -> 1748000 | T6: =S6/R6 -> 0.0011018714
C7: 710 영업비용 | Q7: =Q8+Q47 -> 796000000 | R7: =SUM(R8,R47) -> 796000000 | S7: =Q7-R7 -> 0 | T7: =S7/R7 -> 0
D8: 100 인건비 | Q8: =SUM(Q9:Q46) -> 518616000 | R8: =SUM(R9:R46) -> 501971000 | S8: =Q8-R8 -> 16645000 | T8: =S8/R8 -> 0.033159286
E9: 101 급여 | Q9: =SUM(P10) -> 299447000 | R9: 300109000 | S9: =Q9-R9 -> -662000 | T9: =S9/R9 -> -0.0022058652
F10: ㅇ기본급 | P10: =SUM(P11:P13) -> 299447000
F11: - 관장(4급) | G11: 3870900 | H11: × | I11: 1 | J11: × | K11: 12 | O11: = | P11: =ROUNDUP(G11*I11*K11,-3) -> 46451000
F12: - 팀장(6급) | G12: 2875500 | H12: × | I12: 2 | J12: × | K12: 12 | O12: = | P12: =ROUNDUP(G12*I12*K12,-3) -> 69012000
F13: - 사원(7급) | G13: 1916500 | H13: × | I13: 8 | J13: × | K13: 12 | O13: = | P13: =ROUNDUP(G13*I13*K13,-3) -> 183984000
E14: 102 제수당 | Q14: =P15+P19+P23+P25+P27+P29+P38+P42+P33 -> 179275000 | R14: 163248000 | S14: =Q14-R14 -> 16027000 | T14: =S14/R14 -> 0.098175782
F15: ㅇ직급보조비 | P15: =SUM(P16:P18) -> 16860000
F16: - 관장(4급) | G16: 155000 | H16: × | I16: 1 | J16: × | K16: 12 | O16: = | P16: =ROUNDUP(G16*I16*K16,-3) -> 1860000
F17: - 팀장(6급) | G17: 125000 | H17: × | I17: 2 | J17: × | K17: 12 | O17: = | P17: =ROUNDUP(G17*I17*K17,-3) -> 3000000
F18: - 사원(7급) | G18: 125000 | H18: × | I18: 8 | J18: × | K18: 12 | O18: = | P18: =ROUNDUP(G18*I18*K18,-3) -> 12000000
F19: ㅇ가족수당 | P19: =SUM(P20:P22) -> 4560000
F20: - 배우자 | G20: 40000 | H20: × | I20: 5 | J20: × | K20: 12 | O20: = | P20: =ROUNDUP(G20*I20*K20,-3) -> 2400000
F21: - 부양가족 | G21: 20000 | H21: × | I21: 3 | J21: × | K21: 12 | O21: = | P21: =ROUNDUP(G21*I21*K21,-3) -> 720000
F22: - 부양가족 가산(둘째자녀) | G22: 60000 | H22: × | I22: 2 | J22: × | K22: 12 | O22: = | P22: =ROUNDUP(G22*I22*K22,-3) -> 1440000
F23: ㅇ급량비 | P23: =SUM(P24:P24) -> 17160000
F24: - 정액급식비 | G24: 130000 | H24: × | I24: 11 | J24: × | K24: 12 | O24: = | P24: =ROUNDUP(G24*I24*K24,-3) -> 17160000
F25: ㅇ자격수당 | P25: =SUM(P26:P26) -> 3960000
F26: - 청소년지도사 | G26: 30000 | H26: × | I26: 11 | J26: × | K26: 12 | O26: = | P26: =ROUNDUP(G26*I26*K26,-3) -> 3960000
F27: ㅇ시간외/당직근무수당 | P27: =SUM(P28:P28) -> 77880000
F28: - 시간외및당직근무수당 | G28: 590000 | H28: × | I28: 11 | J28: × | K28: 12 | O28: = | P28: =ROUNDUP(G28*I28*K28,-3) -> 77880000
F29: ㅇ정근수당 | P29: =SUM(P30:P32) -> 18628000
F30: - 관장(4급) | G30: 1927900 | H30: × | I30: 1 | J30: × | K30: 2 | O30: = | P30: =ROUNDUP(G30*I30*K30,-3) -> 3856000
F31: - 팀장(6급) | G31: 1434400 | H31: × | I31: 2 | J31: × | K31: 2 | O31: = | P31: =ROUNDUP(G31*I31*K31,-3) -> 5738000
F32: - 사원(7급) | G32: 564600 | H32: × | I32: 8 | J32: × | K32: 2 | O32: = | P32: =ROUNDUP(G32*I32*K32,-3) -> 9034000
F33: ㅇ정근수당가산금 | P33: =SUM(P34:P37) -> 5580000
F34: - 20년 이상 | G34: 100000 | H34: × | I34: 2 | J34: × | K34: 12 | O34: = | P34: =ROUNDUP(G34*I34*K34,-3) -> 2400000
F35: - 15년 이상 | G35: 80000 | H35: × | I35: 2 | J35: × | K35: 12 | O35: = | P35: =ROUNDUP(G35*I35*K35,-3) -> 1920000
F36: - 10년 이상 | G36: 10000 | H36: × | I36: 1 | J36: × | K36: 6 | O36: = | P36: =ROUNDUP(G36*I36*K36,-3) -> 60000
F37: - 5년 이상 | G37: 50000 | H37: × | I37: 2 | J37: × | K37: 12 | O37: = | P37: =ROUNDUP(G37*I37*K37,-3) -> 1200000
F38: ㅇ명절휴가비 | P38: =SUM(P39:P41) -> 30506000
F39: - 관장(4급) | G39: 2327070 | H39: × | I39: 1 | J39: × | K39: 2 | O39: = | P39: =ROUNDUP(G39*I39*K39,-3) -> 4655000
F40: - 팀장(6급) | G40: 1878000 | H40: × | I40: 2 | J40: × | K40: 2 | O40: = | P40: =ROUNDUP(G40*I40*K40,-3) -> 7512000
F41: - 사원(7급) | G41: 1146130 | H41: × | I41: 8 | J41: × | K41: 2 | O41: = | P41: =ROUNDUP(G41*I41*K41,-3) -> 18339000
F42: ㅇ연가보상비 | P42: =SUM(P43:P43) -> 4141000
F43: - 연가보상비 | G43: 118300 | H43: × | I43: 7 | J43: × | K43: 5 | O43: = | P43: =ROUNDUP(G43*I43*K43,-3) -> 4141000
E44: 106 퇴직급여 | Q44: =SUM(P45) -> 39894000 | R44: 38614000 | S44: =Q44-R44 -> 1280000 | T44: =S44/R44 -> 0.033148599
F45: ㅇ퇴직급여충당금 | P45: =SUM(P46:P46) -> 39894000
F46: ­ 퇴직급여충당금 | G46: 478722000 | H46: × | I46: 12 | O46: = | P46: =ROUNDUP((G46/12),-3) -> 39894000
D47: 200 경비 | Q47: =SUM(Q48:Q123) -> 277384000 | R47: =SUM(R48:R123) -> 294029000 | S47: =Q47-R47 -> -16645000 | T47: =S47/R47 -> -0.056610062
E48: 201 복리후생비 | Q48: =+P49 -> 45770000 | R48: 47064000 | S48: =Q48-R48 -> -1294000 | T48: =S48/R48 -> -0.027494476
F49: ㅇ사회4대보험 | P49: =SUM(P50:P54) -> 45770000 | W49: 2018 | X49: 2017
F50: ­ 국민연금부담금 | G50: 478722000 | H50: × | I50: 0.045 | O50: = | P50: =ROUNDUP(G50*I50,-3) -> 21543000 | V50: 경비 | W50: =W53-W51 -> 274384000 | X50: =X53-X51 -> 291029000
F51: ­ 국민건강보험부담금 | G51: 478722000 | H51: × | I51: 0.0306 | O51: = | P51: =ROUNDUP(G51*I51,-3) -> 14649000 | V51: 자산취득비 | W51: =Q121 -> 3000000 | X51: =R121 -> 3000000
F52: ­ 장기요양보험부담금 | G52: =P51 -> 14649000 | H52: × | I52: 0.0655 | O52: = | P52: =ROUNDUP(G52*I52,-3) -> 960000
F53: ­ 고용보험부담금 | G53: 478722000 | H53: × | I53: 0.009 | O53: = | P53: =ROUNDUP(G53*I53,-3) -> 4309000 | V53: 자산취득비+경비 | W53: =Q47 -> 277384000 | X53: =R47 -> 294029000
F54: ­ 산재보험부담금 | G54: 478722000 | H54: × | I54: 0.009 | O54: = | P54: =ROUNDUP(G54*I54,-3) -> 4309000
E55: 203 공공요금 및 제세 | Q55: =SUM(P56+P58+P60) -> 18810000 | R55: 21204000 | S55: =Q55-R55 -> -2394000 | T55: =S55/R55 -> -0.11290323
F56: ㅇ발송비 | P56: =SUM(P57:P57) -> 120000
F57: ­ 우편물,택배 발송비 | G57: 10000 | H57: × | I57: 12 | O57: = | P57: =ROUNDUP(G57*I57,-3) -> 120000
F58: ㅇ통신비 | P58: =SUM(P59:P59) -> 16560000
F59: ­ 전화 인터넷 사용료 | G59: 1380000 | H59: × | I59: 12 | O59: = | P59: =ROUNDUP(G59*I59,-3) -> 16560000
F60: ㅇ협회비및부담금 | P60: =SUM(P61:P64) -> 2130000
F61: ­ 소방안전협회비 | G61: 50000 | H61: × | I61: 1 | O61: = | P61: =ROUNDUP(G61*I61,-3) -> 50000
F62: ­ 전기안전협회비 | G62: 100000 | H62: × | I62: 1 | O62: = | P62: =ROUNDUP(G62*I62,-3) -> 100000
F63: ­ 청소년시설협회비 | G63: 1100000 | H63: × | I63: 1 | O63: = | P63: =ROUNDUP(G63*I63,-3) -> 1100000
F64: ­ 교통유발부담금 | G64: 880000 | H64: × | I64: 1 | O64: = | P64: =ROUNDUP(G64*I64,-3) -> 880000
E65: 204 수도광열비 | Q65: =P66 -> 65400000 | R65: 62987000 | S65: =Q65-R65 -> 2413000 | T65: =S65/R65 -> 0.038309492
F66: ㅇ수도광열비 | P66: =SUM(P67:P69) -> 65400000
F67: ­ 전기요금 | G67: 200 | H67: × | I67: 12 | J67: × | K67: 19000 | O67: = | P67: =G67*I67*K67 -> 45600000
F68: ­ 지역난방료(냉난방) | G68: 1250000 | H68: × | I68: 12 | O68: = | P68: =ROUNDUP(G68*I68,-3) -> 15000000
F69: ­ 상하수도요금 | G69: 400000 | H69: × | I69: 12 | O69: = | P69: =ROUNDUP(G69*I69,-3) -> 4800000
E70: 206 소모품비 | Q70: =P71+P74 -> 7020000 | R70: 11500000 | S70: =Q70-R70 -> -4480000 | T70: =S70/R70 -> -0.38956522
F71: ㅇ사무용품비 | P71: =SUM(P72:P73) -> 4020000
F72: ­ 사무용품비 | G72: 500000 | H72: × | I72: 4 | O72: = | P72: =ROUNDUP(G72*I72,-3) -> 2000000
F73: ­ 복사용지 | G73: 168333 | H73: × | I73: 12 | O73: = | P73: =ROUNDUP(G73*I73,-3) -> 2020000
F74: ㅇ청소용품비 | P74: =SUM(P75:P75) -> 3000000
F75: ­청소용소모품비 | G75: 250000 | H75: × | I75: 12 | O75: = | P75: =ROUNDUP(G75*I75,-3) -> 3000000
E76: 208 도서인쇄비 | Q76: =+P77 -> 1800000 | R76: 1800000 | S76: =Q76-R76 -> 0 | T76: =S76/R76 -> 0
F77: ㅇ도서인쇄비 | P77: =SUM(P78:P78) -> 1800000
F78: ­ 정기간행물 및 업무용도서구입비 | G78: 900000 | H78: × | I78: 2 | O78: = | P78: =ROUNDUP(G78*I78,-3) -> 1800000
E79: 209 지급임차료 | Q79: =+P80 -> 13380000 | R79: 13164000 | S79: =Q79-R79 -> 216000 | T79: =S79/R79 -> 0.016408387
F80: ㅇ지급임차료 | P80: =SUM(P81:P84) -> 13380000
F81: ­ 복합기임차료 | G81: 300000 | H81: × | I81: 1 | J81: × | K81: 12 | O81: = | P81: =ROUNDUP(G81*I81*K81,-3) -> 3600000
F82: ­ 차량임차료 | G82: 550000 | H82: × | I82: 1 | J82: × | K82: 12 | O82: = | P82: =ROUNDUP(G82*I82*K82,-3) -> 6600000
F83: ­ 공기청정기임차료 | G83: 25000 | H83: × | I83: 1 | J83: × | K83: 12 | O83: = | P83: =ROUNDUP(G83*I83*K83,-3) -> 300000
F84: ­ 냉온정수기임차료 | G84: 40000 | H84: × | I84: 6 | J84: × | K84: 12 | O84: = | P84: =ROUNDUP(G84*I84*K84,-3) -> 2880000
E85: 210 수선유지비 | Q85: =+P86 -> 96020000 | R85: 113438000 | S85: =Q85-R85 -> -17418000 | T85: =S85/R85 -> -0.15354643
F86: ㅇ수선유지비 | P86: =SUM(P87:P96) -> 96020000
F87: ­ 물탱크유지관리비 | G87: 500000 | H87: × | I87: 2 | O87: = | P87: =ROUNDUP(G87*I87,-3) -> 1000000
F88: ­ 자동제어유지관리비 | G88: 900000 | H88: × | I88: 12 | O88: = | P88: =ROUNDUP(G88*I88,-3) -> 10800000
F89: ­ 기계냉난방기유지관리비 | G89: 1750000 | H89: × | I89: 4 | O89: = | P89: =ROUNDUP(G89*I89,-3) -> 7000000
F90: ­ 건축설비유지관리비 | G90: 13750000 | H90: × | I90: 4 | O90: = | P90: =ROUNDUP(G90*I90,-3) -> 55000000
F91: ­ PC유지관리비 | G91: 200000 | H91: × | I91: 12 | O91: = | P91: =ROUNDUP(G91*I91,-3) -> 2400000
F92: ­ 통신시설유지관리비 | G92: 1250000 | H92: × | I92: 4 | O92: = | P92: =ROUNDUP(G92*I92,-3) -> 5000000
F93: ­ 승강기위탁관리유지관리비 | G93: 110000 | H93: × | I93: 2 | J93: × | K93: 12 | O93: = | P93: =ROUNDUP(G93*I93*K93,-3) -> 2640000
F94: ­ 건물수선비(대청소) | G94: 4500000 | H94: × | I94: 1 | O94: = | P94: =ROUNDUP(G94*I94,-3) -> 4500000
F95: ­ 전기설비유지관리비 | G95: 1500000 | H95: × | I95: 4 | O95: = | P95: =ROUNDUP(G95*I95,-3) -> 6000000
F96: ­ 소방유지관리비 | G96: 140000 | H96: × | I96: 12 | O96: = | P96: =ROUNDUP(G96*I96,-3) -> 1680000
E97: 211 차량유지비 | Q97: =+P98 -> 840000 | R97: 756000 | S97: =Q97-R97 -> 84000 | T97: =S97/R97 -> 0.11111111
F98: ㅇ차량유지비 | P98: =SUM(P99:P99) -> 840000
F99: ­ 주유비 및 수리 | G99: 70000 | H99: × | I99: 1 | J99: × | K99: 12 | O99: = | P99: =G99*I99*K99 -> 840000
E100: 212 보험료 | Q100: =+P101 -> 6789000 | R100: 6616000 | S100: =Q100-R100 -> 173000 | T100: =S100/R100 -> 0.02614873
...

Sheet 예산세출(진로)
A1: 2018년 세출예산서(안)
A2: [일반회계] | S2: (단위:천원)
A3: 예산과목 | G3: 산출내역 | Q3: 예산액 | R3: 전년도 예산액 | S3: 증감 | T3: 증감률
A4: 장 | B4: 관 | C4: 항 | D4: 목 | E4: 세목 | F4: 세세목
A5: 고양시청소년진로센터 | Q5: =Q6 -> 325228000 | R5: =R6 -> 231000000 | S5: =Q5-R5 -> 94228000 | T5: =S5/R5 -> 0.40791342 | X5: 325228000 | Z5: =Q5-X5 -> 0
B6: 700 사업비용 | Q6: =Q7+Q98+Q157+Q160 -> 325228000 | R6: =R7+R98+R157+R160 -> 231000000 | S6: =Q6-R6 -> 94228000 | T6: =S6/R6 -> 0.40791342
C7: 710 영업비용 | Q7: =Q8+Q45 -> 222988000 | R7: =R8+R45 -> 215844000 | S7: =Q7-R7 -> 7144000 | T7: =S7/R7 -> 0.033097978
D8: 100 인건비 | Q8: =SUM(Q9:Q44) -> 176359000 | R8: 170770000 | S8: =Q8-R8 -> 5589000 | T8: =S8/R8 -> 0.032728231
E9: 101 급여 | Q9: =SUM(P10) -> 98811000 | R9: 89049600 | S9: =Q9-R9 -> 9761400 | T9: =S9/R9 -> 0.10961756
F10: ㅇ기본급 | P10: =SUM(P11:P12) -> 98811000
F11: - 팀장(6급) | G11: 2803300 | H11: × | I11: 1 | J11: × | K11: 12 | O11: = | P11: =ROUNDUP(G11*I11*K11,-3) -> 33640000
F12: - 사원(7급) | G12: 1810300 | H12: × | I12: 3 | J12: × | K12: 12 | O12: = | P12: =ROUNDUP(G12*I12*K12,-3) -> 65171000 | V12: 인건비 | W12: =R8 -> 170770000
E13: 102 제수당 | Q13: =P14+P17+P21+P23+P25+P27+P34+P37+P30 -> 60219000 | R13: 47783360 | S13: =Q13-R13 -> 12435640 | T13: =S13/R13 -> 0.26025043 | V13: 운영비 | W13: =R45+R160 -> 45230000
F14: ㅇ직급보조비 | P14: =SUM(P15:P16) -> 6000000 | W14: =R98 -> 15000000
F15: - 팀장(6급) | G15: 125000 | H15: × | I15: 1 | J15: × | K15: 12 | O15: = | P15: =ROUNDUP(G15*I15*K15,-3) -> 1500000 | W15: =SUM(W12:W14) -> 231000000
F16: - 사원(7급) | G16: 125000 | H16: × | I16: 3 | J16: × | K16: 12 | O16: = | P16: =ROUNDUP(G16*I16*K16,-3) -> 4500000
F17: ㅇ가족수당 | P17: =SUM(P18:P20) -> 1680000
F18: · 배우자 | G18: 40000 | H18: × | I18: 1 | J18: × | K18: 12 | O18: = | P18: =ROUNDUP(G18*I18*K18,-3) -> 480000
F19: · 첫째자녀, 부양가족 | G19: 20000 | H19: × | I19: 2 | J19: × | K19: 12 | O19: = | P19: =ROUNDUP(G19*I19*K19,-3) -> 480000
F20: · 둘째자녀 | G20: 60000 | H20: × | I20: 1 | J20: × | K20: 12 | O20: = | P20: =ROUNDUP(G20*I20*K20,-3) -> 720000
F21: ㅇ급량비 | P21: =SUM(P22:P22) -> 6240000
F22: - 정액급식비 | G22: 130000 | H22: × | I22: 4 | J22: × | K22: 12 | O22: = | P22: =ROUNDUP(G22*I22*K22,-3) -> 6240000
F23: ㅇ자격수당 | P23: =SUM(P24:P24) -> 1440000
F24: - 청소년지도사 | G24: 30000 | H24: × | I24: 4 | J24: × | K24: 12 | O24: = | P24: =ROUNDUP(G24*I24*K24,-3) -> 1440000
F25: ㅇ시간외/당직근무수당 | P25: =SUM(P26:P26) -> 25896000
F26: - 시간외및당직근무수당 | G26: 539500 | H26: × | I26: 4 | J26: × | K26: 12 | O26: = | P26: =ROUNDUP(G26*I26*K26,-3) -> 25896000
F27: ㅇ정근수당 | P27: =SUM(P28:P29) -> 5601000
F28: - 팀장(6급) | G28: 1392000 | H28: × | I28: 1 | J28: × | K28: 2 | O28: = | P28: =ROUNDUP(G28*I28*K28,-3) -> 2784000
F29: - 사원(7급) | G29: 469400 | H29: × | I29: 3 | J29: × | K29: 2 | O29: = | P29: =ROUNDUP(G29*I29*K29,-3) -> 2817000
F30: ㅇ정근수당가산금 | P30: =SUM(P31:P33) -> 1580000
F31: - 5년 이상 | G31: 50000 | H31: × | I31: 1 | J31: × | K31: 12 | O31: = | P31: =ROUNDUP(G31*I31*K31,-3) -> 600000
F32: - 10년 이상 | G32: 10000 | H32: × | I32: 1 | J32: × | K32: 2 | O32: = | P32: =ROUNDUP(G32*I32*K32,-3) -> 20000
F33: - 15년 이상 | G33: 80000 | H33: × | I33: 1 | J33: × | K33: 12 | O33: = | P33: =ROUNDUP(G33*I33*K33,-3) -> 960000
F34: ㅇ명절휴가비 | P34: =SUM(P35:P36) -> 9853000
F35: - 팀장(6급) | G35: 1670400 | H35: × | I35: 1 | J35: × | K35: 2 | O35: = | P35: =ROUNDUP(G35*I35*K35,-3) -> 3341000
F36: - 사원(7급) | G36: 1085200 | H36: × | I36: 3 | J36: × | K36: 2 | O36: = | P36: =ROUNDUP(G36*I36*K36,-3) -> 6512000
F37: ㅇ연가보상비 | P37: =SUM(P38:P38) -> 1929000
F38: - 연가보상비 | G38: 96450 | H38: × | I38: 4 | J38: × | K38: 5 | O38: = | P38: =ROUNDUP(G38*I38*K38,-3) -> 1929000
E39: 105 기간제근로자보수 | Q39: =SUM(P40) -> 4086000 | R39: 20800000 | S39: =Q39-R39 -> -16714000 | T39: =S39/R39 -> -0.80355769
F40: ㅇ기간제근로자 보수 | P40: =SUM(P41:P41) -> 4086000
F41: ­ 기간제근로자 보수 | G41: 9080 | H41: × | I41: 90 | J41: × | K41: 5 | O41: = | P41: =ROUNDUP(G41*I41*K41,-3) -> 4086000
E42: 106 퇴직급여 | Q42: =SUM(P43) -> 13243000 | R42: 13137000 | S42: =Q42-R42 -> 106000 | T42: =S42/R42 -> 0.0080688133
F43: ㅇ퇴직급여충당금 | P43: =SUM(P44:P44) -> 13243000 | W43: 2018 | X43: 2017
F44: ­ 퇴직급여충당금 | G44: 158907000 | H44: × | I44: 12 | O44: = | P44: =ROUNDUP((G44/12),-3) -> 13243000 | V44: 경비 | W44: =W47-W45 -> 45429000 | X44: =X47-X45 -> 44074000
D45: 200 경비 | Q45: =SUM(Q46:Q97) -> 46629000 | R45: 45074000 | S45: =Q45-R45 -> 1555000 | T45: =S45/R45 -> 0.034498824 | V45: 자산취득비 | W45: =Q95 -> 1200000 | X45: =R95 -> 1000000
E46: 201 복리후생비 | Q46: =P47+P53+P55 -> 25653000 | R46: 22198190 | S46: =Q46-R46 -> 3454810 | T46: =S46/R46 -> 0.15563476
F47: ㅇ사회4대보험 | P47: =SUM(P48:P52) -> 18653000 | V47: 경비+자산취득비 | W47: =Q45 -> 46629000 | X47: =R45 -> 45074000
F48: ­ 국민연금부담금 | G48: 195068000 | H48: × | I48: 0.045 | O48: = | P48: =ROUNDUP(G48*I48,-3) -> 8779000
F49: ­ 국민건강보험부담금 | G49: 195068000 | H49: × | I49: 0.0306 | O49: = | P49: =ROUNDUP(G49*I49,-3) -> 5970000
F50: ­ 장기요양보험부담금 | G50: =P49 -> 5970000 | H50: × | I50: 0.0655 | O50: = | P50: =ROUNDUP(G50*I50,-3) -> 392000 | AA50: =AA42-AA44 -> 0
F51: ­ 고용보험부담금 | G51: 195068000 | H51: × | I51: 0.009 | O51: = | P51: =ROUNDUP(G51*I51,-3) -> 1756000 | W51: 라이센스
F52: ­ 산재보험부담금 | G52: 195068000 | H52: × | I52: 0.009 | O52: = | P52: =ROUNDUP(G52*I52,-3) -> 1756000 | V52: 6 | W52: 한컴오피스
F53: ㅇ급량비 | P53: =SUM(P54) -> 1400000 | V53: 6 | W53: 마이크로소프트
F54: ­ 특근매식비 | G54: 7000 | H54: × | I54: 2 | J54: × | K54: 10 | L54: × | M54: 10 | O54: = | P54: =G54*I54*K54*M54 -> 1400000
F55: ㅇ직원복지제도 | P55: =SUM(P56:P57) -> 5600000
F56: ­ 선택적복지제도 | G56: 1200000 | H56: × | I56: 4 | O56: = | P56: =G56*I56 -> 4800000
F57: ­ 직원건강검진 | G57: 400000 | H57: × | I57: 2 | O57: = | P57: =G57*I57 -> 800000
E58: 202 여비 | Q58: =SUM(P59) -> 7200000 | R58: 4800000 | S58: =Q58-R58 -> 2400000 | T58: =S58/R58 -> 0.5
F59: ㅇ여비 | P59: =SUM(P60:P60) -> 7200000
F60: ­ 국내여비 | G60: 150000 | H60: × | I60: 4 | J60: × | K60: 12 | O60: = | P60: =G60*I60*K60 -> 7200000
E61: 203 공공요금 및 제세 | Q61: =P62 -> 720000 | R61: 1600000 | S61: =Q61-R61 -> -880000 | T61: =S61/R61 -> -0.55
F62: ㅇ통신비 | P62: =SUM(P63:P63) -> 720000
F63: ­ SMS 전송비 | G63: 60000 | H63: × | I63: 12 | O63: = | P63: =ROUNDUP(G63*I63,-3) -> 720000
E64: 206 소모품비 | Q64: =P65 -> 480000 | R64: 1320000 | S64: =Q64-R64 -> -840000 | T64: =S64/R64 -> -0.63636364
F65: ㅇ사무용품비 | P65: =SUM(P66:P66) -> 480000
F66: ­ 사무용품비 | G66: 40000 | H66: × | I66: 12 | O66: = | P66: =ROUNDUP(G66*I66,-3) -> 480000
E67: 207 피복비 | Q67: =P68 -> 320000 | R67: 600000 | S67: =Q67-R67 -> -280000 | T67: =S67/R67 -> -0.46666667
F68: ㅇ피복비 | P68: =SUM(P69:P69) -> 320000
F69: ­ 직원피복비 | G69: 80000 | H69: × | I69: 4 | O69: = | P69: =ROUNDUP(G69*I69,-3) -> 320000
E70: 208 도서인쇄비 | Q70: =P71 -> 1000000 | R70: 2000000 | S70: =Q70-R70 -> -1000000 | T70: =S70/R70 -> -0.5
F71: ㅇ도서인쇄비 | P71: =SUM(P72:P72) -> 1000000
F72: ­ 정기간행물 및 업무용도서구입비 | G72: 500000 | H72: × | I72: 2 | O72: = | P72: =ROUNDUP(G72*I72,-3) -> 1000000 | X72: =G72/2 -> 250000
E73: 209 지급임차료 | Q73: =P74 -> 2400000 | R73: 1980000 | S73: =Q73-R73 -> 420000 | T73: =S73/R73 -> 0.21212121
F74: ㅇ지급임차료 | P74: =SUM(P75:P75) -> 2400000
F75: ­ 복합기임차료 | G75: 200000 | H75: × | I75: 1 | J75: × | K75: 12 | O75: = | P75: =ROUNDUP(G75*I75*K75,-3) -> 2400000
E76: 210 수선유지비 | Q76: 0 | R76: 4056000 | S76: =Q76-R76 -> -4056000 | T76: =S76/R76 -> -1
E77: 212 보험료 | Q77: 0 | R77: 800000 | S77: =Q77-R77 -> -800000 | T77: =S77/R77 -> -1
E78: 213 지급수수료 | Q78: =P79 -> 1056000 | R78: 0 | S78: =Q78-R78 -> 1056000 | T78: 1
F79: ㅇ지급수수료 | P79: =SUM(P80) -> 1056000
F80: ­ 무인경비시스템유지관리비 | G80: 88000 | H80: × | I80: 12 | O80: = | P80: =ROUNDUP(G80*I80,-3) -> 1056000
E81: 214 업무추진비 | Q81: =P82 -> 3000000 | R81: 1200000 | S81: =Q81-R81 -> 1800000 | T81: =S81/R81 -> 1.5
F82: ㅇ 업무추진비 | P82: =SUM(P83:P84) -> 3000000
F83: ­ 기관운영업무추진비 | G83: 100000 | H83: × | I83: 12 | O83: = | P83: =ROUNDUP(G83*I83,-3) -> 1200000
F84: ­ 시책추진업무추진비 | G84: 150000 | H84: × | I84: 12 | O84: = | P84: =ROUNDUP(G84*I84,-3) -> 1800000
E85: 215 관서업무비 | Q85: =P86 -> 1520000 | R85: 2720000 | S85: =Q85-R85 -> -1200000 | T85: =S85/R85 -> -0.44117647
F86: ㅇ 관서업무비 | P86: =SUM(P87:P88) -> 1520000
F87: ­ 부서운영업무추진비 | G87: 100000 | H87: × | I87: 12 | O87: = | P87: =ROUNDUP(G87*I87,-3) -> 1200000
F88: ­ 정원가산업무추진비 | G88: 80000 | H88: × | I88: 4 | O88: = | P88: =ROUNDUP(G88*I88,-3) -> 320000
E89: 216 교육훈련비 | Q89: =P90 -> 1200000 | R89: 800000 | S89: =Q89-R89 -> 400000 | T89: =S89/R89 -> 0.5
F90: ㅇ위탁교육비 | P90: =SUM(P91:P91) -> 1200000
F91: ­ 직원교육지원비 | G91: 300000 | H91: × | I91: 4 | O91: = | P91: =ROUNDUP(G91*I91,-3) -> 1200000
E92: 218 행사홍보비 | Q92: =P93 -> 880000 | R92: 0 | S92: =Q92-R92 -> 880000 | T92: 1
F93: ㅇ홍보물 제작 | P93: =SUM(P94:P94) -> 880000
F94: ­ 현수막, 포스터 | G94: 880000 | H94: × | I94: 1 | J94: × | K94: 1 | O94: = | P94: =G94*I94*K94 -> 880000
E95: 405-1 자산취득비 | Q95: =P96 -> 1200000 | R95: 1000000 | S95: =Q95-R95 -> 200000 | T95: =S95/R95 -> 0.2
F96: ㅇ자산취득비 | P96: =SUM(P97:P97) -> 1200000
F97: ­ 노트북구입 | G97: 1200000 | H97: × | I97: 1 | O97: = | P97: =ROUNDUP(G97*I97,-3) -> 1200000
C98: 720 청소년사업비 | Q98: =Q99+Q100 -> 102000000 | R98: =R99+R100 -> 15000000 | S98: =Q98-R98 -> 87000000 | T98: =S98/R98 -> 5.8
D99: 721 보조금사업비 | Q99: 0 | R99: 0 | S99: 0 | T99: 0
D100: 722 목적사업비 | Q100: =Q101+Q125+Q145 -> 102000000 | R100: =R101+R125+R145 -> 15000000 | S100: =S101+S125+S145 -> 87000000 | T100: =S100/R100 -> 5.8
...

Sheet 예산세출(성사)
A1: 2018년 세출예산서(안)
A2: [일반회계] | T2: (단위:천원)
A3: 예산과목 | G3: 산출내역 | R3: 예산액 | S3: 전년도 예산액 | T3: 증감 | U3: 증감률
A4: 장 | B4: 관 | C4: 항 | D4: 목 | E4: 세목 | F4: 세세목
A5: 성사청소년문화의집 | R5: =SUM(R6) -> 358138000 | S5: =SUM(S6) -> 245371000 | T5: =R5-S5 -> 112767000 | U5: =T5/S5 -> 0.45957754 | W5: 358138000 | Y5: =R5-W5 -> 0
B6: 700 사업비용 | R6: =R7+R117+R183+R199+R206 -> 358138000 | S6: =S7+S117+S183+S199+S206 -> 245371000 | T6: =R6-S6 -> 112767000 | U6: =T6/S6 -> 0.45957754
C7: 710 영업비용 | R7: =R8+R45 -> 278748000 | S7: =S8+S45 -> 180150000 | T7: =R7-S7 -> 98598000 | U7: =T7/S7 -> 0.54731057
D8: 100 인건비 | R8: =SUM(R9:R44) -> 185845000 | S8: =S9+S14+S42 -> 132723000 | T8: =R8-S8 -> 53122000 | U8: =T8/S8 -> 0.40024713
E9: 101 급여 | R9: =SUM(Q10) -> 94929000 | S9: 70176000 | T9: =R9-S9 -> 24753000 | U9: =T9/S9 -> 0.35272743
F10: ㅇ기본급 | Q10: =SUM(Q11:Q13) -> 94929000 | X10: 2018 | Y10: 2017
F11: - 팀장(6급) | G11: 2362000 | H11: × | I11: 1 | J11: × | K11: 12 | P11: = | Q11: =ROUNDUP(G11*I11*K11,-3) -> 28344000 | W11: 인건비 | X11: =R8 -> 185845000 | Y11: =S8 -> 132723000
F12: - 사원(7급) | G12: 1837900 | H12: × | I12: 3 | J12: × | K12: 12 | P12: = | Q12: =ROUNDUP(G12*I12*K12,-3) -> 66165000 | W12: 운영비 | X12: =R45 -> 92903000 | Y12: =S45 -> 47427000
F13: - 사원(배치) | G13: 35000 | H13: × | I13: 1 | J13: × | K13: 12 | P13: = | Q13: =ROUNDUP(G13*I13*K13,-3) -> 420000 | W13: 사업비 | X13: =R121 -> 52600000 | Y13: =S121 -> 41400000
E14: 102 제수당 | R14: =Q15+Q19+Q22+Q24+Q26+Q29+Q36+Q40+Q33 -> 75385000 | S14: 51759000 | T14: =R14-S14 -> 23626000 | U14: =T14/S14 -> 0.45646168 | X14: =SUM(X11:X13) -> 331348000 | Y14: =SUM(Y11:Y13) -> 221550000
F15: ㅇ직급보조비 | Q15: =SUM(Q16:Q18) -> 7500000
F16: - 팀장(6급) | G16: 125000 | H16: × | I16: 1 | J16: × | K16: 12 | P16: = | Q16: =ROUNDUP(G16*I16*K16,-3) -> 1500000
F17: - 사원(7급) | G17: 125000 | H17: × | I17: 3 | J17: × | K17: 12 | P17: = | Q17: =ROUNDUP(G17*I17*K17,-3) -> 4500000
F18: - 사원(배치) | G18: 125000 | H18: × | I18: 1 | J18: × | K18: 12 | P18: = | Q18: =ROUNDUP(G18*I18*K18,-3) -> 1500000
F19: ㅇ가족수당 | Q19: =SUM(Q20:Q21) -> 1440000
F20: · 배우자 | G20: 40000 | H20: × | I20: 2 | J20: × | K20: 12 | P20: = | Q20: =ROUNDUP(G20*I20*K20,-3) -> 960000
F21: · 부양가족 | G21: 20000 | H21: × | I21: 2 | J21: × | K21: 12 | P21: = | Q21: =ROUNDUP(G21*I21*K21,-3) -> 480000
F22: ㅇ급량비 | Q22: =SUM(Q23:Q23) -> 7800000
F23: - 정액급식비 | G23: 130000 | H23: × | I23: 5 | J23: × | K23: 12 | P23: = | Q23: =ROUNDUP(G23*I23*K23,-3) -> 7800000
F24: ㅇ자격수당 | Q24: =SUM(Q25:Q25) -> 1800000
F25: - 청소년지도사 | G25: 30000 | H25: × | I25: 5 | J25: × | K25: 12 | P25: = | Q25: =ROUNDUP(G25*I25*K25,-3) -> 1800000
F26: ㅇ시간외/당직근무수당 | Q26: =SUM(Q27:Q28) -> 35825000
F27: - 시간외및당직근무수당 | G27: 509000 | H27: × | I27: 5 | J27: × | K27: 12 | P27: = | Q27: =ROUNDUP(G27*I27*K27,-3) -> 30540000
F28: - 시간외및당직근무수당(방과후) | G28: 146800 | H28: × | I28: 3 | J28: × | K28: 12 | P28: = | Q28: =ROUNDUP(G28*I28*K28,-3) -> 5285000
F29: ㅇ정근수당 | Q29: =SUM(Q30:Q32) -> 5994000
F30: - 팀장(6급) | G30: 1113100 | H30: × | I30: 1 | J30: × | K30: 2 | P30: = | Q30: =ROUNDUP(G30*I30*K30,-3) -> 2227000
F31: - 사원(7급) | G31: 476600 | H31: × | I31: 3 | J31: × | K31: 2 | P31: = | Q31: =ROUNDUP(G31*I31*K31,-3) -> 2860000
F32: - 사원(배치) | G32: 453500 | H32: × | I32: 1 | J32: × | K32: 2 | P32: = | Q32: =ROUNDUP(G32*I32*K32,-3) -> 907000
F33: ㅇ정근수당가산금 | Q33: =SUM(Q34:Q35) -> 2430000
F34: - 5년 이상 | G34: 50000 | H34: × | I34: 4 | J34: × | K34: 12 | P34: = | Q34: =ROUNDUP(G34*I34*K34,-3) -> 2400000
F35: - 10년 이상 | G35: 10000 | H35: × | I35: 1 | J35: × | K35: 3 | P35: = | Q35: =ROUNDUP(G35*I35*K35,-3) -> 30000
F36: ㅇ명절휴가비 | Q36: =SUM(Q37:Q39) -> 11566000
F37: - 팀장(6급) | G37: 1406000 | H37: × | I37: 1 | J37: × | K37: 2 | P37: = | Q37: =ROUNDUP(G37*I37*K37,-3) -> 2812000
F38: - 사원(7급) | G38: 1096100 | H38: × | I38: 3 | J38: × | K38: 2 | P38: = | Q38: =ROUNDUP(G38*I38*K38,-3) -> 6577000
F39: - 사원(배치) | G39: 1088400 | H39: × | I39: 1 | J39: × | K39: 2 | P39: = | Q39: =ROUNDUP(G39*I39*K39,-3) -> 2177000
F40: ㅇ연가보상비 | Q40: =SUM(Q41:Q41) -> 1030000
F41: - 연가보상비 | G41: 103000 | H41: × | I41: 2 | J41: × | K41: 5 | P41: = | Q41: =ROUNDUP(G41*I41*K41,-3) -> 1030000
E42: 106 퇴직급여 | R42: =SUM(Q43) -> 15531000 | S42: 10788000 | T42: =R42-S42 -> 4743000 | U42: =T42/S42 -> 0.43965517
F43: ㅇ퇴직급여충당금 | Q43: =SUM(Q44:Q44) -> 15531000
F44: ­ 퇴직급여충당금 | G44: 186369000 | H44: × | I44: 12 | P44: = | Q44: =ROUNDUP((G44/12),-3) -> 15531000
D45: 200 경비 | R45: =SUM(R46:R116) -> 92903000 | S45: =SUM(S46:S116) -> 47427000 | T45: =R45-S45 -> 45476000 | U45: =T45/S45 -> 0.95886309
E46: 201 복리후생비 | R46: =Q47+Q54 -> 25631000 | S46: 24897000 | T46: =R46-S46 -> 734000 | U46: =T46/S46 -> 0.029481464
F47: ㅇ사회4대보험 | Q47: =SUM(Q48:Q53) -> 24191000
F48: ­ 국민연금부담금 | G48: 186386000 | H48: × | I48: 0.045 | P48: = | Q48: =ROUNDUP(G48*I48,-3) -> 8388000 | X48: 2018 | Y48: 2017
F49: ­ 국민건강보험부담금 | G49: 186389000 | H49: × | I49: 0.0306 | P49: = | Q49: =ROUNDUP(G49*I49,-3) -> 5704000 | W49: 경비 | X49: =X52-X50 -> 86703000 | Y49: =Y52-Y50 -> 44427000
F50: ­ 장기요양보험부담금 | G50: =Q49 -> 5704000 | H50: × | I50: 0.0655 | P50: = | Q50: =ROUNDUP(G50*I50,-3) -> 374000 | W50: 자산취득비 | X50: =R113 -> 6200000 | Y50: =S113 -> 3000000
F51: ­ 고용보험부담금 | G51: 186389000 | H51: × | I51: 0.009 | P51: = | Q51: =ROUNDUP(G51*I51,-3) -> 1678000
F52: ­ 산재보험부담금 | G52: 186389000 | H52: × | I52: 0.009 | P52: = | Q52: =ROUNDUP(G52*I52,-3) -> 1678000 | W52: 경비+자산취득비 | X52: =R45 -> 92903000 | Y52: =S45 -> 47427000
F53: ­ 방과후아카데미보험 | G53: 530750 | H53: × | I53: 12 | P53: = | Q53: =ROUNDUP(G53*I53,-3) -> 6369000
F54: ㅇ급량비 | Q54: =SUM(Q55) -> 1440000
F55: ­ 특근매식비 | G55: 8000 | H55: × | I55: 3 | J55: × | K55: 5 | L55: × | M55: 12 | P55: = | Q55: =G55*I55*K55*M55 -> 1440000
E56: 202 여비 | R56: =Q57 -> 3800000 | S56: 0 | T56: =R56-S56 -> 3800000 | U56: 1
F57: ㅇ여비 | Q57: =SUM(Q58:Q59) -> 3800000
F58: ­ 국내여비 | G58: 50000 | H58: × | I58: 12 | J58: × | K58: 5 | P58: = | Q58: =G58*I58*K58 -> 3000000
F59: ­ 국외여비 | G59: 40000 | H59: × | I59: 10 | J59: × | K59: 2 | P59: = | Q59: =G59*I59*K59 -> 800000
E60: 203 공공요금 및 제세 | R60: =SUM(Q61+Q67) -> 3184000 | S60: 1600000 | T60: =R60-S60 -> 1584000 | U60: =T60/S60 -> 0.99
F61: ㅇ통신비 | Q61: =SUM(Q62:Q65) -> 2784000
F62: ­ 우편물 및 SMS 발송 | G62: 100000 | H62: × | I62: 12 | P62: = | Q62: =G62*I62 -> 1200000
F63: ­ 전화요금 | G63: 55000 | H63: × | I63: 12 | P63: = | Q63: =G63*I63 -> 660000
F64: ­ 인터넷요금 | G64: 22000 | H64: × | I64: 12 | P64: = | Q64: =G64*I64 -> 264000
F65: ­ UTM보안 | G65: 55000 | H65: × | I65: 12 | P65: = | Q65: =G65*I65 -> 660000
F66: ㅇ협회비및부담금 | Q66: =SUM(Q67) -> 400000
F67: ­ 시설협회비 | G67: 400000 | H67: × | I67: 1 | P67: = | Q67: =G67*I67 -> 400000
E68: 204 수도광열비 | R68: =Q69 -> 24000000 | S68: 0 | T68: =R68-S68 -> 24000000 | U68: 1
F69: ㅇ수도광열비 | Q69: =SUM(Q70) -> 24000000
F70: ­ 수도, 전기 등 관리비 | G70: 2000000 | H70: × | I70: 12 | P70: = | Q70: =G70*I70 -> 24000000
E71: 206 소모품비 | R71: =Q72+Q74+Q76 -> 4400000 | S71: 600000 | T71: =R71-S71 -> 3800000 | U71: =T71/S71 -> 6.3333333
F72: ㅇ사무용품비 | Q72: =SUM(Q73) -> 600000
F73: ­ 사무용품비 | G73: 50000 | H73: × | I73: 12 | P73: = | Q73: =G73*I73 -> 600000
F74: ㅇ전산소모품비 | Q74: =SUM(Q75) -> 3200000
F75: ­ 사무용 소프트웨어 구입 | G75: 400000 | H75: × | I75: 8 | P75: = | Q75: =G75*I75 -> 3200000
F76: ㅇ소모품비 | Q76: =SUM(Q77) -> 600000
F77: ­ 시설운영물품(청소용품,약품 등) | G77: 50000 | H77: × | I77: 12 | P77: = | Q77: =G77*I77 -> 600000
E78: 207 피복비 | R78: =Q79 -> 480000 | S78: 900000 | T78: =R78-S78 -> -420000 | U78: =T78/S78 -> -0.46666667
F79: ㅇ피복비 | Q79: =SUM(Q80) -> 480000
F80: ­ 직원피복비 | G80: 80000 | H80: × | I80: 6 | P80: = | Q80: =G80*I80 -> 480000
E81: 208 도서인쇄비 | R81: =Q82 -> 1600000 | S81: 300000 | T81: =R81-S81 -> 1300000 | U81: =T81/S81 -> 4.3333333
F82: ㅇ인쇄비, 도서구입비 | Q82: =SUM(Q83:Q85) -> 1600000
F83: ­ 정기간행물 및 업무용도서구입비 | G83: 200000 | H83: × | I83: 2 | P83: = | Q83: =G83*I83 -> 400000
F84: ­ 시설리플릿 제작 | G84: 600000 | H84: × | I84: 1 | P84: = | Q84: =G84*I84 -> 600000
F85: ­ 사업보고서 제작 | G85: 600000 | H85: × | I85: 1 | P85: = | Q85: =G85*I85 -> 600000
E86: 209 지급임차료 | R86: =Q87 -> 2796000 | S86: 11730000 | T86: =R86-S86 -> -8934000 | U86: =T86/S86 -> -0.76163683
F87: ㅇ지급임차료 | Q87: =SUM(Q88:Q90) -> 2796000
F88: ­ 복합기임차료 | G88: 165000 | H88: × | I88: 12 | J88: × | K88: 1 | P88: = | Q88: =G88*I88*K88 -> 1980000
F89: ­ 공기청정기임차료 | G89: 43000 | H89: × | I89: 12 | J89: × | K89: 1 | P89: = | Q89: =G89*I89*K89 -> 516000
F90: ­ 정수기임차료 | G90: 25000 | H90: × | I90: 12 | J90: × | K90: 1 | P90: = | Q90: =G90*I90*K90 -> 300000
E91: 210 수선유지비 | R91: =Q92 -> 14510000 | S91: 2500000 | T91: =R91-S91 -> 12010000 | U91: =T91/S91 -> 4.804
F92: ㅇ수선유지비 | Q92: =SUM(Q93:Q95) -> 14510000
F93: - 북카페 공간환경개선 | G93: 5000000 | H93: × | I93: 2 | P93: = | Q93: =G93*I93 -> 10000000
F94: - 각종유지보수 및 관리비 | G94: 1175000 | H94: × | I94: 2 | P94: = | Q94: =G94*I94 -> 2350000
F95: ­ PC유지관리비 | G95: 180000 | H95: × | I95: 12 | P95: = | Q95: =G95*I95 -> 2160000
E96: 212 보험료 | R96: =Q97 -> 1200000 | S96: 400000 | T96: =R96-S96 -> 800000 | U96: =T96/S96 -> 2
F97: ㅇ보험료 | Q97: =SUM(Q98:Q100) -> 1200000
F98: ­ 수련시설종합보험료 | G98: 300000 | H98: × | I98: 1 | P98: = | Q98: =G98*I98 -> 300000
F99: ­ 이행보증보험료 | G99: 200000 | H99: × | I99: 1 | P99: = | Q99: =G99*I99 -> 200000
F100: ­ 직원상해보험료 | G100: 700000 | H100: × | I100: 1 | P100: = | Q100: =G100*I100 -> 700000
...

Sheet 예산세출(탄현)
A1: 2018년 세출예산서(안)
A2: [일반회계] | S2: (단위:천원)
A3: 예산과목 | G3: 산출내역 | Q3: 예산액 | R3: 전년도 예산액 | S3: 증감 | T3: 증감률
A4: 장 | B4: 관 | C4: 항 | D4: 목 | E4: 세목 | F4: 세세목
A5: 탄현청소년문화의집 | Q5: =Q6 -> 343038000 | R5: =R6 -> 261170000 | S5: =Q5-R5 -> 81868000 | T5: =S5/R5 -> 0.31346632 | W5: 343038000 | Y5: =Q5-W5 -> 0
B6: 700 사업비용 | Q6: =SUM(Q7,Q71,Q166,Q268,Q275) -> 343038000 | R6: =SUM(R7,R71,R166,R268,R275) -> 261170000 | S6: =Q6-R6 -> 81868000 | T6: =S6/R6 -> 0.31346632
C7: 710 영업비용 | Q7: =SUM(Q8,Q40) -> 167888000 | R7: =SUM(R8,R40) -> 141705000 | S7: =Q7-R7 -> 26183000 | T7: =S7/R7 -> 0.18477118
D8: 100 인건비 | Q8: =Q9+Q12+Q34++Q37 -> 133061000 | R8: =R9+R12+R34+R37 -> 115502000 | S8: =Q8-R8 -> 17559000 | T8: =S8/R8 -> 0.15202334
E9: 101 급여 | Q9: =SUM(P10) -> 63288000 | R9: 52770000 | S9: =Q9-R9 -> 10518000 | T9: =S9/R9 -> 0.19931779
F10: ㅇ기본급 | P10: =SUM(P11:P11) -> 63288000
F11: - 사원(7급) | G11: 1758000 | H11: × | I11: 3 | J11: × | K11: 12 | O11: = | P11: =ROUNDUP(G11*I11*K11,-3) -> 63288000 | V11: =R9+R12 -> 79883000
E12: 102 제수당 | Q12: =SUM(P13,P15,P18,P20,P22,P24,P30,P32,P26) -> 36737000 | R12: 27113000 | S12: =Q12-R12 -> 9624000 | T12: 1
F13: ㅇ직급보조비 | P13: =SUM(P14:P14) -> 4500000
F14: - 사원(7급) | G14: 125000 | H14: × | I14: 3 | J14: × | K14: 12 | O14: = | P14: =ROUNDUP(G14*I14*K14,-3) -> 4500000 | X14: 2017 | Y14: 2018
F15: ㅇ가족수당 | P15: =SUM(P16:P17) -> 480000 | V15: 인건비 | W15: =Q8 -> 133061000 | X15: =R8 -> 115502000
F16: - 배우자 | G16: 40000 | H16: × | I16: 1 | J16: × | K16: 12 | O16: = | P16: =ROUNDUP(G16*I16*K16,-3) -> 480000 | V16: 운영비 | W16: =Q40 -> 34827000 | X16: =R40 -> 26203000
F17: · 부양가족 | H17: × | J17: × | O17: = | P17: =ROUNDUP(G17*I17*K17,-3) -> 0
F18: ㅇ급량비 | P18: =SUM(P19:P19) -> 4680000 | V18: 사업비 | W18: =Q71 -> 48200000 | X18: =R71 -> 10545000
F19: - 정액급식비 | G19: 130000 | H19: × | I19: 3 | J19: × | K19: 12 | O19: = | P19: =ROUNDUP(G19*I19*K19,-3) -> 4680000 | W19: =SUM(W15:W18) -> 216088000 | X19: =SUM(X15:X18) -> 152250000
F20: ㅇ자격수당 | P20: =SUM(P21:P21) -> 1080000
F21: - 청소년지도사 | G21: 30000 | H21: × | I21: 3 | J21: × | K21: 12 | O21: = | P21: =ROUNDUP(G21*I21*K21,-3) -> 1080000
F22: ㅇ시간외/당직근무수당 | P22: =SUM(P23:P23) -> 16449000
F23: - 시간외및당직근무수당 | G23: 456900 | H23: × | I23: 3 | J23: × | K23: 12 | O23: = | P23: =ROUNDUP(G23*I23*K23,-3) -> 16449000
F24: ㅇ정근수당 | P24: =SUM(P25:P25) -> 2212000
F25: - 사원(7급) | G25: 368600 | H25: × | I25: 3 | J25: × | K25: 2 | O25: = | P25: =ROUNDUP(G25*I25*K25,-3) -> 2212000
F26: ㅇ정근수당가산금 | P26: =SUM(P27:P29) -> 600000
F27: - 5년 이상 | G27: 50000 | H27: × | I27: 1 | J27: × | K27: 12 | O27: = | P27: =ROUNDUP(G27*I27*K27,-3) -> 600000
F28: - 10년 이상 | H28: × | J28: × | O28: = | P28: =ROUNDUP(G28*I28*K28,-3) -> 0
F29: - 15년 이상 | H29: × | J29: × | O29: = | P29: =ROUNDUP(G29*I29*K29,-3) -> 0
F30: ㅇ명절휴가비 | P30: =SUM(P31:P31) -> 6291000
F31: - 사원(7급) | G31: 1048500 | H31: × | I31: 3 | J31: × | K31: 2 | O31: = | P31: =ROUNDUP(G31*I31*K31,-3) -> 6291000
F32: ㅇ연가보상비 | P32: =SUM(P33:P33) -> 445000
F33: - 연가보상비 | G33: 88970 | H33: × | I33: 1 | J33: × | K33: 5 | O33: = | P33: =ROUNDUP(G33*I33*K33,-3) -> 445000
E34: 104 무기계약근로자보수 | Q34: =SUM(P35) -> 24700000 | R34: 28963000 | S34: =Q34-R34 -> -4263000 | T34: =S34/R34 -> -0.14718779
F35: ㅇ무기계약근로자 보수 | P35: =SUM(P36:P36) -> 24700000
F36: ­ 무기계약근로자 보수 | G36: 950000 | H36: × | I36: 2 | J36: × | K36: 13 | O36: = | P36: =ROUNDUP(G36*I36*K36,-3) -> 24700000
E37: 106 퇴직급여 | Q37: =SUM(P38) -> 8336000 | R37: 6656000 | S37: =Q37-R37 -> 1680000 | T37: =S37/R37 -> 0.25240385
F38: ㅇ퇴직급여충당금 | P38: =SUM(P39:P39) -> 8336000
F39: ­ 퇴직급여충당금 | G39: 100025000 | H39: × | I39: 12 | O39: = | P39: =ROUNDUP((G39/12),-3) -> 8336000
D40: 200 경비 | Q40: =SUM(Q41,Q48,Q58,Q61) -> 34827000 | R40: =SUM(R41:R70) -> 26203000 | S40: =Q40-R40 -> 8624000 | T40: =S40/R40 -> 0.32912262
E41: 201 복리후생비 | Q41: =SUM(P42) -> 11927000 | R41: 10953000 | S41: =Q41-R41 -> 974000 | T41: =S41/R41 -> 0.088925409
F42: ㅇ사회4대보험 | P42: =SUM(P43:P47) -> 11927000
F43: ­ 국민연금부담금 | G43: 124725000 | H43: × | I43: 0.045 | O43: = | P43: =ROUNDUP(G43*I43,-3) -> 5613000
F44: ­ 국민건강보험부담금 | G44: 124725000 | H44: × | I44: 0.0306 | O44: = | P44: =ROUNDUP(G44*I44,-3) -> 3817000
F45: ­ 장기요양보험부담금 | G45: =P44 -> 3817000 | H45: × | I45: 0.0655 | O45: = | P45: =ROUNDUP(G45*I45,-3) -> 251000
F46: ­ 고용보험부담금 | G46: 124725000 | H46: × | I46: 0.009 | O46: = | P46: =ROUNDUP(G46*I46,-3) -> 1123000
F47: ­ 산재보험부담금 | G47: 124725000 | H47: × | I47: 0.009 | O47: = | P47: =ROUNDUP(G47*I47,-3) -> 1123000
E48: 203 공공요금 및 제세 | Q48: =SUM(P49+P51+P53+P55) -> 3400000 | R48: 2220000 | S48: =Q48-R48 -> 1180000 | T48: =S48/R48 -> 0.53153153
F49: ㅇ발송비 | P49: =SUM(P50:P50) -> 200000
F50: ­ 우편물,택배 발송비 | G50: 100000 | H50: × | I50: 2 | O50: = | P50: =ROUNDUP(G50*I50,-3) -> 200000
F51: ㅇ통신비 | P51: =SUM(P52:P52) -> 2400000
F52: ­ 전화 인터넷 사용료 | G52: 200000 | H52: × | I52: 12 | O52: = | P52: =ROUNDUP(G52*I52,-3) -> 2400000
F53: ㅇ협회비및부담금 | P53: =SUM(P54:P54) -> 500000
F54: ­ 청소년시설협회비 | G54: 500000 | H54: × | I54: 1 | O54: = | P54: =ROUNDUP(G54*I54,-3) -> 500000
F55: ㅇ제세공과금 | P55: =SUM(P56:P57) -> 300000
F56: ­ 부가가치세 | G56: 100000 | H56: × | I56: 1 | O56: = | P56: =ROUNDUP(G56*I56,-3) -> 100000
F57: ­ 각종세금 | G57: 100000 | H57: × | I57: 2 | O57: = | P57: =ROUNDUP(G57*I57,-3) -> 200000
E58: 204 수도광열비 | Q58: =P59 -> 14400000 | R58: 12480000 | S58: =Q58-R58 -> 1920000 | T58: =S58/R58 -> 0.15384615
F59: ㅇ수도광열비 | P59: =SUM(P60:P60) -> 14400000
F60: ­ 전기요금 | G60: 1200000 | H60: × | I60: 12 | O60: = | P60: =ROUNDUP(G60*I60,-3) -> 14400000
E61: 206 소모품비 | Q61: =P62+P65+P67 -> 5100000 | R61: 0 | S61: =Q61-R61 -> 5100000 | T61: 1
F62: ㅇ사무용품비 | P62: =SUM(P63:P64) -> 3880000
F63: ­ 사무용품비 | G63: 250000 | H63: × | I63: 12 | O63: = | P63: =ROUNDUP(G63*I63,-3) -> 3000000
F64: ­ 복사용지 | G64: 220000 | H64: × | I64: 4 | O64: = | P64: =ROUNDUP(G64*I64,-3) -> 880000
F65: ㅇ청소용품비 | P65: =SUM(P66) -> 800000
F66: ­ 청소 및 위생용 소모품비 | G66: 200000 | H66: × | I66: 4 | O66: = | P66: =ROUNDUP(G66*I66,-3) -> 800000
F67: ㅇ약품구입비 | P67: =SUM(P68:P68) -> 420000
F68: ­ 비상약품 | G68: 105000 | H68: × | I68: 4 | O68: = | P68: =ROUNDUP(G68*I68,-3) -> 420000
E69: 212 보험료 | Q69: 0 | R69: 500000 | S69: =Q69-R69 -> -500000 | T69: =S69/R69 -> -1
E70: 213 지급수수료 | Q70: 0 | R70: 50000 | S70: =Q70-R70 -> -50000 | T70: =S70/R70 -> -1
C71: 720 청소년사업비 | Q71: =SUM(Q72,Q80) -> 48200000 | R71: =SUM(R72,R80) -> 10545000 | S71: =Q71-R71 -> 37655000 | T71: =S71/R71 -> 3.5708867
D72: 721 보조금사업비 | Q72: =SUM(Q73,Q77) -> 0 | R72: =SUM(R73,R77) -> 0 | S72: =Q72-R72 -> 0 | T72: 0
E73: 721-1 국도시비보조금사업비 | Q73: =P74+P76 -> 0 | R73: 0 | S73: =Q73-R73 -> 0 | T73: 0
F74: ㅇ사업명 | P74: =SUM(P76) -> 0
F75: ­ | H75: ×
F76: ㅇ사업명 | P76: =SUM(P79) -> 0
E77: 721-2 경기도교육청사업비 | Q77: =P78 -> 0 | R77: 0 | S77: =Q77-R77 -> 0 | T77: 0
F78: ㅇ사업명
F79: ­ 공모사업지원금 | H79: × | O79: = | P79: =G79*I79 -> 0
D80: 722 목적사업비 | Q80: =Q81+Q136 -> 48200000 | R80: =R81+R136 -> 10545000 | S80: =Q80-R80 -> 37655000 | T80: =S80/R80 -> 3.5708867
E81: 722-1 청소년 참여와 활동 사업 | Q81: =P83+P89+P95+P100+P105+P111+P115+P120+P129+P131 -> 37600000 | R81: 10545000 | S81: =Q81-R81 -> 27055000 | T81: =S81/R81 -> 2.5656709
F82: ㅇ 민주시민 역량강화 | P82: =P83+P89 -> 3000000
F83: ­ 청(소년 회)담 | P83: =SUM(P84:P88) -> 1000000
F84: · 강사비 | G84: 150000 | H84: × | I84: 2 | O84: = | P84: =ROUNDUP(G84*I84,-3) -> 300000
F85: · 홍보비 | G85: 105000 | H85: × | I85: 1 | O85: = | P85: =ROUNDUP(G85*I85,-3) -> 105000
F86: · 회의비(다과) | G86: 60000 | H86: × | I86: 5 | O86: = | P86: =ROUNDUP(G86*I86,-3) -> 300000
F87: · 활동비(식비) | G87: 105000 | H87: × | I87: 1 | O87: = | P87: =ROUNDUP(G87*I87,-3) -> 105000
F88: · 재료비 | G88: 95000 | H88: × | I88: 2 | O88: = | P88: =ROUNDUP(G88*I88,-3) -> 190000
F89: - SDGs in Action | P89: =SUM(P90:P93) -> 2000000
F90: · 홍보비 | G90: 50000 | H90: × | I90: 1 | O90: = | P90: =ROUNDUP(G90*I90,-3) -> 50000
F91: · 회의비(다과) | G91: 150000 | H91: × | I91: 7 | O91: = | P91: =ROUNDUP(G91*I91,-3) -> 1050000
F92: · 활동비(식비) | G92: 250000 | H92: × | I92: 2 | O92: = | P92: =ROUNDUP(G92*I92,-3) -> 500000
F93: · 재료비 | G93: 200000 | H93: × | I93: 2 | O93: = | P93: =ROUNDUP(G93*I93,-3) -> 400000
F94: ㅇ참여를 통한 권리증진 | P94: =P95+P100+P105 -> 10500000
F95: - 청소년운영위원회 | P95: =SUM(P96:P99) -> 2000000
F96: · 홍보비 | G96: 50000 | H96: × | I96: 1 | O96: = | P96: =ROUNDUP(G96*I96,-3) -> 50000
F97: · 정기회의비 | G97: 70000 | H97: × | I97: 15 | O97: = | P97: =ROUNDUP(G97*I97,-3) -> 1050000
F98: · 강사비 | G98: 150000 | H98: × | I98: 3 | O98: = | P98: =ROUNDUP(G98*I98,-3) -> 450000
F99: · 활동운영비(교육,교류,운영물품등) | G99: 150000 | H99: × | I99: 3 | O99: = | P99: =ROUNDUP(G99*I99,-3) -> 450000
F100: - 청소년동아리 | P100: =SUM(P101:P104) -> 2000000
...

Sheet 예산세출(주교)
A1: 2018년 세출예산서(안)
A2: [일반회계] | S2: (단위:천원)
A3: 예산과목 | G3: 산출내역 | Q3: 예산액 | R3: 전년도 예산액 | S3: 증감 | T3: 증감률
A4: 장 | B4: 관 | C4: 항 | D4: 목 | E4: 세목 | F4: 세세목
A5: 주교동청소년카페 | Q5: =Q6 -> 66689000 | R5: =R6 -> 50660000 | S5: =Q5-R5 -> 16029000 | T5: =S5/R5 -> 0.31640347 | V5: 66689000 | X5: =Q5-V5 -> 0
B6: 700 사업비용 | Q6: =SUM(Q7,Q75,Q99,Q106,Q113) -> 66689000 | R6: =SUM(R7,R75,R99,R106,R113) -> 50660000 | S6: =Q6-R6 -> 16029000 | T6: =S6/R6 -> 0.31640347
C7: 710 영업비용 | Q7: =Q8+Q36 -> 61159000 | R7: =SUM(R8,R36) -> 45650000 | S7: =Q7-R7 -> 15509000 | T7: =S7/R7 -> 0.33973713
D8: 100 인건비 | Q8: =SUM(Q9:Q35) -> 46863000 | R8: =R9+R12+R30+R33 -> 32193000 | S8: =Q8-R8 -> 14670000 | T8: =S8/R8 -> 0.45568912
E9: 101 급여 | Q9: =SUM(P10) -> 20798000 | R9: 16800000 | S9: =Q9-R9 -> 3998000 | T9: =S9/R9 -> 0.23797619
F10: ㅇ기본급 | P10: =SUM(P11:P11) -> 20798000
F11: - 사원(7급) | G11: 1733100 | H11: × | I11: 1 | J11: × | K11: 12 | O11: = | P11: =ROUNDUP(G11*I11*K11,-3) -> 20798000
E12: 102 제수당 | Q12: =P13+P15+P18+P20+P22+P24+P26+P28 -> 11564000 | R12: 6400000 | S12: =Q12-R12 -> 5164000 | T12: =S12/R12 -> 0.806875
F13: ㅇ직급보조비 | P13: =SUM(P14:P14) -> 1500000
F14: - 사원(7급) | G14: 125000 | H14: × | I14: 1 | J14: × | K14: 12 | O14: = | P14: =ROUNDUP(G14*I14*K14,-3) -> 1500000
F15: ㅇ가족수당 | P15: =SUM(P16:P17) -> 0
F16: · 배우자 | H16: × | I16: 1 | J16: × | K16: 12 | O16: = | P16: =ROUNDUP(G16*I16*K16,-3) -> 0
F17: · 부양가족 | H17: × | I17: 1 | J17: × | K17: 12 | O17: = | P17: =ROUNDUP(G17*I17*K17,-3) -> 0
F18: ㅇ급량비 | P18: =SUM(P19:P19) -> 1560000
F19: - 정액급식비 | G19: 130000 | H19: × | I19: 1 | J19: × | K19: 12 | O19: = | P19: =ROUNDUP(G19*I19*K19,-3) -> 1560000
F20: ㅇ자격수당 | P20: =SUM(P21:P21) -> 360000
F21: - 청소년지도사 | G21: 30000 | H21: × | I21: 1 | J21: × | K21: 12 | O21: = | P21: =ROUNDUP(G21*I21*K21,-3) -> 360000
F22: ㅇ시간외/당직근무수당 | P22: =SUM(P23:P23) -> 5364000
F23: - 시간외및당직근무수당 | G23: 447000 | H23: × | I23: 1 | J23: × | K23: 12 | O23: = | P23: =ROUNDUP(G23*I23*K23,-3) -> 5364000
F24: ㅇ정근수당 | P24: =SUM(P25:P25) -> 700000
F25: - 사원(7급) | G25: 350000 | H25: × | I25: 1 | J25: × | K25: 2 | O25: = | P25: =ROUNDUP(G25*I25*K25,-3) -> 700000
F26: ㅇ명절휴가비 | P26: =SUM(P27:P27) -> 2080000
F27: - 사원(7급) | G27: 1040000 | H27: × | I27: 1 | J27: × | K27: 2 | O27: = | P27: =ROUNDUP(G27*I27*K27,-3) -> 2080000
F28: ㅇ연가보상비 | P28: =SUM(P29:P29) -> 0
F29: - 연가보상비 | H29: × | J29: × | L29: × | O29: = | P29: =ROUNDUP(G29*I29*K29,-3) -> 0
E30: 105 기간제근로자보수 | Q30: =SUM(P31) -> 11804000 | R30: 5493000 | S30: =Q30-R30 -> 6311000 | T30: =S30/R30 -> 1.1489168
F31: ㅇ단시간 인건비 | P31: =SUM(P32:P32) -> 11804000
F32: ­ 단시간직원 인건비 | G32: 9080 | H32: × | I32: 100 | J32: × | K32: 13 | O32: = | P32: =ROUNDUP(G32*I32*K32,-3) -> 11804000
E33: 106 퇴직급여 | Q33: =SUM(P34) -> 2697000 | R33: 3500000 | S33: =Q33-R33 -> -803000 | T33: =S33/R33 -> -0.22942857
F34: ㅇ퇴직급여충당금 | P34: =SUM(P35:P35) -> 2697000
F35: ­ 퇴직급여충당금 | G35: 32362000 | H35: × | I35: 12 | O35: = | P35: =ROUNDUP(G35/12,-3) -> 2697000
D36: 200 경비 | Q36: =SUM(Q37:Q74) -> 14296000 | R36: =R37+R44+R47+R50+R55+R58+R61+R64+R68 -> 13457000 | S36: =Q36-R36 -> 839000 | T36: =S36/R36 -> 0.062346734
E37: 201 복리후생비 | Q37: =P38 -> 4225000 | R37: 4200000 | S37: =Q37-R37 -> 25000 | T37: =S37/R37 -> 0.005952381
F38: ㅇ사회4대보험 | P38: =SUM(P39:P43) -> 4225000
F39: ­ 국민연금부담금 | G39: 44166000 | H39: × | I39: 0.045 | O39: = | P39: =ROUNDUP(G39*I39,-3) -> 1988000
F40: ­ 국민건강보험부담금 | G40: 44166000 | H40: × | I40: 0.0306 | O40: = | P40: =ROUNDUP(G40*I40,-3) -> 1352000
F41: ­ 장기요양보험부담금 | G41: =P40 -> 1352000 | H41: × | I41: 0.0655 | O41: = | P41: =ROUNDUP(G41*I41,-3) -> 89000
F42: ­ 고용보험부담금 | G42: 44166000 | H42: × | I42: 0.009 | O42: = | P42: =ROUNDUP(G42*I42,-3) -> 398000
F43: ­ 산재보험부담금 | G43: 44166000 | H43: × | I43: 0.009 | O43: = | P43: =ROUNDUP(G43*I43,-3) -> 398000
E44: 202 여비 | Q44: =SUM(P45) -> 480000 | R44: 480000 | S44: =Q44-R44 -> 0 | T44: =S44/R44 -> 0
F45: ㅇ여비 | P45: =SUM(P46:P46) -> 480000
F46: ­ 국내여비 | G46: 40000 | H46: × | I46: 1 | J46: × | K46: 12 | O46: = | P46: =G46*I46*K46 -> 480000
E47: 203 공공요금 및 제세 | Q47: =SUM(P48) -> 1200000 | R47: 840000 | S47: =Q47-R47 -> 360000 | T47: =S47/R47 -> 0.42857143
F48: ㅇ통신비 | P48: =SUM(P49:P49) -> 1200000
F49: ­ 전화 인터넷 사용료 | G49: 100000 | H49: × | I49: 12 | O49: = | P49: =ROUNDUP(G49*I49,-3) -> 1200000
E50: 204 수도광열비 | Q50: =P51+P53 -> 2544000 | R50: 1320000 | S50: =Q50-R50 -> 1224000 | T50: =S50/R50 -> 0.92727273
F51: ㅇ전기요금 | P51: =P52 -> 2400000
F52: ­ 전기요금 | G52: 200000 | H52: × | I52: 12 | O52: = | P52: =ROUNDUP(G52*I52,-3) -> 2400000
F53: ㅇ상하수도료 | P53: =P54 -> 144000
F54: ­ 상하수도료 | G54: 12000 | H54: × | I54: 12 | O54: = | P54: =ROUNDUP(G54*I54,-3) -> 144000
E55: 206 소모품비 | Q55: =P56 -> 1200000 | R55: 2400000 | S55: =Q55-R55 -> -1200000 | T55: =S55/R55 -> -0.5
F56: ㅇ사무용품비 | P56: =SUM(P57:P57) -> 1200000
F57: ­ 사무실운영비 | G57: 100000 | H57: × | I57: 1 | J57: × | K57: 12 | O57: = | P57: =G57*I57*K57 -> 1200000
E58: 209 지급임차료 | Q58: =+P59 -> 2040000 | R58: 3000000 | S58: =Q58-R58 -> -960000 | T58: =S58/R58 -> -0.32
F59: ㅇ지급임차료 | P59: =SUM(P60:P60) -> 2040000
F60: ­ 복합기, 정수기 외 | G60: 170000 | H60: × | I60: 1 | J60: × | K60: 12 | O60: = | P60: =ROUNDUP(G60*I60*K60,-3) -> 2040000
E61: 210 수선유지비 | Q61: =+P62 -> 1000000 | R61: 1000000 | S61: =Q61-R61 -> 0 | T61: =S61/R61 -> 0
F62: ㅇ시설유지보수 | P62: =SUM(P63:P63) -> 1000000
F63: ­ 시설유지보수 | G63: 1000000 | H63: × | I63: 1 | O63: = | P63: =ROUNDUP(G63*I63,-3) -> 1000000
E64: 212 보험료 | Q64: =+P65 -> 250000 | R64: 120000 | S64: =Q64-R64 -> 130000 | T64: =S64/R64 -> 1.0833333
F65: ㅇ보험료 | P65: =SUM(P66:P67) -> 250000
F66: ­ 시설종합보험 | G66: 150000 | H66: × | I66: 1 | O66: = | P66: =ROUNDUP(G66*I66,-3) -> 150000
F67: ­ 프로그램 지원자 상해보험 | G67: 100000 | H67: × | I67: 1 | O67: = | P67: =ROUNDUP(G67*I67,-3) -> 100000
E68: 213 지급수수료 | Q68: =+P69 -> 1057000 | R68: 97000 | S68: =Q68-R68 -> 960000 | T68: =S68/R68 -> 9.8969072
F69: ㅇ지급수수료 | P69: =SUM(P70:P71) -> 1057000
F70: ­ 무인경비시스템유지관리비 | G70: 80000 | H70: × | I70: 12 | O70: = | P70: =ROUNDUP(G70*I70,-3) -> 960000
F71: ­ 각종수수료 | G71: 97000 | H71: × | I71: 1 | O71: = | P71: =ROUNDUP(G71*I71,-3) -> 97000
E72: 216 교육훈련비 | Q72: =+P73 -> 300000 | R72: 0 | S72: =Q72-R72 -> 300000 | T72: 1
F73: ㅇ교육훈련비 | P73: =SUM(P74) -> 300000
F74: ­ 직원교육지원비 | G74: 300000 | H74: × | I74: 1 | O74: = | P74: =ROUNDUP(G74*I74,-3) -> 300000
C75: 720 청소년사업비 | Q75: =+Q80 -> 4030000 | R75: =SUM(R76,R80) -> 1600000 | S75: =Q75-R75 -> 2430000 | T75: =S75/R75 -> 1.51875
D76: 721 보조금사업비 | Q76: =Q77 -> 0 | R76: =R77 -> 0 | S76: =Q76-R76 -> 0 | T76: 0
E77: 721-1 기타보조금사업비 | Q77: =P78 -> 0 | R77: 0 | S77: 0 | T77: 0
F78: ㅇ공모지원금사업비 | P78: =SUM(P79:P79) -> 0
F79: ­ 사업운영 | H79: × | O79: = | P79: =ROUND(G79*I79,-1) -> 0
D80: 722 목적사업비 | Q80: =+Q81 -> 4030000 | R80: =R81 -> 1600000 | S80: =Q80-R80 -> 2430000 | T80: =S80/R80 -> 1.51875
E81: 722-1 청소년사업비 | Q81: =P84+P90+P93+P95+P97 -> 4030000 | R81: 1600000 | S81: =Q81-R81 -> 2430000 | T81: =S81/R81 -> 1.51875
F82: ㅇ사업비
F83: ­ 청소년카페 사업운영 | P83: =P84+P90+P93+P95+P97 -> 4030000
F84: · 주교동청소년카페시설운영 | P84: =SUM(P85:P89) -> 1450000
F85: · 흙, 모종, 재료비 등 | G85: 200000 | H85: × | I85: 1 | O85: = | P85: =ROUNDUP(G85*I85,-3) -> 200000
F86: · 청소용품 등 | G86: 100000 | H86: × | I86: 1 | O86: = | P86: =ROUNDUP(G86*I86,-3) -> 100000
F87: · 타일, 물감, 수공료, 재료비 등 | G87: 22500 | H87: × | I87: 20 | O87: = | P87: =ROUNDUP(G87*I87,-3) -> 450000
F88: · 호미, 괭이, 영양공급제, 씨앗 등 | G88: 300000 | H88: × | I88: 1 | O88: = | P88: =ROUNDUP(G88*I88,-3) -> 300000
F89: · 동계대비 방한제 등 | G89: 400000 | H89: × | I89: 1 | O89: = | P89: =ROUNDUP(G89*I89,-3) -> 400000
F90: · 청소년방학특강 | P90: =SUM(P91:P92) -> 480000
F91: · 재료비,간식비 등 | G91: 2000 | H91: × | I91: 10 | J91: × | K91: 8 | O91: = | P91: =ROUNDUP(G91*I91*K91,-3) -> 160000
F92: · 2차 강사비 | G92: 80000 | H92: × | I92: 1 | J92: × | K92: 4 | O92: = | P92: =ROUNDUP(G92*I92*K92,-3) -> 320000
F93: · 지역동아리활성화 | P93: =SUM(P94) -> 1120000
F94: · 재료비,간식비 등 | G94: 2000 | H94: × | I94: 560 | O94: = | P94: =ROUNDUP(G94*I94,-3) -> 1120000
F95: · 청소년멘토-멘티 | P95: =SUM(P96) -> 320000
F96: · 재료비,간식비 등 | G96: 20000 | H96: × | I96: 8 | J96: × | K96: 2 | O96: = | P96: =ROUNDUP(G96*I96*K96,-3) -> 320000
F97: · 지역사회연계 | P97: =SUM(P98) -> 660000
F98: · 재료비,간식비 등 | G98: 1100 | H98: × | I98: 600 | O98: = | P98: =ROUNDUP(G98*I98,-3) -> 660000
C99: 730 자체사업비 | Q99: =+Q100 -> 1480000 | R99: =R100 -> 1400000 | S99: =Q99-R99 -> 80000 | T99: =S99/R99 -> 0.057142857
D100: 731 직영사업비 | Q100: =+Q101 -> 1480000 | R100: =R101 -> 1400000 | S100: =Q100-R100 -> 80000 | T100: =S100/R100 -> 0.057142857
...

Sheet 예산세출(일산서구)
A1: 2018년 세출예산서(안)
A2: [일반회계] | S2: (단위:천원)
A3: 예산과목 | G3: 산출내역 | Q3: 예산액 | R3: 전년도 예산액 | S3: 증감 | T3: 증감률
A4: 장 | B4: 관 | C4: 항 | D4: 목 | E4: 세목 | F4: 세세목
A5: 일산서구청소년수련관 | Q5: =Q6 -> 1775783000 | R5: =R6 -> 0 | S5: =Q5-R5 -> 1775783000 | T5: 1 | V5: 1775783000 | X5: =Q5-V5 -> 0
B6: 700 사업비용 | Q6: =Q7+Q134+Q180 -> 1775783000 | R6: =R7+R134+R180 -> 0 | S6: =Q6-R6 -> 1775783000 | T6: 1
C7: 710 영업비용 | Q7: =Q8+Q54 -> 1100000000 | R7: =SUM(R8,R54) -> 0 | S7: =Q7-R7 -> 1100000000 | T7: 1
D8: 100 인건비 | Q8: =SUM(Q9:Q53) -> 500000000 | R8: =SUM(R9,R14,R51) -> 0 | S8: =Q8-R8 -> 500000000 | T8: 1
E9: 101 급여 | Q9: =SUM(P10) -> 249990000 | R9: 0 | S9: =Q9-R9 -> 249990000 | T9: 1
F10: ㅇ기본급 | P10: =SUM(P11:P13) -> 249990000
F11: - 관장(4급) | G11: 3874000 | H11: × | I11: 1 | J11: × | K11: 10 | O11: = | P11: =ROUNDUP(G11*I11*K11,-3) -> 38740000
F12: - 팀장(6급) | G12: 2882500 | H12: × | I12: 2 | J12: × | K12: 10 | O12: = | P12: =ROUNDUP(G12*I12*K12,-3) -> 57650000
F13: - 사원(7급) | G13: 1920000 | H13: × | I13: 8 | J13: × | K13: 10 | O13: = | P13: =ROUNDUP(G13*I13*K13,-3) -> 153600000
E14: 102 제수당 | Q14: =P15+P19+P23+P25+P27+P29+P38+P42+P33 -> 135108000 | R14: 0 | S14: =Q14-R14 -> 135108000 | T14: 1
F15: ㅇ직급보조비 | P15: =SUM(P16:P18) -> 14050000
F16: - 관장(4급) | G16: 155000 | H16: × | I16: 1 | J16: × | K16: 10 | O16: = | P16: =ROUNDUP(G16*I16*K16,-3) -> 1550000
F17: - 팀장(6급) | G17: 125000 | H17: × | I17: 2 | J17: × | K17: 10 | O17: = | P17: =ROUNDUP(G17*I17*K17,-3) -> 2500000
F18: - 사원(7급) | G18: 125000 | H18: × | I18: 8 | J18: × | K18: 10 | O18: = | P18: =ROUNDUP(G18*I18*K18,-3) -> 10000000
F19: ㅇ가족수당 | P19: =SUM(P20:P22) -> 3800000
F20: - 배우자 | G20: 40000 | H20: × | I20: 5 | J20: × | K20: 10 | O20: = | P20: =ROUNDUP(G20*I20*K20,-3) -> 2000000
F21: - 부양가족 | G21: 20000 | H21: × | I21: 3 | J21: × | K21: 10 | O21: = | P21: =ROUNDUP(G21*I21*K21,-3) -> 600000
F22: - 부양가족 가산(둘째자녀) | G22: 60000 | H22: × | I22: 2 | J22: × | K22: 10 | O22: = | P22: =ROUNDUP(G22*I22*K22,-3) -> 1200000
F23: ㅇ급량비 | P23: =SUM(P24:P24) -> 14300000
F24: - 정액급식비 | G24: 130000 | H24: × | I24: 11 | J24: × | K24: 10 | O24: = | P24: =ROUNDUP(G24*I24*K24,-3) -> 14300000
F25: ㅇ자격수당 | P25: =SUM(P26:P26) -> 3300000
F26: - 청소년지도사 | G26: 30000 | H26: × | I26: 11 | J26: × | K26: 10 | O26: = | P26: =ROUNDUP(G26*I26*K26,-3) -> 3300000
F27: ㅇ시간외/당직근무수당 | P27: =SUM(P28:P28) -> 64350000
F28: - 시간외및당직근무수당 | G28: 585000 | H28: × | I28: 11 | J28: × | K28: 10 | O28: = | P28: =ROUNDUP(G28*I28*K28,-3) -> 64350000
F29: ㅇ정근수당 | P29: =SUM(P30:P32) -> 9500000
F30: - 관장(4급) | G30: 1930000 | H30: × | I30: 1 | J30: × | K30: 1 | O30: = | P30: =ROUNDUP(G30*I30*K30,-3) -> 1930000
F31: - 팀장(6급) | G31: 1449000 | H31: × | I31: 2 | J31: × | K31: 1 | O31: = | P31: =ROUNDUP(G31*I31*K31,-3) -> 2898000
F32: - 사원(7급) | G32: 584000 | H32: × | I32: 8 | J32: × | K32: 1 | O32: = | P32: =ROUNDUP(G32*I32*K32,-3) -> 4672000
F33: ㅇ정근수당가산금 | P33: =SUM(P34:P37) -> 4660000
F34: - 20년 이상 | G34: 100000 | H34: × | I34: 2 | J34: × | K34: 10 | O34: = | P34: =ROUNDUP(G34*I34*K34,-3) -> 2000000
F35: - 15년 이상 | G35: 80000 | H35: × | I35: 2 | J35: × | K35: 10 | O35: = | P35: =ROUNDUP(G35*I35*K35,-3) -> 1600000
F36: - 10년 이상 | G36: 10000 | H36: × | I36: 1 | J36: × | K36: 6 | O36: = | P36: =ROUNDUP(G36*I36*K36,-3) -> 60000
F37: - 5년 이상 | G37: 50000 | H37: × | I37: 2 | J37: × | K37: 10 | O37: = | P37: =ROUNDUP(G37*I37*K37,-3) -> 1000000
F38: ㅇ명절휴가비 | P38: =SUM(P39:P41) -> 15066000
F39: - 관장(4급) | G39: 2350000 | H39: × | I39: 1 | J39: × | K39: 1 | O39: = | P39: =ROUNDUP(G39*I39*K39,-3) -> 2350000
F40: - 팀장(6급) | G40: 1750000 | H40: × | I40: 2 | J40: × | K40: 1 | O40: = | P40: =ROUNDUP(G40*I40*K40,-3) -> 3500000
F41: - 사원(7급) | G41: 1152000 | H41: × | I41: 8 | J41: × | K41: 1 | O41: = | P41: =ROUNDUP(G41*I41*K41,-3) -> 9216000
F42: ㅇ연가보상비 | P42: =SUM(P43:P43) -> 6082000
F43: - 연가보상비 | G43: 110570 | H43: × | I43: 11 | J43: × | K43: 5 | O43: = | P43: =ROUNDUP(G43*I43*K43,-3) -> 6082000
E44: 105 기간제근로자보수 | Q44: =SUM(P45) -> 82810000 | R44: 0 | S44: =Q44-R44 -> 82810000 | T44: 1
F45: ㅇ기간제근로자보수 | P45: =SUM(P46:P50) -> 82810000
F46: ­ 미화 | G46: 1950000 | H46: × | I46: 1 | J46: × | K46: 10 | O46: = | P46: =ROUNDUP(G46*I46*K46,-3) -> 19500000
F47: ­ 보안 | G47: 1850000 | H47: × | I47: 2 | J47: × | K47: 10 | O47: = | P47: =ROUNDUP(G47*I47*K47,-3) -> 37000000
F48: ­ 안내데스크 | G48: 1850000 | H48: × | I48: 1 | J48: × | K48: 10 | O48: = | P48: =ROUNDUP(G48*I48*K48,-3) -> 18500000
F49: ­ 연가보상비 | G49: 72000 | H49: × | I49: 4 | J49: × | K49: 5 | O49: = | P49: =ROUNDUP(G49*I49*K49,-3) -> 1440000
F50: ­ 퇴직금 | G50: =P46+P47+P48+P49 -> 76440000 | H50: × | I50: 12 | O50: = | P50: =ROUNDUP((G50/12),-3) -> 6370000
E51: 106 퇴직급여 | Q51: =SUM(P52) -> 32092000 | R51: 0 | S51: =Q51-R51 -> 32092000 | T51: 1
F52: ㅇ퇴직급여충당금 | P52: =SUM(P53:P53) -> 32092000
F53: ­ 퇴직급여충당금 | G53: =Q9+Q14 -> 385098000 | H53: × | I53: 12 | O53: = | P53: =ROUNDUP((G53/12),-3) -> 32092000
D54: 200 경비 | Q54: =SUM(Q55:Q133) -> 600000000 | R54: =SUM(R55:R133) -> 0 | S54: 0 | T54: 1 | W54: 2018 | X54: 2017
E55: 201 복리후생비 | Q55: =+P56 -> 44736000 | R55: 0 | S55: =Q55-R55 -> 44736000 | T55: 1 | V55: 경비 | W55: =W58-W56 -> 237151000
F56: ㅇ사회4대보험 | P56: =SUM(P57:P61) -> 44736000 | V56: 자산취득비 | W56: =Q130 -> 362849000
F57: ­ 국민연금부담금 | G57: 467908000 | H57: × | I57: 0.045 | O57: = | P57: =ROUNDUP(G57*I57,-3) -> 21056000
F58: ­ 국민건강보험부담금 | G58: 467908000 | H58: × | I58: 0.0306 | O58: = | P58: =ROUNDUP(G58*I58,-3) -> 14318000 | V58: 경비+자산취득비 | W58: =Q54 -> 600000000
F59: ­ 장기요양보험부담금 | G59: =P58 -> 14318000 | H59: × | I59: 0.0655 | O59: = | P59: =ROUNDUP(G59*I59,-3) -> 938000
F60: ­ 고용보험부담금 | G60: 467908000 | H60: × | I60: 0.009 | O60: = | P60: =ROUNDUP(G60*I60,-3) -> 4212000
F61: ­ 산재보험부담금 | G61: 467908000 | H61: × | I61: 0.009 | O61: = | P61: =ROUNDUP(G61*I61,-3) -> 4212000
E62: 203 공공요금 및 제세 | Q62: =SUM(P63+P66+P68) -> 18450000 | R62: 0 | S62: =Q62-R62 -> 18450000 | T62: 1 | X62: =V62-Q62 -> -18450000
F63: ㅇ발송비 | P63: =SUM(P64:P65) -> 2250000
F64: ­ 우편물,택배 발송비 | G64: 75000 | H64: × | I64: 10 | O64: = | P64: =ROUNDUP(G64*I64,-3) -> 750000
F65: ­ SMS 전송비 | G65: 150000 | H65: × | I65: 10 | O65: = | P65: =ROUNDUP(G65*I65,-3) -> 1500000
F66: ㅇ통신비 | P66: =SUM(P67:P67) -> 14070000
F67: ­ 전화 인터넷 사용료 | G67: 1407000 | H67: × | I67: 10 | O67: = | P67: =ROUNDUP(G67*I67,-3) -> 14070000
F68: ㅇ협회비및부담금 | P68: =SUM(P69:P72) -> 2130000
