Workbook
Name 은행코드: '[1]추산계좌(2분기)'!#REF!
Name 은행코드: '[1]추산계좌(2분기)'!#REF!
Name 은행코드: '[1]추산계좌(2분기)'!#REF!
Name 은행코드: '[1]추산계좌(2분기)'!#REF!
Name 은행코드: '[1]추산계좌(2분기)'!#REF!
Name 은행코드: '[1]추산계좌(2분기)'!#REF!
Name 은행코드: '[1]추산계좌(2분기)'!#REF!
Name 은행코드: '[1]추산계좌(2분기)'!#REF!
Name 은행코드: '[1]추산계좌(2분기)'!#REF!
Name 은행코드: '[1]추산계좌(2분기)'!#REF!
Name 은행코드: '[1]추산계좌(2분기)'!#REF!
Name 은행코드: '[1]추산계좌(2분기)'!#REF!
Name 은행코드: '[1]추산계좌(2분기)'!#REF!
Name 은행코드: '[1]추산계좌(2분기)'!#REF!
Name 은행코드: '[1]추산계좌(2분기)'!#REF!
Name 은행코드: '[1]추산계좌(2분기)'!#REF!
Name 은행코드: '[1]추산계좌(2분기)'!#REF!
Name 은행코드: '[1]추산계좌(2분기)'!#REF!
Name 은행코드: '[1]추산계좌(2분기)'!#REF!
Name 은행코드: '[1]추산계좌(2분기)'!#REF!
Name 은행코드: '[1]추산계좌(2분기)'!#REF!
Name 은행코드: '[1]추산계좌(2분기)'!#REF!
Name 은행코드: '[1]추산계좌(2분기)'!#REF!
Name 은행코드: '[1]추산계좌(2분기)'!#REF!
Name 은행코드: '[1]추산계좌(2분기)'!#REF!
Name 은행코드: '[1]추산계좌(2분기)'!#REF!
Name 은행코드: '[1]추산계좌(2분기)'!#REF!
Name 은행코드: '[1]추산계좌(2분기)'!#REF!
Name 은행코드: '[1]추산계좌(2분기)'!#REF!
Name 은행코드: '[1]추산계좌(2분기)'!#REF!
Name 은행코드: '[1]추산계좌(2분기)'!#REF!
Name 은행코드: '[1]추산계좌(2분기)'!#REF!
Name 은행코드: '[1]추산계좌(2분기)'!#REF!
Name 은행코드: '[1]추산계좌(2분기)'!#REF!
Name 은행코드: '[1]추산계좌(2분기)'!#REF!
Name 은행코드: '[1]추산계좌(2분기)'!#REF!
Name 은행코드: '[1]추산계좌(2분기)'!#REF!
Name 은행코드: '[1]추산계좌(2분기)'!#REF!

Sheet 표지
A9: 2018년도 세입·세출예산서(안)

Sheet 목차
B1: 목 차
A2: 1 | B2: 예산총칙 | D2: 1
A4: 2 | B4: 2018년 세입·세출예산(안) | D4: 5
B6: ○ 2018년 세입예산규모 | D6: 6
B8: ○ 2018년 세입예산(안) 총괄표 | D8: 7
B10: ○ 2018년 세출예산(안) 총괄표 | D10: 11
B12: ○ 2018년 세입·세출예산(안) 요약 총괄표 | D12: 17
B14: ○ 2018년 세입·세출예산(안) 총괄표 | D14: 18
A16: 3 | B16: 세입예산 사업내역서 | D16: 22
A18: 4 | B18: 세출예산 사업내역서 | D18: 42
B20: ○ 사무국 | D20: 43
B22: ○ 마두청소년수련관 | D22: 50
B24: ○ 고양시청소년진로센터 | D24: 58
B26: ○ 성사청소년문화의집 | D26: 62
B28: ○ 탄현청소년문화의집 | D28: 67
B30: ○ 주교동청소년카페 | D30: 73
B32: ○ 일산서구청소년수련관 | D32: 76
B34: ○ 토당청소년수련관 | D34: 84
B36: ○ 고양시청소년상담복지센터 | D36: 94
B38: ○ 화정청소년카페 | D38: 101
B40: ○ 백마역청소년카페 | D40: 104
B42: ○ 능곡역청소년카페 | D42: 107

Sheet 간지1(예산총칙)

Sheet 예산총칙
B1: 1. 예산총칙
B3: 제1조(총칙) 2018년도 재단법인 고양시청소년재단의 본예산은 다음과 같이 정한다.
B6: 제2조(업무의 연간 예정량) 2018년도 업무의 예정량은 다음과 같다.
B7: 가. 청소년의 일상생활이 즐거운 활동생태계 조성 - 청소년활동시설 관리·운영, 청소년지원 인프라 구축, 공모사업 운영 지원 등
B9: 나. 청소년 전용시설로서 종합적인 청소년 활동 지원 - 청소년자치활동사업 운영, 청소년열린공간 운영, 평생교육 프로그램 운영 등
B11: 다. 진로탐색·작업체험 등 통합적 서비스 제공 - 진로체험 및 진로교육 프로그램 운영, 지역기반 진로체험 협력시스템 구축 등
B13: 라. 자발적 참여를 통한 정보·문화·예술활동 지원 - 청소년 주도적, 자발적 참여확대, 역량강화 프로그램, 문화감수성 향상 프로그램 등
B15: 마. 상담·긴급구조·자활·의료지원 서비스 제공 - 위기청소년 맞춤형 지원서비스 강화, 상담프로그램 운영(개인, 집단) 등
B17: 바. 청소년들의 자율 활동 공간 제공 - 청소년을 위한 문화컨텐츠 제공, 지역 네트워크 구축, 자율적 문화공간 운영 등
B21: 제3조(수익적수입 및 지출) 수익적수입 및 지출의 예정액은 다음과 같이 정한다.
B23: 수 입
B24: 제1관 재단사업수입 | D24: =+SUM(D25:D27) -> 8717874000 | E24: 천원
B25: 제1항 영업수입 | D25: =세입예산총괄표2!B44 -> 2413542000 | E25: 천원
B26: 제2항 영업외수익 | D26: =세입예산총괄표2!B8 -> 6304332000 | E26: 천원
B27: 제3항 특별이익 | D27: 0 | E27: 천원
B28: 지 출
B29: 제1관 재단사업비용 | D29: =+SUM(D30:D34) -> 8717874000 | E29: 천원
B30: 제1항 영업비용 | D30: =세입세출요약총괄표5!I9+세입세출요약총괄표5!I10+세입세출요약총괄표5!I11+세입세출요약총괄표5!I12+세입세출요약총괄표5!I13+세입세출요약총괄표5!I16+세입세출요약총괄표5!I17+세입세출요약총괄표5!I18+세입세출요약총괄표5!I19 -> 8697874000 | E30: 천원
B31: 제2항 영업외비용 | E31: 천원
B32: 제3항 특별손실 | E32: 천원
B33: 제4항 법인세등 | E33: 천원
B34: 제5항 예 비 비 | D34: =세입세출요약총괄표5!I14 -> 20000000 | E34: 천원
B35: 제4조(자본적수입 및 지출) 자본적수입 및 지출의 예정액은 다음과 같이 정한다.
B37: 수 입
B38: 제1관 자본적수입 | D38: =+SUM(D39:D44) -> 457014000 | E38: 천원
B39: 제1항 투자자산 | E39: 천원
B40: 제2항 고정자산매각수입 | E40: 천원
B41: 제3항 고정부채수입 | E41: 천원
B42: 제4항 자 본 금 | E42: 천원
B43: 제5항 자본잉여금수입 | D43: 50004000 | E43: 천원
B44: 제6항 기타자본잉여금수입 | D44: =세입세출요약총괄표5!B13+세입세출요약총괄표5!B19 -> 407010000 | E44: 천원
B46: 지 출
B47: 제1관 자본적지출 | D47: =+SUM(D48:D54) -> 448253000 | E47: 천원
B48: 제1항 투자자산 | E48: 천원
B49: 제2항 유형자산 | D49: =세입세출요약총괄표5!I12 -> 378249000 | E49: 천원
B50: 제3항 무형자산 | E50: 천원
B51: 제4항 유동부채상환금 | E51: 천원
B52: 제5항 고정부채상환금 | E52: 천원
B53: 제6항 기타 자본적지출 | D53: 50004000 | E53: 천원
B54: 제7항 예 비 비 | D54: =세입세출요약총괄표5!I14 -> 20000000 | E54: 천원
...

Sheet 간지2(2018년 세입·세출예산(안))

Sheet 세입예산규모1
A1: 2018년 세입예산 규모
F3: [단위:천원]
A4: 구 분 | B4: 2018년 예산액(A) | D4: 2017년예산액(B) | F4: 증감(A-B)
B5: 금액 | C5: 구성비 | D5: 금액 | E5: 구성비 | F5: 금액 | G5: 증감률
A6: 총계 | B6: =SUM(B7:B9) -> 8717874000 | C6: =SUM(C7:C9) -> 1 | D6: =ROUNDUP(SUM(D7:D9),-3) -> 5825281000 | E6: =SUM(E7:E9) -> 1 | F6: =B6-D6 -> 2892593000 | G6: =+F6/D6 -> 0.49655854
A7: 출연금 | B7: 5999764000 | C7: =+B7/$B$6 -> 0.68821412 | D7: 4323453000 | E7: =+D7/$D$6 -> 0.74218789 | F7: =B7-D7 -> 1676311000 | G7: =+F7/D7 -> 0.38772504
A8: 사업수익금 | B8: 2311100000 | C8: =+B8/$B$6 -> 0.26509904 | D8: 1312882000 | E8: =+D8/$D$6 -> 0.2253766 | F8: =B8-D8 -> 998218000 | G8: =+F8/D8 -> 0.76032576
A9: 이월금 | B9: 407010000 | C9: =+B9/$B$6 -> 0.046686841 | D9: 188946000 | E9: =+D9/$D$6 -> 0.032435517 | F9: =B9-D9 -> 218064000 | G9: =+F9/D9 -> 1.1541075

Sheet 세입예산총괄표2
A1: 2018년 세입예산(안) 총괄표
F3: [단위:천원]
A4: 세 입
A5: 예산과목 | B5: 2018년예산액(A) | D5: 2017년예산액(B) | F5: 증 감(A-B)
B6: 금액 | C6: 구성비 | D6: 금액 | E6: 구성비 | F6: 금 액 | G6: 증감률
A7: 총 계 | B7: =SUM(B8,B44) -> 8717874000 | C7: =+C8+C44 -> 1 | D7: =ROUNDUP(SUM(D8,D44),-3) -> 5825281000 | E7: =+E8+E44 -> 1 | F7: =B7-D7 -> 2892593000 | G7: =+F7/D7 -> 0.49655854
A8: 620 영업외수익 | B8: =SUM(B9,B17,B27,B40,B42) -> 6304332000 | C8: =+B8/$B$7 -> 0.72315016 | D8: =SUM(D9,D17,D27,D40,D42) -> 4411881000 | E8: =+D8/$D$7 -> 0.75736793 | F8: =SUM(F9,F17,F27,F40,F42) -> 1892451000 | G8: =+F8/D8 -> 0.42894425
A9: 625-2 지자체출자출연금 | B9: =SUM(B10:B16) -> 4598613000 | C9: =+B9/$B$7 -> 0.52749248 | D9: =SUM(D10:D16) -> 2265578000 | E9: =+D9/$D$7 -> 0.38892167 | F9: =SUM(F10:F16) -> 2333035000 | G9: =+F9/D9 -> 1.0297747
A10: 사무국 | B10: ='예산세입(사무국)'!M16 -> 1600000000 | C10: =+B10/$B$7 -> 0.18353098 | D10: =ROUNDUP('예산세입(사무국)'!N16,-3) -> 752528000 | E10: =+D10/$D$7 -> 0.12918312 | F10: =+B10-D10 -> 847472000 | G10: =+F10/D10 -> 1.1261667 | J10: 2018 | K10: 2017 | M10: 사무국 자본금 | O10: (사무국자본금 포함)
A11: 마두청소년수련관 | B11: ='예산세입(마두)'!P90 -> 861000000 | C11: =+B11/$B$7 -> 0.098762611 | D11: ='예산세입(마두)'!Q90 -> 861000000 | E11: =+D11/$D$7 -> 0.14780403 | F11: =+B11-D11 -> 0 | G11: =+F11/D11 -> 0 | I11: 사무국 | J11: =B10+B18+B28+B43 -> 1900720000 | K11: =D10+D18+D28+D43 -> 1687053000 | L11: + | M11: 50004000 | N11: = | O11: =K11+M11 -> 1737057000
A12: 고양시청소년진로센터 | B12: ='예산세입(진로)'!P14 -> 324988000 | C12: =+B12/$B$7 -> 0.037278355 | D12: ='예산세입(진로)'!Q14 -> 231000000 | E12: =+D12/$D$7 -> 0.039654739 | F12: =+B12-D12 -> 93988000 | G12: =+F12/D12 -> 0.40687446 | I12: 마두청소년수련관 | J12: =B11+B19+B29+B46+B55+B62+B69 -> 1588140000 | K12: =D11+D19+D29+D46+D55+D62+D69 -> 1586392000
A13: 성사청소년문화의집 | B13: ='예산세입(성사)'!P25 -> 331348000 | C13: =+B13/$B$7 -> 0.03800789 | D13: ='예산세입(성사)'!Q25 -> 221550000 | E13: =+D13/$D$7 -> 0.0380325 | F13: =+B13-D13 -> 109798000 | G13: =+F13/D13 -> 0.49559016 | I13: 고양시청소년진로센터 | J13: =B12+B20+B30 -> 325228000 | K13: =D12+D20+D30 -> 231000000
A14: 탄현청소년문화의집 | B14: ='예산세입(탄현)'!P37 -> 216088000 | C14: =+B14/$B$7 -> 0.024786777 | D14: ='예산세입(탄현)'!Q37 -> 152250000 | E14: =+D14/$D$7 -> 0.026136078 | F14: =+B14-D14 -> 63838000 | G14: =+F14/D14 -> 0.41929721 | I14: 성사청소년문화의집 | J14: =B13+B21+B31+B47+B56+B70 -> 358138000 | K14: =D13+D21+D31+D47+D56+D70 -> 245371000
A15: 주교동청소년카페 | B15: ='예산세입(주교)'!P21 -> 65189000 | C15: =+B15/$B$7 -> 0.0074776259 | D15: ='예산세입(주교)'!Q21 -> 47250000 | E15: =+D15/$D$7 -> 0.0081111967 | F15: =+B15-D15 -> 17939000 | G15: =+F15/D15 -> 0.37966138 | I15: 탄현청소년문화의집 | J15: =B14+B32+B48+B57+B71 -> 343038000 | K15: =D14+D32+D48+D57+D71 -> 261170000 | O15: =SUM(K11:K22) -> 5825281000
A16: 일산서구청소년수련관 | B16: 1200000000 | C16: =+B16/$B$7 -> 0.13764824 | D16: ='예산세입(일산서구)'!Q54 -> 0 | E16: =+D16/$D$7 -> 0 | F16: =+B16-D16 -> 1200000000 | G16: 1 | I16: 주교동청소년카페 | J16: =B15+B33+B72+B49 -> 66689000 | K16: =D15+D33+D72+D49 -> 50660000
A17: 623 시비보조금 | B17: =SUM(B18:B26) -> 1401151000 | C17: =+B17/$B$7 -> 0.16072164 | D17: =SUM(D18:D26) -> 2057875000 | E17: =+D17/$D$7 -> 0.35326622 | F17: =SUM(F18:F26) -> -656724000 | G17: =+F17/D17 -> -0.31912726 | I17: 일산서구청소년수련관 | J17: =B16+B34+B50+B58+B63+B73 -> 1775783000 | K17: =D16+D34+D50+D58+D63+D73 -> 0
A18: 사무국 | B18: 0 | C18: =+B18/$B$7 -> 0 | D18: 853000000 | E18: =+D18/$D$7 -> 0.1464307 | F18: =+B18-D18 -> -853000000 | G18: =+F18/D18 -> -1 | I18: 토당청소년수련관 | J18: =B22+B35+B51+B59+B64+B74+B76 -> 1705842000 | K18: =D22+D35+D51+D59+D64+D74+D76 -> 1271000000
A19: 마두청소년수련관 | B19: 0 | C19: =+B19/$B$7 -> 0 | D19: 0 | E19: =+D19/$D$7 -> 0 | F19: =+B19-D19 -> 0 | G19: 0 | I19: 고양시청소년상담복지센터 | J19: =B23+B36+B52 -> 343577000 | K19: =D23+D36+D52 -> 252040000
A20: 고양시청소년진로센터 | B20: 0 | C20: =+B20/$B$7 -> 0 | D20: 0 | E20: =+D20/$D$7 -> 0 | F20: =+B20-D20 -> 0 | G20: 0 | I20: 화정청소년카페 | J20: =B24+B37+B53+B60+B65+B41 -> 155514000 | K20: =D24+D37+D53+D60+D65+D41 -> 114345000
A21: 성사청소년문화의집 | B21: 0 | C21: =+B21/$B$7 -> 0 | D21: 0 | E21: =+D21/$D$7 -> 0 | F21: =+B21-D21 -> 0 | G21: 0 | I21: 백마역청소년카페 | J21: =B25+B38+B66 -> 85429000 | K21: =D25+D38+D66 -> 73750000
A22: 토당청소년수련관 | B22: ='예산세입(토당)'!O140 -> 822500000 | C22: =+B22/$B$7 -> 0.094346397 | D22: 783300000 | E22: =+D22/$D$7 -> 0.13446562 | F22: =+B22-D22 -> 39200000 | G22: =+F22/D22 -> 0.050044683 | I22: 능곡역청소년카페 | J22: =B26+B39+B67 -> 69776000 | K22: =D26+D39+D67 -> 52500000
A23: 고양시청소년상담복지센터 | B23: ='예산세입(상담)'!O22 -> 323393000 | C23: =+B23/$B$7 -> 0.037095397 | D23: ='예산세입(상담)'!Q20 -> 231000000 | E23: =+D23/$D$7 -> 0.039654739 | F23: =+B23-D23 -> 92393000 | G23: =+F23/D23 -> 0.3999697 | J23: =SUM(J11:J22) -> 8717874000 | K23: =O11+K12+K13+K14+K15+K16+K18+K19+K20+K21+K22 -> 5875285000
A24: 화정청소년카페 | B24: ='예산세입(화정)'!P29 -> 118473000 | C24: =+B24/$B$7 -> 0.013589666 | D24: ='예산세입(화정)'!Q29 -> 80325000 | E24: =+D24/$D$7 -> 0.013789034 | F24: =+B24-D24 -> 38148000 | G24: =+F24/D24 -> 0.47492063
A25: 백마역청소년카페 | B25: ='예산세입(백마)'!P18 -> 69415000 | C25: =+B25/$B$7 -> 0.0079623771 | D25: ='예산세입(백마)'!Q18 -> 57750000 | E25: =+D25/$D$7 -> 0.0099136849 | F25: =+B25-D25 -> 11665000 | G25: =+F25/D25 -> 0.20199134 | I25: 출연금 | J25: =B9+B17 -> 5999764000 | K25: =C9+C17 -> 0.68821412 | L25: =D9+D17 -> 4323453000 | M25: =J25-L25 -> 1676311000
A26: 능곡역청소년카페 | B26: ='예산세입(능곡)'!P18 -> 67370000 | C26: =+B26/$B$7 -> 0.0077278015 | D26: ='예산세입(능곡)'!Q18 -> 52500000 | E26: =+D26/$D$7 -> 0.0090124408 | F26: =+B26-D26 -> 14870000 | G26: =+F26/D26 -> 0.2832381 | I26: 이자 | J26: =B27 -> 2160000 | K26: =C27 -> 0.00024776683 | L26: =D27 -> 5003000 | M26: =J26-L26 -> -2843000
A27: 621 이자수익 | B27: =SUM(B28:B39) -> 2160000 | C27: =+B27/$B$7 -> 0.00024776683 | D27: =SUM(D28:D39) -> 5003000 | E27: =+D27/$D$7 -> 0.00085884269 | F27: =SUM(F28:F39) -> -2843000 | G27: =+F27/D27 -> -0.56825904 | I27: 기부금 | J27: =B40 -> 2408000 | K27: =C40 -> 0.00027621413 | L27: =D40 -> 2100000 | M27: =J27-L27 -> 308000
A28: 사무국 | B28: ='예산세입(사무국)'!M9 -> 720000 | C28: =+B28/$B$7 -> 8.2588943e-05 | D28: =ROUNDUP('예산세입(사무국)'!N9,-3) -> 200000 | E28: =+D28/$D$7 -> 3.4333108e-05 | F28: =+B28-D28 -> 520000 | G28: =+F28/D28 -> 2.6 | I28: 자체사업 | J28: =B45 -> 2002770000 | K28: =C45 -> 0.22973147 | L28: =D45 -> 1078032000 | M28: =J28-L28 -> 924738000
A29: 마두청소년수련관 | B29: ='예산세입(마두)'!P78 -> 200000 | C29: =+B29/$B$7 -> 2.2941373e-05 | D29: ='예산세입(마두)'!Q78 -> 200000 | E29: =+D29/$D$7 -> 3.4333108e-05 | F29: =+B29-D29 -> 0 | G29: =+F29/D29 -> 0 | I29: 기타영업 | J29: =B54 -> 33760000 | K29: =C54 -> 0.0038725038 | L29: =D54 -> 33960000 | M29: =J29-L29 -> -200000
A30: 고양시청소년진로센터 | B30: ='예산세입(진로)'!P9 -> 240000 | C30: =+B30/$B$7 -> 2.7529648e-05 | D30: ='예산세입(진로)'!Q9 -> 0 | E30: =+D30/$D$7 -> 0 | F30: =+B30-D30 -> 240000 | G30: 1 | I30: 판매수익 | J30: =B61 -> 220002000 | K30: =C61 -> 0.02523574 | L30: =D61 -> 143787000 | M30: =J30-L30 -> 76215000
A31: 성사청소년문화의집 | B31: ='예산세입(성사)'!P18 -> 100000 | C31: =+B31/$B$7 -> 1.1470687e-05 | D31: ='예산세입(성사)'!Q18 -> 100000 | E31: =+D31/$D$7 -> 1.7166554e-05 | F31: =+B31-D31 -> 0 | G31: =+F31/D31 -> 0 | I31: 이월금 | J31: =B42+B68 -> 407010000 | K31: =C42+C68 -> 0.046686841 | L31: =D42+D68 -> 188946000 | M31: =J31-L31 -> 218064000
A32: 탄현청소년문화의집 | B32: ='예산세입(탄현)'!P29 -> 100000 | C32: =+B32/$B$7 -> 1.1470687e-05 | D32: ='예산세입(탄현)'!Q29 -> 100000 | E32: =+D32/$D$7 -> 1.7166554e-05 | F32: =+B32-D32 -> 0 | G32: =+F32/D32 -> 0 | I32: 전입금 | J32: =B75 -> 50000000 | K32: =C75 -> 0.0057353433 | L32: =D75 -> 50000000 | M32: =J32-L32 -> 0
A33: 주교동청소년카페 | B33: ='예산세입(주교)'!P13 -> 10000 | C33: =+B33/$B$7 -> 1.1470687e-06 | D33: ='예산세입(주교)'!Q13 -> 10000 | E33: =+D33/$D$7 -> 1.7166554e-06 | F33: =+B33-D33 -> 0 | G33: =+F33/D33 -> 0
A34: 일산서구청소년수련관 | B34: ='예산세입(일산서구)'!P42 -> 233000 | C34: =+B34/$B$7 -> 2.67267e-05 | D34: ='예산세입(일산서구)'!Q42 -> 0 | E34: =+D34/$D$7 -> 0 | F34: =+B34-D34 -> 233000 | G34: 1
A35: 토당청소년수련관 | B35: ='예산세입(토당)'!P134 -> 500000 | C35: =+B35/$B$7 -> 5.7353433e-05 | D35: ='예산세입(토당)'!Q134 -> 4393000 | E35: =+D35/$D$7 -> 0.00075412671 | F35: =+B35-D35 -> -3893000 | G35: =+F35/D35 -> -0.88618256
A36: 고양시청소년상담복지센터 | B36: ='예산세입(상담)'!P16 -> 24000 | C36: =+B36/$B$7 -> 2.7529648e-06 | D36: ='예산세입(상담)'!Q16 -> 0 | E36: =+D36/$D$7 -> 0 | F36: =+B36-D36 -> 24000 | G36: 1
A37: 화정청소년카페 | B37: ='예산세입(화정)'!P25 -> 13000 | C37: =+B37/$B$7 -> 1.4911893e-06 | D37: ='예산세입(화정)'!Q25 -> 0 | E37: =+D37/$D$7 -> 0 | F37: =+B37-D37 -> 13000 | G37: 1
A38: 백마역청소년카페 | B38: ='예산세입(백마)'!P14 -> 14000 | C38: =+B38/$B$7 -> 1.6058961e-06 | D38: ='예산세입(백마)'!Q14 -> 0 | E38: =+D38/$D$7 -> 0 | F38: =+B38-D38 -> 14000 | G38: 1
A39: 능곡역청소년카페 | B39: ='예산세입(능곡)'!P14 -> 6000 | C39: =+B39/$B$7 -> 6.8824119e-07 | D39: ='예산세입(능곡)'!Q14 -> 0 | E39: =+D39/$D$7 -> 0 | F39: =+B39-D39 -> 6000 | G39: 1
A40: 624 기부금수익 | B40: =SUM(B41) -> 2408000 | C40: =+B40/$B$7 -> 0.00027621413 | D40: =SUM(D41) -> 2100000 | E40: =+D40/$D$7 -> 0.00036049763 | F40: =SUM(F41) -> 308000 | G40: =+F40/D40 -> 0.14666667
A41: 화정청소년카페 | B41: ='예산세입(화정)'!P33 -> 2408000 | C41: =+B41/$B$7 -> 0.00027621413 | D41: ='예산세입(화정)'!Q33 -> 2100000 | E41: =+D41/$B$7 -> 0.00024088442 | F41: =+B41-D41 -> 308000 | G41: =+F41/D41 -> 0.14666667
...

Sheet 세출예산총괄표3
A1: 2018년 세출예산(안) 총괄표
F3: [단위:천원]
A4: 세 출
A5: 구 분 | B5: 2018년예산액(A) | D5: 2017년예산액(B) | F5: 증 감(A-B)
B6: 금액 | C6: 구성비 | D6: 금액 | E6: 구성비 | F6: 금 액 | G6: 증감률
A7: 총 계 | B7: =SUM(B8:B19) -> 8717874000 | C7: =+B7/$B$7 -> 1 | D7: =SUM(D8:D19) -> 5825281000 | E7: =+D7/$D$7 -> 1 | F7: =+B7-D7 -> 2892593000 | G7: =+F7/D7 -> 0.49655854
A8: 사무국 | B8: 1900720000 | C8: =+B8/$B$7 -> 0.21802563 | D8: 1687053000 | E8: =+D8/$D$7 -> 0.28960886 | F8: =+B8-D8 -> 213667000 | G8: =+F8/D8 -> 0.12665103
A9: 마두청소년수련관 | B9: 1588140000 | C9: =+B9/$B$7 -> 0.18217056 | D9: 1586392000 | E9: =+D9/$D$7 -> 0.27232884 | F9: =+B9-D9 -> 1748000 | G9: =+F9/D9 -> 0.0011018714
A10: 고양시청소년진로센터 | B10: 325228000 | C10: =+B10/$B$7 -> 0.037305884 | D10: 231000000 | E10: =+D10/$D$7 -> 0.039654739 | F10: =+B10-D10 -> 94228000 | G10: =+F10/D10 -> 0.40791342
A11: 성사청소년문화의집 | B11: 358138000 | C11: =+B11/$B$7 -> 0.041080887 | D11: 245371000 | E11: =+D11/$D$7 -> 0.042121745 | F11: =+B11-D11 -> 112767000 | G11: =+F11/D11 -> 0.45957754
A12: 탄현청소년문화의집 | B12: 343038000 | C12: =+B12/$B$7 -> 0.039348814 | D12: 261170000 | E12: =+D12/$D$7 -> 0.044833889 | F12: =+B12-D12 -> 81868000 | G12: =+F12/D12 -> 0.31346632
A13: 주교동청소년카페 | B13: 66689000 | C13: =+B13/$B$7 -> 0.0076496862 | D13: 50660000 | E13: =+D13/$D$7 -> 0.0086965762 | F13: =+B13-D13 -> 16029000 | G13: =+F13/D13 -> 0.31640347
A14: 일산서구청소년수련관 | B14: 1775783000 | C14: =+B14/$B$7 -> 0.2036945 | D14: 0 | E14: =+D14/$D$7 -> 0 | F14: =+B14-D14 -> 1775783000 | G14: 1
A15: 토당청소년수련관 | B15: 1705842000 | C15: =+B15/$B$7 -> 0.19567179 | D15: 1271000000 | E15: =+D15/$D$7 -> 0.2181869 | F15: =+B15-D15 -> 434842000 | G15: =+F15/D15 -> 0.34212589
A16: 고양시청소년상담복지센터 | B16: 343577000 | C16: =+B16/$B$7 -> 0.039410641 | D16: 252040000 | E16: =+D16/$D$7 -> 0.043266582 | F16: =+B16-D16 -> 91537000 | G16: =+F16/D16 -> 0.36318442
A17: 화정청소년카페 | B17: 155514000 | C17: =+B17/$B$7 -> 0.017838523 | D17: 114345000 | E17: =+D17/$D$7 -> 0.019629096 | F17: =+B17-D17 -> 41169000 | G17: =+F17/D17 -> 0.36004198
A18: 백마역청소년카페 | B18: 85429000 | C18: =+B18/$B$7 -> 0.0097992928 | D18: 73750000 | E18: =+D18/$D$7 -> 0.012660333 | F18: =+B18-D18 -> 11679000 | G18: =+F18/D18 -> 0.15835932
A19: 능곡역청소년카페 | B19: 69776000 | C19: =+B19/$B$7 -> 0.0080037862 | D19: 52500000 | E19: =+D19/$D$7 -> 0.0090124408 | F19: =+B19-D19 -> 17276000 | G19: =+F19/D19 -> 0.32906667

Sheet 세출총괄표4
A1: 2018년 세출예산(안) 총괄표
F3: [단위:천원] | M3: 6299764000
A4: 세 출
A5: 예산과목 | B5: 2018년예산액(A) | D5: 2017년예산액(B) | F5: 증 감(A-B)
B6: 금액 | C6: 구성비 | D6: 금액 | E6: 구성비 | F6: 금 액 | G6: 증감률
A7: 총 계 | B7: =SUM(B8,B58) -> 8717874000 | C7: =+C8+C58 -> 1 | D7: =SUM(D8,D58) -> 5825281000 | E7: =+E8+E58 -> 1 | F7: =SUM(F8,F58) -> 2892593000 | G7: =+F7/D7 -> 0.49655854
A8: 700 사업비용 | B8: =SUM(B9,B22,B35,B55,B47,B53) -> 6299764000 | C8: =+B8/B7 -> 0.72262618 | D8: =SUM(D9,D22,D35,D55,D47,D53) -> 4404978000 | E8: =+D8/D7 -> 0.75618292 | F8: =SUM(F9,F22,F35,F55,F47,F53) -> 1894786000 | G8: =+F8/D8 -> 0.43014653
A9: 100 인건비 | B9: =SUM(B10:B21) -> 3051022000 | C9: =+B9/$B$7 -> 0.34997317 | D9: =SUM(D10:D21) -> 2297396000 | E9: =+D9/$D$7 -> 0.39438372 | F9: =SUM(F10:F21) -> 753626000 | G9: =+F9/D9 -> 0.32803487 | M9: 2018 | N9: 2017 | P9: 사무국 자본금 | R9: (사무국자본금 포함) | U9: 2018 | V9: 2017
A10: 사무국 | B10: ='예산세출(사무국)'!Q8 -> 545114000 | C10: =+B10/$B$7 -> 0.062528318 | D10: ='예산세출(사무국)'!R8 -> 456347000 | E10: =+D10/$D$7 -> 0.078339054 | F10: =+B10-D10 -> 88767000 | G10: =+F10/D10 -> 0.19451645 | L10: 사무국 | M10: =SUMIFS($B$10:$B$100,$A$10:$A$100,"사무국") -> 1900720000 | N10: =SUMIF($A$10:$A$100,"사무국",$D$10:$D$100) -> 1687053000 | O10: + | P10: 50004000 | Q10: = | R10: =N10+P10 -> 1737057000 | T10: 사무국 | U10: 1900720000 | V10: 1687053000
A11: 마두청소년수련관 | B11: ='예산세출(마두)'!Q8 -> 518616000 | C11: =+B11/$B$7 -> 0.059488816 | D11: ='예산세출(마두)'!R8 -> 501971000 | E11: =+D11/$D$7 -> 0.086171122 | F11: =+B11-D11 -> 16645000 | G11: =+F11/D11 -> 0.033159286 | L11: 마두청소년수련관 | M11: =SUMIFS($B$10:$B$100,$A$10:$A$100,"마두청소년수련관") -> 1588140000 | N11: =SUMIF($A$10:$A$100,"마두청소년수련관",$D$10:$D$100) -> 1586392000 | T11: 마두청소년수련관 | U11: 1588140000 | V11: 1586392000
A12: 고양시청소년진로센터 | B12: ='예산세출(진로)'!Q8 -> 176359000 | C12: =+B12/$B$7 -> 0.020229588 | D12: =ROUNDUP('예산세출(진로)'!R8,-3) -> 170770000 | E12: =+D12/$D$7 -> 0.029315324 | F12: =+B12-D12 -> 5589000 | G12: =+F12/D12 -> 0.032728231 | L12: 고양시청소년진로센터 | M12: =SUMIFS($B$10:$B$100,$A$10:$A$100,"고양시청소년진로센터") -> 325228000 | N12: =SUMIF($A$10:$A$100,"고양시청소년진로센터",$D$10:$D$100) -> 231000000 | T12: 고양시청소년진로센터 | U12: 325228000 | V12: 231000000
A13: 성사청소년문화의집 | B13: ='예산세출(성사)'!R8 -> 185845000 | C13: =+B13/$B$7 -> 0.021317697 | D13: ='예산세출(성사)'!S8 -> 132723000 | E13: =+D13/$D$7 -> 0.022783965 | F13: =+B13-D13 -> 53122000 | G13: =+F13/D13 -> 0.40024713 | L13: 성사청소년문화의집 | M13: =SUMIFS($B$10:$B$100,$A$10:$A$100,"성사청소년문화의집") -> 358138000 | N13: =SUMIF($A$10:$A$100,"성사청소년문화의집",$D$10:$D$100) -> 245371000 | T13: 성사청소년문화의집 | U13: 358138000 | V13: 245371000
A14: 탄현청소년문화의집 | B14: ='예산세출(탄현)'!Q8 -> 133061000 | C14: =+B14/$B$7 -> 0.01526301 | D14: ='예산세출(탄현)'!R8 -> 115502000 | E14: =+D14/$D$7 -> 0.019827713 | F14: =+B14-D14 -> 17559000 | G14: =+F14/D14 -> 0.15202334 | L14: 탄현청소년문화의집 | M14: =SUMIFS($B$10:$B$100,$A$10:$A$100,"탄현청소년문화의집") -> 343038000 | N14: =SUMIF($A$10:$A$100,"탄현청소년문화의집",$D$10:$D$100) -> 261170000 | T14: 탄현청소년문화의집 | U14: 343038000 | V14: 261170000
A15: 주교동청소년카페 | B15: ='예산세출(주교)'!Q8 -> 46863000 | C15: =+B15/$B$7 -> 0.0053755078 | D15: ='예산세출(주교)'!R8 -> 32193000 | E15: =+D15/$D$7 -> 0.0055264287 | F15: =+B15-D15 -> 14670000 | G15: =+F15/D15 -> 0.45568912 | L15: 주교동청소년카페 | M15: =SUMIFS($B$10:$B$100,$A$10:$A$100,"주교동청소년카페") -> 66689000 | N15: =SUMIF($A$10:$A$100,"주교동청소년카페",$D$10:$D$100) -> 50660000 | T15: 주교동청소년카페 | U15: 66689000 | V15: 50660000
A16: 일산서구청소년수련관 | B16: ='예산세출(일산서구)'!Q8 -> 500000000 | C16: =+B16/$B$7 -> 0.057353433 | D16: 0 | E16: =+D16/$D$7 -> 0 | F16: =+B16-D16 -> 500000000 | G16: 1 | L16: 일산서구청소년수련관 | M16: =SUMIFS($B$10:$B$100,$A$10:$A$100,"일산서구청소년수련관") -> 1775783000 | N16: =SUMIF($A$10:$A$100,"일산서구청소년수련관",$D$10:$D$100) -> 0 | T16: 일산서구청소년수련관 | U16: 1775783000 | V16: 0
A17: 토당청소년수련관 | B17: ='예산세출(토당)'!O8 -> 574933000 | C17: =+B17/$B$7 -> 0.065948762 | D17: ='예산세출(토당)'!P8 -> 597800000 | E17: =+D17/$D$7 -> 0.10262166 | F17: =+B17-D17 -> -22867000 | G17: =+F17/D17 -> -0.038251924 | L17: 토당청소년수련관 | M17: =SUMIFS($B$10:$B$100,$A$10:$A$100,"토당청소년수련관") -> 1705842000 | N17: =SUMIF($A$10:$A$100,"토당청소년수련관",$D$10:$D$100) -> 1271000000 | T17: 토당청소년수련관 | U17: 1705842000 | V17: 1271000000
A18: 고양시청소년상담복지센터 | B18: ='예산세출(상담)'!Q8 -> 224951000 | C18: =+B18/$B$7 -> 0.025803424 | D18: ='예산세출(상담)'!R8 -> 184510000 | E18: =+D18/$D$7 -> 0.031674009 | F18: =+B18-D18 -> 40441000 | G18: =+F18/D18 -> 0.21918053 | L18: 고양시청소년상담복지센터 | M18: =SUMIFS($B$10:$B$100,$A$10:$A$100,"고양시청소년상담복지센터") -> 343577000 | N18: =SUMIF($A$10:$A$100,"고양시청소년상담복지센터",$D$10:$D$100) -> 252040000 | T18: 고양시청소년상담복지센터 | U18: 343577000 | V18: 252040000
A19: 화정청소년카페 | B19: ='예산세출(화정)'!O8 -> 63200000 | C19: =+B19/$B$7 -> 0.0072494739 | D19: ='예산세출(화정)'!P8 -> 42000000 | E19: =+D19/$D$7 -> 0.0072099526 | F19: =+B19-D19 -> 21200000 | G19: =+F19/D19 -> 0.5047619 | L19: 화정청소년카페 | M19: =SUMIFS($B$10:$B$100,$A$10:$A$100,"화정청소년카페") -> 155514000 | N19: =SUMIF($A$10:$A$100,"화정청소년카페",$D$10:$D$100) -> 114345000 | T19: 화정청소년카페 | U19: 155514000 | V19: 114345000
A20: 백마역청소년카페 | B20: ='예산세출(백마)'!Q8 -> 44880000 | C20: =+B20/$B$7 -> 0.0051480441 | D20: ='예산세출(백마)'!R8 -> 38380000 | E20: =+D20/$D$7 -> 0.0065885234 | F20: =+B20-D20 -> 6500000 | G20: =+F20/D20 -> 0.16935904 | L20: 백마역청소년카페 | M20: =SUMIFS($B$10:$B$100,$A$10:$A$100,"백마역청소년카페") -> 85429000 | N20: =SUMIF($A$10:$A$100,"백마역청소년카페",$D$10:$D$100) -> 73750000 | T20: 백마역청소년카페 | U20: 85429000 | V20: 73750000
A21: 능곡역청소년카페 | B21: ='예산세출(능곡)'!Q8 -> 37200000 | C21: =+B21/$B$7 -> 0.0042670954 | D21: ='예산세출(능곡)'!R8 -> 25200000 | E21: =+D21/$D$7 -> 0.0043259716 | F21: =+B21-D21 -> 12000000 | G21: =+F21/D21 -> 0.47619048 | L21: 능곡역청소년카페 | M21: =SUMIFS($B$10:$B$100,$A$10:$A$100,"능곡역청소년카페") -> 69776000 | N21: =SUMIF($A$10:$A$100,"능곡역청소년카페",$D$10:$D$100) -> 52500000 | T21: 능곡역청소년카페 | U21: 69776000 | V21: 52500000
A22: 200 경비 | B22: =SUM(B23:B34) -> 1303908000 | C22: =B22/$B$7 -> 0.1495672 | D22: =SUM(D23:D34) -> 912749000 | E22: =+D22/$D$7 -> 0.15668755 | F22: =SUM(F23:F34) -> 391159000 | G22: =+F22/D22 -> 0.42855046 | M22: =SUM(M10:M21) -> 8717874000 | N22: =SUM(N10:N21) -> 5825281000 | U22: =SUM(U10:U21) -> 8717874000 | V22: =SUM(V10:V21) -> 5825281000
A23: 사무국 | B23: ='예산세출(사무국)'!Q51 -> 247458000 | C23: =+B23/$B$7 -> 0.028385132 | D23: ='예산세출(사무국)'!R51 -> 251533000 | E23: =+D23/$D$7 -> 0.043179548 | F23: =+B23-D23 -> -4075000 | G23: =+F23/D23 -> -0.016200658 | R23: =B22+B47+B53+B55 -> 1793605000
A24: 마두청소년수련관 | B24: ='예산세출(마두)'!W50 -> 274384000 | C24: =+B24/$B$7 -> 0.031473729 | D24: ='예산세출(마두)'!X50 -> 291029000 | E24: =+D24/$D$7 -> 0.04995965 | F24: =+B24-D24 -> -16645000 | G24: =+F24/D24 -> -0.057193613
A25: 고양시청소년진로센터 | B25: ='예산세출(진로)'!W44 -> 45429000 | C25: =+B25/$B$7 -> 0.0052110182 | D25: ='예산세출(진로)'!X44 -> 44074000 | E25: =+D25/$D$7 -> 0.0075659869 | F25: =+B25-D25 -> 1355000 | G25: =+F25/D25 -> 0.030743749 | M25: 인건비 | N25: 인건비 | P25: =B9+B59 -> 3338312000
A26: 성사청소년문화의집 | B26: ='예산세출(성사)'!X49 -> 86703000 | C26: =+B26/$B$7 -> 0.0099454294 | D26: ='예산세출(성사)'!Y49 -> 44427000 | E26: =+D26/$D$7 -> 0.0076265849 | F26: =+B26-D26 -> 42276000 | G26: =+F26/D26 -> 0.9515835 | M26: 경비 | N26: 경비 | P26: =B22+B66+B47+B53 -> 2228997000
A27: 탄현청소년문화의집 | B27: ='예산세출(탄현)'!Q40 -> 34827000 | C27: =+B27/$B$7 -> 0.003994896 | D27: ='예산세출(탄현)'!R40 -> 26203000 | E27: =+D27/$D$7 -> 0.0044981521 | F27: =+B27-D27 -> 8624000 | G27: =+F27/D27 -> 0.32912262 | M27: 경상이전 | N27: 사회보장보험
A28: 주교동청소년카페 | B28: ='예산세출(주교)'!Q36 -> 14296000 | C28: =+B28/$B$7 -> 0.0016398493 | D28: ='예산세출(주교)'!R36 -> 13457000 | E28: =+D28/$D$7 -> 0.0023101032 | F28: =+B28-D28 -> 839000 | G28: =+F28/D28 -> 0.062346734 | M28: 예비비 | P28: =B55+B96 -> 20000000 | X28: =D21+D34+D46 -> 52500000
A29: 일산서구청소년수련관 | B29: ='예산세출(일산서구)'!W55 -> 237151000 | C29: =+B29/$B$7 -> 0.027202848 | D29: 0 | E29: =+D29/$D$7 -> 0 | F29: =+B29-D29 -> 237151000 | G29: 1 | M29: 기타 | N29: 이자반환금 | P29: =B83 -> 85154000
A30: 토당청소년수련관 | B30: ='예산세출(토당)'!O52 -> 247567000 | C30: =+B30/$B$7 -> 0.028397635 | D30: ='예산세출(토당)'!P52 -> 153500000 | E30: =+D30/$D$7 -> 0.02635066 | F30: =+B30-D30 -> 94067000 | G30: =+F30/D30 -> 0.61281433 | M30: 사업비 | P30: =B35+B77 -> 3045411000
A31: 고양시청소년상담복지센터 | B31: ='예산세출(상담)'!Q83 -> 48841000 | C31: =+B31/$B$7 -> 0.005602398 | D31: =ROUNDUP('예산세출(상담)'!R83,-3) -> 37166000 | E31: =+D31/$D$7 -> 0.0063801214 | F31: =+B31-D31 -> 11675000 | G31: =+F31/D31 -> 0.3141312 | P31: =SUM(P25:P30) -> 8717874000
A32: 화정청소년카페 | B32: ='예산세출(화정)'!O31 -> 23047000 | C32: =+B32/$B$7 -> 0.0026436491 | D32: ='예산세출(화정)'!P31 -> 14840000 | E32: =+D32/$D$7 -> 0.0025475166 | F32: =+B32-D32 -> 8207000 | G32: =+F32/D32 -> 0.55303235 | N32: 사업비 | P32: =B7-P33-P34 -> 8612720000
A33: 백마역청소년카페 | B33: ='예산세출(백마)'!Q22 -> 24535000 | C33: =+B33/$B$7 -> 0.0028143329 | D33: ='예산세출(백마)'!R22 -> 19370000 | E33: =+D33/$D$7 -> 0.0033251615 | F33: =+B33-D33 -> 5165000 | G33: =+F33/D33 -> 0.26664946 | N33: 이자반환 | P33: =B83 -> 85154000
A34: 능곡역청소년카페 | B34: ='예산세출(능곡)'!Q14 -> 19670000 | C34: =+B34/$B$7 -> 0.002256284 | D34: ='예산세출(능곡)'!R14+'예산세출(능곡)'!R73 -> 17150000 | E34: =+D34/$D$7 -> 0.002944064 | F34: =+B34-D34 -> 2520000 | G34: =+F34/D34 -> 0.14693878 | N34: 예비비 | P34: =B55 -> 20000000
A35: 720 목적사업비 | B35: =SUM(B36:B46) -> 1455137000 | C35: =+B35/$B$7 -> 0.1669142 | D35: =SUM(D36:D46) -> 1161504000 | E35: =+D35/$D$7 -> 0.19939021 | F35: =SUM(F36:F46) -> 293633000 | G35: =+F35/D35 -> 0.25280412
A36: 사무국 | B36: ='예산세출(사무국)'!Q188 -> 990980000 | C36: =+B36/$B$7 -> 0.11367221 | D36: ='예산세출(사무국)'!R184 -> 953000000 | E36: =+D36/$D$7 -> 0.16359726 | F36: =+B36-D36 -> 37980000 | G36: =+F36/D36 -> 0.039853095
A37: 마두청소년수련관 | B37: ='예산세출(마두)'!Q133 -> 65000000 | C37: =+B37/$B$7 -> 0.0074559463 | D37: ='예산세출(마두)'!R133 -> 65000000 | E37: =+D37/$D$7 -> 0.01115826 | F37: =+B37-D37 -> 0 | G37: =+F37/D37 -> 0
A38: 고양시청소년진로센터 | B38: ='예산세출(진로)'!Q100 -> 102000000 | C38: =+B38/$B$7 -> 0.0117001 | D38: ='예산세출(진로)'!R100 -> 15000000 | E38: =+D38/$D$7 -> 0.0025749831 | F38: =+B38-D38 -> 87000000 | G38: =+F38/D38 -> 5.8 | L38: 사무국 | M38: =SUMIFS($B$23:$B$57,$A$23:$A$57,"사무국") -> 1354886000 | N38: =SUMIFS($B$36:$B$46,$A$36:$A$46,"사무국") -> 990980000 | P38: =M38-N38 -> 363906000 | S38: =SUMIFS($D$23:$D$57,$A$23:$A$57,"사무국") -> 1230706000 | T38: =SUMIFS($D$36:$D$46,$A$36:$A$46,"사무국") -> 953000000 | V38: =S38-T38 -> 277706000
A39: 성사청소년문화의집 | B39: ='예산세출(성사)'!R121 -> 52600000 | C39: =+B39/$B$7 -> 0.0060335811 | D39: ='예산세출(성사)'!S121 -> 41400000 | E39: =+D39/$D$7 -> 0.0071069533 | F39: =+B39-D39 -> 11200000 | G39: =+F39/D39 -> 0.2705314 | L39: 마두청소년수련관 | M39: =SUMIFS($B$23:$B$57,$A$23:$A$57,"마두청소년수련관") -> 342384000 | N39: =SUMIFS($B$36:$B$46,$A$36:$A$46,"마두청소년수련관") -> 65000000 | P39: =M39-N39 -> 277384000 | S39: =SUMIFS($D$23:$D$57,$A$23:$A$57,"마두청소년수련관") -> 359029000 | T39: =SUMIFS($D$36:$D$46,$A$36:$A$46,"마두청소년수련관") -> 65000000 | V39: =S39-T39 -> 294029000
A40: 탄현청소년문화의집 | B40: ='예산세출(탄현)'!Q80 -> 48200000 | C40: =+B40/$B$7 -> 0.0055288709 | D40: ='예산세출(탄현)'!R80 -> 10545000 | E40: =+D40/$D$7 -> 0.0018102131 | F40: =+B40-D40 -> 37655000 | G40: =+F40/D40 -> 3.5708867 | L40: 고양시청소년진로센터 | M40: =SUMIFS($B$23:$B$57,$A$23:$A$57,"고양시청소년진로센터") -> 148629000 | N40: =SUMIFS($B$36:$B$46,$A$36:$A$46,"고양시청소년진로센터") -> 102000000 | P40: =M40-N40 -> 46629000 | S40: =SUMIFS($D$23:$D$57,$A$23:$A$57,"고양시청소년진로센터") -> 60230000 | T40: =SUMIFS($D$36:$D$46,$A$36:$A$46,"고양시청소년진로센터") -> 15000000 | V40: =S40-T40 -> 45230000
A41: 주교동청소년카페 | B41: ='예산세출(주교)'!Q80 -> 4030000 | C41: =+B41/$B$7 -> 0.00046226867 | D41: ='예산세출(주교)'!R80 -> 1600000 | E41: =+D41/$D$7 -> 0.00027466486 | F41: =+B41-D41 -> 2430000 | G41: =+F41/D41 -> 1.51875 | L41: 성사청소년문화의집 | M41: =SUMIFS($B$23:$B$57,$A$23:$A$57,"성사청소년문화의집") -> 145503000 | N41: =SUMIFS($B$36:$B$46,$A$36:$A$46,"성사청소년문화의집") -> 52600000 | P41: =M41-N41 -> 92903000 | S41: =SUMIFS($D$23:$D$57,$A$23:$A$57,"성사청소년문화의집") -> 88827000 | T41: =SUMIFS($D$36:$D$46,$A$36:$A$46,"성사청소년문화의집") -> 41400000 | V41: =S41-T41 -> 47427000
...

Sheet 세입세출요약총괄표5
A1: 2018년 세입·세출예산(안) 요약 총괄표
M3: [단위:천원]
A4: 세 입 | H4: 세 출
A5: 예산과목 | B5: 2018년예산액(A) | D5: 2017년예산액(B) | F5: 증 감(A-B) | H5: =A5 -> 예산과목 | I5: =B5 -> 2018년예산액(A) | K5: =D5 -> 2017년예산액(B) | M5: 증 감(A-B)
B6: 금 액 | C6: 구성비 | D6: 금 액 | E6: 구성비 | F6: 금 액 | G6: 증감률 | I6: 금 액 | J6: 구성비 | K6: 금 액 | L6: 구성비 | M6: 금 액 | N6: 증감률
A7: 총 계 | B7: =SUM(B8,B15) -> 8717874000 | C7: =+C8+C15 -> 1 | D7: =SUM(D8,D15) -> 5825281000 | E7: =+E8+E15 -> 1 | F7: =+B7-D7 -> 2892593000 | G7: =+F7/D7 -> 0.49655854 | H7: =A7 -> 총 계 | I7: =SUM(I8,I15) -> 8717874000 | J7: =+J8+J15 -> 1 | K7: =SUM(K8,K15) -> 5825281000 | L7: =+L8+L15 -> 1 | M7: =+I7-K7 -> 2892593000 | N7: =+M7/K7 -> 0.49655854
A8: 620 영업외수익 | B8: =SUM(B9:B14) -> 6304332000 | C8: =+B8/$B$7 -> 0.72315016 | D8: =SUM(D9:D14) -> 4411881000 | E8: =+D8/$D$7 -> 0.75736793 | F8: =+B8-D8 -> 1892451000 | G8: =+F8/D8 -> 0.42894425 | H8: 700 사업비용 | I8: =SUM(I9:I14) -> 6299764000 | J8: =+I8/I7 -> 0.72262618 | K8: =SUM(K9:K14) -> 4404978000 | L8: =+K8/K7 -> 0.75618292 | M8: =+I8-K8 -> 1894786000 | N8: =+M8/K8 -> 0.43014653
A9: 625-2 지자체출자출연금 | B9: =세입예산총괄표2!B9 -> 4598613000 | C9: =+B9/$B$7 -> 0.52749248 | D9: =세입예산총괄표2!D9 -> 2265578000 | E9: =+D9/$D$7 -> 0.38892167 | F9: =+B9-D9 -> 2333035000 | G9: =+F9/D9 -> 1.0297747 | H9: 100 인건비 | I9: =세출총괄표4!B9 -> 3051022000 | J9: =+I9/$I$7 -> 0.34997317 | K9: =세출총괄표4!D9 -> 2297396000 | L9: =+K9/$K$7 -> 0.39438372 | M9: =+I9-K9 -> 753626000 | N9: =+M9/K9 -> 0.32803487
A10: 623 시비보조금 | B10: =세입예산총괄표2!B17 -> 1401151000 | C10: =+B10/$B$7 -> 0.16072164 | D10: =세입예산총괄표2!D17 -> 2057875000 | E10: =+D10/$D$7 -> 0.35326622 | F10: =+B10-D10 -> -656724000 | G10: =+F10/D10 -> -0.31912726 | H10: 200 경비 | I10: =세출총괄표4!B22 -> 1303908000 | J10: =+I10/$I$7 -> 0.1495672 | K10: =세출총괄표4!D22 -> 912749000 | L10: =+K10/$K$7 -> 0.15668755 | M10: =+I10-K10 -> 391159000 | N10: =+M10/K10 -> 0.42855046
A11: 621 이자수익 | B11: =세입예산총괄표2!B27 -> 2160000 | C11: =+B11/$B$7 -> 0.00024776683 | D11: =세입예산총괄표2!D27 -> 5003000 | E11: =+D11/$D$7 -> 0.00085884269 | F11: =+B11-D11 -> -2843000 | G11: =+F11/D11 -> -0.56825904 | H11: 720 목적사업비 | I11: =세출총괄표4!B35 -> 1455137000 | J11: =+I11/$I$7 -> 0.1669142 | K11: =세출총괄표4!D35 -> 1161504000 | L11: =+K11/$K$7 -> 0.19939021 | M11: =+I11-K11 -> 293633000 | N11: =+M11/K11 -> 0.25280412
A12: 624 기부금수익 | B12: =세입예산총괄표2!B40 -> 2408000 | C12: =+B12/$B$7 -> 0.00027621413 | D12: =세입예산총괄표2!D40 -> 2100000 | E12: =+D12/$D$7 -> 0.00036049763 | F12: =+B12-D12 -> 308000 | G12: =+F12/D12 -> 0.14666667 | H12: 405-1 자산취득비 | I12: =세출총괄표4!B47 -> 378249000 | J12: =+I12/$I$7 -> 0.043387757 | K12: =세출총괄표4!D47 -> 12500000 | L12: =+K12/$K$7 -> 0.0021458192 | M12: =+I12-K12 -> 365749000 | N12: =+M12/K12 -> 29.25992
A13: 172 이월금 및 출자출연금 | B13: =세입예산총괄표2!B42 -> 300000000 | C13: =+B13/$B$7 -> 0.03441206 | D13: =세입예산총괄표2!D42 -> 81325000 | E13: =+D13/$D$7 -> 0.0139607 | F13: =+B13-D13 -> 218675000 | G13: =+F13/D13 -> 2.6889026 | H13: 713 성과급 | I13: =세출총괄표4!B53 -> 91448000 | J13: =+I13/$I$7 -> 0.010489713 | K13: =세출총괄표4!D53 -> 17500000 | L13: =+K13/$K$7 -> 0.0030041469 | M13: =+I13-K13 -> 73948000 | N13: =+M13/K13 -> 4.2256
H14: 801-1 예비비(차기년도이월금) | I14: =세출총괄표4!B55 -> 20000000 | J14: =+I14/$I$7 -> 0.0022941373 | K14: =세출총괄표4!D55 -> 3329000 | L14: =+K14/$K$7 -> 0.00057147458 | M14: =+I14-K14 -> 16671000 | N14: =+M14/K14 -> 5.0078102
A15: 610 영업수익(수익) | B15: =SUM(B16:B20) -> 2413542000 | C15: =+B15/$B$7 -> 0.27684984 | D15: =SUM(D16:D20) -> 1413400000 | E15: =+D15/$D$7 -> 0.24263207 | F15: =+B15-D15 -> 1000142000 | G15: =+F15/D15 -> 0.70761426 | H15: 700 사업비용(수익) | I15: =SUM(I16:I20) -> 2418110000 | J15: =+I15/$I$7 -> 0.27737382 | K15: =SUM(K16:K20) -> 1420303000 | L15: =+K15/$K$7 -> 0.24381708 | M15: =+I15-K15 -> 997807000 | N15: =+M15/K15 -> 0.70253108
A16: 625-2 자체사업수익 | B16: =세입예산총괄표2!B45 -> 2002770000 | C16: =+B16/$B$7 -> 0.22973147 | D16: =세입예산총괄표2!D45 -> 1078032000 | E16: =+D16/$D$7 -> 0.18506094 | F16: =+B16-D16 -> 924738000 | G16: =+F16/D16 -> 0.85780199 | H16: 100 인건비 | I16: =세출총괄표4!B59 -> 287290000 | J16: =+I16/$I$7 -> 0.032954135 | K16: =세출총괄표4!D59 -> 220537000 | L16: =+K16/$K$7 -> 0.037858603 | M16: =+I16-K16 -> 66753000 | N16: =+M16/K16 -> 0.3026839
A17: 617 기타영업수익 | B17: =세입예산총괄표2!B54 -> 33760000 | C17: =+B17/$B$7 -> 0.0038725038 | D17: =세입예산총괄표2!D54 -> 33960000 | E17: =+D17/$D$7 -> 0.0058297617 | F17: =+B17-D17 -> -200000 | G17: =+F17/D17 -> -0.0058892815 | H17: 200 경비 | I17: =세출총괄표4!B66 -> 455392000 | J17: =+I17/$I$7 -> 0.052236589 | K17: =세출총괄표4!D66 -> 314206000 | L17: =+K17/$K$7 -> 0.053938342 | M17: =+I17-K17 -> 141186000 | N17: =+M17/K17 -> 0.44934215
A18: 618 판매수익 | B18: =세입예산총괄표2!B61 -> 220002000 | C18: =+B18/$B$7 -> 0.02523574 | D18: =세입예산총괄표2!D61 -> 143787000 | E18: =+D18/$D$7 -> 0.024683273 | F18: =+B18-D18 -> 76215000 | G18: =+F18/D18 -> 0.53005487 | H18: 731-1 사업비 | I18: =세출총괄표4!B77 -> 1590274000 | J18: =+I18/$I$7 -> 0.18241535 | K18: =세출총괄표4!D77 -> 827450000 | L18: =+K18/$K$7 -> 0.14204465 | M18: =+I18-K18 -> 762824000 | N18: =+M18/K18 -> 0.9218974
A19: 621 이월금 | B19: =세입예산총괄표2!B68 -> 107010000 | C19: =+B19/$B$7 -> 0.012274782 | D19: =세입예산총괄표2!D68 -> 107621000 | E19: =+D19/$D$7 -> 0.018474817 | F19: =+B19-D19 -> -611000 | G19: =+F19/D19 -> -0.0056773306 | H19: 775 기타영업외비용 | I19: =세출총괄표4!B83 -> 85154000 | J19: =+I19/$I$7 -> 0.0097677484 | K19: =세출총괄표4!D83 -> 0 | L19: =+K19/$K$7 -> 0 | M19: =+I19-K19 -> 85154000 | N19: 1
A20: 625-3 기타출자출연금 | B20: =세입예산총괄표2!B75 -> 50000000 | C20: =+B20/$B$7 -> 0.0057353433 | D20: =세입예산총괄표2!D75 -> 50000000 | E20: =+D20/$D$7 -> 0.0085832769 | F20: =+B20-D20 -> 0 | G20: =+F20/D20 -> 0 | H20: 801-1 예비비(차기년도이월금) | I20: =세출총괄표4!B96 -> 0 | J20: =+I20/$I$7 -> 0 | K20: =세출총괄표4!D96 -> 58110000 | L20: =+K20/$K$7 -> 0.0099754844 | M20: =+I20-K20 -> -58110000 | N20: =+M20/K20 -> -1

Sheet 세입세출세부총괄표6
A1: 2018년 세입·세출예산(안) 총괄표
M3: [단위:천원]
A4: 세 입 | H4: 세 출
A5: 예산과목 | B5: 2018년예산액(A) | D5: 2017년예산액(B) | F5: 증 감(A-B) | H5: =A5 -> 예산과목 | I5: =B5 -> 2018년예산액(A) | K5: =D5 -> 2017년예산액(B) | M5: 증 감(A-B)
B6: 금 액 | C6: 구성비 | D6: 금 액 | E6: 구성비 | F6: 금 액 | G6: 증감률 | I6: 금 액 | J6: 구성비 | K6: 금 액 | L6: 구성비 | M6: 금 액 | N6: 증감률 | R6: 2018 | S6: 구성비 | T6: 2017 | U6: 구성비 | V6: 증감
A7: 합 계 | B7: =B8+B58 -> 8717874000 | C7: =C8+C58 -> 1 | D7: =D8+D58 -> 5825281000 | E7: =E8+E58 -> 1 | F7: =B7-D7 -> 2892593000 | G7: =F7/D7 -> 0.49655854 | H7: =A7 -> 합 계 | I7: =I8+I58 -> 8717874000 | J7: =J8+J58 -> 1 | K7: =K8+K58 -> 5825281000 | L7: =L8+L58 -> 1 | M7: =I7-K7 -> 2892593000 | N7: =M7/K7 -> 0.49655854 | Q7: 합계 | R7: =SUM(R8:R13) -> 69776000 | T7: =SUM(T8:T13) -> 52500000 | V7: =R7-T7 -> 17276000 | W7: =V7/T7 -> 0.32906667
A8: 620 영업외수익 | B8: =B9+B17+B27+B40+B42 -> 6304332000 | C8: =B8/$B$7 -> 0.72315016 | D8: =D9+D17+D27+D40+D42 -> 4411881000 | E8: =D8/$D$7 -> 0.75736793 | F8: =B8-D8 -> 1892451000 | G8: =F8/D8 -> 0.42894425 | H8: 700 사업비용 | I8: =I9+I22+I35+I47+I53+I55 -> 6299764000 | J8: =I8/$I$7 -> 0.72262618 | K8: =K9+K22+K35+K47+K53+K55 -> 4404978000 | L8: =K8/$K$7 -> 0.75618292 | M8: =I8-K8 -> 1894786000 | N8: =M8/K8 -> 0.43014653 | P8: 능곡역청소년카페 | Q8: 자체사업수익 | R8: 0 | T8: 0 | V8: =R8-T8 -> 0 | W8: =V8/T8 -> #DIV/0!
A9: 625-2 지자체출자출연금 | B9: =SUM(B10:B16) -> 4598613000 | C9: =B9/$B$7 -> 0.52749248 | D9: =SUM(D10:D16) -> 2265578000 | E9: =D9/$D$7 -> 0.38892167 | F9: =B9-D9 -> 2333035000 | G9: =F9/D9 -> 1.0297747 | H9: 100 인건비 | I9: =SUM(I10:I21) -> 3051022000 | J9: =I9/$I$7 -> 0.34997317 | K9: =SUM(K10:K21) -> 2297396000 | L9: =K9/$K$7 -> 0.39438372 | M9: =I9-K9 -> 753626000 | N9: =M9/K9 -> 0.32803487 | Q9: 기타영업수익 | R9: 0 | T9: 0 | V9: =R9-T9 -> 0 | W9: 0
A10: 사무국 | B10: =세입예산총괄표2!B10 -> 1600000000 | C10: =B10/$B$7 -> 0.18353098 | D10: =세입예산총괄표2!D10 -> 752528000 | E10: =D10/$D$7 -> 0.12918312 | F10: =B10-D10 -> 847472000 | G10: =F10/D10 -> 1.1261667 | H10: 사무국 | I10: =세출총괄표4!B10 -> 545114000 | J10: =I10/$I$7 -> 0.062528318 | K10: =세출총괄표4!D10 -> 456347000 | L10: =K10/$K$7 -> 0.078339054 | M10: =I10-K10 -> 88767000 | N10: =M10/K10 -> 0.19451645 | Q10: 판매수익 | R10: =B81 -> 2400000 | S10: =R10/$R$7 -> 0.034395781 | T10: =D81 -> 0 | V10: =R10-T10 -> 2400000 | W10: 1
A11: 마두청소년수련관 | B11: =세입예산총괄표2!B11 -> 861000000 | C11: =B11/$B$7 -> 0.098762611 | D11: =세입예산총괄표2!D11 -> 861000000 | E11: =D11/$D$7 -> 0.14780403 | F11: =B11-D11 -> 0 | G11: =F11/D11 -> 0 | H11: 마두청소년수련관 | I11: =세출총괄표4!B11 -> 518616000 | J11: =I11/$I$7 -> 0.059488816 | K11: =세출총괄표4!D11 -> 501971000 | L11: =K11/$K$7 -> 0.086171122 | M11: =I11-K11 -> 16645000 | N11: =M11/K11 -> 0.033159286 | Q11: 이자수익 | R11: =B39 -> 6000 | T11: =D39 -> 0 | V11: =R11-T11 -> 6000 | W11: 1
A12: 고양시청소년진로센터 | B12: =세입예산총괄표2!B12 -> 324988000 | C12: =B12/$B$7 -> 0.037278355 | D12: =세입예산총괄표2!D12 -> 231000000 | E12: =D12/$D$7 -> 0.039654739 | F12: =B12-D12 -> 93988000 | G12: =F12/D12 -> 0.40687446 | H12: 고양시청소년진로센터 | I12: =세출총괄표4!B12 -> 176359000 | J12: =I12/$I$7 -> 0.020229588 | K12: =세출총괄표4!D12 -> 170770000 | L12: =K12/$K$7 -> 0.029315324 | M12: =I12-K12 -> 5589000 | N12: =M12/K12 -> 0.032728231 | Q12: 보조금수익 | R12: =B26 -> 67370000 | S12: =R12/$R$7 -> 0.96551823 | T12: =D26 -> 52500000 | V12: =R12-T12 -> 14870000 | W12: =V12/T12 -> 0.2832381
A13: 성사청소년문화의집 | B13: =세입예산총괄표2!B13 -> 331348000 | C13: =B13/$B$7 -> 0.03800789 | D13: =세입예산총괄표2!D13 -> 221550000 | E13: =D13/$D$7 -> 0.0380325 | F13: =B13-D13 -> 109798000 | G13: =F13/D13 -> 0.49559016 | H13: 성사청소년문화의집 | I13: =세출총괄표4!B13 -> 185845000 | J13: =I13/$I$7 -> 0.021317697 | K13: =세출총괄표4!D13 -> 132723000 | L13: =K13/$K$7 -> 0.022783965 | M13: =I13-K13 -> 53122000 | N13: =M13/K13 -> 0.40024713 | Q13: 이월금 | R13: 0 | S13: 0 | T13: 0 | V13: =R13-T13 -> 0 | W13: 0
A14: 탄현청소년문화의집 | B14: =세입예산총괄표2!B14 -> 216088000 | C14: =B14/$B$7 -> 0.024786777 | D14: =세입예산총괄표2!D14 -> 152250000 | E14: =D14/$D$7 -> 0.026136078 | F14: =B14-D14 -> 63838000 | G14: =F14/D14 -> 0.41929721 | H14: 탄현청소년문화의집 | I14: =세출총괄표4!B14 -> 133061000 | J14: =I14/$I$7 -> 0.01526301 | K14: =세출총괄표4!D14 -> 115502000 | L14: =K14/$K$7 -> 0.019827713 | M14: =I14-K14 -> 17559000 | N14: =M14/K14 -> 0.15202334 | Q14: 합계 | R14: =SUM(R15:R19) -> 69776000 | T14: =SUM(T15:T19) -> 52500000 | V14: =R14-T14 -> 17276000 | W14: =V14/T14 -> 0.32906667
A15: 주교동청소년카페 | B15: =세입예산총괄표2!B15 -> 65189000 | C15: =B15/$B$7 -> 0.0074776259 | D15: =세입예산총괄표2!D15 -> 47250000 | E15: =D15/$D$7 -> 0.0081111967 | F15: =B15-D15 -> 17939000 | G15: =F15/D15 -> 0.37966138 | H15: 주교동청소년카페 | I15: =세출총괄표4!B15 -> 46863000 | J15: =I15/$I$7 -> 0.0053755078 | K15: =세출총괄표4!D15 -> 32193000 | L15: =K15/$K$7 -> 0.0055264287 | M15: =I15-K15 -> 14670000 | N15: =M15/K15 -> 0.45568912 | Q15: 인건비 | R15: =I21 -> 37200000 | S15: =R15/$R$14 -> 0.5331346 | T15: =K21 -> 25200000 | U15: =T15/$T$14 -> 0.48 | V15: =R15-T15 -> 12000000 | W15: =V15/T15 -> 0.47619048
A16: 일산서구청소년수련관 | B16: =세입예산총괄표2!B16 -> 1200000000 | C16: =B16/$B$7 -> 0.13764824 | D16: =세입예산총괄표2!D16 -> 0 | E16: =D16/$D$7 -> 0 | F16: =B16-D16 -> 1200000000 | G16: 1 | H16: 일산서구청소년수련관 | I16: =세출총괄표4!B16 -> 500000000 | J16: =I16/$I$7 -> 0.057353433 | K16: =세출총괄표4!D16 -> 0 | L16: =K16/$K$7 -> 0 | M16: =I16-K16 -> 500000000 | N16: 1 | Q16: 경비 | R16: =I34 -> 19670000 | S16: =R16/$R$14 -> 0.28190209 | T16: =K34 -> 17150000 | U16: =T16/$T$14 -> 0.32666667 | V16: =R16-T16 -> 2520000 | W16: =V16/T16 -> 0.14693878
A17: 623 시비보조금 | B17: =SUM(B18:B26) -> 1401151000 | C17: =B17/$B$7 -> 0.16072164 | D17: =SUM(D18:D26) -> 2057875000 | E17: =D17/$D$7 -> 0.35326622 | F17: =B17-D17 -> -656724000 | G17: =F17/D17 -> -0.31912726 | H17: 토당청소년수련관 | I17: =세출총괄표4!B17 -> 574933000 | J17: =I17/$I$7 -> 0.065948762 | K17: =세출총괄표4!D17 -> 597800000 | L17: =K17/$K$7 -> 0.10262166 | M17: =I17-K17 -> -22867000 | N17: =M17/K17 -> -0.038251924 | Q17: 목적사업비 | R17: =I46 -> 10500000 | S17: =R17/$R$14 -> 0.15048154 | T17: =K46 -> 10150000 | U17: =T17/$T$14 -> 0.19333333 | V17: =R17-T17 -> 350000 | W17: =V17/T17 -> 0.034482759
A18: 사무국 | B18: =세입예산총괄표2!B18 -> 0 | C18: =B18/$B$7 -> 0 | D18: =세입예산총괄표2!D18 -> 853000000 | E18: =D18/$D$7 -> 0.1464307 | F18: =B18-D18 -> -853000000 | G18: =F18/D18 -> -1 | H18: 고양시청소년상담복지센터 | I18: =세출총괄표4!B18 -> 224951000 | J18: =I18/$I$7 -> 0.025803424 | K18: =세출총괄표4!D18 -> 184510000 | L18: =K18/$K$7 -> 0.031674009 | M18: =I18-K18 -> 40441000 | N18: =M18/K18 -> 0.21918053 | Q18: 자체사업비 | R18: =I76 -> 2400000 | S18: =R18/$R$14 -> 0.034395781 | T18: =K76 -> 0 | U18: =T18/$T$14 -> 0 | V18: =R18-T18 -> 2400000 | W18: 1
A19: 마두청소년수련관 | B19: =세입예산총괄표2!B19 -> 0 | C19: =B19/$B$7 -> 0 | D19: =세입예산총괄표2!D19 -> 0 | E19: =D19/$D$7 -> 0 | F19: =B19-D19 -> 0 | G19: 0 | H19: 화정청소년카페 | I19: =세출총괄표4!B19 -> 63200000 | J19: =I19/$I$7 -> 0.0072494739 | K19: =세출총괄표4!D19 -> 42000000 | L19: =K19/$K$7 -> 0.0072099526 | M19: =I19-K19 -> 21200000 | N19: =M19/K19 -> 0.5047619 | Q19: 기타영업외비용 | R19: =I95 -> 6000 | S19: =R19/$R$14 -> 8.5989452e-05 | T19: =K95 -> 0 | U19: =T19/$T$14 -> 0 | V19: =R19-T19 -> 6000 | W19: 1
A20: 고양시청소년진로센터 | B20: =세입예산총괄표2!B20 -> 0 | C20: =B20/$B$7 -> 0 | D20: =세입예산총괄표2!D20 -> 0 | E20: =D20/$D$7 -> 0 | F20: =B20-D20 -> 0 | G20: 0 | H20: 백마역청소년카페 | I20: =세출총괄표4!B20 -> 44880000 | J20: =I20/$I$7 -> 0.0051480441 | K20: =세출총괄표4!D20 -> 38380000 | L20: =K20/$K$7 -> 0.0065885234 | M20: =I20-K20 -> 6500000 | N20: =M20/K20 -> 0.16935904
A21: 성사청소년문화의집 | B21: =세입예산총괄표2!B21 -> 0 | C21: =B21/$B$7 -> 0 | D21: =세입예산총괄표2!D21 -> 0 | E21: =D21/$D$7 -> 0 | F21: =B21-D21 -> 0 | G21: 0 | H21: 능곡역청소년카페 | I21: =세출총괄표4!B21 -> 37200000 | J21: =I21/$I$7 -> 0.0042670954 | K21: =세출총괄표4!D21 -> 25200000 | L21: =K21/$K$7 -> 0.0043259716 | M21: =I21-K21 -> 12000000 | N21: =M21/K21 -> 0.47619048 | P21: 백마역청소년카페 | R21: 2018 | S21: 구성비 | T21: 2017 | U21: 구성비 | V21: 증감
A22: 토당청소년수련관 | B22: =세입예산총괄표2!B22 -> 822500000 | C22: =B22/$B$7 -> 0.094346397 | D22: =세입예산총괄표2!D22 -> 783300000 | E22: =D22/$D$7 -> 0.13446562 | F22: =B22-D22 -> 39200000 | G22: =F22/D22 -> 0.050044683 | H22: 200 경비 | I22: =SUM(I23:I34) -> 1303908000 | J22: =I22/$I$7 -> 0.1495672 | K22: =SUM(K23:K34) -> 912749000 | L22: =K22/$K$7 -> 0.15668755 | M22: =I22-K22 -> 391159000 | N22: =M22/K22 -> 0.42855046 | Q22: 합계 | R22: =SUM(R23:R28) -> 85429000 | T22: =SUM(T23:T28) -> 73750000 | V22: =R22-T22 -> 11679000 | W22: =V22/T22 -> 0.15835932
A23: 고양시청소년상담복지센터 | B23: =세입예산총괄표2!B23 -> 323393000 | C23: =B23/$B$7 -> 0.037095397 | D23: =세입예산총괄표2!D23 -> 231000000 | E23: =D23/$D$7 -> 0.039654739 | F23: =B23-D23 -> 92393000 | G23: =F23/D23 -> 0.3999697 | H23: 사무국 | I23: =세출총괄표4!B23 -> 247458000 | J23: =I23/$I$7 -> 0.028385132 | K23: =세출총괄표4!D23 -> 251533000 | L23: =K23/$K$7 -> 0.043179548 | M23: =I23-K23 -> -4075000 | N23: =M23/K23 -> -0.016200658 | Q23: 자체사업수익 | R23: 0 | V23: =R23-T23 -> 0 | W23: 0
A24: 화정청소년카페 | B24: =세입예산총괄표2!B24 -> 118473000 | C24: =B24/$B$7 -> 0.013589666 | D24: =세입예산총괄표2!D24 -> 80325000 | E24: =D24/$D$7 -> 0.013789034 | F24: =B24-D24 -> 38148000 | G24: =F24/D24 -> 0.47492063 | H24: 마두청소년수련관 | I24: =세출총괄표4!B24 -> 274384000 | J24: =I24/$I$7 -> 0.031473729 | K24: =세출총괄표4!D24 -> 291029000 | L24: =K24/$K$7 -> 0.04995965 | M24: =I24-K24 -> -16645000 | N24: =M24/K24 -> -0.057193613 | Q24: 기타영업수익 | R24: 0 | V24: =R24-T24 -> 0 | W24: 0
A25: 백마역청소년카페 | B25: =세입예산총괄표2!B25 -> 69415000 | C25: =B25/$B$7 -> 0.0079623771 | D25: =세입예산총괄표2!D25 -> 57750000 | E25: =D25/$D$7 -> 0.0099136849 | F25: =B25-D25 -> 11665000 | G25: =F25/D25 -> 0.20199134 | H25: 고양시청소년진로센터 | I25: =세출총괄표4!B25 -> 45429000 | J25: =I25/$I$7 -> 0.0052110182 | K25: =세출총괄표4!D25 -> 44074000 | L25: =K25/$K$7 -> 0.0075659869 | M25: =I25-K25 -> 1355000 | N25: =M25/K25 -> 0.030743749 | Q25: 판매수익 | R25: =B80 -> 16000000 | S25: =R25/$R$22 -> 0.18729003 | T25: =D80 -> 16000000 | U25: =T25/$T$22 -> 0.21694915 | V25: =R25-T25 -> 0 | W25: =V25/T25 -> 0
A26: 능곡역청소년카페 | B26: =세입예산총괄표2!B26 -> 67370000 | C26: =B26/$B$7 -> 0.0077278015 | D26: =세입예산총괄표2!D26 -> 52500000 | E26: =D26/$D$7 -> 0.0090124408 | F26: =B26-D26 -> 14870000 | G26: =F26/D26 -> 0.2832381 | H26: 성사청소년문화의집 | I26: =세출총괄표4!B26 -> 86703000 | J26: =I26/$I$7 -> 0.0099454294 | K26: =세출총괄표4!D26 -> 44427000 | L26: =K26/$K$7 -> 0.0076265849 | M26: =I26-K26 -> 42276000 | N26: =M26/K26 -> 0.9515835 | Q26: 이자수익 | R26: =B38 -> 14000 | S26: =R26/$R$22 -> 0.00016387878 | T26: =D38 -> 0 | U26: =T26/$T$22 -> 0 | V26: =R26-T26 -> 14000 | W26: 1
A27: 621 이자수익 | B27: =SUM(B28:B39) -> 2160000 | C27: =B27/$B$7 -> 0.00024776683 | D27: =SUM(D28:D39) -> 5003000 | E27: =D27/$D$7 -> 0.00085884269 | F27: =B27-D27 -> -2843000 | G27: =F27/D27 -> -0.56825904 | H27: 탄현청소년문화의집 | I27: =세출총괄표4!B27 -> 34827000 | J27: =I27/$I$7 -> 0.003994896 | K27: =세출총괄표4!D27 -> 26203000 | L27: =K27/$K$7 -> 0.0044981521 | M27: =I27-K27 -> 8624000 | N27: =M27/K27 -> 0.32912262 | Q27: 보조금수익 | R27: =B25 -> 69415000 | S27: =R27/$R$22 -> 0.81254609 | T27: =D25 -> 57750000 | U27: =T27/$T$22 -> 0.78305085 | V27: =R27-T27 -> 11665000 | W27: =V27/T27 -> 0.20199134
A28: 사무국 | B28: =세입예산총괄표2!B28 -> 720000 | C28: =B28/$B$7 -> 8.2588943e-05 | D28: =세입예산총괄표2!D28 -> 200000 | E28: =D28/$D$7 -> 3.4333108e-05 | F28: =B28-D28 -> 520000 | G28: =F28/D28 -> 2.6 | H28: 주교동청소년카페 | I28: =세출총괄표4!B28 -> 14296000 | J28: =I28/$I$7 -> 0.0016398493 | K28: =세출총괄표4!D28 -> 13457000 | L28: =K28/$K$7 -> 0.0023101032 | M28: =I28-K28 -> 839000 | N28: =M28/K28 -> 0.062346734 | Q28: 이월금 | R28: 0 | S28: =R28/$R$22 -> 0 | T28: 0 | U28: =T28/$T$22 -> 0 | V28: =R28-T28 -> 0 | W28: 0
A29: 마두청소년수련관 | B29: =세입예산총괄표2!B29 -> 200000 | C29: =B29/$B$7 -> 2.2941373e-05 | D29: =세입예산총괄표2!D29 -> 200000 | E29: =D29/$D$7 -> 3.4333108e-05 | F29: =B29-D29 -> 0 | G29: =F29/D29 -> 0 | H29: 일산서구청소년수련관 | I29: =세출총괄표4!B29 -> 237151000 | J29: =I29/$I$7 -> 0.027202848 | K29: =세출총괄표4!D29 -> 0 | L29: =K29/$K$7 -> 0 | M29: =I29-K29 -> 237151000 | N29: 1 | Q29: 합계 | R29: =SUM(R30:R34) -> 85429000 | T29: =SUM(T30:T34) -> 73750000 | U29: =T29/$T$22 -> 1 | V29: =R29-T29 -> 11679000 | W29: =V29/T29 -> 0.15835932
A30: 고양시청소년진로센터 | B30: =세입예산총괄표2!B30 -> 240000 | C30: =B30/$B$7 -> 2.7529648e-05 | D30: =세입예산총괄표2!D30 -> 0 | E30: =D30/$D$7 -> 0 | F30: =B30-D30 -> 240000 | G30: 1 | H30: 토당청소년수련관 | I30: =세출총괄표4!B30 -> 247567000 | J30: =I30/$I$7 -> 0.028397635 | K30: =세출총괄표4!D30 -> 153500000 | L30: =K30/$K$7 -> 0.02635066 | M30: =I30-K30 -> 94067000 | N30: =M30/K30 -> 0.61281433 | Q30: 인건비 | R30: =I20 -> 44880000 | S30: =R30/$R$22 -> 0.52534854 | T30: =K20 -> 38380000 | U30: =T30/$T$22 -> 0.52040678 | V30: =R30-T30 -> 6500000 | W30: =V30/T30 -> 0.16935904
A31: 성사청소년문화의집 | B31: =세입예산총괄표2!B31 -> 100000 | C31: =B31/$B$7 -> 1.1470687e-05 | D31: =세입예산총괄표2!D31 -> 100000 | E31: =D31/$D$7 -> 1.7166554e-05 | F31: =B31-D31 -> 0 | G31: =F31/D31 -> 0 | H31: 고양시청소년상담복지센터 | I31: =세출총괄표4!B31 -> 48841000 | J31: =I31/$I$7 -> 0.005602398 | K31: =세출총괄표4!D31 -> 37166000 | L31: =K31/$K$7 -> 0.0063801214 | M31: =I31-K31 -> 11675000 | N31: =M31/K31 -> 0.3141312 | Q31: 경비 | R31: =I33 -> 24535000 | S31: =R31/$R$22 -> 0.28719756 | T31: =K33 -> 19370000 | U31: =T31/$T$22 -> 0.26264407 | V31: =R31-T31 -> 5165000 | W31: =V31/T31 -> 0.26664946
A32: 탄현청소년문화의집 | B32: =세입예산총괄표2!B32 -> 100000 | C32: =B32/$B$7 -> 1.1470687e-05 | D32: =세입예산총괄표2!D32 -> 100000 | E32: =D32/$D$7 -> 1.7166554e-05 | F32: =B32-D32 -> 0 | G32: =F32/D32 -> 0 | H32: 화정청소년카페 | I32: =세출총괄표4!B32 -> 23047000 | J32: =I32/$I$7 -> 0.0026436491 | K32: =세출총괄표4!D32 -> 14840000 | L32: =K32/$K$7 -> 0.0025475166 | M32: =I32-K32 -> 8207000 | N32: =M32/K32 -> 0.55303235 | Q32: 목적사업비 | R32: 0 | S32: =R32/$R$22 -> 0 | U32: =T32/$T$22 -> 0 | V32: =R32-T32 -> 0 | W32: 0
A33: 주교동청소년카페 | B33: =세입예산총괄표2!B33 -> 10000 | C33: =B33/$B$7 -> 1.1470687e-06 | D33: =세입예산총괄표2!D33 -> 10000 | E33: =D33/$D$7 -> 1.7166554e-06 | F33: =B33-D33 -> 0 | G33: =F33/D33 -> 0 | H33: 백마역청소년카페 | I33: =세출총괄표4!B33 -> 24535000 | J33: =I33/$I$7 -> 0.0028143329 | K33: =세출총괄표4!D33 -> 19370000 | L33: =K33/$K$7 -> 0.0033251615 | M33: =I33-K33 -> 5165000 | N33: =M33/K33 -> 0.26664946 | Q33: 자체사업비 | R33: =I65+I75 -> 16000000 | S33: =R33/$R$22 -> 0.18729003 | T33: =K65+K75 -> 16000000 | U33: =T33/$T$22 -> 0.21694915 | V33: =R33-T33 -> 0 | W33: 0
A34: 일산서구청소년수련관 | B34: =세입예산총괄표2!B34 -> 233000 | C34: =B34/$B$7 -> 2.67267e-05 | D34: =세입예산총괄표2!D34 -> 0 | E34: =D34/$D$7 -> 0 | F34: =B34-D34 -> 233000 | G34: 1 | H34: 능곡역청소년카페 | I34: =세출총괄표4!B34 -> 19670000 | J34: =I34/$I$7 -> 0.002256284 | K34: =세출총괄표4!D34 -> 17150000 | L34: =K34/$K$7 -> 0.002944064 | M34: =I34-K34 -> 2520000 | N34: =M34/K34 -> 0.14693878 | Q34: 기타영업외비용 | R34: =I94 -> 14000 | S34: =R34/$R$22 -> 0.00016387878 | U34: =T34/$T$22 -> 0 | V34: =R34-T34 -> 14000 | W34: 1
A35: 토당청소년수련관 | B35: =세입예산총괄표2!B35 -> 500000 | C35: =B35/$B$7 -> 5.7353433e-05 | D35: =세입예산총괄표2!D35 -> 4393000 | E35: =D35/$D$7 -> 0.00075412671 | F35: =B35-D35 -> -3893000 | G35: =F35/D35 -> -0.88618256 | H35: 720 목적사업비 | I35: =SUM(I36:I46) -> 1455137000 | J35: =I35/$I$7 -> 0.1669142 | K35: =SUM(K36:K46) -> 1161504000 | L35: =K35/$K$7 -> 0.19939021 | M35: =I35-K35 -> 293633000 | N35: =M35/K35 -> 0.25280412
A36: 고양시청소년상담복지센터 | B36: =세입예산총괄표2!B36 -> 24000 | C36: =B36/$B$7 -> 2.7529648e-06 | D36: =세입예산총괄표2!D36 -> 0 | E36: =D36/$D$7 -> 0 | F36: =B36-D36 -> 24000 | G36: 1 | H36: 사무국 | I36: =세출총괄표4!B36 -> 990980000 | J36: =I36/$I$7 -> 0.11367221 | K36: =세출총괄표4!D36 -> 953000000 | L36: =K36/$K$7 -> 0.16359726 | M36: =I36-K36 -> 37980000 | N36: =M36/K36 -> 0.039853095 | R36: 2018 | S36: 구성비 | T36: 2017 | U36: 구성비 | V36: 증감
A37: 화정청소년카페 | B37: =세입예산총괄표2!B37 -> 13000 | C37: =B37/$B$7 -> 1.4911893e-06 | D37: =세입예산총괄표2!D37 -> 0 | E37: =D37/$D$7 -> 0 | F37: =B37-D37 -> 13000 | G37: 1 | H37: 마두청소년수련관 | I37: =세출총괄표4!B37 -> 65000000 | J37: =I37/$I$7 -> 0.0074559463 | K37: =세출총괄표4!D37 -> 65000000 | L37: =K37/$K$7 -> 0.01115826 | M37: =I37-K37 -> 0 | N37: =M37/K37 -> 0 | P37: 화정역청소년카페 | Q37: 합계 | R37: =SUM(R38:R44) -> 155514000 | S37: =SUM(S38:S44) -> 1 | T37: =SUM(T38:T44) -> 114345000 | U37: =SUM(U38:U44) -> 1 | V37: =R37-T37 -> 41169000 | W37: =V37/T37 -> 0.36004198
A38: 백마역청소년카페 | B38: =세입예산총괄표2!B38 -> 14000 | C38: =B38/$B$7 -> 1.6058961e-06 | D38: =세입예산총괄표2!D38 -> 0 | E38: =D38/$D$7 -> 0 | F38: =B38-D38 -> 14000 | G38: 1 | H38: 고양시청소년진로센터 | I38: =세출총괄표4!B38 -> 102000000 | J38: =I38/$I$7 -> 0.0117001 | K38: =세출총괄표4!D38 -> 15000000 | L38: =K38/$K$7 -> 0.0025749831 | M38: =I38-K38 -> 87000000 | N38: =M38/K38 -> 5.8 | Q38: 자체사업수익 | R38: =B67 -> 1620000 | S38: =R38/$R$37 -> 0.010417069 | T38: =D67 -> 1560000 | U38: =T38/$T$37 -> 0.013642923 | V38: =R38-T38 -> 60000 | W38: =V38/T38 -> 0.038461538
A39: 능곡역청소년카페 | B39: =세입예산총괄표2!B39 -> 6000 | C39: =B39/$B$7 -> 6.8824119e-07 | D39: =세입예산총괄표2!D39 -> 0 | E39: =D39/$D$7 -> 0 | F39: =B39-D39 -> 6000 | G39: 1 | H39: 성사청소년문화의집 | I39: =세출총괄표4!B39 -> 52600000 | J39: =I39/$I$7 -> 0.0060335811 | K39: =세출총괄표4!D39 -> 41400000 | L39: =K39/$K$7 -> 0.0071069533 | M39: =I39-K39 -> 11200000 | N39: =M39/K39 -> 0.2705314 | Q39: 기타영업수익 | R39: =B74 -> 360000 | S39: =R39/$R$37 -> 0.0023149041 | T39: =D74 -> 360000 | U39: =T39/$T$37 -> 0.0031483668 | V39: =R39-T39 -> 0 | W39: =V39/T39 -> 0
A40: 624 기부금수익 | B40: =B41 -> 2408000 | C40: =B40/$B$7 -> 0.00027621413 | D40: =D41 -> 2100000 | E40: =D40/$D$7 -> 0.00036049763 | F40: =B40-D40 -> 308000 | G40: =F40/D40 -> 0.14666667 | H40: 탄현청소년문화의집 | I40: =세출총괄표4!B40 -> 48200000 | J40: =I40/$I$7 -> 0.0055288709 | K40: =세출총괄표4!D40 -> 10545000 | L40: =K40/$K$7 -> 0.0018102131 | M40: =I40-K40 -> 37655000 | N40: =M40/K40 -> 3.5708867 | Q40: 판매수익 | R40: =B79 -> 32640000 | S40: =R40/$R$37 -> 0.20988464 | T40: =D79 -> 30000000 | U40: =T40/$T$37 -> 0.2623639 | V40: =R40-T40 -> 2640000 | W40: =V40/T40 -> 0.088
A41: 화정청소년카페 | B41: =세입예산총괄표2!B41 -> 2408000 | C41: =B41/$B$7 -> 0.00027621413 | D41: 2100000 | E41: =D41/$D$7 -> 0.00036049763 | F41: =B41-D41 -> 308000 | G41: =F41/D41 -> 0.14666667 | H41: 주교동청소년카페 | I41: =세출총괄표4!B41 -> 4030000 | J41: =I41/$I$7 -> 0.00046226867 | K41: =세출총괄표4!D41 -> 1600000 | L41: =K41/$K$7 -> 0.00027466486 | M41: =I41-K41 -> 2430000 | N41: =M41/K41 -> 1.51875 | Q41: 이자수익 | R41: =B37 -> 13000 | S41: =R41/$R$37 -> 8.359376e-05 | T41: =D37 -> 0 | U41: =T41/$T$37 -> 0 | V41: =R41-T41 -> 13000 | W41: 1
...

Sheet 간지3(세입예산 사업내역서)

Sheet 예산세입(사무국)
A1: 2018년 세입예산서(안)
A2: [일반회계] | O2: (단위:천원)
A3: 예산과목 | G3: 산출내역 | M3: 예산액 | N3: 전년도 예산액 | O3: 증감 | P3: 증감률
A4: 장 | B4: 관 | C4: 항 | D4: 목 | E4: 세목 | F4: 세세목
A5: 고양시청소년재단사무국 | M5: =M6+M19 -> 1900720000 | N5: =N6+N19 -> 1687052841 | O5: =+M5-N5 -> 213667159 | P5: =+O5/N5 -> 0.12665114
B6: 600 사업수익 | M6: =SUM(M7) -> 1600720000 | N6: =SUM(N7) -> 1605728000 | O6: =+M6-N6 -> -5008000 | P6: =+O6/N6 -> -0.0031188346
C7: 620 영업외수익 | M7: =SUM(M8,M12,M15) -> 1600720000 | N7: =SUM(N8,N12,N15) -> 1605728000 | O7: =+M7-N7 -> -5008000 | P7: =+O7/N7 -> -0.0031188346
D8: 621 이자수익 | M8: =M9 -> 720000 | N8: =N9 -> 200000 | O8: =+M8-N8 -> 520000 | P8: =+O8/N8 -> 2.6
E9: 621-1 예금이자수익 | M9: =ROUNDUP(L10,-3) -> 720000 | N9: 200000 | O9: =+M9-N9 -> 520000 | P9: =+O9/N9 -> 2.6
F10: ㅇ예금이자수익 | L10: =SUM(L11:L11) -> 720000
F11: ­ 예금이자 | G11: 720000 | H11: × | I11: 1 | K11: = | L11: =G11*I11 -> 720000
D12: 623 보조금수익 | M12: =M13 -> 0 | N12: =N13 -> 853000000 | O12: =+M12-N12 -> -853000000 | P12: =+O12/N12 -> -1
E13: 623-1 국도시비보조금 | M13: =ROUNDUP(L14,-3) -> 0 | N13: 853000000 | O13: =+M13-N13 -> -853000000 | P13: =+O13/N13 -> -1
D15: 625 출자출연금수익 | M15: =SUM(M16:M18) -> 1600000000 | N15: =N16 -> 752528000 | O15: =+M15-N15 -> 847472000 | P15: =+O15/N15 -> 1.1261667
E16: 625-2 지자체출자출연금 | M16: =ROUNDUP(L17,-3) -> 1600000000 | N16: 752528000 | O16: =+M16-N16 -> 847472000 | P16: =+O16/N16 -> 1.1261667
F17: ㅇ고양시지원금 | L17: =SUM(L18:L18) -> 1600000000
F18: ­ 재단지원금 | G18: 1600000000 | H18: × | I18: 1 | K18: = | L18: =G18 -> 1600000000
B19: 100 자본적수입 | M19: =M20 -> 300000000 | N19: =SUM(N20) -> 81324841 | O19: =+M19-N19 -> 218675159 | P19: =+O19/N19 -> 2.6889098
C20: 170 자본잉여금수입 | M20: =M21+M25 -> 300000000 | N20: =N21+N25 -> 81324841 | O20: =+M20-N20 -> 218675159 | P20: =+O20/N20 -> 2.6889098
D21: 171 잉여금 | M21: =SUM(M22) -> 0 | N21: =SUM(N22) -> 0 | O21: =+M21-N21 -> 0 | P21: 0
E22: 171-1 순세계잉여금 | M22: =SUM(L23) -> 0 | N22: 0 | O22: =+M22-N22 -> 0 | P22: 0
F23: ㅇ순세계잉여금 | L23: =SUM(L24) -> 0
F24: ­ 사무국잉여금 | H24: × | I24: 1 | L24: =G24*I24 -> 0
D25: 172 이월금 | M25: =SUM(M26) -> 300000000 | N25: =N26 -> 81324841 | O25: =+M25-N25 -> 218675159 | P25: =+O25/N25 -> 2.6889098
E26: 172-3 전년도이월사업비 | M26: =SUM(L27) -> 300000000 | N26: 81324841 | O26: =+M26-N26 -> 218675159 | P26: =+O26/N26 -> 2.6889098
F27: ㅇ전년도이월금 | L27: =SUM(L28) -> 300000000
F28: ­ 2017년사업비이월금 | G28: 300000000 | H28: × | I28: 1 | K28: = | L28: =G28*I28 -> 300000000
E322: 청소녀

Sheet 예산세입(마두)
A1: 2018년 세입예산서(안)
A2: [일반회계] | R2: (단위:천원)
A3: 예산과목 | G3: 산출내역 | P3: 예산액 | Q3: 전년도 예산액 | R3: 증감 | S3: 증감률
A4: 장 | B4: 관 | C4: 항 | D4: 목 | E4: 세목 | F4: 세세목
A5: 마두청소년수련관 | P5: =P6+P93 -> 1588140000 | Q5: =Q6+Q93 -> 1586392000 | R5: =+P5-Q5 -> 1748000 | S5: =+R5/Q5 -> 0.0011018714
B6: 600 사업수익 | P6: =SUM(P7,P76) -> 1513140000 | Q6: =SUM(Q7,Q76) -> 1506892000 | R6: =+P6-Q6 -> 6248000 | S6: =+R6/Q6 -> 0.0041462825
C7: 610 영업수익 | P7: =SUM(P8,P63,P72) -> 651940000 | Q7: =SUM(Q8,Q63,Q72) -> 645692000 | R7: =+P7-Q7 -> 6248000 | S7: =+R7/Q7 -> 0.0096764402
D8: 611 자체사업수익 | P8: =SUM(P9:P62) -> 597440000 | Q8: =SUM(Q9:Q62) -> 597192000 | R8: =+P8-Q8 -> 248000 | S8: =+R8/Q8 -> 0.00041527683
E9: 611-1 사업운영수익 | P9: =ROUNDUP((O10+O25+O46),-3) -> 455040000 | Q9: =67140000+340632000+47460000 -> 455232000 | R9: =+P9-Q9 -> -192000 | S9: =+R9/Q9 -> -0.00042176297
F10: ㅇ교육문화프로그램 | O10: =SUM(O11:O24) -> 71760000
F11: ­ 기타교실(청소년) | G11: 30000 | H11: × | I11: 5 | J11: × | K11: 2 | L11: × | M11: 12 | N11: = | O11: =+M11*K11*I11*G11 -> 3600000
F12: ­ 기타교실(성인) | G12: 35000 | H12: × | I12: 5 | J12: × | K12: 2 | L12: × | M12: 12 | N12: = | O12: =+M12*K12*I12*G12 -> 4200000
F13: ­ 초등미술 | G13: 35000 | H13: × | I13: 8 | J13: × | K13: 3 | L13: × | M13: 12 | N13: = | O13: =+M13*K13*I13*G13 -> 10080000
F14: ­ 성인미술 | G14: 35000 | H14: × | I14: 10 | J14: × | K14: 1 | L14: × | M14: 12 | N14: = | O14: =+M14*K14*I14*G14 -> 4200000
F15: ­ 손뜨개질 | G15: 30000 | H15: × | I15: 5 | J15: × | K15: 1 | L15: × | M15: 12 | N15: = | O15: =+M15*K15*I15*G15 -> 1800000
F16: ­ 캘리그라피 | G16: 40000 | H16: × | I16: 6 | J16: × | K16: 2 | L16: × | M16: 12 | N16: = | O16: =+M16*K16*I16*G16 -> 5760000
F17: ­ 바이올린 | G17: 40000 | H17: × | I17: 5 | J17: × | K17: 2 | L17: × | M17: 12 | N17: = | O17: =+M17*K17*I17*G17 -> 4800000
F18: ­ 플룻 | G18: 40000 | H18: × | I18: 5 | J18: × | K18: 2 | L18: × | M18: 12 | N18: = | O18: =+M18*K18*I18*G18 -> 4800000
F19: ­ 클라리넷 | G19: 40000 | H19: × | I19: 5 | J19: × | K19: 1 | L19: × | M19: 12 | N19: = | O19: =+M19*K19*I19*G19 -> 2400000
F20: ­ 우쿨렐레 | G20: 30000 | H20: × | I20: 5 | J20: × | K20: 1 | L20: × | M20: 12 | N20: = | O20: =+M20*K20*I20*G20 -> 1800000
F21: ­ 과학실험 | G21: 30000 | H21: × | I21: 10 | J21: × | K21: 2 | L21: × | M21: 12 | N21: = | O21: =+M21*K21*I21*G21 -> 7200000
F22: ­ 독서논술 | G22: 40000 | H22: × | I22: 8 | J22: × | K22: 3 | L22: × | M22: 12 | N22: = | O22: =+M22*K22*I22*G22 -> 11520000
... F24: ­ 중국어 | G24: 40000 | H24: × | I24: 5 | J24: × | K24: 2 | L24: × | M24: 12 | N24: = | O24: =+M24*K24*I24*G24 -> 4800000
F25: ㅇ생활체육프로그램 | O25: =SUM(O26:O45) -> 334200000
F26: ­ 요가(청소년) | G26: 25000 | H26: × | I26: 1 | J26: × | K26: 4 | L26: × | M26: 12 | N26: = | O26: =G26*I26*K26*M26 -> 1200000
F27: ­ 요가(성인) | G27: 35000 | H27: × | I27: 17 | J27: × | K27: 4 | L27: × | M27: 12 | N27: = | O27: =G27*I27*K27*M27 -> 28560000
F28: ­ 필라테스(청소년) | G28: 25000 | H28: × | I28: 1 | J28: × | K28: 4 | L28: × | M28: 12 | N28: = | O28: =G28*I28*K28*M28 -> 1200000
F29: ­ 필라테스(성인) | G29: 35000 | H29: × | I29: 17 | J29: × | K29: 4 | L29: × | M29: 12 | N29: = | O29: =G29*I29*K29*M29 -> 28560000
F30: ­ 발레 | G30: 35000 | H30: × | I30: 15 | J30: × | K30: 6 | L30: × | M30: 12 | N30: = | O30: =G30*I30*K30*M30 -> 37800000
F31: ­ 방송댄스 | G31: 25000 | H31: × | I31: 8 | J31: × | K31: 4 | L31: × | M31: 12 | N31: = | O31: =G31*I31*K31*M31 -> 9600000
F32: ­ 라인댄스 | G32: 25000 | H32: × | I32: 12 | J32: × | K32: 2 | L32: × | M32: 12 | N32: = | O32: =G32*I32*K32*M32 -> 7200000
F33: ­ 청소년요가필라테스 | G33: 30000 | H33: × | I33: 7 | J33: × | K33: 2 | L33: × | M33: 12 | N33: = | O33: =G33*I33*K33*M33 -> 5040000
F34: ­ 그룹트레이닝 | G34: 30000 | H34: × | I34: 5 | J34: × | K34: 2 | L34: × | M34: 12 | N34: = | O34: =G34*I34*K34*M34 -> 3600000
F35: ­ 발레핏 | G35: 40000 | H35: × | I35: 15 | J35: × | K35: 3 | L35: × | M35: 12 | N35: = | O35: =G35*I35*K35*M35 -> 21600000
F36: ­ 클레식발레 | G36: 40000 | H36: × | I36: 7 | J36: × | K36: 1 | L36: × | M36: 12 | N36: = | O36: =G36*I36*K36*M36 -> 3360000
F37: ­ 줌바댄스 | G37: 40000 | H37: × | I37: 8 | J37: × | K37: 2 | L37: × | M37: 12 | N37: = | O37: =G37*I37*K37*M37 -> 7680000
... F45: ­ 휘트니스(성인) | G45: 30000 | H45: × | I45: 100 | J45: × | K45: 1 | L45: × | M45: 12 | N45: = | O45: =G45*I45*K45*M45 -> 36000000
F46: ㅇ놀토(놀라운토요일)학교 | O46: =SUM(O47:O56) -> 49080000
F47: ­ 청소년농구 | G47: 25000 | H47: × | I47: 15 | J47: × | K47: 3 | L47: × | M47: 12 | N47: = | O47: =G47*I47*K47*M47 -> 13500000
F48: ­ 음악줄넘기 | G48: 25000 | H48: × | I48: 10 | J48: × | K48: 2 | L48: × | M48: 12 | N48: = | O48: =G48*I48*K48*M48 -> 6000000
...

Sheet 예산세입(진로)
A1: 2018년 세입예산서(안)
A2: [일반회계] | R2: (단위:천원)
A3: 예산과목 | G3: 산출내역 | P3: 예산액 | Q3: 전년도 예산액 | R3: 증감 | S3: 증감률
A4: 장 | B4: 관 | C4: 항 | D4: 목 | E4: 세목 | F4: 세세목
A5: 고양시청소년진로센터 | P5: =P6 -> 325228000 | Q5: =Q6 -> 231000000 | R5: =+P5-Q5 -> 94228000 | S5: =+R5/Q5 -> 0.40791342
B6: 600 사업수익 | P6: =P7 -> 325228000 | Q6: =Q7 -> 231000000 | R6: =+P6-Q6 -> 94228000 | S6: =+R6/Q6 -> 0.40791342
C7: 620 영업외수익 | P7: =SUM(P8,P13) -> 325228000 | Q7: =SUM(Q13) -> 231000000 | R7: =+P7-Q7 -> 94228000 | S7: =+R7/Q7 -> 0.40791342
D8: 621 이자수익 | P8: =SUM(P9:P11) -> 240000 | Q8: 0 | R8: =+P8-Q8 -> 240000 | S8: 1
E9: 621-1 예금이자수익 | P9: =ROUNDUP(O10,-3) -> 240000 | Q9: 0 | R9: =+P9-Q9 -> 240000 | S9: 1
F10: ㅇ예금이자수익 | O10: =SUM(O11:O11) -> 240000
F11: ­ 예금이자 | G11: 240000 | H11: × | I11: 1 | N11: = | O11: =G11*I11 -> 240000
D12: 623 보조금수익 | P12: 0 | Q12: 0 | R12: 0 | S12: 0
