Workbook

Sheet 고양시청소년재단
A2: 2022년 하반기 수의계약 내역
L3: * 기준일 : 2022. 7. 1.~12. 31.
A4: 기관명 | B4: 계약구분 | C4: 사업명 | D4: 계약일자 | E4: 계약상대자 | G4: 계약금액(천원) | J4: 계약기간 | L4: 수의계약 사유
E5: 업체명 | F5: 대표자 | G5: 예정가격(A) | H5: 계약금액(B) | I5: 계약률%(B/A) | J5: 착수(계약)일 | K5: 준공(납품)일 | L5: (구체적)
A6: 사무국 | B6: 물품 | C6: 2022년 고양시청소년재단 사무국 블라인드 구매 계약 체결(안) | D6: 44809 | E6: 세화 블라인드 | F6: 류세형 | G6: 700 | H6: 700 | I6: =H6/G6 -> 1 | J6: 44809 | K6: 44811 | L6: 지계령 제25조 1항 5호 나목
A7: 사무국 | B7: 물품 | C7: 2022년 고양시청소년재단 웹 배너 구매 계약 | D7: 44860 | E7: 주식회사 중도일보사 서울본사 | F7: 김원식 | G7: 990 | H7: 990 | I7: =H7/G7 -> 1 | J7: 44866 | K7: 44926 | L7: 지계령 제25조 1항 5호 나목
A8: 사무국 | B8: 물품 | C8: 2022년 고양시청소년재단 홍보 판촉물(기념품) 구매 | D8: 44866 | E8: 한솔기프트 | F8: 박순옥 | G8: 4750 | H8: 4750 | I8: =H8/G8 -> 1 | J8: 44866 | K8: 44872 | L8: 지계령 제25조 1항 5호 나목
A9: 사무국 | B9: 용역 | C9: 고양시청소년재단 YMCA 유스센터 이용 용역 | D9: 44869 | E9: (재)서울YMCA고양국제청소년문화센터 | F9: 김인복 | G9: 4653 | H9: 4653 | I9: =H9/G9 -> 1 | J9: 44881 | K9: 44881 | L9: 지계령 제25조 1항 5호 나목
A10: 사무국 | B10: 대관 | C10: 2022년 특례시인프라구축사업'ESG경영 포럼' 장소대관(킨텍스) 계약 | D10: 44874 | E10: 주식회사 킨텍스 | F10: 이화영 | G10: 1452 | H10: 1452 | I10: =H10/G10 -> 1 | J10: 44876 | K10: 44876 | L10: 지계령 제25조 1항 5호 나목
A11: 사무국 | B11: 물품 | C11: 고양시청소년재단 신년 다이어리(2023년) 구매 계약 | D11: 44894 | E11: 주식회사 안테나샵 | F11: 박정연, 진애리 | G11: 1950 | H11: 1950 | I11: =H11/G11 -> 1 | J11: 44894 | K11: 44903 | L11: 지계령 제25조 1항 5호 나목
A12: 사무국 | B12: 용역 | C12: 2022년 회계연도 고양시청소년재단 결산회계감사 및 법인세무조정 계약 | D12: 44900 | E12: 회계법인 창천 | F12: 김현 | G12: 12600 | H12: 12600 | I12: =H12/G12 -> 1 | J12: 44900 | K12: 45016 | L12: 지계령 제25조 1항 5호 나목
A13: 사무국 | B13: 대관 | C13: 2022년 고양유스프리존 장소대관(킨텍스) 계약 | D13: 44901 | E13: 주식회사 킨텍스 | F13: 이화영 | G13: 1265 | H13: 1265 | I13: =H13/G13 -> 1 | J13: 44903 | K13: 44903 | L13: 지계령 제25조 1항 5호 나목
A14: 사무국 | B14: 임차 | C14: 2023년 고양시청소년재단 사무국 복합기 임차 계약 | D14: 44910 | E14: 엔제이솔루션 | F14: 김남중 | G14: 3600 | H14: 3600 | I14: =H14/G14 -> 1 | J14: 44927 | K14: 45291 | L14: 지계령 제25조 1항 5호 나목
A15: 사무국 | B15: 임차 | C15: 2023년 고양시청소년재단 사무국 공기청정기 임차 계약 | D15: 44910 | E15: 코웨이㈜ | F15: 이해선, 서장원 | G15: 1132 | H15: 1132 | I15: =H15/G15 -> 1 | J15: 44927 | K15: 45291 | L15: 지계령 제25조 1항 5호 나목
A16: 사무국 | B16: 임차 | C16: 2023년 고양시청소년재단 사무국 정수기 임차 계약 | D16: 44910 | E16: 코웨이㈜ | F16: 이해선, 서장원 | G16: 719 | H16: 719 | I16: =H16/G16 -> 1 | J16: 44927 | K16: 45291 | L16: 지계령 제25조 1항 5호 나목
A17: 사무국 | B17: 용역 | C17: 2023년 고양시청소년재단 세무·회계 자문 계약 | D17: 44911 | E17: 정일회계법인 | F17: 이명훈 | G17: 2400 | H17: 2400 | I17: =H17/G17 -> 1 | J17: 44927 | K17: 45291 | L17: 지계령 제25조 1항 5호 나목
... A19: 사무국 | B19: 용역 | C19: 2022년 고양시청소년재단 운영백서 제작 용역계약 | D19: 44914 | E19: 록컴 | F19: 이상록 | G19: 3000 | H19: 3000 | I19: =H19/G19 -> 1 | J19: 44914 | K19: 44925 | L19: 지계령 제25조 1항 5호 나목
A20: 사무국 | B20: 물품 | C20: 2022년 재단전략홍보사업 (오프라인)홍보물제작 계약 | D20: 44914 | E20: 록컴 | F20: 이상록 | G20: 3000 | H20: 3000 | I20: 1 | J20: 44914 | K20: 44925 | L20: 지계령 제25조 1항 5호 나목
A21: 사무국 | B21: 용역 | C21: 고양시청소년재단 2023년 무인경비시스템 유지관리 계약 | D21: 44916 | E21: 에스케이쉴더스㈜고양지점 | F21: 박진효 | G21: 20532 | H21: 20532 | I21: =H21/G21 -> 1 | J21: 44927 | K21: 45291 | L21: 지계령 제25조 1항 5호 나목
A22: 사무국 | B22: 용역 | C22: 2023 고양시청소년재단 통합홈페이지 유지보수 용역 계약 | D22: 44918 | E22: 오픈버스 주식회사 | F22: 강봉수 | G22: 2200 | H22: 2200 | I22: 1 | J22: 44927 | K22: 45291 | L22: 지계령 제25조 1항 5호 나목
A23: 사무국 | B23: 용역 | C23: 2023년 고양시청소년재단 사무국 청소 용역 계약 | D23: 44921 | E23: 365정기청소 | F23: 남상욱 | G23: 4800 | H23: 4800 | I23: =H23/G23 -> 1 | J23: 44927 | K23: 45291 | L23: 지계령 제25조 1항 5호 나목
A24: 사무국 | B24: 용역 | C24: 2023년 고양시청소년재단 법률자문 계약 | D24: 44921 | E24: 법률사무소 새벽 | F24: 양영훈 외 1명 | G24: 2400 | H24: 2400 | I24: =H24/G24 -> 1 | J24: 44921 | K24: 45291 | L24: 지계령 제25조 1항 5호 나목
A25: 사무국 | B25: 용역 | C25: 2023년 고양시청소년재단 인사노무자문 계약 | D25: 44922 | E25: 노무법인 다울 | F25: 임충수, 박선환 | G25: 2640 | H25: 2640 | I25: =H25/G25 -> 1 | J25: 44922 | K25: 45291 | L25: 지계령 제25조 1항 5호 나목
A26: 사무국 | B26: 용역 | C26: 고양시청소년재단 2023년 네트워크 및 보안장비 통합유지보수관리 계약 | D26: 44924 | E26: 해용정보통신주식회사 | F26: 백다리아 | G26: 45650 | H26: 45650 | I26: =H26/G26 -> 1 | J26: 44927 | K26: 45291 | L26: 지계령 제25조 1항 5호 마목(여성기업)
A27: 사무국 | B27: 용역 | C27: 2023년 고양시청소년재단 보건관리 위탁용역 계약 | D27: 44924 | E27: 사)대한산업안전협회경기북부 | F27: 백현기 | G27: 9222 | H27: 9222 | I27: 1 | J27: 44927 | K27: 45291 | L27: 지계령 제25조 1항 5호 나목
A28: 사무국 | B28: 용역 | C28: 2023년 고양시청소년재단 안전관리 위탁용역 계약 | D28: 44924 | E28: 사)대한산업안전협회경기북부 | F28: 정성대 | G28: 11484 | H28: 11484 | I28: 1 | J28: 44927 | K28: 45291 | L28: 지계령 제25조 1항 5호 나목

Sheet 토당청소년수련관
A2: 2022년 하반기 수의계약 내역
L3: =고양시청소년재단!L3 -> * 기준일 : 2022. 7. 1.~12. 31.
A4: 기관명 | B4: 계약구분 | C4: 사업명 | D4: 계약일자 | E4: 계약상대자 | G4: 계약금액(천원) | J4: 계약기간 | L4: 수의계약 사유
E5: 업체명 | F5: 대표자 | G5: 예정가격(A) | H5: 계약금액(B) | I5: 계약률%(B/A) | J5: 착수(계약)일 | K5: 준공(납품)일 | L5: (구체적)
A6: 토당 | B6: 용역 | C6: 제안창작소 워크숍 시설이용 계약 | D6: 44763 | E6: 서울YMCA고양국제청소년문화센터 | F6: 김인복 | G6: 4000 | H6: 4000 | I6: 1 | J6: 44764 | K6: 44765 | L6: 지계령 제25조 1항 5호 나목
A7: 토당 | B7: 물품 | C7: ]2022년 세계관 만들기 '고양 UNIVERSE' 물품대여 계약 | D7: 44769 | E7: 인스렌탈 | F7: 안한식 | G7: 1080 | H7: 900 | I7: =H7/G7 -> 0.83333333 | J7: 44774 | K7: 44774 | L7: 지계령 제25조 1항 5호 나목
A8: 토당 | B8: 용역 | C8: 2022년 회원관리시스템 유지보수 용역 계약 | D8: 44771 | E8: 마이웹앱 | F8: 남경우 | G8: 193 | H8: 193 | I8: =H8/G8 -> 1 | J8: 44774 | K8: 44926 | L8: 지계령 제25조 1항 5호 나목
A9: 토당 | B9: 용역 | C9: 2022 내가 그린 그림책 청소년 창작물 제조, 구매 계약 | D9: 44791 | E9: 한국강사평생교육원 | F9: 공유진 | G9: 3000 | H9: 3000 | I9: =H9/G9 -> 1 | J9: 44792 | K9: 44820 | L9: 지계령 제25조 1항 5호 나목
A10: 토당 | B10: 용역 | C10: 2022년 응원프로젝트 간식제공 | D10: 44804 | E10: 엔젤푸드팩토리 | F10: 김명연 | G10: 8485 | H10: 8485 | I10: =H10/G10 -> 1 | J10: 44805 | K10: 44823 | L10: 지계령 제25조 1항 5호 나목
A11: 토당 | B11: 용역 | C11: 토당청소년수련관 공연장 무대시설 정기검사 용역 계약 | D11: 44823 | E11: 대한산업안전협회 | F11: 박종선 | G11: 3190 | H11: 3000 | I11: =H11/G11 -> 0.94043887 | J11: 44824 | K11: 44854 | L11: 지계령 제25조 1항 5호 나목
A12: 토당 | B12: 물품 | C12: 토당청소년수련관 방과후아카데미 셀프리더십 노트북 물품계약 | D12: 44840 | E12: 굴지 | F12: 윤미경 | G12: 2200 | H12: 2200 | I12: =H12/G12 -> 1 | J12: 44851 | K12: 44907 | L12: 지계령 제25조 1항 5호 나목
A13: 토당 | B13: 용역 | C13: 2022년 지역간청소년교류 평화로 만난 우리 버스임차계약 | D13: 44841 | E13: 주식회사 미래관광 | F13: 김순희 | G13: 880 | H13: 775 | I13: =H13/G13 -> 0.88068182 | J13: 44841 | K13: 44857 | L13: 지계령 제25조 1항 5호 나목
A14: 토당 | B14: 용역 | C14: 2022년 다함께교실-진로메이커 VR영상디자이너 과정 운영 용역(2) | D14: 44853 | E14: ㈜하이스타터 | F14: 최승현 | G14: 7250 | H14: 7250 | I14: =H14/G14 -> 1 | J14: 44853 | K14: 44869 | L14: 지계령 제25조 1항 5호 나목
A15: 토당 | B15: 물품 | C15: 장애청소년문화예술함양프로그램 '프레임 속 프레임 홍보물 제작' | D15: 44861 | E15: 나무그래픽스 | F15: 김인숙 | G15: 3391 | H15: 3391 | I15: =H15/G15 -> 1 | J15: 44861 | K15: 44867 | L15: 지계령 제25조 1항 5호 나목
A16: 토당 | B16: 용역 | C16: 2022 응원프로젝트 수능 아웃리치 간식 용역계약 | D16: 44880 | E16: 엔젤푸드팩토리 | F16: 김명연 | G16: 605 | H16: 605 | I16: =H16/G16 -> 1 | J16: 44882 | K16: 44882 | L16: 지계령 제25조 1항 5호 나목
A17: 토당 | B17: 용역 | C17: 2023년 토당청소년수련관 문화체육강좌 회원관리시스템 용역 계약 계획 | D17: 44911 | E17: 마이웹앱 | F17: 남경우 | G17: 5280 | H17: 5280 | I17: =H17/G17 -> 1 | J17: 44927 | K17: 45291 | L17: 지계령 제25조 1항 5호 나목
A18: 토당 | B18: 용역 | C18: 2023년 토당청소년수련관 소방안전관리 용역계약 계획 | D18: 44923 | E18: 가온소방 | F18: 전성배 | G18: 2400 | H18: 2400 | I18: =H18/G18 -> 1 | J18: 44927 | K18: 45291 | L18: 지계령 제25조 1항 5호 나목
... A28: 토당 | B28: 용역 | C28: 2023년 토당청소년수련관 방과후아카데미 귀가차량 용역계약 계획 | D28: 44923 | E28: 미래관광 | F28: 김순희 | G28: 8040 | H28: 8040 | I28: =H28/G28 -> 1 | J28: 44928 | K28: 44917 | L28: 지계령 제25조 1항 5호 나목

Sheet 마두청소년수련관
A2: 2022년 하반기 수의계약 내역
L3: =고양시청소년재단!L3 -> * 기준일 : 2022. 7. 1.~12. 31.
A4: 기관명 | B4: 계약구분 | C4: 사업명 | D4: 계약일자 | E4: 계약상대자 | G4: 계약금액(천원) | J4: 계약기간 | L4: 수의계약 사유
E5: 업체명 | F5: 대표자 | G5: 예정가격(A) | H5: 계약금액(B) | I5: 계약률%(B/A) | J5: 착수(계약)일 | K5: 준공(납품)일 | L5: (구체적)
A6: 마두 | B6: 용역 | C6: 2022년 회원관리시스템 유지보수 용역 | D6: 44771 | E6: 마이웹앱 | F6: 남경우 | G6: 2670 | H6: 2670 | I6: =H6/G6 -> 1 | J6: 44774 | K6: 44926 | L6: 지계령 제25조 1항 5호 나목
A7: 마두 | B7: 물품 | C7: 2022년 마두청소년수련관 공공청소년수련시설활성화 물품 구입 계약 | D7: 44776 | E7: ㈜소노웍스 | F7: 신순호 | G7: 15830 | H7: 15830 | I7: =H7/G7 -> 1 | J7: 44779 | K7: 44834 | L7: 지계령 제25조 1항 5호 나목
A8: 마두 | B8: 물품 | C8: 고양형 혁신교육 다함께교실 미래신직업체험 | D8: 44790 | E8: 에스엔소프트 | F8: 이광재 | G8: 4840 | H8: 4840 | I8: =H8/G8 -> 1 | J8: 44790 | K8: 44907 | L8: 지계령 제25조 1항 5호 나목
A9: 마두 | B9: 용역 | C9: 고양시청소년어울림마당 | D9: 44807 | E9: 넛지코리아 | F9: 홍사권 | G9: 1700 | H9: 1700 | I9: =H9/G9 -> 1 | J9: 44807 | K9: 44807 | L9: 지계령 제25조 1항 5호 나목
A10: 마두 | B10: 용역 | C10: 청소년운영위원회 my그린볕 교류활동 | D10: 44854 | E10: 합자회사 베스트투어 | F10: 이승묵 | G10: 500 | H10: 500 | I10: =H10/G10 -> 1 | J10: 44856 | K10: 44856 | L10: 지계령 제25조 1항 5호 나목
A11: 마두 | B11: 용역 | C11: 고양시청소년어울림마당 | D11: 44856 | E11: 넛지코리아 | F11: 홍사권 | G11: 2486 | H11: 2486 | I11: =H11/G11 -> 1 | J11: 44856 | K11: 44856 | L11: 지계령 제25조 1항 5호 나목
A12: 마두 | B12: 용역 | C12: 고양형 혁신교육 다함께교실 미래신직업체험 | D12: 44867 | E12: 와이즈인컴퍼니 | F12: 김원표 | G12: 3500 | H12: 3500 | I12: =H12/G12 -> 1 | J12: 44867 | K12: 44911 | L12: 지계령 제25조 1항 5호 나목
A13: 마두 | B13: 용역 | C13: 청소년환경숙의토론회 | D13: 44874 | E13: 주식회사 씨에스뮤직 | F13: 김기훈 | G13: 2000 | H13: 2000 | I13: =H13/G13 -> 1 | J13: 44877 | K13: 44877 | L13: 지계령 제25조 1항 5호 나목
A14: 마두 | B14: 용역 | C14: 2022년 마두청소년수련관 흡수식냉동기 정비용역 | D14: 44880 | E14: 청호냉동서비스 | F14: 송관헌 | G14: 3300 | H14: 3300 | I14: =H14/G14 -> 1 | J14: 44880 | K14: 44881 | L14: 지계령 제25조 1항 5호 나목
A15: 마두 | B15: 용역 | C15: 2022년 마두청소년수련관 하반기 저수조 청소용역 | D15: 44881 | E15: ㈜탑크린 | F15: 강재문 | G15: 600 | H15: 600 | I15: =H15/G15 -> 1 | J15: 44881 | K15: 44883 | L15: 지계령 제25조 1항 5호 나목
A16: 마두 | B16: 용역 | C16: 2022년 마두청소년수련관 지하2층 천정마감재 교체 용역 | D16: 44888 | E16: 누리디자인 | F16: 조광익 | G16: 2949 | H16: 2949 | I16: =H16/G16 -> 1 | J16: 44889 | K16: 44890 | L16: 지계령 제25조 1항 5호 나목
A17: 마두 | B17: 용역 | C17: 2022년 마두청소년수련관 실내암벽장 안전점검용역 | D17: 44897 | E17: 클라임코리아 주식회사 | F17: 홍주표 | G17: 2860 | H17: 2860 | I17: =H17/G17 -> 1 | J17: 44897 | K17: 44904 | L17: 지계령 제25조 1항 5호 나목
... A28: 마두 | B28: 용역 | C28: 2023년 마두청소년수련관 공기청정기, 화장실 비데, 정수기 임차 | D28: 44925 | E28: 코웨이㈜ | F28: 서장원, 이해선 | G28: 5666 | H28: 5666 | I28: =H28/G28 -> 1 | J28: 44927 | K28: 45291 | L28: 지계령 제25조 1항 5호 나목

Sheet 일산서구청소년수련관
A2: 2022년 하반기 수의계약 내역
L3: =고양시청소년재단!L3 -> * 기준일 : 2022. 7. 1.~12. 31.
A4: 기관명 | B4: 계약구분 | C4: 사업명 | D4: 계약일자 | E4: 계약상대자 | G4: 계약금액(천원) | J4: 계약기간 | L4: 수의계약 사유
E5: 업체명 | F5: 대표자 | G5: 예정가격(A) | H5: 계약금액(B) | I5: 계약률%(B/A) | J5: 착수(계약)일 | K5: 준공(납품)일 | L5: (구체적)
A6: 일산서구 | B6: 임차 | C6: 2022년 수련관탐방 포토부스 임차비 지출 | D6: 44747 | E6: 샐리스 포토이벤트 | F6: 김정아 | G6: 1800000 | H6: 1800000 | I6: 1 | J6: 44748 | K6: 44748 | L6: 지계령 제25조 1항 5목 나
A7: 일산서구 | B7: 용역 | C7: 2022년 비대면 국제교류 용역비 지출 | D7: 44782 | E7: (사)더나은세상 | F7: 염진수 | G7: 4440000 | H7: 4440000 | I7: 1 | J7: 44786 | K7: 44807 | L7: 지계령 제25조 1항 5목 나
A8: 일산서구 | B8: 용역 | C8: 2022년 일산서구청소년수련관 링커 지역잡지 용역 계약 변경 완료 | D8: 44784 | E8: 오후서재 | F8: 허지수 | G8: 1400000 | H8: 1400000 | I8: 1 | J8: 44784 | K8: 44859 | L8: 지계령 제25조 1항 5목 나
A9: 일산서구 | B9: 용역 | C9: 2022년 GLOcollege 활동 영상 제작 임차(용역)비 지출 | D9: 44798 | E9: 어썸 | F9: 이강철 | G9: 1650000 | H9: 1650000 | I9: 1 | J9: 44804 | K9: 44847 | L9: 지계령 제25조 1항 5목 나
A10: 일산서구 | B10: 용역 | C10: 2022년 청소년극단 음향 및 무대 임차비 지출 | D10: 44820 | E10: 진컴퍼니 | F10: 박호진 | G10: 2640000 | H10: 2640000 | I10: 1 | J10: 44827 | K10: 44827 | L10: 지계령 제25조 1항 5목 나
A11: 일산서구 | B11: 용역 | C11: 2022년 일산서구청소년수련관 청소년방과후아카데미 캠프 차량 임차 용역 계약 | D11: 44823 | E11: (주)뉴명성관광 | F11: 조은영 서동진 | G11: 2420000 | H11: 2420000 | I11: 1 | J11: 44825 | K11: 44827 | L11: 지계령 제25조 1항 5목 나
A12: 일산서구 | B12: 용역 | C12: 2022년 일산서구청소년수련관 청소년방과후아카데미 캠프 운영 용역 계약 | D12: 44825 | E12: 국립청소년미래환경센터 | F12: 이현수 | G12: 1766190 | H12: 1593090 | I12: 0.902 | J12: 44825 | K12: 44827 | L12: 지계령 제25조 1항 5목 나
A13: 일산서구 | B13: 용역 | C13: 2022년 우리가 만드는 연합활동 체험활동 용역비 지출 | D13: 44834 | E13: (사)숲과아동청소년교육 | F13: 김명균 | G13: 800000 | H13: 800000 | I13: 1 | J13: 44870 | K13: 44870 | L13: 지계령 제25조 1항 5목 나
A14: 일산서구 | B14: 물품 | C14: 2022년 일산서구청소년수련관 데스크톱컴퓨터 구입 | D14: 44865 | E14: 주식회사 새윤 | F14: 최나리 | G14: 2557730 | H14: 2557730 | I14: 1 | J14: 44865 | K14: 44874 | L14: 지계령 제25조 1항 5목 나
A15: 일산서구 | B15: 용역 | C15: 2022년 학령전환기콘텐츠 2차 직업체험 체험비 지출 | D15: 44883 | E15: (사)숲과아동청소년교육 | F15: 김명균 | G15: 3471000 | H15: 3471000 | I15: 1 | J15: 44889 | K15: 44889 | L15: 지계령 제25조 1항 5목 나
A16: 일산서구 | B16: 용역 | C16: 2022년 하반기 일산서구청소년수련관 저수조 청소용역비 지출 | D16: 44891 | E16: ㈜탑크린 | F16: 강재문 | G16: 500000 | H16: 500000 | I16: 1 | J16: 44891 | K16: 44891 | L16: 지계령 제25조 1항 5목 나
A17: 일산서구 | B17: 용역 | C17: 2022년 일산서구청소년수련관 자동제어시스템 교체용역 계약완료 및 지출 | D17: 44907 | E17: ㈜나라컨트롤 | F17: 문찬혁 | G17: 9515000 | H17: 9515000 | I17: 1 | J17: 44907 | K17: 44910 | L17: 지계령 제25조 1항 5목 나
... A32: 일산서구 | B32: 용역 | C32: 2023년 일산서구청소년수련관 공기청정기임차 계약 진행 | D32: 44926 | E32: 코웨이㈜ | F32: 이해선 외 1 | G32: 6319200 | H32: 6319200 | I32: 1 | J32: 44927 | K32: 45291 | L32: 지계령 제25조 1항 5목 나

Sheet 성사청소년문화의집
A2: 2022년 하반기 수의계약 내역
L3: =고양시청소년재단!L3 -> * 기준일 : 2022. 7. 1.~12. 31.
A4: 기관명 | B4: 계약구분 | C4: 사업명 | D4: 계약일자 | E4: 계약상대자 | G4: 계약금액(천원) | J4: 계약기간 | L4: 수의계약 사유
E5: 업체명 | F5: 대표자 | G5: 예정가격(A) | H5: 계약금액(B) | I5: 계약률%(B/A) | J5: 착수(계약)일 | K5: 준공(납품)일 | L5: (구체적)
A6: 성사 | B6: 용역 | C6: 2022년 고양시 청소년 e스포츠 대회 ‘제3회 SS리그’ 계약 | D6: 44840 | E6: 주식회사 배틀리카 | F6: 이개성 | G6: 4994 | H6: 4994 | I6: 1 | J6: 44840 | K6: 44843 | L6: 지계령 제25조 1항 5목 나
A7: 성사 | B7: 임차 | C7: 2022년 고양시 청소년동아리 활동지원사업 연합발표회 무대임차 계약 | D7: 44855 | E7: 넛지코리아 | F7: 홍사권 | G7: 3000 | H7: 3000 | I7: 1 | J7: 44856 | K7: 44856 | L7: 지계령 제25조 1항 5목 나
A8: 성사 | B8: 용역 | C8: 2022년 성사청소년문화의집 방과후아카데미 졸업앨범 촬영 및 제작 용역 계약 | D8: 44869 | E8: 행복한앨범제작소협동조합 | F8: 허동훈 | G8: 4244 | H8: 4244 | I8: 1 | J8: 44869 | K8: 44909 | L8: 지계령 제25조 1항 5목 나
A9: 성사 | B9: 임차 | C9: 2022년 성사청소년문화의집 송년행사 무대 장비 임차 계약 | D9: 44911 | E9: 주식회사 렌탈베스트기획 | F9: 유지민 | G9: 1300 | H9: 1300 | I9: 1 | J9: 44911 | K9: 44912 | L9: 지계령 제25조 1항 5목 나
A10: 성사 | B10: 용역 | C10: 2022년 성사청소년문화의집 방과후아카데미 송년행사 포토 트러스 용역 계약 | D10: 44911 | E10: ㈜렌탈베스트기획 | F10: 유지민 | G10: 900 | H10: 900 | I10: 1 | J10: 44911 | K10: 44912 | L10: 지계령 제25조 1항 5목 나
A11: 성사 | B11: 용역 | C11: 2023년 성사청소년문화의집 공기청정기 임차 및 유지보수 계약 | D11: 44918 | E11: 코웨이㈜ | F11: 이해선, 서장원 | G11: 417 | H11: 417 | I11: 1 | J11: 44927 | K11: 44927 | L11: 지계령 제25조 1항 5목 나
A12: 성사 | B12: 용역 | C12: 2023년 성사청소년문화의집 냉온정수기 임차 및 유지보수 계약 | D12: 44918 | E12: 코웨이㈜ | F12: 이해선, 서장원 | G12: 504 | H12: 504 | I12: 1 | J12: 44927 | K12: 44927 | L12: 지계령 제25조 1항 5목 나
A13: 성사 | B13: 용역 | C13: 2023년 성사청소년문화의집 복합기 임차 및 유지보수 계약 | D13: 44918 | E13: 엔제이솔루션 | F13: 김남중 | G13: 1980 | H13: 1980 | I13: 1 | J13: 44927 | K13: 44927 | L13: 지계령 제25조 1항 5목 나
A14: 성사 | B14: 용역 | C14: 2023년 성사청소년문화의집 방과후아카데미 급식 계약 | D14: 2022-12.30 | E14: 맛드림 | F14: 박종일 | G14: 44600 | H14: 44600 | I14: 1 | J14: 44935 | K14: 45289 | L14: 지방계약법 시행령 제26조(재입찰 유찰에 따른 수의계약)

Sheet 탄현청소년문화의집
A2: 2022년 하반기 수의계약 내역
L3: =고양시청소년재단!L3 -> * 기준일 : 2022. 7. 1.~12. 31.
A4: 기관명 | B4: 계약구분 | C4: 사업명 | D4: 계약일자 | E4: 계약상대자 | G4: 계약금액(천원) | J4: 계약기간 | L4: 수의계약 사유
E5: 업체명 | F5: 대표자 | G5: 예정가격(A) | H5: 계약금액(B) | I5: 계약률%(B/A) | J5: 착수(계약)일 | K5: 준공(납품)일 | L5: (구체적)
A6: 탄현 | B6: 물품 | C6: 2022년 청소년스포츠활동 장비 대여 계약 | D6: 44751 | E6: 아이비컴퍼니 | F6: 이재원 | G6: 2450 | H6: 2450 | I6: =H6/G6 -> 1 | J6: 44751 | K6: 44752 | L6: 지계령 제25조 1항 5목 나
A7: 탄현 | B7: 용역 | C7: 2022 탄현청소년문화의집 정보통신회선 증설 용역 계약 | D7: 44800 | E7: 지성하이텍 | F7: 박용일 | G7: 1700 | H7: 1700 | I7: =H7/G7 -> 1 | J7: 44803 | K7: 44803 | L7: 지계령 제25조 1항 5목 나
A8: 탄현 | B8: 물품 | C8: 2022 고양형 혁신교육 다함께교실 '청소년문화이음-일산중학교' 목공 교육재료 구매 | D8: 44820 | E8: 산천초목팜 | F8: 박순진 | G8: 2560 | H8: 2560 | I8: =H8/G8 -> 1 | J8: 44827 | K8: 44855 | L8: 지계령 제25조 1항 5목 나
A9: 탄현 | B9: 물품 | C9: 2022 고양형 혁신교육 다함께교실 '청소년문화이음-일산중학교' 요리 교육재료 구매 | D9: 44847 | E9: 스튜디오가지 | F9: 우희선 | G9: 1280 | H9: 1280 | I9: =H9/G9 -> 1 | J9: 44848 | K9: 44876 | L9: 지계령 제25조 1항 5목 나
A10: 탄현 | B10: 물품 | C10: 2022년 공공청소년수련시설활성화사업 물품 구매 계약 | D10: 44854 | E10: 포비디지털 | F10: 이승일 | G10: 13351 | H10: 13351 | I10: =H10/G10 -> 1 | J10: 44854 | K10: 44894 | L10: 지계령 제25조 1항 5목 나
A11: 탄현 | B11: 용역 | C11: 2022년 다큐제작지원 영상촬영 및 편집 계약 체결 | D11: 44876 | E11: 소사 | F11: 방성욱 | G11: 2000 | H11: 2000 | I11: =H11/G11 -> 1 | J11: 44876 | K11: 44887 | L11: 지계령 제25조 1항 5목 나
A12: 탄현 | B12: 물품 | C12: 2022 청소년문화이음 청소년예술제 장비대여 | D12: 44916 | E12: ㈜아이비컴퍼니앤트래블 | F12: 김대석 | G12: 13000 | H12: 13000 | I12: =H12/G12 -> 1 | J12: 44916 | K12: 44922 | L12: 지계령 제25조 1항 5목 나
A13: 탄현 | B13: 물품 | C13: 2022 고양형 혁신교육 다함께교실 '청소년마을이음-중등' 보드게임 제작 | D13: 45255 | E13: 크레몽 | F13: 오은강 | G13: 4020 | H13: 4020 | I13: =H13/G13 -> 1 | J13: 45255 | K13: 45269 | L13: 지계령 제25조 1항 5목 나
A14: 탄현 | B14: 공사 | C14: 2022 탄현청소년문화의집 조명전기 설치 공사 | D14: 45274 | E14: 가담 | F14: 전은선 | G14: 4000 | H14: 4000 | I14: =H14/G14 -> 1 | J14: 45276 | K14: 45276 | L14: 지계령 제25조 1항 5목 나

Sheet 고양시청소년상담복지센터
A2: 2022년 하반기 수의계약 내역
L3: =고양시청소년재단!L3 -> * 기준일 : 2022. 7. 1.~12. 31.
A4: 기관명 | B4: 계약구분 | C4: 사업명 | D4: 계약일자 | E4: 계약상대자 | G4: 계약금액(천원) | J4: 계약기간 | L4: 수의계약 사유
E5: 업체명 | F5: 대표자 | G5: 예정가격(A) | H5: 계약금액(B) | I5: 계약률%(B/A) | J5: 착수(계약)일 | K5: 준공(납품)일 | L5: (구체적)
A6: 상담 | B6: 물품 | C6: 활동거점사업 드론 교육 드론 대여 | D6: 44749 | E6: 주식회사 화립 | F6: 류수영 | G6: 1416 | H6: 1416 | I6: 100 | J6: 44750 | K6: 44800 | L6: 지계령 제25조 1항 5호 나목
A7: 상담 | B7: 용역 | C7: 2022년 경기도문화활동 당구동아리 용역 | D7: 44792 | E7: 옵티머스 캐롬카페 | F7: 이상민 | G7: 240 | H7: 240 | I7: 100 | J7: 44796 | K7: 44883 | L7: 지계령 제25조 1항 5호 나목
A8: 상담 | B8: 용역 | C8: 2022년 고양시 청소년 노동인권친화사업장 지원물품 구매계약 | D8: 44798 | E8: 주식회사 늘푸른문화나무 | F8: 김경숙 | G8: 3000 | H8: 3000 | I8: 100 | J8: 44798 | K8: 44802 | L8: 지계령 제25조 1항 5호 나목
A9: 상담 | B9: 용역 | C9: 2022년 경기도문화활동 요리동아리 용역 | D9: 44819 | E9: 마두제일요리학원 | F9: 김인순 | G9: 256 | H9: 256 | I9: 100 | J9: 44820 | K9: 44883 | L9: 지계령 제25조 1항 5호 나목
A10: 상담 | B10: 공사 | C10: 2022년 고양시학교밖청소년 전용공간 조성 가설칸막이 설치공사 | D10: 44833 | E10: 주식회사 림스디자인 | F10: 임동우 | G10: 2420 | H10: 2420 | I10: 100 | J10: 44858 | K10: 44858 | L10: 지계령 제25조 1항 5호 나목
A11: 상담 | B11: 용역 | C11: 경기도문화활동 명랑운동회 용역 | D11: 44851 | E11: 크로스컴퍼니 | F11: 김요한 | G11: 1700 | H11: 1700 | I11: 100 | J11: 44848 | K11: 44848 | L11: 지계령 제25조 1항 5호 나목
A12: 상담 | B12: 공사 | C12: 2022년 고양시학교밖청소년전용공간 조성 전기공사 | D12: 44853 | E12: 대부하우징㈜ | F12: 황기전 | G12: 12100 | H12: 12100 | I12: 100 | J12: 44853 | K12: 44863 | L12: 지계령 제25조 1항 5호 나목
A13: 상담 | B13: 공사 | C13: 2022년 고양시학교밖청소년 전용공간 조성 상담부스 가구설치 공사 | D13: 44853 | E13: 가호디자인 | F13: 김성식 | G13: 7150 | H13: 7150 | I13: 100 | J13: 44855 | K13: 44858 | L13: 지계령 제25조 1항 5호 나목
A14: 상담 | B14: 용역 | C14: 경기도문화활동 잡월드 버스대절 용역 | D14: 44859 | E14: 어울림관광협동조합 | F14: 김원식 | G14: 550 | H14: 550 | I14: 100 | J14: 44876 | K14: 44876 | L14: 지계령 제25조 1항 5호 나목
A15: 상담 | B15: 용역 | C15: 2022년 고양시 청소년 노동인권친화사업장 지원물품 2차 구매계약 | D15: 44861 | E15: 주식회사 늘푸른문화나무 | F15: 김경숙 | G15: 3000 | H15: 3000 | I15: 100 | J15: 44861 | K15: 44865 | L15: 지계령 제25조 1항 5호 나목
A16: 상담 | B16: 용역 | C16: 2022년 고양시학교밖청소년전용공간 조성 에어컨 설치 용역 | D16: 44866 | E16: 공조기산업㈜ | F16: 양무현 | G16: 15500 | H16: 15500 | I16: 100 | J16: 44868 | K16: 44873 | L16: 지계령 제25조 1항 5호 나목
A17: 상담 | B17: 용역 | C17: 2022년 위기(가능)청소년 문화감수성 향상프로그램(에버랜드) 버스대절 용역 | D17: 44873 | E17: 어울림관광협동조합 | F17: 김원식 | G17: 605 | H17: 605 | I17: 100 | J17: 44877 | K17: 44877 | L17: 지계령 제25조 1항 5호 나목
A18: 상담 | B18: 물품 | C18: 2022년 고양시학교밖청소년전용공간 조성 프로그램실 물품구매 | D18: 44875 | E18: 퍼시스글로리 | F18: 조영광 | G18: 7000 | H18: 7000 | I18: 100 | J18: 022-11-11 | K18: 44881 | L18: 지계령 제25조 1항 5호 나목
A19: 상담 | B19: 용역 | C19: 2022년 고양시청소년상담복지센터 연합 아웃리치(2차) 부스 및 물품 임차 계약(본예산) | D19: 44880 | E19: 주식회사 예일기획 | F19: 유정연 | G19: 1000 | H19: 1000 | I19: 100 | J19: 44882 | K19: 44882 | L19: 지계령 제25조 1항 5호 나목
A20: 상담 | B20: 용역 | C20: 2022년 고양시청소년상담복지센터 연합 아웃리치(2차) 부스 및 물품 임차 계약(보조금) | D20: 44880 | E20: 주식회사 예일기획 | F20: 유정연 | G20: 1000 | H20: 1000 | I20: 100 | J20: 44882 | K20: 44882 | L20: 지계령 제25조 1항 5호 나목
A21: 상담 | B21: 용역 | C21: 2022년 청소년 노동인권 보호지원 아웃리치 간식차 용역 | D21: 44880 | E21: 엔젤푸드팩토리 | F21: 김명연 | G21: 605 | H21: 605 | I21: 100 | J21: 44882 | K21: 44882 | L21: 지계령 제25조 1항 5호 나목
A22: 상담 | B22: 용역 | C22: 2022년 청소년 노동인권 보드게임 개발 연구용역 | D22: 44890 | E22: 대전대학교 산학협력단 | F22: 이영환 | G22: 10000 | H22: 10000 | I22: 100 | J22: 44890 | K22: 44915 | L22: 지계령 제25조 1항 5호 나목
A23: 상담 | B23: 공사 | C23: 2022년 고양시학교밖청소년전용공간 조성 정보통신회선공사 | D23: 44902 | E23: 주식회사 지성하이텍 | F23: 송혜선 | G23: 1537 | H23: 1537 | I23: 100 | J23: 44915 | K23: 44915 | L23: 지계령 제25조 1항 5호 나목
A24: 상담 | B24: 용역 | C24: 2023년 고양시청소년상담복지센터 복합기 임차계약 | D24: 44924 | E24: 엔제이솔루션 | F24: 김남중 | G24: 3600 | H24: 3600 | I24: 100 | J24: 44927 | K24: 45291 | L24: 지계령 제25조 1항 5호 나목
A25: 상담 | B25: 용역 | C25: 2023년 고양시청소년상담복지센터 정수기 임차 계약 | D25: 44924 | E25: 코웨이㈜ | F25: 이해선, 서장원 | G25: 650 | H25: 650 | I25: 100 | J25: 44927 | K25: 45291 | L25: 지계령 제25조 1항 5호 나목

Sheet 고양시청소년진로센터
A2: 2022년 하반기 수의계약 내역
L3: =고양시청소년재단!L3 -> * 기준일 : 2022. 7. 1.~12. 31.
A4: 기관명 | B4: 계약구분 | C4: 사업명 | D4: 계약일자 | E4: 계약상대자 | G4: 계약금액(천원) | J4: 계약기간 | L4: 수의계약 사유
E5: 업체명 | F5: 대표자 | G5: 예정가격(A) | H5: 계약금액(B) | I5: 계약률%(B/A) | J5: 착수(계약)일 | K5: 준공(납품)일 | L5: (구체적)
A6: 진로 | B6: 용역 | C6: 2022 고등학생진학지원 사업 사전접수 시스템 운영 용역 | D6: 44743 | E6: 주식회사 스마틱스 | F6: 김인석 | G6: 3300000 | H6: 3300000 | I6: =H6/G6 -> 1 | J6: 44743 | K6: 44758 | L6: 지계령 제25조 1항 5호 나목
A7: 진로 | B7: 용역 | C7: 2022 고등학생진학지원 사업 시설대관 용역 계약 | D7: 44747 | E7: 주식회사킨텍스 | F7: 이화영 | G7: 20868551 | H7: 20868551 | I7: =H7/G7 -> 1 | J7: 44757 | K7: 44758 | L7: 지계령 제25조 1항 5호 나목
A8: 진로 | B8: 용역 | C8: 2022 고등학생진학지원 사업 부스 및 행사장 설치 용역 | D8: 44748 | E8: 주식회사 가온건업 | F8: 안정수 | G8: 22000000 | H8: 22000000 | I8: =H8/G8 -> 1 | J8: 44757 | K8: 44758 | L8: 지계령 제25조 1항 5호 나목
A9: 진로 | B9: 용역 | C9: 2022 고등학생진학지원 사업 대기 시스템 제공 용역 계약 | D9: 44749 | E9: 남양부직포(주)앤듀소프트사업부 | F9: 채수민 | G9: 2700000 | H9: 2700000 | I9: =H9/G9 -> 1 | J9: 44754 | K9: 44758 | L9: 지계령 제25조 1항 5호 나목
A10: 진로 | B10: 용역 | C10: 2022 고등학생진학지원 사업 사전홍보물 설치 용역 | D10: 44755 | E10: 비엠텍 | F10: 이기현 | G10: 5000000 | H10: 5000000 | I10: =H10/G10 -> 1 | J10: 44755 | K10: 44758 | L10: 지계령 제25조 1항 5호 나목
A11: 진로 | B11: 용역 | C11: 2022 고등학생진학지원 사업 내부홍보물 제작 용역 | D11: 44755 | E11: (주)비엠텍디피에스 | F11: 이기현 | G11: 8500000 | H11: 8500000 | I11: =H11/G11 -> 1 | J11: 44755 | K11: 44758 | L11: 지계령 제25조 1항 5호 나목
A12: 진로 | B12: 용역 | C12: 2022 고등학생진학지원 사업 강연장 설치 용역 | D12: 44755 | E12: 주식회사 해울디자인 | F12: 김종표 | G12: 12000000 | H12: 12000000 | I12: =H12/G12 -> 1 | J12: 44755 | K12: 44758 | L12: 지계령 제25조 1항 5호 나목
A13: 진로 | B13: 용역 | C13: 2022 고양미래직업교육박람회 특성화고 홍보영상 제작 용역 | D13: 44841 | E13: ㈜아트콘 | F13: 유경동 | G13: 14250000 | H13: 14250000 | I13: =H13/G13 -> 1 | J13: 44841 | K13: 44865 | L13: 지계령 제25조 1항 5호 나목
A14: 진로 | B14: 물품 | C14: 2022 고양미래직업교육박람회 특성화고 물품구매 및 배송계약 완료 | D14: 44845 | E14: 주식회사 꿈앤진로 | F14: 김혜자 | G14: 34523310 | H14: 34523310 | I14: =H14/G14 -> 1 | J14: 44847 | K14: 44865 | L14: 지계령 제25조 1항 5호 마목(여성기업)
A15: 진로 | B15: 용역 | C15: 후기청소년지원사업 이루어DREAM 영상제작 | D15: 44861 | E15: The Sun | F15: 김선 | G15: 2500000 | H15: 2500000 | I15: =H15/G15 -> 1 | J15: 44861 | K15: 44882 | L15: 지계령 제25조 1항 5호 나목
A16: 진로 | B16: 용역 | C16: 후기청소년지원사업 이루어DREAM 전시운영 | D16: 44867 | E16: 이미지세탁소 | F16: 이상수 | G16: 15000000 | H16: 15000000 | I16: =H16/G16 -> 1 | J16: 44882 | K16: 44884 | L16: 지계령 제25조 1항 5호 나목
A17: 진로 | B17: 물품 | C17: 2022 고양 진로교육컨퍼런스 기념품 제작 계약 체결 | D17: 44903 | E17: 광고기획 도우디자인 | F17: 조은혜 | G17: 4000000 | H17: 4000000 | I17: =H17/G17 -> 1 | J17: 44903 | K17: 44903 | L17: 지계령 제25조 1항 5호 나목
... A20: 진로 | B20: 용역 | C20: 2023년 고양시청소년진로센터 공기청정기 임차 계약 체결 완료 | D20: 44924 | E20: 코웨이 | F20: 이해선 | G20: 454800 | H20: 454800 | I20: =H20/G20 -> 1 | J20: 44927 | K20: 44927 | L20: 지계령 제25조 1항 5호 나목

Sheet 주교청소년자유공간
A2: 2022년 하반기 수의계약 내역
L3: =고양시청소년재단!L3 -> * 기준일 : 2022. 7. 1.~12. 31.
A4: 기관명 | B4: 계약구분 | C4: 사업명 | D4: 계약일자 | E4: 계약상대자 | G4: 계약금액(천원) | J4: 계약기간 | L4: 수의계약 사유
E5: 업체명 | F5: 대표자 | G5: 예정가격(A) | H5: 계약금액(B) | I5: 계약률%(B/A) | J5: 착수(계약)일 | K5: 준공(납품)일 | L5: (구체적)
A6: 주교 | B6: 용역 | C6: 2022년 주교청소년자유공간 복합기 임차 용역 | D6: 44915 | E6: 대기OA | F6: 이명우 | G6: 960 | H6: 960 | I6: =H6/G6 -> 1 | J6: 44927 | K6: 45291 | L6: 지계령 제25조 1항 5목 나
A7: 주교 | B7: 용역 | C7: 2022년 주교청소년자유공간 냉온정수기 임차 용역 | D7: 44915 | E7: 코웨이 | F7: 이해선 | G7: 359 | H7: 359 | I7: =H7/G7 -> 1 | J7: 44927 | K7: 45291 | L7: 지계령 제25조 1항 5목 나

Sheet 행신청소년자유공간
A2: 2022년 하반기 수의계약 내역
L3: =고양시청소년재단!L3 -> * 기준일 : 2022. 7. 1.~12. 31.
A4: 기관명 | B4: 계약구분 | C4: 사업명 | D4: 계약일자 | E4: 계약상대자 | G4: 계약금액(천원) | J4: 계약기간 | L4: 수의계약 사유
E5: 업체명 | F5: 대표자 | G5: 예정가격(A) | H5: 계약금액(B) | I5: 계약률%(B/A) | J5: 착수(계약)일 | K5: 준공(납품)일 | L5: (구체적)
A6: 행신 | B6: 용역 | C6: 2023년 행신청소년자유공간 공기청정기 임차 및 유지관리 계약 계획 | D6: 44923 | E6: 코웨이㈜ | F6: 이해선 | G6: 841 | H6: 841 | I6: =H6/G6 -> 1 | J6: 44927 | K6: 45291 | L6: 지계령 제25조 1항 5목 나
A7: 행신 | B7: 용역 | C7: 2023년 행신청소년자유공간 정수기 임차 및 유지관리 계약 계획( | D7: 44923 | E7: 코웨이㈜ | F7: 이해선 | G7: 603 | H7: 603 | I7: =H7/G7 -> 1 | J7: 44927 | K7: 45291 | L7: 지계령 제25조 1항 5목 나
A8: 행신 | B8: 용역 | C8: 2023년 행신청소년자유공간 복합기 임차·유지보수 계약 계획 | D8: 44923 | E8: 동주하이텍 | F8: 이동규 | G8: 660 | H8: 660 | I8: =H8/G8 -> 1 | J8: 44927 | K8: 45291 | L8: 지계령 제25조 1항 5목 나
A9: 행신 | B9: 용역 | C9: 2023년 행신청소년자유공간 무인경비시스템 실치 및 관리 계약 | D9: 44923 | E9: 에스케이쉴더스 | F9: 박진효 | G9: 1920 | H9: 1920 | I9: =H9/G9 -> 1 | J9: 44927 | K9: 45291 | L9: 지계령 제25조 1항 5목 나
A10: 행신 | B10: 용역 | C10: 2023년 행신청소년자유공간 건물정기소독 용역계약 계획 | D10: 44923 | E10: 원스탑그린뱅크 | F10: 김민지 | G10: 1200 | H10: 1200 | I10: =H10/G10 -> 1 | J10: 44927 | K10: 45291 | L10: 지계령 제25조 1항 5목 나
