Workbook
Name 은행코드: '[1]추산계좌(2분기)'!#REF!
Name 은행코드: '[1]추산계좌(2분기)'!#REF!
Name 은행코드: '[1]추산계좌(2분기)'!#REF!
Name 은행코드: '[1]추산계좌(2분기)'!#REF!
Name 은행코드: '[1]추산계좌(2분기)'!#REF!
Name 은행코드: '[1]추산계좌(2분기)'!#REF!
Name 은행코드: '[1]추산계좌(2분기)'!#REF!
Name 은행코드: '[1]추산계좌(2분기)'!#REF!

Sheet 표지
E14: 2019년도 2차 추경
E18: 세입·세출예산서(안)
B91: 2019년도 2차 추경 세입·세출예산서(안)

Sheet 목차
B1: 목 차
A3: 1 | B3: 예산총칙 | D3: 1
A5: 2 | B5: 2019년 2차 추경 세입·세출예산(안) | D5: 4
B7: ○ 예산규모 | D7: 5
B9: ○ 세입·세출예산 총괄표(성질별) | D9: 6
B11: ○ 세입 세부내역서(성질별) | D11: 7
B13: ○ 세출 세부내역서(성질별) | D13: 8
B15: ○ 세입·세출예산 총괄표(조직별) | D15: 11
B17: ○ 세입·세출예산 세부 총괄표(조직별) | D17: 12
B19: ○ 세입 세부내역서(조직별) | D19: 14
B21: ○ 세출 세부내역서(조직별) | D21: 17
A23: 3 | B23: 세입예산 사업내역서 | D23: 20
A25: 4 | B25: 세출예산 사업내역서 | D25: 36
B27: ○ 사무국 | D27: 37
B29: ○ 마두청소년수련관 | D29: 43
B31: ○ 고양시청소년진로센터 | D31: 48
B33: ○ 성사청소년문화의집 | D33: 51
B35: ○ 탄현청소년문화의집 | D35: 56
B37: ○ 주교동청소년카페 | D37: 59
B39: ○ 일산서구청소년수련관 | D39: 61
B41: ○ 토당청소년수련관 | D41: 66
B43: ○ 고양시청소년상담복지센터 | D43: 73
B45: ○ 화정청소년카페 | D45: 77
B47: ○ 백마역청소년카페 | D47: 80
B49: ○ 능곡역청소년카페 | D49: 82

Sheet 간지1(예산총칙)

Sheet 예산총칙
B1: 1. 예산총칙
B3: 제1조(총칙) 2019년도 재단법인 고양시청소년재단의 본예산은 다음과 같이 정한다.
B5: 제2조(업무의 연간 예정량) 2019년도 업무의 예정량은 다음과 같다.
B6: 가. 청소년 주도적 활동 및 청소년공간 확대 - 청소년들의 자기주도적인 참여를 통해 공공선에 기여하고 사회적 가치를 실현하는 건강한 시민으로서의 역할 수행 - 자율적 배움과 소통이 가능한 지역사회 내 청소년 이용시설 확대와 인접도시를 연결하는 이용시설 확장
B11: 나. 평화특별시의 주체가 되는 글로컬 역량강화 - 국제협약 등 국제사회의 AGENDA를 일상생활 속에서 실천할 수 있는 환경을 조성하고, 그 과정 속에서 세계시민의 역량을 증가시킬 수 있는 글로컬 (Glocalization) 사업의 확대
B14: 다. 4차 산업혁명에 대응할 수 있는 진로사업 확대 - 4차 산업혁명 등 급변하는 사회 환경에 대응할 수 있는 진로‧직업 역량 지원 체계 구축을 통해 과학기술‧산업분야의 주역이 될 수 있는 창의적 융합인재 성장 지원
B17: 라. 청소년 인권이 존중받는 청소년친화도시 조성 - 청소년의 인권 및 권리의식 제고를 통해 청소년이 누려야 할 권리와 시민권을 보장하며, 청소년이 차별받지 않고 존중받는 청소년친화도시 구현
B20: 마. 청소년이 안전한 지원시스템 확대 - 지역사회 청소년에 대한 종합적 사회안전망을 비롯한 안전교육 및 위기대응, 안전관리 지도자 역량강화 등을 통한 청소년의 안전한 생활환경 조성
B23: 바. 지역사회 기반의 청소년 지원체계 강화 - 지역 협력체계 구축을 위한 협업과 자원공유, 데이터베이스를 통한 청소년과 관련된 정보와 시각공유의 확대
B26: 사. 교육문화 활동을 통한 네트워크 기반 조성 - 지역자원을 활용한 다양한 형태의 열린 학습을 확대하고, 배움의 즐거움을 알아갈 수 있는 소통, 상호교육을 통한 시민의 삶과 행복 증진
B29: 아. 혁신경영을 통한 윤리경영 및 사회적 책임 강화 - 임직원 반부패 및 청렴활동 참여를 통한 깨끗하고 투명한 조직풍토를 조성하여, 청소년 및 지역주민이 공감할 수 있는 사회적 책임과 가치의 향상
B32: 자. 고객중심 서비스를 통한 신뢰 및 공감 - 수요자 중심의 서비스 시스템 구축을 통한 청소년과 시민이 공감하는 시설별 맞춤형 서비스 개발
... B38: 수 입
B39: 제1관 재단사업수입 | D39: =+SUM(D40:D42) -> 11461817800 | E39: 천원
B40: 제1항 영업수입 | D40: ='세입 세부내역서(조직별)7'!B64 -> 2324743000 | E40: 천원
B41: 제2항 영업외수익 | D41: ='세입 세부내역서(조직별)7'!B8 -> 9137074800 | E41: 천원
B42: 제3항 특별이익 | D42: 0 | E42: 천원
B43: 지 출
B44: 제1관 재단사업비용 | D44: =+SUM(D45:D49) -> 11461817800 | E44: 천원
B45: 제1항 영업비용 | D45: ='세입·세출예산 총괄표(성질별)2'!I7+'세입·세출예산 총괄표(성질별)2'!I17-'세입·세출예산 총괄표(성질별)2'!I16 -> 11461817800 | E45: 천원
B46: 제2항 영업외비용 | D46: 0 | E46: 천원
B47: 제3항 특별손실 | D47: 0 | E47: 천원
B48: 제4항 법인세등 | D48: 0 | E48: 천원
B49: 제5항 예 비 비 | D49: 0 | E49: 천원
B53: 제4조(자본적수입 및 지출) 자본적수입 및 지출의 예정액은 다음과 같이 정한다.
B54: 수 입
B55: 제1관 자본적수입 | D55: =+SUM(D56:D61) -> 1163384000 | E55: 천원
B56: 제1항 투자자산 | D56: 0 | E56: 천원
B57: 제2항 고정자산매각수입 | D57: 0 | E57: 천원
B58: 제3항 고정부채수입 | D58: 0 | E58: 천원
B59: 제4항 자 본 금 | D59: 0 | E59: 천원
B60: 제5항 자본잉여금수입 | D60: 50067000 | E60: 천원
B61: 제6항 기타자본잉여금수입 | D61: ='세입·세출예산 총괄표(성질별)2'!B15+'세입·세출예산 총괄표(성질별)2'!B22 -> 1113317000 | E61: 천원
B63: 지 출
B64: 제1관 자본적지출 | D64: =+SUM(D65:D71) -> 228681000 | E64: 천원
B65: 제1항 투자자산 | D65: 0 | E65: 천원
B66: 제2항 유형자산 | D66: ='세입·세출예산 총괄표(성질별)2'!I21+'세입·세출예산 총괄표(성질별)2'!I14-예산총칙!D67 -> 176814000 | E66: 천원
B67: 제3항 무형자산 | D67: ='예산세출(탄현)'!O174 -> 1800000 | E67: 천원
B68: 제4항 유동부채상환금 | D68: 0 | E68: 천원
B69: 제5항 고정부채상환금 | D69: 0 | E69: 천원
...

Sheet 간지2(세입세출예산안)

Sheet 예 산 규 모1
A1: 예 산 규 모
A2: 2019년 2차 추경 세입·세출예산(안) | F2: [단위:천원]
A3: 구 분 | B3: 2019년추경액(A) | D3: 2019년기정액(B) | F3: 증감(A-B)
B4: 금액 | C4: 구성비 | D4: 금액 | E4: 구성비 | F4: 금액 | G4: 증감률
A5: 총계 | B5: =SUM(B6:B8) -> 11461817800 | C5: =SUM(C6:C8) -> 1 | D5: =ROUNDUP(SUM(D6:D8),-3) -> 11354560000 | E5: =SUM(E6:E8) -> 1 | F5: =B5-D5 -> 107257800 | G5: =+F5/D5 -> 0.0094462313 | J5: 5914513000
A6: 출연금 | B6: ='세입·세출예산 총괄표(조직별)5'!C6 -> 5914513000 | C6: =+B6/$B$5 -> 0.51601876 | D6: ='세입·세출예산 총괄표(조직별)5'!G6 -> 5914513000 | E6: =+D6/$D$5 -> 0.52089319 | F6: =B6-D6 -> 0 | G6: =+F6/D6 -> 0 | J6: =B6-J5 -> 0
A7: 보조금 | B7: ='세입·세출예산 총괄표(조직별)5'!D6 -> 2251639800 | C7: =+B7/$B$5 -> 0.19644701 | D7: ='세입·세출예산 총괄표(조직별)5'!H6 -> 2065749000 | E7: =+D7/$D$5 -> 0.18193122 | F7: =B7-D7 -> 185890800 | G7: =+F7/D7 -> 0.089987118
A8: 자부담 | B8: ='세입·세출예산 총괄표(조직별)5'!E6 -> 3295665000 | C8: =+B8/$B$5 -> 0.28753423 | D8: ='세입·세출예산 총괄표(조직별)5'!I6 -> 3374298000 | E8: =+D8/$D$5 -> 0.29717558 | F8: =B8-D8 -> -78633000 | G8: =+F8/D8 -> -0.023303514
A12: 출연금 | B12: =B6 -> 5914513000 | C12: =B12/$B$17 -> 0.51601876
A13: 보조금 | B13: ='세입·세출예산 총괄표(성질별)2'!B10+'세입·세출예산 총괄표(성질별)2'!B11+'세입·세출예산 총괄표(성질별)2'!B12 -> 2251639800 | C13: =B13/$B$17 -> 0.19644701
A14: 사업수익금 | B14: 2182348000 | C14: =B14/$B$17 -> 0.19040156
A15: 이월금 | B15: ='세입·세출예산 총괄표(성질별)2'!B15+'세입·세출예산 총괄표(성질별)2'!B22 -> 1113317000 | C15: =B15/$B$17 -> 0.097132673
B17: =SUM(B12:B16) -> 11461817800 | C17: =SUM(C12:C16) -> 1

Sheet 세입·세출예산 총괄표(성질별)2
A1: 세입·세출예산 총괄표(성질별)
A2: 2019년 2차 추경 세입·세출예산(안) | M2: [단위:천원]
A3: 세 입 | H3: 세 출
A4: 예산과목 | B4: ='세출 세부내역서(조직별)8'!B5:C5 -> 2019년추경액(A) | D4: ='세출 세부내역서(조직별)8'!D5:E5 -> 2019년기정액(B) | F4: 증 감(A-B) | H4: =A4 -> 예산과목 | I4: =B4 -> 2019년추경액(A) | K4: =D4 -> 2019년기정액(B) | M4: 증 감(A-B)
B5: 금 액 | C5: 구성비 | D5: 금 액 | E5: 구성비 | F5: 금 액 | G5: 증감률 | I5: 금 액 | J5: 구성비 | K5: 금 액 | L5: 구성비 | M5: 금 액 | N5: 증감률
A6: 총 계 | B6: =SUM(B7,B17) -> 11461817800 | C6: =+C7+C17 -> 1 | D6: =SUM(D7,D17) -> 11354560000 | E6: =+E7+E17 -> 1 | F6: =+B6-D6 -> 107257800 | G6: =+F6/D6 -> 0.0094462313 | H6: =A6 -> 총 계 | I6: =SUM(I7,I17) -> 11461817800 | J6: =+J7+J17 -> 1 | K6: =SUM(K7,K17) -> 11354560000 | L6: =+L7+L17 -> 1 | M6: =+I6-K6 -> 107257800 | N6: =+M6/K6 -> 0.0094462313
A7: 영업외수익 | B7: =SUM(B8:B16) -> 9078124800 | C7: =+B7/$B$6 -> 0.79203185 | D7: =SUM(D8:D16) -> 8962288000 | E7: =+D7/$D$6 -> 0.78931178 | F7: =+B7-D7 -> 115836800 | G7: =+F7/D7 -> 0.012924914 | H7: 사업비용 | I7: =SUM(I8:I16) -> 8225102800 | J7: =+I7/I6 -> 0.71760893 | K7: =SUM(K8:K16) -> 8043024000 | L7: =+K7/K6 -> 0.70835189 | M7: =+I7-K7 -> 182078800 | N7: =+M7/K7 -> 0.022638102
A8: ='세입 세부내역서(조직별)7'!A9 -> 지자체출자출연금 | B8: ='세입 세부내역서(조직별)7'!B9 -> 4313212000 | C8: =+B8/$B$6 -> 0.37631134 | D8: ='세입 세부내역서(조직별)7'!D9 -> 4313212000 | E8: =+D8/$D$6 -> 0.37986606 | F8: =+B8-D8 -> 0 | G8: =+F8/D8 -> 0 | H8: ='세출 세부내역서(조직별)8'!A9 -> 인건비 | I8: ='세출 세부내역서(조직별)8'!B9 -> 3588237000 | J8: =+I8/$I$6 -> 0.31306003 | K8: ='세출 세부내역서(조직별)8'!D9 -> 3547562000 | L8: =+K8/$K$6 -> 0.312435 | M8: =+I8-K8 -> 40675000 | N8: =+M8/K8 -> 0.011465621
A9: ='세입 세부내역서(조직별)7'!A17 -> 보조금수익(출연금위탁교부) | B9: ='세입 세부내역서(조직별)7'!B17 -> 1601301000 | C9: =+B9/$B$6 -> 0.13970742 | D9: ='세입 세부내역서(조직별)7'!D17 -> 1601301000 | E9: =+D9/$D$6 -> 0.14102713 | F9: =+B9-D9 -> 0 | G9: =+F9/D9 -> 0 | H9: ='세출 세부내역서(조직별)8'!A22 -> 경비 | I9: ='세출 세부내역서(조직별)8'!B22 -> 1419468000 | J9: =+I9/$I$6 -> 0.12384318 | K9: ='세출 세부내역서(조직별)8'!D22 -> 1423731000 | L9: =+K9/$K$6 -> 0.12538848 | M9: =+I9-K9 -> -4263000 | N9: =+M9/K9 -> -0.0029942454 | Q9: =SUM(Q10:Q12) -> 5914513000 | R9: =SUM(R10:R12) -> 1
A10: ='세입 세부내역서(조직별)7'!A23 -> 국도시비보조금 | B10: ='세입 세부내역서(조직별)7'!B23 -> 2094819800 | C10: =+B10/$B$6 -> 0.18276506 | D10: ='세입 세부내역서(조직별)7'!D23 -> 2060049000 | E10: =+D10/$D$6 -> 0.18142922 | F10: =+B10-D10 -> 34770800 | G10: =+F10/D10 -> 0.016878628 | H10: ='세출 세부내역서(조직별)8'!A35 -> 목적사업비 | I10: ='세출 세부내역서(조직별)8'!B35 -> 857890000 | J10: =+I10/$I$6 -> 0.074847639 | K10: ='세출 세부내역서(조직별)8'!D35 -> 851980000 | L10: =+K10/$K$6 -> 0.075034171 | M10: =+I10-K10 -> 5910000 | N10: =+M10/K10 -> 0.0069367826 | P10: 인건비 | Q10: =I8 -> 3588237000 | R10: =Q10/$Q$9 -> 0.60668342
A11: ='세입 세부내역서(조직별)7'!A32 -> 교육청보조금 | B11: ='세입 세부내역서(조직별)7'!B32 -> 127120000 | C11: =+B11/$B$6 -> 0.011090736 | D11: ='세입 세부내역서(조직별)7'!D32 -> 43000000 | E11: =+D11/$D$6 -> 0.0037870248 | F11: =+B11-D11 -> 84120000 | G11: =+F11/D11 -> 1.9562791 | H11: ='세출 세부내역서(조직별)8'!A47 -> 국도시비보조금사업비 | I11: ='세출 세부내역서(조직별)8'!B47 -> 2094819800 | J11: =+I11/$I$6 -> 0.18276506 | K11: ='세출 세부내역서(조직별)8'!D47 -> 2060049000 | L11: =+K11/$K$6 -> 0.18142922 | M11: =+I11-K11 -> 34770800 | N11: =+M11/K11 -> 0.016878628 | P11: 경비 | Q11: =I9+I14+I15 -> 1527336000 | R11: =Q11/$Q$9 -> 0.25823529
A12: ='세입 세부내역서(조직별)7'!A35 -> 기타보조금 | B12: ='세입 세부내역서(조직별)7'!B35 -> 29700000 | C12: =+B12/$B$6 -> 0.002591212 | D12: ='세입 세부내역서(조직별)7'!D35 -> 5700000 | E12: =+D12/$D$6 -> 0.00050200096 | F12: =+B12-D12 -> 24000000 | G12: =+F12/D12 -> 4.2105263 | H12: ='세출 세부내역서(조직별)8'!A56 -> 교육청사업비 | I12: ='세출 세부내역서(조직별)8'!B56 -> 127120000 | J12: =+I12/$I$6 -> 0.011090736 | K12: ='세출 세부내역서(조직별)8'!D56 -> 43000000 | L12: =+K12/$K$6 -> 0.0037870248 | M12: =+I12-K12 -> 84120000 | N12: =+M12/K12 -> 1.9562791 | P12: 사업비 | Q12: 798940000 | R12: =Q12/$Q$9 -> 0.13508128
A13: ='세입 세부내역서(조직별)7'!A45 -> 이자수익 | B13: ='세입 세부내역서(조직별)7'!B45 -> 2321000 | C13: =+B13/$B$6 -> 0.00020249842 | D13: ='세입 세부내역서(조직별)7'!D45 -> 2321000 | E13: =+D13/$D$6 -> 0.00020441127 | F13: =+B13-D13 -> 0 | G13: =+F13/D13 -> 0 | H13: ='세출 세부내역서(조직별)8'!A59 -> 기타보조금사업비 | I13: ='세출 세부내역서(조직별)8'!B59 -> 29700000 | J13: =+I13/$I$6 -> 0.002591212 | K13: ='세출 세부내역서(조직별)8'!D59 -> 5700000 | L13: =+K13/$K$6 -> 0.00050200096 | M13: =+I13-K13 -> 24000000
A14: ='세입 세부내역서(조직별)7'!A58 -> 법인전입금 | B14: ='세입 세부내역서(조직별)7'!B58 -> 50000000 | C14: =+B14/$B$6 -> 0.0043623098 | D14: ='세입 세부내역서(조직별)7'!D58 -> 50000000 | E14: =+D14/$D$6 -> 0.0044035172 | F14: =+B14-D14 -> 0 | G14: =+F14/D14 -> 0 | H14: ='세출 세부내역서(조직별)8'!A62 -> 자산취득비 | I14: ='세출 세부내역서(조직별)8'!B62 -> 16420000 | J14: =+I14/$I$6 -> 0.0014325825 | K14: ='세출 세부내역서(조직별)8'!D62 -> 19554000 | L14: =+K14/$K$6 -> 0.0017221275 | M14: =+I14-K14 -> -3134000 | N14: =+M14/K14 -> -0.16027411
A15: ='세입 세부내역서(조직별)7'!A60 -> 이월금 및 출자출연금 | B15: ='세입 세부내역서(조직별)7'!B60 -> 847517000 | C15: =+B15/$B$6 -> 0.073942634 | D15: ='세입 세부내역서(조직별)7'!D60 -> 886705000 | E15: =+D15/$D$6 -> 0.078092414 | F15: =+B15-D15 -> -39188000 | G15: =+F15/D15 -> -0.044195082 | H15: ='세출 세부내역서(조직별)8'!A72 -> 성과급 | I15: ='세출 세부내역서(조직별)8'!B72 -> 91448000 | J15: =+I15/$I$6 -> 0.0079784901 | K15: ='세출 세부내역서(조직별)8'!D72 -> 91448000 | L15: =+K15/$K$6 -> 0.0080538568 | M15: =+I15-K15 -> 0 | N15: =+M15/K15 -> 0 | P15: 5914513 | Q15: 1 | R15: 5999764 | S15: 1 | T15: =P15-R15 -> -85251 | U15: =T15/R15 -> -0.014209059
A16: 기타영업외수익 | B16: ='세입 세부내역서(조직별)7'!B62 -> 12134000 | C16: =+B16/$B$6 -> 0.0010586453 | D16: 0 | E16: =+D16/$D$6 -> 0 | F16: =+B16-D16 -> 12134000 | P16: 3588237 | Q16: 0.607 | R16: 3117875 | S16: 0.52 | T16: =P16-R16 -> 470362 | U16: =T16/R16 -> 0.1508598
A17: 영업수익(수익) | B17: =SUM(B18:B25) -> 2383693000 | C17: =+B17/$B$6 -> 0.20796815 | D17: =SUM(D18:D25) -> 2392272000 | E17: =+D17/$D$6 -> 0.21068822 | F17: =+B17-D17 -> -8579000 | G17: =+F17/D17 -> -0.0035861307 | H17: 사업비용(수익) | I17: =SUM(I18:I25) -> 3236715000 | J17: =+I17/$I$6 -> 0.28239107 | K17: =SUM(K18:K25) -> 3311536000 | L17: =+K17/$K$6 -> 0.29164811 | M17: =+I17-K17 -> -74821000 | N17: =+M17/K17 -> -0.022594047 | P17: 1527336 | Q17: 0.258 | R17: 1833106 | S17: 0.306 | T17: =P17-R17 -> -305770 | U17: =T17/R17 -> -0.16680432
A18: ='세입 세부내역서(조직별)7'!A65 -> 자체사업수익 | B18: ='세입 세부내역서(조직별)7'!B65 -> 1773784000 | C18: =+B18/$B$6 -> 0.15475591 | D18: ='세입 세부내역서(조직별)7'!D65 -> 1894317000 | E18: =+D18/$D$6 -> 0.16683315 | F18: =+B18-D18 -> -120533000 | G18: =+F18/D18 -> -0.063628738 | H18: ='세출 세부내역서(조직별)8'!A75 -> 자체사업인건비 | I18: ='세출 세부내역서(조직별)8'!B75 -> 342804000 | J18: =+I18/$I$6 -> 0.029908345 | K18: ='세출 세부내역서(조직별)8'!D75 -> 317913000 | L18: =+K18/$K$6 -> 0.027998707 | M18: =+I18-K18 -> 24891000 | N18: =+M18/K18 -> 0.078295005 | P18: 798940 | Q18: 0.135 | R18: 1048783 | S18: 0.175 | T18: =P18-R18 -> -249843 | U18: =T18/R18 -> -0.23822182
A19: ='세입 세부내역서(조직별)7'!A74 -> 기타영업수익 | B19: ='세입 세부내역서(조직별)7'!B74 -> 29003000 | C19: =+B19/$B$6 -> 0.0025304014 | D19: ='세입 세부내역서(조직별)7'!D74 -> 30403000 | E19: =+D19/$D$6 -> 0.0026776027 | F19: =+B19-D19 -> -1400000 | G19: =+F19/D19 -> -0.046048087 | H19: ='세출 세부내역서(조직별)8'!A82 -> 자체사업경비 | I19: ='세출 세부내역서(조직별)8'!B82 -> 405716000 | J19: =+I19/$I$6 -> 0.035397178 | K19: ='세출 세부내역서(조직별)8'!D82 -> 343152000 | L19: =+K19/$K$6 -> 0.030221515 | M19: =+I19-K19 -> 62564000 | N19: =+M19/K19 -> 0.18232154
A20: ='세입 세부내역서(조직별)7'!A81 -> 판매수익 | B20: ='세입 세부내역서(조직별)7'!B81 -> 256156000 | C20: =+B20/$B$6 -> 0.022348637 | D20: ='세입 세부내역서(조직별)7'!D81 -> 263518000 | E20: =+D20/$D$6 -> 0.023208121 | F20: =+B20-D20 -> -7362000 | G20: =+F20/D20 -> -0.027937371 | H20: ='세출 세부내역서(조직별)8'!A101 -> 자체사업비 | I20: ='세출 세부내역서(조직별)8'!B101 -> 1865496000 | J20: =+I20/$I$6 -> 0.16275743 | K20: ='세출 세부내역서(조직별)8'!D101 -> 2005712000 | L20: =+K20/$K$6 -> 0.17664374 | M20: =+I20-K20 -> -140216000 | N20: =+M20/K20 -> -0.069908342
A21: ='세입 세부내역서(조직별)7'!A38 -> 재단지원금 | B21: ='세입 세부내역서(조직별)7'!B38 -> 58950000 | C21: =+B21/$B$6 -> 0.0051431632 | D21: ='세입 세부내역서(조직별)7'!D38 -> 19762000 | E21: =+D21/$D$6 -> 0.0017404461 | F21: =+B21-D21 -> 39188000 | G21: =+F21/D21 -> 1.9829977 | H21: ='세출 세부내역서(조직별)8'!A93 -> 자체사업자산취득비 | I21: ='세출 세부내역서(조직별)8'!B93 -> 162194000 | J21: =+I21/$I$6 -> 0.014150809 | K21: ='세출 세부내역서(조직별)8'!D93 -> 117772000 | L21: =+K21/$K$6 -> 0.01037222 | M21: =+I21-K21 -> 44422000 | N21: =+M21/K21 -> 0.37718643
A22: ='세입 세부내역서(조직별)7'!A88 -> 이월금 | B22: ='세입 세부내역서(조직별)7'!B88 -> 265800000 | C22: =+B22/$B$6 -> 0.023190039 | D22: ='세입 세부내역서(조직별)7'!D88 -> 184272000 | E22: =+D22/$D$6 -> 0.016228898 | F22: =+B22-D22 -> 81528000 | G22: =+F22/D22 -> 0.44243293 | H22: 재단지원금 | I22: ='세출 세부내역서(조직별)8'!B113 -> 329517000 | J22: =+I22/$I$6 -> 0.028749105 | K22: ='세출 세부내역서(조직별)8'!D113 -> 368705000 | L22: =+K22/$K$6 -> 0.032471976 | M22: =+I22-K22 -> -39188000 | N22: =+M22/K22 -> -0.10628551
H23: ='세출 세부내역서(조직별)8'!A115 -> 법인전입금 | I23: ='세출 세부내역서(조직별)8'!B115 -> 81909000 | J23: =+I23/$I$6 -> 0.0071462487 | K23: ='세출 세부내역서(조직별)8'!D115 -> 50000000 | L23: =+K23/$K$6 -> 0.0044035172 | M23: =+I23-K23 -> 31909000 | N23: =+M23/K23 -> 0.63818
H24: ='세출 세부내역서(조직별)8'!A117 -> 이자반환금(과년도) | I24: ='세출 세부내역서(조직별)8'!B117 -> 2321000 | J24: =+I24/$I$6 -> 0.00020249842 | K24: ='세출 세부내역서(조직별)8'!D117 -> 2321000 | L24: =+K24/$K$6 -> 0.00020441127 | M24: =+I24-K24 -> 0 | N24: =+M24/K24 -> 0
H25: ='세출 세부내역서(조직별)8'!A130 -> 예비비(차기년도이월금) | I25: ='세출 세부내역서(조직별)8'!B130 -> 46758000 | J25: =+I25/$I$6 -> 0.0040794576 | K25: ='세출 세부내역서(조직별)8'!D130 -> 105961000 | L25: =+K25/$K$6 -> 0.0093320217 | M25: =+I25-K25 -> -59203000 | N25: =+M25/K25 -> -0.55872444
B27: 11462517800

Sheet 세입 세부내역서(성질별)3
A1: 세입 세부내역서(성질별)
A2: [일반회계] -2019년 2차 추경 세입·세출예산(안) | J2: (단위:천원)
A3: 예산과목 | G3: 추경예산 | H3: 기정예산 | I3: 증감 | J3: 증감률
A4: 장 | B4: 관 | C4: 항 | D4: 목 | E4: 세목 | F4: 세세목
A5: 고양시청소년재단 | G5: =G6+G30 -> 11461817800 | H5: =H6+H30 -> 11354560000 | I5: =+G5-H5 -> 107257800 | J5: =+I5/H5 -> 0.0094462313
B6: 600 사업수익 | G6: =G7+G16 -> 10298500800 | H6: =H7+H16 -> 10233583000 | I6: =+G6-H6 -> 64917800 | J6: =+I6/H6 -> 0.0063436042
C7: 610 영업수익 | G7: =G8+G11+G14 -> 2058943000 | H7: =H8+H11+H14 -> 2188238000 | I7: =+G7-H7 -> -129295000 | J7: =+I7/H7 -> -0.059086352
D8: 611 자체사업수익 | G8: =G9+G10 -> 1773784000 | H8: =H9+H10 -> 1894317000 | I8: =+G8-H8 -> -120533000 | J8: =+I8/H8 -> -0.063628738
E9: 611-1 사업운영수익 | G9: ='예산세입(마두)'!P9+'예산세입(탄현)'!P9+'예산세입(일산서구)'!P9+'예산세입(토당)'!P9+'예산세입(상담)'!P9+'예산세입(화정)'!P9 -> 1393424000 | H9: ='예산세입(마두)'!Q9+'예산세입(탄현)'!Q9+'예산세입(일산서구)'!Q9+'예산세입(토당)'!Q9+'예산세입(상담)'!Q9+'예산세입(화정)'!Q9 -> 1419787000 | I9: =+G9-H9 -> -26363000 | J9: =+I9/H9 -> -0.018568278
E10: 611-2 참가금수익 | G10: ='예산세입(마두)'!P51+'예산세입(성사)'!P9+'예산세입(탄현)'!P25+'예산세입(주교)'!P9+'예산세입(일산서구)'!P41+'예산세입(토당)'!P45+'예산세입(화정)'!P12 -> 380360000 | H10: ='예산세입(마두)'!Q51+'예산세입(성사)'!Q9+'예산세입(탄현)'!Q25+'예산세입(주교)'!Q9+'예산세입(일산서구)'!Q41+'예산세입(토당)'!Q45+'예산세입(화정)'!Q12 -> 474530000 | I10: =+G10-H10 -> -94170000 | J10: =+I10/H10 -> -0.19844899
D11: 617 기타영업수익 | G11: =G12+G13 -> 29003000 | H11: =H12+H13 -> 30403000 | I11: =+G11-H11 -> -1400000 | J11: =+I11/H11 -> -0.046048087
E12: 617-1 시설사용료수익 | G12: ='예산세입(마두)'!P56+'예산세입(성사)'!P21+'예산세입(탄현)'!P29+'예산세입(일산서구)'!P47+'예산세입(토당)'!P61+'예산세입(화정)'!P16 -> 28224000 | H12: ='예산세입(마두)'!Q56+'예산세입(성사)'!Q21+'예산세입(탄현)'!Q29+'예산세입(일산서구)'!Q47+'예산세입(토당)'!Q61+'예산세입(화정)'!Q16 -> 29624000 | I12: =+G12-H12 -> -1400000 | J12: =+I12/H12 -> -0.047258979
E13: 617-3 기타수수료수입 | G13: ='예산세입(마두)'!P59+'예산세입(일산서구)'!P50 -> 779000 | H13: ='예산세입(마두)'!Q59+'예산세입(일산서구)'!Q50 -> 779000 | I13: =+G13-H13 -> 0 | J13: =+I13/H13 -> 0
D14: 618 판매수익 | G14: =G15 -> 256156000 | H14: =H15 -> 263518000 | I14: =+G14-H14 -> -7362000 | J14: =+I14/H14 -> -0.027937371
E15: 618-1 상품판매수익 | G15: ='예산세입(마두)'!P65+'예산세입(일산서구)'!P54+'예산세입(토당)'!P65+'예산세입(화정)'!P20+'예산세입(백마)'!P9+'예산세입(능곡)'!P9 -> 256156000 | H15: ='예산세입(마두)'!Q65+'예산세입(일산서구)'!Q54+'예산세입(토당)'!Q65+'예산세입(화정)'!Q20+'예산세입(백마)'!Q9+'예산세입(능곡)'!Q9 -> 263518000 | I15: =+G15-H15 -> -7362000 | J15: =+I15/H15 -> -0.027937371
C16: 620 영업외수익 | G16: =G17+G19+G23+G28 -> 8239557800 | H16: =H17+H19+H23+H28 -> 8045345000 | I16: =+G16-H16 -> 194212800 | J16: =+I16/H16 -> 0.024139773
D17: 621 이자수익 | G17: =G18 -> 2321000 | H17: =H18 -> 2321000 | I17: =+G17-H17 -> 0 | J17: =+I17/H17 -> 0
E18: 621-1 예금이자수익 | G18: ='예산세입(사무국)'!P9+'예산세입(마두)'!P70+'예산세입(마두)'!U57+'예산세입(진로)'!P9+'예산세입(성사)'!P26+'예산세입(탄현)'!P34+'예산세입(주교)'!P14+'예산세입(일산서구)'!P59+'예산세입(토당)'!P74+'예산세입(상담)'!P16+'예산세입(화정)'!P25+'예산세입(백마)'!P14+'예산세입(능곡)'!P14 -> 2321000 | H18: ='예산세입(사무국)'!Q9+'예산세입(마두)'!Q70+'예산세입(마두)'!V57+'예산세입(진로)'!Q9+'예산세입(성사)'!Q26+'예산세입(탄현)'!Q34+'예산세입(주교)'!Q14+'예산세입(일산서구)'!Q59+'예산세입(토당)'!Q74+'예산세입(상담)'!Q16+'예산세입(화정)'!Q25+'예산세입(백마)'!Q14+'예산세입(능곡)'!Q14 -> 2321000 | I18: =+G18-H18 -> 0 | J18: =+I18/H18 -> 0
D19: 623 보조금수익 | G19: =G20+G21+G22 -> 2251639800 | H19: =H20+H21+H22 -> 2108749000 | I19: =+G19-H19 -> 142890800 | J19: =+I19/H19 -> 0.067760933
E20: 623-1 국도시비보조금 | G20: 2094819800 | H20: 2060049000 | I20: =+G20-H20 -> 34770800 | J20: =+I20/H20 -> 0.016878628
E21: 623-2 교육청보조금 | G21: ='예산세입(진로)'!P17+'예산세입(토당)'!P89 -> 127120000 | H21: 43000000 | I21: =+G21-H21 -> 84120000 | J21: =+I21/H21 -> 1.9562791
E22: 623-3 기타보조금 | G22: ='세입 세부내역서(조직별)7'!B35 -> 29700000 | H22: 5700000 | I22: =+G22-H22 -> 24000000 | J22: =+I22/H22 -> 4.2105263
D23: 625 출자출연금수익 | G23: =G24+G27 -> 5973463000 | H23: =H24+H27 -> 5934275000 | I23: =+G23-H23 -> 39188000 | J23: =+I23/H23 -> 0.006603671
E24: 625-2 지자체출자출연금 | G24: =G25+G26 -> 5914513000 | H24: =H25+H26 -> 5914513000 | I24: =+G24-H24 -> 0 | J24: =+I24/H24 -> 0
F25: ㅇ직영시설출자출연금 | G25: ='예산세입(사무국)'!P20+'예산세입(마두)'!P86+'예산세입(진로)'!O27+'예산세입(성사)'!P44+'예산세입(탄현)'!O46+'예산세입(주교)'!O21+'예산세입(일산서구)'!P72 -> 4313212000 | H25: 4313212000 | I25: =+G25-H25 -> 0 | J25: =+I25/H25 -> 0
F26: ㅇ위탁시설출자출연금 | G26: 1601301000 | H26: 1601301000 | I26: =+G26-H26 -> 0 | J26: =+I26/H26 -> 0
E27: 625-3 재단지원금 | G27: ='예산세입(진로)'!O28+'예산세입(탄현)'!O47+'예산세입(주교)'!O22+'예산세입(상담)'!O23+'예산세입(화정)'!O32+'예산세입(백마)'!O21 -> 58950000 | H27: ='예산세입(주교)'!O22 -> 19762000 | I27: =+G27-H27 -> 39188000 | J27: =+I27/H27 -> 1.9829977
D28: 628 기타영업외수익 | G28: =G29 -> 12134000 | H28: =H29 -> 0 | I28: =+G28-H28 -> 12134000
E29: 628-6 기타영업외수익 | G29: 12134000 | H29: 0 | I29: =+G29-H29 -> 12134000
B30: 100 자본적수입 | G30: =G31 -> 1163317000 | H30: =H31 -> 1120977000 | I30: =+G30-H30 -> 42340000 | J30: =+I30/H30 -> 0.037770623
C31: 170 자본잉여금수입 | G31: =G32 -> 1163317000 | H31: =H32 -> 1120977000 | I31: =+G31-H31 -> 42340000 | J31: =+I31/H31 -> 0.037770623
D32: 172 이월금 | G32: =G33 -> 1163317000 | H32: =H33 -> 1120977000 | I32: =+G32-H32 -> 42340000 | J32: =+I32/H32 -> 0.037770623
E33: 172-3 전년도이월사업비 | G33: ='세입 세부내역서(조직별)7'!B60+'세입 세부내역서(조직별)7'!B88+'세입 세부내역서(조직별)7'!B58 -> 1163317000 | H33: ='세입 세부내역서(조직별)7'!D88+'세입 세부내역서(조직별)7'!D60+'세입 세부내역서(조직별)7'!D58 -> 1120977000 | I33: =+G33-H33 -> 42340000 | J33: =+I33/H33 -> 0.037770623

Sheet 세출 세부내역서(성질별)4
A1: 세출 세부내역서(성질별)
A2: [일반회계] -2019년 2차 추경 세입·세출예산(안) | I2: (단위:천원)
A3: 예산과목 | F3: 추경예산 | G3: 기정예산 | H3: 증감 | I3: 증감률
A4: 장 | B4: 관 | C4: 항 | D4: 목 | E4: 세목
A5: 고양시청소년재단 | F5: =F6 -> 11461817800 | G5: =G6 -> 11354560000 | H5: =F5-G5 -> 107257800 | I5: =H5/G5 -> 0.0094462313
B6: 700 사업비용 | F6: =F7+F38+F48+F88+F92 -> 11461817800 | G6: =G7+G38+G48+G88+G92 -> 11354560000 | H6: =F6-G6 -> 107257800 | I6: =H6/G6 -> 0.0094462313
C7: 710 영업비용 | F7: =F8+F14+F34+F36 -> 5115573000 | G7: =G8+G14+G34+G36 -> 5082295000 | H7: =F7-G7 -> 33278000 | I7: =H7/G7 -> 0.0065478293
D8: 100 인건비 | F8: =SUM(F9:F13) -> 3588237000 | G8: =SUM(G9:G13) -> 3547562000 | H8: =F8-G8 -> 40675000 | I8: =H8/G8 -> 0.011465621
E9: 101 급여 | F9: ='예산세출(사무국)'!P9+'예산세출(토당)'!P9+'예산세출(상담)'!P9+'예산세출(화정)'!P9+'예산세출(백마)'!P9+'예산세출(능곡)'!P9 -> 1898686000 | G9: ='예산세출(사무국)'!Q9+'예산세출(토당)'!Q9+'예산세출(상담)'!Q9+'예산세출(화정)'!Q9+'예산세출(백마)'!Q9+'예산세출(능곡)'!Q9 -> 1920715000 | H9: =F9-G9 -> -22029000 | I9: =H9/G9 -> -0.011469166
E10: 102 제수당 | F10: ='예산세출(사무국)'!P18+'예산세출(토당)'!P18+'예산세출(상담)'!P21+'예산세출(화정)'!P14+'예산세출(백마)'!P14+'예산세출(능곡)'!P14 -> 1001259000 | G10: ='예산세출(사무국)'!Q18+'예산세출(토당)'!Q18+'예산세출(상담)'!Q21+'예산세출(화정)'!Q14+'예산세출(백마)'!Q14+'예산세출(능곡)'!Q14 -> 1006905000 | H10: =F10-G10 -> -5646000 | I10: =H10/G10 -> -0.0056072817
E11: 104 무기계약근로자보수 | F11: ='예산세출(성사)'!P9+'예산세출(탄현)'!P9+'예산세출(상담)'!P61 -> 88337000 | G11: ='예산세출(성사)'!Q9+'예산세출(탄현)'!Q9+'예산세출(상담)'!Q61 -> 89318000 | H11: =F11-G11 -> -981000 | I11: =H11/G11 -> -0.010983228
E12: 105 기간제근로자보수 | F12: ='예산세출(마두)'!P9+'예산세출(진로)'!P9+'예산세출(탄현)'!P20+'예산세출(주교)'!P9+'예산세출(일산서구)'!P9+'예산세출(토당)'!P47+'예산세출(상담)'!P68+'예산세출(백마)'!P19 -> 341085000 | G12: ='예산세출(마두)'!Q9+'예산세출(진로)'!Q9+'예산세출(탄현)'!Q20+'예산세출(주교)'!Q9+'예산세출(일산서구)'!Q9+'예산세출(토당)'!Q47+'예산세출(상담)'!Q68+'예산세출(백마)'!Q19 -> 277132000 | H12: =F12-G12 -> 63953000 | I12: =H12/G12 -> 0.23076729
E13: 106 퇴직급여 | F13: ='예산세출(사무국)'!P69+'예산세출(토당)'!P66+'예산세출(상담)'!P75+'예산세출(화정)'!P27+'예산세출(백마)'!P22+'예산세출(능곡)'!P19 -> 258870000 | G13: ='예산세출(사무국)'!Q69+'예산세출(토당)'!Q66+'예산세출(상담)'!Q75+'예산세출(화정)'!Q27+'예산세출(백마)'!Q22+'예산세출(능곡)'!Q19 -> 253492000 | H13: =F13-G13 -> 5378000 | I13: =H13/G13 -> 0.02121566 | L13: 1419468000 | M13: =F14 -> 1419468000 | O13: =L13-M13 -> 0
D14: 200 경비 | F14: =SUM(F15:F33) -> 1419468000 | G14: =SUM(G15:G33) -> 1423731000 | H14: =F14-G14 -> -4263000 | I14: =H14/G14 -> -0.0029942454
E15: 201 복리후생비 | F15: ='예산세출(사무국)'!P73+'예산세출(마두)'!P34+'예산세출(진로)'!P16+'예산세출(성사)'!P25+'예산세출(탄현)'!P28+'예산세출(주교)'!P14+'예산세출(토당)'!P72+'예산세출(상담)'!P79+'예산세출(화정)'!P31+'예산세출(백마)'!P26+'예산세출(능곡)'!P23 -> 377299000 | G15: ='예산세출(사무국)'!Q73+'예산세출(마두)'!Q34+'예산세출(진로)'!Q16+'예산세출(성사)'!Q25+'예산세출(탄현)'!Q28+'예산세출(주교)'!Q14+'예산세출(토당)'!Q72+'예산세출(상담)'!Q79+'예산세출(화정)'!Q31+'예산세출(백마)'!Q26+'예산세출(능곡)'!Q23 -> 370684000 | H15: =F15-G15 -> 6615000 | I15: =H15/G15 -> 0.017845389 | L15: 377299000 | N15: =F15-L15 -> 0
E16: 202 여비 | F16: ='예산세출(사무국)'!P85+'예산세출(진로)'!P28+'예산세출(성사)'!P37+'예산세출(탄현)'!P35+'예산세출(주교)'!P26+'예산세출(상담)'!P86+'예산세출(화정)'!P38+'예산세출(백마)'!P33 -> 38980000 | G16: ='예산세출(사무국)'!Q85+'예산세출(진로)'!Q28+'예산세출(성사)'!Q37+'예산세출(탄현)'!Q35+'예산세출(주교)'!Q26+'예산세출(상담)'!Q86+'예산세출(화정)'!Q38+'예산세출(백마)'!Q33 -> 40160000 | H16: =F16-G16 -> -1180000 | I16: =H16/G16 -> -0.02938247 | L16: 44620000 | N16: =F16-L16 -> -5640000
E17: 203 공공요금 및 제세 | F17: ='예산세출(사무국)'!P89+'예산세출(마두)'!P41+'예산세출(진로)'!P31+'예산세출(성사)'!P45+'예산세출(탄현)'!P42+'예산세출(주교)'!P29+'예산세출(일산서구)'!P22+'예산세출(토당)'!P79+'예산세출(상담)'!P89+'예산세출(화정)'!P41+'예산세출(백마)'!P36+'예산세출(능곡)'!P30 -> 57076000 | G17: ='예산세출(사무국)'!Q89+'예산세출(마두)'!Q41+'예산세출(진로)'!Q31+'예산세출(성사)'!Q45+'예산세출(탄현)'!Q42+'예산세출(주교)'!Q29+'예산세출(일산서구)'!Q22+'예산세출(토당)'!Q79+'예산세출(상담)'!Q89+'예산세출(화정)'!Q41+'예산세출(백마)'!Q36+'예산세출(능곡)'!Q30 -> 60886000 | H17: =F17-G17 -> -3810000 | I17: =H17/G17 -> -0.062575962 | L17: 57436000 | N17: =F17-L17 -> -360000
E18: 204 수도광열비 | F18: ='예산세출(사무국)'!P98+'예산세출(마두)'!P51+'예산세출(성사)'!P55+'예산세출(탄현)'!P51+'예산세출(주교)'!P34+'예산세출(일산서구)'!P31+'예산세출(토당)'!P83+'예산세출(백마)'!P39+'예산세출(능곡)'!P33 -> 312834000 | G18: ='예산세출(사무국)'!Q98+'예산세출(마두)'!Q51+'예산세출(성사)'!Q55+'예산세출(탄현)'!Q51+'예산세출(주교)'!Q34+'예산세출(일산서구)'!Q31+'예산세출(토당)'!Q83+'예산세출(백마)'!Q39+'예산세출(능곡)'!Q33 -> 314034000 | H18: =F18-G18 -> -1200000 | I18: =H18/G18 -> -0.0038212423 | L18: 314034000 | N18: =F18-L18 -> -1200000
E19: 206 소모품비 | F19: ='예산세출(사무국)'!P101+'예산세출(마두)'!P56+'예산세출(진로)'!P35+'예산세출(성사)'!P58+'예산세출(탄현)'!P54+'예산세출(주교)'!P39+'예산세출(일산서구)'!P36+'예산세출(상담)'!P95+'예산세출(화정)'!P46+'예산세출(백마)'!P43+'예산세출(능곡)'!P36 -> 36694000 | G19: ='예산세출(사무국)'!Q101+'예산세출(마두)'!Q56+'예산세출(진로)'!Q35+'예산세출(성사)'!Q58+'예산세출(탄현)'!Q54+'예산세출(주교)'!Q39+'예산세출(일산서구)'!Q36+'예산세출(상담)'!Q95+'예산세출(화정)'!Q46+'예산세출(백마)'!Q43+'예산세출(능곡)'!Q36 -> 41930000 | H19: =F19-G19 -> -5236000 | I19: =H19/G19 -> -0.12487479 | L19: 36694000 | N19: =F19-L19 -> 0
E20: 208 도서인쇄비 | F20: ='예산세출(사무국)'!P112+'예산세출(마두)'!P62+'예산세출(진로)'!P41+'예산세출(성사)'!P66+'예산세출(토당)'!P88+'예산세출(상담)'!P99+'예산세출(화정)'!P51+'예산세출(백마)'!P46 -> 15165000 | G20: ='예산세출(사무국)'!Q112+'예산세출(마두)'!Q62+'예산세출(진로)'!Q41+'예산세출(성사)'!Q66+'예산세출(토당)'!Q88+'예산세출(상담)'!Q99+'예산세출(화정)'!Q51+'예산세출(백마)'!Q46 -> 15165000 | H20: =F20-G20 -> 0 | I20: =H20/G20 -> 0 | L20: 15165000 | N20: =F20-L20 -> 0
E21: 209 지급임차료 | F21: ='예산세출(사무국)'!P120+'예산세출(마두)'!P65+'예산세출(진로)'!P44+'예산세출(성사)'!P71+'예산세출(주교)'!P42+'예산세출(일산서구)'!P44+'예산세출(상담)'!P102+'예산세출(화정)'!P54+'예산세출(백마)'!P49+'예산세출(능곡)'!P39 -> 99691000 | G21: ='예산세출(사무국)'!Q120+'예산세출(마두)'!Q65+'예산세출(진로)'!Q44+'예산세출(성사)'!Q71+'예산세출(주교)'!Q42+'예산세출(일산서구)'!Q44+'예산세출(상담)'!Q102+'예산세출(화정)'!Q54+'예산세출(백마)'!Q49+'예산세출(능곡)'!Q39 -> 94751000 | H21: =F21-G21 -> 4940000 | I21: =H21/G21 -> 0.052136653 | L21: 99691000 | N21: =F21-L21 -> 0
E22: 210 수선유지비 | F22: ='예산세출(사무국)'!P127+'예산세출(마두)'!P73+'예산세출(진로)'!P48+'예산세출(성사)'!P76+'예산세출(주교)'!P46+'예산세출(일산서구)'!P50+'예산세출(토당)'!P91+'예산세출(상담)'!P107+'예산세출(화정)'!P60+'예산세출(백마)'!P54+'예산세출(능곡)'!P45 -> 206929000 | G22: ='예산세출(사무국)'!Q127+'예산세출(마두)'!Q73+'예산세출(진로)'!Q48+'예산세출(성사)'!Q76+'예산세출(주교)'!Q46+'예산세출(일산서구)'!Q50+'예산세출(토당)'!Q91+'예산세출(상담)'!Q107+'예산세출(화정)'!Q60+'예산세출(백마)'!Q54+'예산세출(능곡)'!Q45 -> 219566000 | H22: =F22-G22 -> -12637000 | I22: =H22/G22 -> -0.057554448 | L22: 205969000 | N22: =F22-L22 -> 960000
E23: 211 차량유지비 | F23: ='예산세출(사무국)'!P131+'예산세출(마두)'!P92+'예산세출(일산서구)'!P64+'예산세출(상담)'!P110 -> 5640000 | G23: ='예산세출(사무국)'!Q131+'예산세출(마두)'!Q92+'예산세출(일산서구)'!Q64+'예산세출(상담)'!Q110 -> 3840000 | H23: =F23-G23 -> 1800000 | I23: =H23/G23 -> 0.46875 | L23: 5640000 | N23: =F23-L23 -> 0
E24: 212 보험료 | F24: ='예산세출(사무국)'!P134+'예산세출(마두)'!P95+'예산세출(성사)'!P79+'예산세출(주교)'!P49+'예산세출(일산서구)'!P67+'예산세출(상담)'!P113+'예산세출(화정)'!P65+'예산세출(백마)'!P63+'예산세출(능곡)'!P49 -> 13001000 | G24: ='예산세출(사무국)'!Q134+'예산세출(마두)'!Q95+'예산세출(성사)'!Q79+'예산세출(주교)'!Q49+'예산세출(일산서구)'!Q67+'예산세출(상담)'!Q113+'예산세출(화정)'!Q65+'예산세출(백마)'!Q63+'예산세출(능곡)'!Q49 -> 12112000 | H24: =F24-G24 -> 889000 | I24: =H24/G24 -> 0.073398283 | L24: 13001000 | N24: =F24-L24 -> 0
E25: 213 지급수수료 | F25: ='예산세출(사무국)'!P137+'예산세출(마두)'!P99+'예산세출(진로)'!P51+'예산세출(주교)'!P52+'예산세출(일산서구)'!P71+'예산세출(토당)'!P94+'예산세출(상담)'!P118+'예산세출(화정)'!P71+'예산세출(백마)'!P67+'예산세출(능곡)'!P53 -> 114383000 | G25: ='예산세출(사무국)'!Q137+'예산세출(마두)'!Q99+'예산세출(진로)'!Q51+'예산세출(주교)'!Q52+'예산세출(일산서구)'!Q71+'예산세출(토당)'!Q94+'예산세출(상담)'!Q118+'예산세출(화정)'!Q71+'예산세출(백마)'!Q67+'예산세출(능곡)'!Q53 -> 109022000 | H25: =F25-G25 -> 5361000 | I25: =H25/G25 -> 0.049173561 | L25: 109383000 | N25: =F25-L25 -> 5000000
E26: 214 업무추진비 | F26: ='예산세출(사무국)'!P151+'예산세출(진로)'!P55+'예산세출(성사)'!P83+'예산세출(상담)'!P122 -> 10076000 | G26: ='예산세출(사무국)'!Q151+'예산세출(진로)'!Q55+'예산세출(성사)'!Q83+'예산세출(상담)'!Q122 -> 9800000 | H26: =F26-G26 -> 276000 | I26: =H26/G26 -> 0.028163265 | L26: 10076000 | N26: =F26-L26 -> 0
E27: 215 관서업무비 | F27: ='예산세출(사무국)'!P156+'예산세출(진로)'!P58+'예산세출(성사)'!P86+'예산세출(주교)'!P56+'예산세출(상담)'!P125 -> 8790000 | G27: ='예산세출(사무국)'!Q156+'예산세출(진로)'!Q58+'예산세출(성사)'!Q86+'예산세출(주교)'!Q56+'예산세출(상담)'!Q125 -> 5600000 | H27: =F27-G27 -> 3190000 | I27: =H27/G27 -> 0.56964286 | L27: 8790000 | N27: =F27-L27 -> 0
E28: 216 교육훈련비 | F28: ='예산세출(사무국)'!P161+'예산세출(마두)'!P108+'예산세출(진로)'!P63+'예산세출(주교)'!P59+'예산세출(상담)'!P129+'예산세출(화정)'!P78+'예산세출(백마)'!P70 -> 20217000 | G28: ='예산세출(사무국)'!Q161+'예산세출(마두)'!Q108+'예산세출(진로)'!Q63+'예산세출(주교)'!Q59+'예산세출(상담)'!Q129+'예산세출(화정)'!Q78+'예산세출(백마)'!Q70 -> 27657000 | H28: =F28-G28 -> -7440000 | I28: =H28/G28 -> -0.26900965 | L28: 20217000 | N28: =F28-L28 -> 0
E29: 217 재료비기타 | F29: ='예산세출(사무국)'!P169+'예산세출(마두)'!P111+'예산세출(일산서구)'!P79 -> 15686000 | G29: ='예산세출(사무국)'!Q169+'예산세출(마두)'!Q111+'예산세출(일산서구)'!Q79 -> 15686000 | H29: =F29-G29 -> 0 | I29: =H29/G29 -> 0 | L29: 15686000 | N29: =F29-L29 -> 0
E30: 218 행사홍보비 | F30: ='예산세출(사무국)'!P173+'예산세출(진로)'!P68+'예산세출(성사)'!P91+'예산세출(백마)'!P73+'예산세출(능곡)'!P56 -> 18738000 | G30: ='예산세출(사무국)'!Q173+'예산세출(진로)'!Q68+'예산세출(성사)'!Q91+'예산세출(백마)'!Q73+'예산세출(능곡)'!Q56 -> 17969000 | H30: =F30-G30 -> 769000 | I30: =H30/G30 -> 0.042795926 | L30: 18738000 | N30: =F30-L30 -> 0
E31: 220 회의운영비 | F31: ='예산세출(사무국)'!P180+'예산세출(마두)'!P115+'예산세출(일산서구)'!P84 -> 19400000 | G31: ='예산세출(사무국)'!Q180+'예산세출(마두)'!Q115+'예산세출(일산서구)'!Q84 -> 16000000 | H31: =F31-G31 -> 3400000 | I31: =H31/G31 -> 0.2125 | L31: 17200000 | N31: =F31-L31 -> 2200000
E32: 221 연구개발비 | F32: ='예산세출(사무국)'!P197 -> 15000000 | G32: ='예산세출(사무국)'!Q197 -> 15000000 | H32: =F32-G32 -> 0 | I32: =H32/G32 -> 0 | L32: 15000000 | N32: =F32-L32 -> 0
E33: 401-1 시설비 | F33: ='예산세출(능곡)'!P60+'예산세출(일산서구)'!P88 -> 33869000 | G33: ='예산세출(능곡)'!Q60+'예산세출(일산서구)'!Q88 -> 33869000 | H33: =F33-G33 -> 0 | I33: =H33/G33 -> 0 | L33: 33869000 | N33: =F33-L33 -> 0
D34: 405 자산취득비 | F34: =F35 -> 16420000 | G34: =G35 -> 19554000 | H34: =F34-G34 -> -3134000 | I34: =H34/G34 -> -0.16027411 | L34: 16420000 | N34: =F34-L34 -> 0
E35: 405-1 자산취득비 | F35: ='예산세출(사무국)'!P201+'예산세출(마두)'!P121+'예산세출(진로)'!P73+'예산세출(주교)'!P63+'예산세출(일산서구)'!P93+'예산세출(상담)'!P133+'예산세출(화정)'!P82+'예산세출(능곡)'!P64 -> 16420000 | G35: ='예산세출(사무국)'!Q201+'예산세출(마두)'!Q121+'예산세출(진로)'!Q73+'예산세출(주교)'!Q63+'예산세출(일산서구)'!Q93+'예산세출(상담)'!Q133+'예산세출(화정)'!Q82+'예산세출(능곡)'!Q64 -> 19554000 | H35: =F35-G35 -> -3134000 | I35: =H35/G35 -> -0.16027411 | L35: 16420000 | N35: =F35-L35 -> 0
D36: 713 성과급 | F36: =F37 -> 91448000 | G36: =G37 -> 91448000 | H36: =F36-G36 -> 0 | I36: =H36/G36 -> 0 | L36: 91448000 | N36: =F36-L36 -> 0
E37: 713-1 성과급 | F37: ='예산세출(사무국)'!P207 -> 91448000 | G37: ='예산세출(사무국)'!Q207 -> 91448000 | H37: =F37-G37 -> 0 | I37: =H37/G37 -> 0 | L37: 91448000 | N37: =F37-L37 -> 0
C38: 720 청소년사업비 | F38: =F39+F43 -> 3109529800 | G38: =G39+G43 -> 2960729000 | H38: =F38-G38 -> 148800800 | I38: =H38/G38 -> 0.050258163 | L38: 3110229800 | N38: =F38-L38 -> -700000
D39: 721 보조금사업비 | F39: =SUM(F40:F42) -> 2251639800 | G39: =SUM(G40:G42) -> 2108749000 | H39: =F39-G39 -> 142890800 | I39: =H39/G39 -> 0.067760933 | L39: 2252339800 | N39: =F39-L39 -> -700000
E40: 721-1 국도시비보조금사업비 | F40: ='예산세출(사무국)'!P213+'예산세출(마두)'!P127+'예산세출(진로)'!P78+'예산세출(성사)'!P98+'예산세출(탄현)'!P63+'예산세출(일산서구)'!P98+'예산세출(토당)'!P99+'예산세출(상담)'!P138-700000 -> 2094819800 | G40: ='예산세출(사무국)'!Q213+'예산세출(마두)'!Q127+'예산세출(진로)'!Q78+'예산세출(성사)'!Q98+'예산세출(탄현)'!Q63+'예산세출(일산서구)'!Q98+'예산세출(토당)'!Q99+'예산세출(상담)'!Q138 -> 2060049000 | H40: =F40-G40 -> 34770800 | I40: =H40/G40 -> 0.016878628 | L40: 2095519800 | N40: =F40-L40 -> -700000
...

Sheet 세입·세출예산 총괄표(조직별)5
A1: 세입·세출예산 총괄표(조직별)
A3: 2019년 2차 추경 세입·세출예산(안) | J3: [단위:천원]
A4: 구 분 | B4: ='예 산 규 모1'!B3 -> 2019년추경액(A) | F4: ='예 산 규 모1'!D3 -> 2019년기정액(B) | J4: 증감액(A-B) | N4: 증감률
B5: 합계 | C5: 출연금 | D5: 보조금 | E5: 자부담 | F5: 합계 | G5: 출연금 | H5: 보조금 | I5: 자부담 | J5: 합계 | K5: =C5 -> 출연금 | L5: =D5 -> 보조금 | M5: =E5 -> 자부담 | N5: 합계 | O5: =K5 -> 출연금 | P5: =L5 -> 보조금 | Q5: =M5 -> 자부담
A6: 총 계 | B6: =SUM(B7:B18) -> 11461817800 | C6: =SUM(C7:C18) -> 5914513000 | D6: =SUM(D7:D18) -> 2251639800 | E6: =SUM(E7:E18) -> 3295665000 | F6: =SUM(F7:F18) -> 11354560000 | G6: =SUM(G7:G18) -> 5914513000 | H6: =SUM(H7:H18) -> 2065749000 | I6: =SUM(I7:I18) -> 3374298000 | J6: =SUM(J7:J18) -> 107257800 | K6: =C6-G6 -> 0 | L6: =D6-H6 -> 185890800 | M6: =E6-I6 -> -78633000 | N6: =J6/F6 -> 0.0094462313 | O6: =K6/G6 -> 0 | P6: =L6/H6 -> 0.089987118 | Q6: =M6/I6 -> -0.023303514
A7: 사무국 | B7: =C7+D7+E7 -> 4121540000 | C7: 3222569000 | D7: 38420000 | E7: 860551000 | F7: =SUM(G7:I7) -> 4148594000 | G7: 3222569000 | H7: 38420000 | I7: 887605000 | J7: =SUM(K7:M7) -> -27054000 | K7: =C7-G7 -> 0 | L7: =D7-H7 -> 0 | M7: =E7-I7 -> -27054000 | N7: =J7/F7 -> -0.0065212455 | O7: =K7/G7 -> 0 | P7: =L7/H7 -> 0 | Q7: =M7/I7 -> -0.030479774
A8: 마두청소년수련관 | B8: =C8+D8+E8 -> 1250861000 | C8: 318913000 | D8: 65880000 | E8: 866068000 | F8: =SUM(G8:I8) -> 1266311000 | G8: 318913000 | H8: 65880000 | I8: 881518000 | J8: =SUM(K8:M8) -> -15450000 | K8: =C8-G8 -> 0 | L8: =D8-H8 -> 0 | M8: =E8-I8 -> -15450000 | N8: =J8/F8 -> -0.012200794 | O8: =K8/G8 -> 0 | P8: =L8/H8 -> 0 | Q8: =M8/I8 -> -0.017526585
A9: 고양시 청소년진로센터 | B9: =C9+D9+E9 -> 670584000 | C9: 61258000 | D9: 590630000 | E9: 18696000 | F9: =SUM(G9:I9) -> 553461000 | G9: 61258000 | H9: 447630000 | I9: 44573000 | J9: =SUM(K9:M9) -> 117123000 | K9: =C9-G9 -> 0 | L9: =D9-H9 -> 143000000 | M9: =E9-I9 -> -25877000 | N9: =J9/F9 -> 0.21161925 | O9: =K9/G9 -> 0 | P9: =L9/H9 -> 0.31946027 | Q9: =M9/I9 -> -0.58055325
A10: 성사 청소년문화의집 | B10: =C10+D10+E10 -> 466283000 | C10: 184082000 | D10: 252562000 | E10: 29639000 | F10: =SUM(G10:I10) -> 466283000 | G10: 184082000 | H10: 250562000 | I10: 31639000 | J10: =SUM(K10:M10) -> 0 | K10: =C10-G10 -> 0 | L10: =D10-H10 -> 2000000 | M10: =E10-I10 -> -2000000 | N10: =J10/F10 -> 0 | O10: =K10/G10 -> 0 | P10: =L10/H10 -> 0.0079820563 | Q10: =M10/I10 -> -0.063213123
A11: 탄현 청소년문화의집 | B11: =C11+D11+E11 -> 225812000 | C11: 86947000 | D11: 27080000 | E11: 111785000 | F11: =SUM(G11:I11) -> 241613000 | G11: 86947000 | H11: 27080000 | I11: 127586000 | J11: =SUM(K11:M11) -> -15801000 | K11: =C11-G11 -> 0 | L11: =D11-H11 -> 0 | M11: =E11-I11 -> -15801000 | N11: =J11/F11 -> -0.065397971 | O11: =K11/G11 -> 0 | P11: =L11/H11 -> 0 | Q11: =M11/I11 -> -0.12384588
A12: 주교동청소년카페 | B12: =C12+D12+E12 -> 37449000 | C12: 16041000 | D12: 0 | E12: 21408000 | F12: =SUM(G12:I12) -> 36969000 | G12: 16041000 | H12: 0 | I12: 20928000 | J12: =SUM(K12:M12) -> 480000 | K12: =C12-G12 -> 0 | L12: =D12-H12 -> 0 | M12: =E12-I12 -> 480000 | N12: =J12/F12 -> 0.012983851 | O12: =K12/G12 -> 0 | Q12: =M12/I12 -> 0.02293578
A13: 일산서구 청소년수련관 | B13: =C13+D13+E13 -> 944153000 | C13: 423402000 | D13: 145770000 | E13: 374981000 | F13: =SUM(G13:I13) -> 1048085000 | G13: 423402000 | H13: 165202000 | I13: 459481000 | J13: =SUM(K13:M13) -> -103932000 | K13: =C13-G13 -> 0 | L13: =D13-H13 -> -19432000 | M13: =E13-I13 -> -84500000 | N13: =J13/F13 -> -0.099163713 | O13: =K13/G13 -> 0 | P13: =L13/H13 -> -0.11762569 | Q13: =M13/I13 -> -0.18390314
A14: 토당청소년수련관 | B14: =C14+D14+E14 -> 2059049000 | C14: 931104000 | D14: 236042000 | E14: 891903000 | F14: =SUM(G14:I14) -> 1933404000 | G14: 931104000 | H14: 183822000 | I14: 818478000 | J14: =SUM(K14:M14) -> 125645000 | K14: =C14-G14 -> 0 | L14: =D14-H14 -> 52220000 | M14: =E14-I14 -> 73425000 | N14: =J14/F14 -> 0.064986418 | O14: =K14/G14 -> 0 | P14: =L14/H14 -> 0.28407916 | Q14: =M14/I14 -> 0.089709192
A15: 고양시청소년 상담복지센터 | B15: =C15+D15+E15 -> 1335135800 | C15: 375948000 | D15: ='세입 세부내역서(조직별)7'!B31 -> 895255800 | E15: 63932000 | F15: =SUM(G15:I15) -> 1311228000 | G15: 375948000 | H15: 887153000 | I15: 48127000 | J15: =SUM(K15:M15) -> 23907800 | K15: =C15-G15 -> 0 | L15: =D15-H15 -> 8102800 | M15: =E15-I15 -> 15805000 | N15: =J15/F15 -> 0.018233137 | O15: =K15/G15 -> 0 | P15: =L15/H15 -> 0.0091334866 | Q15: =M15/I15 -> 0.32840194
A16: 화정청소년카페 | B16: =C16+D16+E16 -> 157291000 | C16: 116324000 | D16: 0 | E16: 40967000 | F16: =SUM(G16:I16) -> 155824000 | G16: 116324000 | H16: 0 | I16: 39500000 | J16: =SUM(K16:M16) -> 1467000 | K16: =C16-G16 -> 0 | L16: =D16-H16 -> 0 | M16: =E16-I16 -> 1467000 | N16: =J16/F16 -> 0.0094144676 | O16: =K16/G16 -> 0 | Q16: =M16/I16 -> 0.037139241
A17: 백마역청소년카페 | B17: =C17+D17+E17 -> 102266000 | C17: 89380000 | D17: 0 | E17: 12886000 | F17: =SUM(G17:I17) -> 101394000 | G17: 89380000 | H17: 0 | I17: 12014000 | J17: =SUM(K17:M17) -> 872000 | K17: =C17-G17 -> 0 | L17: =D17-H17 -> 0 | M17: =E17-I17 -> 872000 | N17: =J17/F17 -> 0.0086001144 | O17: =K17/G17 -> 0 | Q17: =M17/I17 -> 0.072581988
A18: 능곡역청소년카페 | B18: =C18+D18+E18 -> 91394000 | C18: 88545000 | D18: 0 | E18: 2849000 | F18: =SUM(G18:I18) -> 91394000 | G18: 88545000 | H18: 0 | I18: 2849000 | J18: =SUM(K18:M18) -> 0 | K18: =C18-G18 -> 0 | L18: =D18-H18 -> 0 | M18: =E18-I18 -> 0 | N18: =J18/F18 -> 0 | O18: =K18/G18 -> 0 | Q18: =M18/I18 -> 0
A22: 사무국 | B22: 4121540000 | D22: =C7+D7 -> 3260989000 | E22: =B22-D22 -> 860551000
A23: 마두청소년수련관 | B23: 1250861000 | D23: =C8+D8 -> 384793000 | E23: =B23-D23 -> 866068000
A24: 고양시청소년진로센터 | B24: 670584000 | D24: =C9+D9 -> 651888000 | E24: =B24-D24 -> 18696000
A25: 성사청소년문화의집 | B25: 466283000 | D25: =C10+D10 -> 436644000 | E25: =B25-D25 -> 29639000
A26: 탄현청소년문화의집 | B26: 225812000 | D26: =C11+D11 -> 114027000 | E26: =B26-D26 -> 111785000
A27: 주교동청소년카페 | B27: 37449000 | D27: =C12+D12 -> 16041000 | E27: =B27-D27 -> 21408000
A28: 일산서구청소년수련관 | B28: 944153000 | D28: =C13+D13 -> 569172000 | E28: =B28-D28 -> 374981000
A29: 토당청소년수련관 | B29: 2059049000 | D29: =C14+D14 -> 1167146000 | E29: =B29-D29 -> 891903000
A30: 고양시청소년상담복지센터 | B30: 1335135800 | D30: =C15+D15 -> 1271203800 | E30: =B30-D30 -> 63932000
A31: 화정청소년카페 | B31: 157291000 | D31: =C16+D16 -> 116324000 | E31: =B31-D31 -> 40967000
A32: 백마역청소년카페 | B32: 102266000 | D32: =C17+D17 -> 89380000 | E32: =B32-D32 -> 12886000
A33: 능곡역청소년카페 | B33: 91394000 | D33: =C18+D18 -> 88545000 | E33: =B33-D33 -> 2849000

Sheet 세입·세출예산 세부 총괄표(조직별)6
A1: 세입·세출예산 세부 총괄표(조직별)
A2: 2019년 2차 추경 세입·세출예산(안) | M2: [단위:천원]
A3: 세 입 | H3: 세 출
A4: 예산과목 | B4: ='세입·세출예산 총괄표(성질별)2'!B4 -> 2019년추경액(A) | D4: ='세입·세출예산 총괄표(성질별)2'!D4 -> 2019년기정액(B) | F4: 증 감(A-B) | H4: =A4 -> 예산과목 | I4: =B4 -> 2019년추경액(A) | K4: =D4 -> 2019년기정액(B) | M4: 증 감(A-B)
B5: 금 액 | C5: 구성비 | D5: 금 액 | E5: 구성비 | F5: 금 액 | G5: 증감률 | I5: 금 액 | J5: 구성비 | K5: 금 액 | L5: 구성비 | M5: 금 액 | N5: 증감률
A6: 총 계 | B6: =SUM(B7,B73) -> 11461817800 | C6: =C7+C73 -> 0.99998761 | D6: =SUM(D7,D73) -> 11354560000 | E6: =E7+E73 -> 1 | F6: =B6-D6 -> 107257800 | G6: =+F6/D6 -> 0.0094462313 | H6: 총 계 | I6: =SUM(I7,I73) -> 11461817800 | J6: =+J7+J73 -> 1 | K6: =SUM(K7,K73) -> 11354560000 | L6: =L7+L73 -> 1 | M6: =I6-K6 -> 107257800 | N6: =+M6/K6 -> 0.0094462313 | T6: =I6-P6 -> 11461817800
A7: 영업외수익 | B7: 9137074800 | C7: 0.79717502 | D7: 8982050000 | E7: 0.79105223 | F7: 79582800 | G7: 0.0088602045 | H7: 사업비용 | I7: 8225102800 | J7: 0.71760893 | K7: 8043024000 | L7: 0.70835189 | M7: 182078800 | N7: 0.022638102
A8: 지자체출자출연금 | B8: 4313212000 | C8: 0.37631134 | D8: 4313212000 | E8: 0.37986606 | F8: 0 | G8: 0 | H8: 인건비 | I8: 3588237000 | J8: 0.31306003 | K8: 3547562000 | L8: 0.312435 | M8: 40675000 | N8: 0.011465621 | Q8: 2019년 | R8: 2018년
A9: 사무국 | B9: 3222569000 | C9: 0.28115689 | D9: 3222569000 | E9: 0.28381276 | F9: 0 | G9: 0 | H9: 사무국 | I9: 2200111000 | J9: 0.19195132 | K9: 2200111000 | L9: 0.19376453 | M9: 0 | N9: 0 | P9: 사무국 | Q9: =SUMIFS($B$9:$B$9989,$A$9:$A$9989,"사무국") -> 4121540000 | R9: =SUMIF($A$9:$A$9989,"사무국",$D$9:$D$9989) -> 4148594000 | S9: =Q9-R9 -> -27054000 | U9: 사무국 | V9: =SUMIFS($I:$I,$H:$H,U9) -> 4121540000 | W9: =SUMIFS($K$8:$K$128,$H$8:$H$128,"사무국") -> 4148594000
A10: 마두청소년수련관 | B10: 318913000 | C10: 0.027823946 | D10: 318913000 | E10: 0.028086777 | F10: 0 | G10: 0 | H10: 마두청소년수련관 | I10: 17903000 | J10: 0.0015619686 | K10: 12925000 | L10: 0.0011383092 | M10: 4978000 | N10: 0.38514507 | P10: 마두청소년수련관 | Q10: =SUMIFS($B$9:$B$9989,$A$9:$A$9989,"마두청소년수련관") -> 1250861000 | R10: =SUMIF($A$9:$A$9989,"마두청소년수련관",$D$9:$D$9989) -> 1266311000 | S10: =Q10-R10 -> -15450000 | U10: 마두청소년수련관 | V10: =SUMIFS($I:$I,$H:$H,U10) -> 1250861000 | W10: =SUMIFS($K$8:$K$128,$H$8:$H$128,"마두청소년수련관") -> 1178909000
A11: 고양시청소년진로센터 | B11: 61258000 | C11: 0.0053445275 | D11: 61258000 | E11: 0.0053950131 | F11: 0 | G11: 0 | H11: 고양시청소년진로센터 | I11: 38371000 | J11: 0.0033477238 | K11: 21248000 | L11: 0.0018713187 | M11: 17123000 | N11: 0.80586408 | P11: 고양시청소년진로센터 | Q11: =SUMIFS($B$9:$B$9989,$A$9:$A$9989,"고양시청소년진로센터") -> 670584000 | R11: =SUMIF($A$9:$A$9989,"고양시청소년진로센터",$D$9:$D$9989) -> 553461000 | S11: =Q11-R11 -> 117123000 | U11: 고양시청소년진로센터 | V11: =SUMIFS($I:$I,$H:$H,U11) -> 670584000 | W11: =SUMIFS($K$8:$K$128,$H$8:$H$128,"고양시청소년진로센터") -> 553461000
A12: 성사청소년문화의집 | B12: 184082000 | C12: 0.016060454 | D12: 184082000 | E12: 0.016212165 | F12: 0 | G12: 0 | H12: 성사청소년문화의집 | I12: 37340000 | J12: 0.003257773 | K12: 37340000 | L12: 0.0032885466 | M12: 0 | N12: 0 | P12: 성사청소년문화의집 | Q12: =SUMIFS($B$9:$B$9989,$A$9:$A$9989,"성사청소년문화의집") -> 466283000 | R12: =SUMIF($A$9:$A$9989,"성사청소년문화의집",$D$9:$D$9989) -> 466283000 | S12: =Q12-R12 -> 0 | U12: 성사청소년문화의집 | V12: =SUMIFS($I:$I,$H:$H,U12) -> 466283000 | W12: =SUMIFS($K$8:$K$128,$H$8:$H$128,"성사청소년문화의집") -> 458574000
A13: 탄현청소년문화의집 | B13: 86947000 | C13: 0.007585795 | D13: 86947000 | E13: 0.0076574522 | F13: 0 | G13: 0 | H13: 탄현청소년문화의집 | I13: 35516000 | J13: 0.0030986359 | K13: 32717000 | L13: 0.0028813974 | M13: 2799000 | N13: 0.085551854 | P13: 탄현청소년문화의집 | Q13: =SUMIFS($B$9:$B$9989,$A$9:$A$9989,"탄현청소년문화의집") -> 225812000 | R13: =SUMIF($A$9:$A$9989,"탄현청소년문화의집",$D$9:$D$9989) -> 241613000 | S13: =Q13-R13 -> -15801000 | U13: 탄현청소년문화의집 | V13: =SUMIFS($I:$I,$H:$H,U13) -> 225812000 | W13: =SUMIFS($K$8:$K$128,$H$8:$H$128,"탄현청소년문화의집") -> 241253000
A14: 주교동청소년카페 | B14: 16041000 | C14: 0.0013995162 | D14: 16041000 | E14: 0.0014127364 | F14: 0 | G14: 0 | H14: 주교동청소년카페 | I14: 14672000 | J14: 0.0012800762 | K14: 14672000 | L14: 0.0012921681 | M14: 0 | N14: 0 | P14: 주교동청소년카페 | Q14: =SUMIFS($B$9:$B$9989,$A$9:$A$9989,"주교동청소년카페") -> 37449000 | R14: =SUMIF($A$9:$A$9989,"주교동청소년카페",$D$9:$D$9989) -> 36969000 | S14: =Q14-R14 -> 480000 | U14: 주교동청소년카페 | V14: =SUMIFS($I:$I,$H:$H,U14) -> 37449000 | W14: =SUMIFS($K$8:$K$128,$H$8:$H$128,"주교동청소년카페") -> 36969000
A15: 일산서구청소년수련관 | B15: 423402000 | C15: 0.036940214 | D15: 423402000 | E15: 0.03728916 | F15: 0 | G15: 0 | H15: 일산서구청소년수련관 | I15: 155959000 | J15: 0.013606829 | K15: 140184000 | L15: 0.012346053 | M15: 15775000 | N15: 0.11253067 | P15: 일산서구청소년수련관 | Q15: =SUMIFS($B$9:$B$9989,$A$9:$A$9989,"일산서구청소년수련관") -> 944153000 | R15: =SUMIF($A$9:$A$9989,"일산서구청소년수련관",$D$9:$D$9989) -> 1048085000 | S15: =Q15-R15 -> -103932000 | U15: 일산서구청소년수련관 | V15: =SUMIFS($I:$I,$H:$H,U15) -> 944153000 | W15: =SUMIFS($K$8:$K$128,$H$8:$H$128,"일산서구청소년수련관") -> 1048085000
A16: 보조금수익(출연금위탁교부) | B16: 1601301000 | C16: 0.13970742 | D16: 1601301000 | E16: 0.14102713 | F16: 0 | G16: 0 | H16: 토당청소년수련관 | I16: 612394000 | J16: 0.053429047 | K16: 612394000 | L16: 0.05393375 | M16: 0 | N16: 0 | P16: 토당청소년수련관 | Q16: =SUMIFS($B$9:$B$9989,$A$9:$A$9989,"토당청소년수련관") -> 2059049000 | R16: =SUMIF($A$9:$A$9989,"토당청소년수련관",$D$9:$D$9989) -> 1933404000 | S16: =Q16-R16 -> 125645000 | U16: 토당청소년수련관 | V16: =SUMIFS($I:$I,$H:$H,U16) -> 2059049000 | W16: =SUMIFS($K$8:$K$128,$H$8:$H$128,"토당청소년수련관") -> 1922914000
A17: 토당청소년수련관 | B17: 931104000 | C17: 0.081235282 | D17: 931104000 | E17: 0.082002649 | F17: 0 | G17: 0 | H17: 고양시청소년상담복지센터 | I17: 309399000 | J17: 0.026993886 | K17: 309399000 | L17: 0.027248876 | M17: 0 | N17: 0 | P17: 고양시청소년상담복지센터 | Q17: =SUMIFS($B$9:$B$9989,$A$9:$A$9989,"고양시청소년상담복지센터") -> 1335135800 | R17: =SUMIF($A$9:$A$9989,"고양시청소년상담복지센터",$D$9:$D$9989) -> 1311228000 | S17: =Q17-R17 -> 23907800 | U17: 고양시청소년상담복지센터 | V17: =SUMIFS($I:$I,$H:$H,U17) -> 1335135800 | W17: =SUMIFS($K$8:$K$128,$H$8:$H$128,"고양시청소년상담복지센터") -> 1311228000
A18: 고양시청소년상담복지센터 | B18: 375948000 | C18: 0.032800033 | D18: 375948000 | E18: 0.03310987 | F18: 0 | G18: 0 | H18: 화정청소년카페 | I18: 62617000 | J18: 0.005463095 | K18: 62617000 | L18: 0.0055147007 | M18: 0 | N18: 0 | P18: 화정청소년카페 | Q18: =SUMIFS($B$9:$B$9989,$A$9:$A$9989,"화정청소년카페") -> 157291000 | R18: =SUMIF($A$9:$A$9989,"화정청소년카페",$D$9:$D$9989) -> 155824000 | S18: =Q18-R18 -> 1467000 | U18: 화정청소년카페 | V18: =SUMIFS($I:$I,$H:$H,U18) -> 157291000 | W18: =SUMIFS($K$8:$K$128,$H$8:$H$128,"화정청소년카페") -> 155824000
A19: 화정청소년카페 | B19: 116324000 | C19: 0.010148826 | D19: 116324000 | E19: 0.010244695 | F19: 0 | G19: 0 | H19: 백마역청소년카페 | I19: 57190000 | J19: 0.0049896099 | K19: 57190000 | L19: 0.0050367429 | M19: 0 | N19: 0 | P19: 백마역청소년카페 | Q19: =SUMIFS($B$9:$B$9989,$A$9:$A$9989,"백마역청소년카페") -> 102266000 | R19: =SUMIF($A$9:$A$9989,"백마역청소년카페",$D$9:$D$9989) -> 101394000 | S19: =Q19-R19 -> 872000 | U19: 백마역청소년카페 | V19: =SUMIFS($I:$I,$H:$H,U19) -> 102266000 | W19: =SUMIFS($K$8:$K$128,$H$8:$H$128,"백마역청소년카페") -> 101394000
A20: 백마역청소년카페 | B20: 89380000 | C20: 0.007798065 | D20: 89380000 | E20: 0.0078717273 | F20: 0 | G20: 0 | H20: 능곡역청소년카페 | I20: 46765000 | J20: 0.0040800683 | K20: 46765000 | L20: 0.0041186096 | M20: 0 | N20: 0 | P20: 능곡역청소년카페 | Q20: =SUMIFS($B$9:$B$9989,$A$9:$A$9989,"능곡역청소년카페") -> 91394000 | R20: =SUMIF($A$9:$A$9989,"능곡역청소년카페",$D$9:$D$9989) -> 91394000 | S20: =Q20-R20 -> 0 | U20: 능곡역청소년카페 | V20: =SUMIFS($I:$I,$H:$H,U20) -> 91394000 | W20: =SUMIFS($K$8:$K$128,$H$8:$H$128,"능곡역청소년카페") -> 91394000
A21: 능곡역청소년카페 | B21: 88545000 | C21: 0.0077252144 | D21: 88545000 | E21: 0.0077981886 | F21: 0 | G21: 0 | H21: 경비 | I21: 1419468000 | J21: 0.12384318 | K21: 1423731000 | L21: 0.12538848 | M21: -4263000 | N21: -0.0029942454 | Q21: =SUM(Q9:Q20) -> 11461817800 | R21: =SUM(R9:R20) -> 11354560000 | V21: =SUM(V9:V20) -> 11461817800 | W21: =SUM(W9:W20) -> 11248599000
A22: 국도시비보조금 | B22: 2094819800 | C22: 0.18276506 | D22: 2060049000 | E22: 0.18142922 | F22: 34770800 | G22: 0.016878628 | H22: 사무국 | I22: 396810000 | J22: 0.034620163 | K22: 396810000 | L22: 0.034947193 | M22: 0 | N22: 0
A23: 사무국 | B23: 38420000 | C23: 0.0033519988 | D23: 38420000 | E23: 0.0033836626 | F23: 0 | G23: 0 | H23: 마두청소년수련관 | I23: 229906000 | J23: 0.020058424 | K23: 233630000 | L23: 0.020575874 | M23: -3724000 | N23: -0.015939734
A24: 마두청소년수련관 | B24: 65880000 | C24: 0.0057477794 | D24: 65880000 | E24: 0.0058020742 | F24: 0 | G24: 0 | H24: 고양시청소년진로센터 | I24: 38310000 | J24: 0.0033424018 | K24: 38310000 | L24: 0.0033739749 | M24: 0 | N24: 0
A25: 고양시청소년진로센터 | B25: 487630000 | C25: 0.042543862 | D25: 447630000 | E25: 0.039422928 | F25: 40000000 | G25: 0.089359516 | H25: 성사청소년문화의집 | I25: 86150000 | J25: 0.0075162598 | K25: 86150000 | L25: 0.0075872601 | M25: 0 | N25: 0
A26: 성사청소년문화의집 | B26: 252562000 | C26: 0.022035074 | D26: 250562000 | E26: 0.022067081 | F26: 2000000 | G26: 0.0079820563 | H26: 탄현청소년문화의집 | I26: 28890000 | J26: 0.0025205426 | K26: 25630000 | L26: 0.0022572429 | M26: 3260000 | N26: 0.12719469
A27: 탄현청소년문화의집 | B27: 27080000 | C27: 0.002362627 | D27: 27080000 | E27: 0.0023849449 | F27: 0 | G27: 0 | H27: 주교동청소년카페 | I27: 13424000 | J27: 0.0011711929 | K27: 13424000 | L27: 0.0011822563 | M27: 0 | N27: 0
A28: 일산서구청소년수련관 | B28: 140070000 | C28: 0.012220575 | D28: 159502000 | E28: 0.014047396 | F28: -19432000 | G28: -0.12182919 | H28: 일산서구청소년수련관 | I28: 181724000 | J28: 0.015854728 | K28: 195619000 | L28: 0.017228233 | M28: -13895000 | N28: -0.071030933
A29: 토당청소년수련관 | B29: 187922000 | C29: 0.01639548 | D29: 183822000 | E29: 0.016189267 | F29: 4100000 | G29: 0.022304186 | H29: 토당청소년수련관 | I29: 311110000 | J29: 0.027143164 | K29: 311110000 | L29: 0.027399565 | M29: 0 | N29: 0
A30: 고양시청소년상담복지센터 | B30: 895255800 | C30: 0.078107663 | D30: 887153000 | E30: 0.078131869 | F30: 8102800 | G30: 0.0091334866 | H30: 고양시청소년상담복지센터 | I30: 60440000 | J30: 0.0052731601 | K30: 53181000 | L30: 0.0046836689 | M30: 7259000 | N30: 0.13649612
A31: 교육청사업 | B31: 127120000 | C31: 0.011090736 | D31: 43000000 | E31: 0.0037870248 | F31: 60000000 | G31: 1.3953488 | H31: 화정청소년카페 | I31: 23384000 | J31: 0.002040165 | K31: 22207000 | L31: 0.0019557781 | M31: 1177000 | N31: 0.053001306
A32: 고양시청소년진로센터 | B32: 103000000 | C32: 0.0089863582 | D32: 43000000 | E32: 0.0037870248 | F32: 60000000 | G32: 1.3953488 | H32: 백마역청소년카페 | I32: 27240000 | J32: 0.0023765864 | K32: 25580000 | L32: 0.0022528394 | M32: 1660000 | N32: 0.064894449
A33: 토당청소년수련관 | B33: 24120000 | C33: 0.0021043782 | D33: 0 | E33: 0 | F33: 24120000 | H33: 능곡역청소년카페 | I33: 22080000 | J33: 0.001926396 | K33: 22080000 | L33: 0.0019445932 | M33: 0 | N33: 0
A34: 기타보조금 | B34: 29700000 | C34: 0.002591212 | D34: 5700000 | E34: 0.00050200096 | F34: 24000000 | G34: 4.2105263 | H34: 목적사업비 | I34: 857890000 | J34: 0.074847639 | K34: 851980000 | L34: 0.075034171 | M34: 5910000 | N34: 0.0069367826
A35: 일산서구청소년수련관 | B35: 5700000 | C35: 0.00049730332 | D35: 5700000 | E35: 0.00050200096 | F35: 0 | G35: 0 | H35: 사무국 | I35: 528000000 | J35: 0.046065991 | K35: 528000000 | L35: 0.046501141 | M35: 0 | N35: 0
A36: 토당청소년수련관 | B36: 24000000 | C36: 0.0020939087 | D36: 0 | E36: 0 | F36: 24000000 | H36: 마두청소년수련관 | I36: 69004000 | J36: 0.0060203365 | K36: 69004000 | L36: 0.006077206 | M36: 0 | N36: 0
A37: 재단지원금 | B37: 58950000 | C37: 0.0051431632 | D37: 19762000 | E37: 0.0017404461 | F37: 6059000 | G37: 0.30659852 | H37: 성사청소년문화의집 | I37: 60592000 | J37: 0.0052864215 | K37: 60592000 | L37: 0.0053363583 | M37: 0 | N37: 0
A38: 고양시청소년진로센터 | B38: 17123000 | C38: 0.0014939166 | D38: 0 | E38: 0 | F38: 17123000 | H38: 탄현청소년문화의집 | I38: 28600000 | J38: 0.0024952412 | K38: 28600000 | L38: 0.0025188118 | M38: 0 | N38: 0
A39: 탄현청소년문화의집 | B39: 6059000 | C39: 0.0005286247 | D39: 0 | E39: 0 | F39: 6059000 | H39: 주교동청소년카페 | I39: 6307000 | J39: 0.00055026176 | K39: 6307000 | L39: 0.00055545966 | M39: 0 | N39: 0
A40: 주교동청소년카페 | B40: 19762000 | C40: 0.0017241593 | D40: 19762000 | E40: 0.0017404461 | F40: 0 | G40: 0 | H40: 일산서구청소년수련관 | I40: 84599000 | J40: 0.0073809409 | K40: 84599000 | L40: 0.007450663 | M40: 0 | N40: 0
...

Sheet 세입 세부내역서(조직별)7
A1: 세입 세부내역서(조직별)
A3: 2019년 2차 추경 세입·세출예산(안) | F3: [단위:천원]
A4: 세 입
A5: 예산과목 | B5: ='세입·세출예산 총괄표(조직별)5'!B4 -> 2019년추경액(A) | D5: ='세입·세출예산 총괄표(조직별)5'!F4 -> 2019년기정액(B) | F5: 증 감(A-B)
B6: 금액 | C6: 구성비 | D6: 금액 | E6: 구성비 | F6: 금 액 | G6: 증감률
A7: 총 계 | B7: =SUM(B8,B64) -> 11461817800 | C7: =+C8+C64 -> 1 | D7: =SUM(D8,D64) -> 11354560000 | E7: =+E8+E64 -> 1 | F7: =B7-D7 -> 107257800 | G7: =+F7/D7 -> 0.0094462313 | J7: 10967855000 | K7: =B7-J7 -> 493962800
A8: 영업외수익 | B8: =B9+B17+B23+B32+B35+B45+B58+B60+B38+B62 -> 9137074800 | C8: =+B8/$B$7 -> 0.79717502 | D8: =D9+D17+D23+D32+D35+D45+D58+D60+D38+D62 -> 8982050000 | E8: =+D8/$D$7 -> 0.79105223 | F8: =F9+F17+F23+F32+F35+F45+F58+F60 -> 103702800 | G8: =+F8/D8 -> 0.01154556
A9: 지자체출자출연금 | B9: =SUM(B10:B16) -> 4313212000 | C9: =+B9/$B$7 -> 0.37631134 | D9: =SUM(D10:D16) -> 4313212000 | E9: =+D9/$D$7 -> 0.37986606 | F9: =SUM(F10:F16) -> 0 | G9: =+F9/D9 -> 0
A10: 사무국 | B10: ='예산세입(사무국)'!P20 -> 3222569000 | C10: =+B10/$B$7 -> 0.28115689 | D10: ='예산세입(사무국)'!Q21 -> 3222569000 | E10: =+D10/$D$7 -> 0.28381276 | F10: =+B10-D10 -> 0 | G10: =+F10/D10 -> 0 | J10: 추경액 | M10: 합계 | N10: 추경액
A11: 마두청소년수련관 | B11: ='예산세입(마두)'!P86 -> 318913000 | C11: =+B11/$B$7 -> 0.027823946 | D11: ='예산세입(마두)'!Q86 -> 318913000 | E11: =+D11/$D$7 -> 0.028086777 | F11: =+B11-D11 -> 0 | G11: =+F11/D11 -> 0 | I11: 사무국 | J11: =SUMIFS(B:B,A:A,I11) -> 4180490000 | K11: 4180490000 | L11: =J11-K11 -> 0 | M11: =K11-B101 -> 4121540000 | N11: =SUMIFS(D:D,A:A,I11) -> 4168356000 | O11: 4168356000 | P11: =N11-O11 -> 0 | Q11: 3623469000 | R11: =N11-Q11 -> 544887000
A12: 고양시청소년진로센터 | B12: ='예산세입(진로)'!O27 -> 61258000 | C12: =+B12/$B$7 -> 0.0053445275 | D12: ='예산세입(진로)'!Q25 -> 61258000 | E12: =+D12/$D$7 -> 0.0053950131 | F12: =+B12-D12 -> 0 | G12: =+F12/D12 -> 0 | I12: 마두청소년수련관 | J12: =SUMIFS(B:B,A:A,I12) -> 1250861000 | K12: 1250861000 | L12: =J12-K12 -> 0 | M12: =K12 -> 1250861000 | N12: =SUMIFS(D:D,A:A,I12) -> 1266311000 | O12: 1266311000 | P12: =N12-O12 -> 0 | Q12: 1143863000 | R12: =N12-Q12 -> 122448000
A13: 성사청소년문화의집 | B13: ='예산세입(성사)'!P44 -> 184082000 | C13: =+B13/$B$7 -> 0.016060454 | D13: ='예산세입(성사)'!Q44 -> 184082000 | E13: =+D13/$D$7 -> 0.016212165 | F13: =+B13-D13 -> 0 | G13: =+F13/D13 -> 0 | I13: 고양시청소년진로센터 | J13: =SUMIFS(B:B,A:A,I13) -> 670584000 | K13: 670584000 | L13: =J13-K13 -> 0 | M13: =K13 -> 670584000 | N13: =SUMIFS(D:D,A:A,I13) -> 553461000 | O13: 553461000 | P13: =N13-O13 -> 0 | Q13: 61498000 | R13: =N13-Q13 -> 491963000
A14: 탄현청소년문화의집 | B14: ='예산세입(탄현)'!O46 -> 86947000 | C14: =+B14/$B$7 -> 0.007585795 | D14: ='예산세입(탄현)'!Q44 -> 86947000 | E14: =+D14/$D$7 -> 0.0076574522 | F14: =+B14-D14 -> 0 | G14: =+F14/D14 -> 0 | I14: 성사청소년문화의집 | J14: =SUMIFS(B:B,A:A,I14) -> 466283000 | K14: 466283000 | L14: =J14-K14 -> 0 | M14: =K14 -> 466283000 | N14: =SUMIFS(D:D,A:A,I14) -> 466283000 | O14: 466283000 | P14: =N14-O14 -> 0 | Q14: 215312000 | R14: =N14-Q14 -> 250971000
A15: 주교동청소년카페 | B15: ='예산세입(주교)'!O21 -> 16041000 | C15: =+B15/$B$7 -> 0.0013995162 | D15: ='예산세입(주교)'!O21 -> 16041000 | E15: =+D15/$D$7 -> 0.0014127364 | F15: =+B15-D15 -> 0 | G15: =+F15/D15 -> 0 | I15: 탄현청소년문화의집 | J15: =SUMIFS(B:B,A:A,I15) -> 225812000 | K15: 225812000 | L15: =J15-K15 -> 0 | M15: =K15 -> 225812000 | N15: =SUMIFS(D:D,A:A,I15) -> 241613000 | O15: 241613000 | P15: =N15-O15 -> 0 | Q15: 214777000 | R15: =N15-Q15 -> 26836000
A16: 일산서구청소년수련관 | B16: ='예산세입(일산서구)'!P72 -> 423402000 | C16: =+B16/$B$7 -> 0.036940214 | D16: ='예산세입(일산서구)'!Q72 -> 423402000 | E16: =+D16/$D$7 -> 0.03728916 | F16: =+B16-D16 -> 0 | G16: =+F16/D16 -> 0 | I16: 주교동청소년카페 | J16: =SUMIFS(B:B,A:A,I16) -> 37449000 | K16: 37449000 | L16: =J16-K16 -> 0 | M16: =K16 -> 37449000 | N16: =SUMIFS(D:D,A:A,I16) -> 36969000 | O16: 36969000 | P16: =N16-O16 -> 0 | Q16: 16051000 | R16: =N16-Q16 -> 20918000
A17: 보조금수익(출연금위탁교부) | B17: =SUM(B18:B22) -> 1601301000 | C17: =+B17/$B$7 -> 0.13970742 | D17: =SUM(D18:D22) -> 1601301000 | E17: =+D17/$D$7 -> 0.14102713 | F17: =SUM(F18:F22) -> 0 | G17: =+F17/D17 -> 0 | I17: 일산서구청소년수련관 | J17: =SUMIFS(B:B,A:A,I17) -> 944153000 | K17: 944153000 | L17: =J17-K17 -> 0 | M17: =K17 -> 944153000 | N17: =SUMIFS(D:D,A:A,I17) -> 1048085000 | O17: 1048085000 | P17: =N17-O17 -> 0 | Q17: 914627000 | R17: =N17-Q17 -> 133458000
A18: 토당청소년수련관 | B18: ='예산세입(토당)'!O80 -> 931104000 | C18: =+B18/$B$7 -> 0.081235282 | D18: ='예산세입(토당)'!Q79 -> 931104000 | E18: =+D18/$D$7 -> 0.082002649 | F18: =+B18-D18 -> 0 | G18: =+F18/D18 -> 0 | I18: 토당청소년수련관 | J18: =SUMIFS(B:B,A:A,I18) -> 2059049000 | K18: 2059049000 | L18: =J18-K18 -> 0 | M18: =K18 -> 2059049000 | N18: =SUMIFS(D:D,A:A,I18) -> 1933404000 | O18: 1933404000 | P18: =N18-O18 -> 0 | Q18: 1749582000 | R18: =N18-Q18 -> 183822000
A19: 고양시청소년상담복지센터 | B19: ='예산세입(상담)'!O22 -> 375948000 | C19: =+B19/$B$7 -> 0.032800033 | D19: ='예산세입(상담)'!Q21 -> 375948000 | E19: =+D19/$D$7 -> 0.03310987 | F19: =+B19-D19 -> 0 | G19: =+F19/D19 -> 0 | I19: 고양시청소년상담복지센터 | J19: =SUMIFS(B:B,A:A,I19) -> 1335835800 | K19: 1335835800 | L19: =J19-K19 -> 0 | M19: =K19-700000 -> 1335135800 | N19: =SUMIFS(D:D,A:A,I19) -> 1311228000 | O19: 1311228000 | P19: =N19-O19 -> 0 | Q19: 424075000 | R19: =N19-Q19 -> 887153000
A20: 화정청소년카페 | B20: ='예산세입(화정)'!O31 -> 116324000 | C20: =+B20/$B$7 -> 0.010148826 | D20: ='예산세입(화정)'!Q29 -> 116324000 | E20: =+D20/$D$7 -> 0.010244695 | F20: =+B20-D20 -> 0 | G20: =+F20/D20 -> 0 | I20: 화정청소년카페 | J20: =SUMIFS(B:B,A:A,I20) -> 157291000 | K20: 157291000 | L20: =J20-K20 -> 0 | M20: =K20 -> 157291000 | N20: =SUMIFS(D:D,A:A,I20) -> 155824000 | O20: 155824000 | P20: =N20-O20 -> 0 | Q20: 155824000 | R20: =N20-Q20 -> 0
A21: 백마역청소년카페 | B21: ='예산세입(백마)'!O20 -> 89380000 | C21: =+B21/$B$7 -> 0.007798065 | D21: ='예산세입(백마)'!Q18 -> 89380000 | E21: =+D21/$D$7 -> 0.0078717273 | F21: =+B21-D21 -> 0 | G21: =+F21/D21 -> 0 | I21: 백마역청소년카페 | J21: =SUMIFS(B:B,A:A,I21) -> 102266000 | K21: 102266000 | L21: =J21-K21 -> 0 | M21: =K21 -> 102266000 | N21: =SUMIFS(D:D,A:A,I21) -> 101394000 | O21: 101394000 | P21: =N21-O21 -> 0 | Q21: 101394000 | R21: =N21-Q21 -> 0
A22: 능곡역청소년카페 | B22: ='예산세입(능곡)'!P18 -> 88545000 | C22: =+B22/$B$7 -> 0.0077252144 | D22: ='예산세입(능곡)'!Q19 -> 88545000 | E22: =+D22/$D$7 -> 0.0077981886 | F22: =+B22-D22 -> 0 | G22: =+F22/D22 -> 0 | I22: 능곡역청소년카페 | J22: =SUMIFS(B:B,A:A,I22) -> 91394000 | K22: 91394000 | L22: =J22-K22 -> 0 | M22: =K22 -> 91394000 | N22: =SUMIFS(D:D,A:A,I22) -> 91394000 | O22: 91394000 | P22: =N22-O22 -> 0 | Q22: 91355000 | R22: =N22-Q22 -> 39000
A23: 국도시비보조금 | B23: =SUM(B24:B31) -> 2094819800 | C23: =+B23/$B$7 -> 0.18276506 | D23: =SUM(D24:D31) -> 2060049000 | E23: =+D23/$D$7 -> 0.18142922 | F23: =SUM(F24:F31) -> 34770800 | G23: =+F23/D23 -> 0.016878628 | O23: =SUM(O11:O22) -> 11374322000
A24: 사무국 | B24: ='예산세입(사무국)'!P13 -> 38420000 | C24: =+B24/$B$7 -> 0.0033519988 | D24: ='예산세입(사무국)'!Q13 -> 38420000 | E24: =+D24/$D$7 -> 0.0033836626 | F24: =+B24-D24 -> 0 | G24: =+F24/D24 -> 0 | J24: =SUM(J11:J23) -> 11521467800 | K24: =SUM(K11:K23) -> 11521467800 | M24: =SUM(M11:M23) -> 11461817800
A25: 마두청소년수련관 | B25: ='예산세입(마두)'!P74 -> 65880000 | C25: =+B25/$B$7 -> 0.0057477794 | D25: ='예산세입(마두)'!Q74 -> 65880000 | E25: =+D25/$D$7 -> 0.0058020742 | F25: =+B25-D25 -> 0 | G25: =+F25/D25 -> 0 | O25: =O23-D38 -> 11354560000
A26: 고양시청소년진로센터 | B26: ='예산세입(진로)'!P13 -> 487630000 | C26: =+B26/$B$7 -> 0.042543862 | D26: ='예산세입(진로)'!Q13 -> 447630000 | E26: =+D26/$D$7 -> 0.039422928 | F26: =+B26-D26 -> 40000000 | G26: =+F26/D26 -> 0.089359516 | M26: 11461817800
A27: 성사청소년문화의집 | B27: ='예산세입(성사)'!P30 -> 252562000 | C27: =+B27/$B$7 -> 0.022035074 | D27: ='예산세입(성사)'!Q30 -> 250562000 | E27: =+D27/$D$7 -> 0.022067081 | F27: =+B27-D27 -> 2000000 | G27: =+F27/D27 -> 0.0079820563 | K27: =K24-B101 -> 11462517800
A28: 탄현청소년문화의집 | B28: ='예산세입(탄현)'!P38 -> 27080000 | C28: =+B28/$B$7 -> 0.002362627 | D28: ='예산세입(탄현)'!Q38 -> 27080000 | E28: =+D28/$D$7 -> 0.0023849449 | F28: =+B28-D28 -> 0 | G28: =+F28/D28 -> 0
A29: 일산서구청소년수련관 | B29: ='예산세입(일산서구)'!P63 -> 140070000 | C29: =+B29/$B$7 -> 0.012220575 | D29: ='예산세입(일산서구)'!Q63 -> 159502000 | E29: =+D29/$D$7 -> 0.014047396 | F29: =+B29-D29 -> -19432000 | G29: =+F29/D29 -> -0.12182919
A30: 토당청소년수련관 | B30: ='예산세입(토당)'!O81+'예산세입(토당)'!O83+'예산세입(토당)'!O85+'예산세입(토당)'!O87 -> 187922000 | C30: =+B30/$B$7 -> 0.01639548 | D30: ='예산세입(토당)'!O81+'예산세입(토당)'!O83+'예산세입(토당)'!O85 -> 183822000 | E30: =+D30/$D$7 -> 0.016189267 | F30: =+B30-D30 -> 4100000 | G30: =+F30/D30 -> 0.022304186 | J30: =A23 -> 국도시비보조금 | K30: =A32 -> 교육청보조금 | L30: =A35 -> 기타보조금
A31: 고양시청소년상담복지센터 | B31: ='예산세입(상담)'!O24+'예산세입(상담)'!O26+'예산세입(상담)'!O28+'예산세입(상담)'!O30+'예산세입(상담)'!O32+'예산세입(상담)'!O34+'예산세입(상담)'!O36+'예산세입(상담)'!O38-B102 -> 895255800 | C31: =+B31/$B$7 -> 0.078107663 | D31: ='예산세입(상담)'!Q24+'예산세입(상담)'!Q26+'예산세입(상담)'!Q28+'예산세입(상담)'!Q30+'예산세입(상담)'!Q32 -> 887153000 | E31: =+D31/$D$7 -> 0.078131869 | F31: =+B31-D31 -> 8102800 | G31: =+F31/D31 -> 0.0091334866 | I31: 사무국 | J31: 38420000 | M31: =J31+K31+L31 -> 38420000
A32: 교육청보조금 | B32: =SUM(B33:B34) -> 127120000 | C32: =+B32/$B$7 -> 0.011090736 | D32: =SUM(D33:D34) -> 43000000 | E32: =+D32/$D$7 -> 0.0037870248 | F32: =SUM(F33:F34) -> 84120000 | G32: =+F32/D32 -> 1.9562791 | I32: 마두청소년수련관 | J32: 65880000 | M32: =J32+K32+L32 -> 65880000
A33: 고양시청소년진로센터 | B33: ='예산세입(진로)'!P17 -> 103000000 | C33: =+B33/$B$7 -> 0.0089863582 | D33: ='예산세입(진로)'!Q17 -> 43000000 | E33: =+D33/$D$7 -> 0.0037870248 | F33: =+B33-D33 -> 60000000 | G33: =+F33/D33 -> 1.3953488 | I33: 고양시청소년진로센터 | J33: 487630000 | K33: =B33 -> 103000000 | M33: =J33+K33+L33 -> 590630000
A34: 토당청소년수련관 | B34: ='예산세입(토당)'!P89 -> 24120000 | C34: =+B34/$B$7 -> 0.0021043782 | D34: 0 | E34: =+D34/$D$7 -> 0 | F34: =+B34-D34 -> 24120000 | I34: 성사청소년문화의집 | J34: 252562000 | M34: =J34+K34+L34 -> 252562000
A35: 기타보조금 | B35: =SUM(B36:B37) -> 29700000 | C35: =+B35/$B$7 -> 0.002591212 | D35: =SUM(D36:D37) -> 5700000 | E35: =+D35/$D$7 -> 0.00050200096 | F35: =SUM(F36:F37) -> 24000000 | G35: =+F35/D35 -> 4.2105263 | I35: 탄현청소년문화의집 | J35: 27080000 | M35: =J35+K35+L35 -> 27080000
A36: 일산서구청소년수련관 | B36: ='예산세입(일산서구)'!P68 -> 5700000 | C36: =+B36/$B$7 -> 0.00049730332 | D36: ='예산세입(일산서구)'!Q68 -> 5700000 | E36: =+D36/$D$7 -> 0.00050200096 | F36: =+B36-D36 -> 0 | G36: =+F36/D36 -> 0 | I36: 일산서구청소년수련관 | J36: 140070000 | L36: =B36 -> 5700000 | M36: =J36+K36+L36 -> 145770000
A37: 토당청소년수련관 | B37: ='예산세입(토당)'!P94 -> 24000000 | C37: =+B37/$B$7 -> 0.0020939087 | D37: ='예산세입(토당)'!Q94 -> 0 | E37: =+D37/$D$7 -> 0 | F37: =+B37-D37 -> 24000000 | I37: 토당청소년수련관 | J37: 187922000 | K37: =B34 -> 24120000 | L37: =B37 -> 24000000 | M37: =J37+K37+L37 -> 236042000
A38: 재단지원금 | B38: =SUM(B39:B44) -> 58950000 | C38: =+B38/$B$7 -> 0.0051431632 | D38: =SUM(D39:D44) -> 19762000 | E38: =+D38/$D$7 -> 0.0017404461 | F38: =SUM(F39:F44) -> 39188000 | G38: =+F38/D38 -> 1.9829977 | I38: 고양시청소년상담복지센터 | J38: 895955800 | M38: =J38+K38+L38 -> 895955800
