Workbook
Name 은행코드: '[1]추산계좌(2분기)'!#REF!
Name 은행코드: '[1]추산계좌(2분기)'!#REF!
Name 은행코드: '[1]추산계좌(2분기)'!#REF!
Name 은행코드: '[1]추산계좌(2분기)'!#REF!
Name 은행코드: '[1]추산계좌(2분기)'!#REF!
Name 은행코드: '[1]추산계좌(2분기)'!#REF!
Name 은행코드: '[1]추산계좌(2분기)'!#REF!
Name 은행코드: '[1]추산계좌(2분기)'!#REF!

Sheet 표지
E14: 2019년도 2차 추경
E18: 세입·세출예산서(안)
B91: 2019년도 2차 추경 세입·세출예산서(안)

Sheet 목차
B1: 목 차
A3: 1 | B3: 예산총칙 | D3: 1
A5: 2 | B5: 2019년 2차 추경 세입·세출예산(안) | D5: 4
B7: ○ 예산규모 | D7: 5
B9: ○ 세입·세출예산 총괄표(성질별) | D9: 6
B11: ○ 세입 세부내역서(성질별) | D11: 7
B13: ○ 세출 세부내역서(성질별) | D13: 8
B15: ○ 세입·세출예산 총괄표(조직별) | D15: 11
B17: ○ 세입·세출예산 세부 총괄표(조직별) | D17: 12
B19: ○ 세입 세부내역서(조직별) | D19: 14
B21: ○ 세출 세부내역서(조직별) | D21: 17
A23: 3 | B23: 세입예산 사업내역서 | D23: 20
A25: 4 | B25: 세출예산 사업내역서 | D25: 36
B27: ○ 사무국 | D27: 37
B29: ○ 마두청소년수련관 | D29: 43
B31: ○ 고양시청소년진로센터 | D31: 48
B33: ○ 성사청소년문화의집 | D33: 51
B35: ○ 탄현청소년문화의집 | D35: 56
B37: ○ 주교동청소년카페 | D37: 59
B39: ○ 일산서구청소년수련관 | D39: 61
B41: ○ 토당청소년수련관 | D41: 66
B43: ○ 고양시청소년상담복지센터 | D43: 73
B45: ○ 화정청소년카페 | D45: 77
B47: ○ 백마역청소년카페 | D47: 80
B49: ○ 능곡역청소년카페 | D49: 82

Sheet 간지1(예산총칙)

Sheet 예산총칙
B1: 1. 예산총칙
B3: 제1조(총칙) 2019년도 재단법인 고양시청소년재단의 본예산은 다음과 같이 정한다.
B5: 제2조(업무의 연간 예정량) 2019년도 업무의 예정량은 다음과 같다.
B6: 가. 청소년 주도적 활동 및 청소년공간 확대 - 청소년들의 자기주도적인 참여를 통해 공공선에 기여하고 사회적 가치를 실현하는 건강한 시민으로서의 역할 수행 - 자율적 배움과 소통이 가능한 지역사회 내 청소년 이용시설 확대와 인접도시를 연결하는 이용시설 확장
B11: 나. 평화특별시의 주체가 되는 글로컬 역량강화 - 국제협약 등 국제사회의 AGENDA를 일상생활 속에서 실천할 수 있는 환경을 조성하고, 그 과정 속에서 세계시민의 역량을 증가시킬 수 있는 글로컬 (Glocalization) 사업의 확대
B14: 다. 4차 산업혁명에 대응할 수 있는 진로사업 확대 - 4차 산업혁명 등 급변하는 사회 환경에 대응할 수 있는 진로‧직업 역량 지원 체계 구축을 통해 과학기술‧산업분야의 주역이 될 수 있는 창의적 융합인재 성장 지원
B17: 라. 청소년 인권이 존중받는 청소년친화도시 조성 - 청소년의 인권 및 권리의식 제고를 통해 청소년이 누려야 할 권리와 시민권을 보장하며, 청소년이 차별받지 않고 존중받는 청소년친화도시 구현
B20: 마. 청소년이 안전한 지원시스템 확대 - 지역사회 청소년에 대한 종합적 사회안전망을 비롯한 안전교육 및 위기대응, 안전관리 지도자 역량강화 등을 통한 청소년의 안전한 생활환경 조성
B23: 바. 지역사회 기반의 청소년 지원체계 강화 - 지역 협력체계 구축을 위한 협업과 자원공유, 데이터베이스를 통한 청소년과 관련된 정보와 시각공유의 확대
B26: 사. 교육문화 활동을 통한 네트워크 기반 조성 - 지역자원을 활용한 다양한 형태의 열린 학습을 확대하고, 배움의 즐거움을 알아갈 수 있는 소통, 상호교육을 통한 시민의 삶과 행복 증진
B29: 아. 혁신경영을 통한 윤리경영 및 사회적 책임 강화 - 임직원 반부패 및 청렴활동 참여를 통한 깨끗하고 투명한 조직풍토를 조성하여, 청소년 및 지역주민이 공감할 수 있는 사회적 책임과 가치의 향상
B32: 자. 고객중심 서비스를 통한 신뢰 및 공감 - 수요자 중심의 서비스 시스템 구축을 통한 청소년과 시민이 공감하는 시설별 맞춤형 서비스 개발
... B38: 수 입
B39: 제1관 재단사업수입 | D39: =+SUM(D40:D42) -> 11461817800 | E39: 천원
B40: 제1항 영업수입 | D40: ='세입 세부내역서(조직별)7'!B64 -> 2324743000 | E40: 천원
B41: 제2항 영업외수익 | D41: ='세입 세부내역서(조직별)7'!B8 -> 9137074800 | E41: 천원
B42: 제3항 특별이익 | D42: 0 | E42: 천원
B43: 지 출
B44: 제1관 재단사업비용 | D44: =+SUM(D45:D49) -> 11461817800 | E44: 천원
B45: 제1항 영업비용 | D45: ='세입·세출예산 총괄표(성질별)2'!I7+'세입·세출예산 총괄표(성질별)2'!I17-'세입·세출예산 총괄표(성질별)2'!I16 -> 11461817800 | E45: 천원
B46: 제2항 영업외비용 | D46: 0 | E46: 천원
B47: 제3항 특별손실 | D47: 0 | E47: 천원
B48: 제4항 법인세등 | D48: 0 | E48: 천원
B49: 제5항 예 비 비 | D49: 0 | E49: 천원
B53: 제4조(자본적수입 및 지출) 자본적수입 및 지출의 예정액은 다음과 같이 정한다.
B54: 수 입
B55: 제1관 자본적수입 | D55: =+SUM(D56:D61) -> 1163384000 | E55: 천원
B56: 제1항 투자자산 | D56: 0 | E56: 천원
B57: 제2항 고정자산매각수입 | D57: 0 | E57: 천원
B58: 제3항 고정부채수입 | D58: 0 | E58: 천원
B59: 제4항 자 본 금 | D59: 0 | E59: 천원
B60: 제5항 자본잉여금수입 | D60: 50067000 | E60: 천원
B61: 제6항 기타자본잉여금수입 | D61: ='세입·세출예산 총괄표(성질별)2'!B15+'세입·세출예산 총괄표(성질별)2'!B22 -> 1113317000 | E61: 천원
B63: 지 출
B64: 제1관 자본적지출 | D64: =+SUM(D65:D71) -> 228681000 | E64: 천원
B65: 제1항 투자자산 | D65: 0 | E65: 천원
B66: 제2항 유형자산 | D66: ='세입·세출예산 총괄표(성질별)2'!I21+'세입·세출예산 총괄표(성질별)2'!I14-예산총칙!D67 -> 176814000 | E66: 천원
B67: 제3항 무형자산 | D67: ='예산세출(탄현)'!O174 -> 1800000 | E67: 천원
B68: 제4항 유동부채상환금 | D68: 0 | E68: 천원
B69: 제5항 고정부채상환금 | D69: 0 | E69: 천원
B70: 제6항 기타 자본적지출 | D70: 50067000 | E70: 천원
B71: 제7항 예 비 비 | D71: ='세입·세출예산 총괄표(성질별)2'!I16 -> 0 | E71: 천원
B74: 제5조(계속비) 계속비의 총액과 연할액은 다음과 같이 정한다.
B80: 제6조(채무부담행위) 채무부담행위를 할 수 있는 사항과 기간 및 한도액은 다음과 같이 정한다.
B86: 제7조(공사채 등) 해당사항 없음
B88: 제8조(일시차입금) 해당사항 없음
B90: 제9조(예산전용금지과목) 다음에 게기하는 과목의 경비는 이사회의 의결을 거치지 않고는
B91: 그 경비를 전용할 수 없다.
B92: (1) 인 건 비 | D92: ='세입·세출예산 총괄표(성질별)2'!I8+'세입·세출예산 총괄표(성질별)2'!I18 -> 3931041000 | E92: 천원
B93: (2) 업무추진비(타 비목으로부터의 전용금지) | D93: 37566000 | E93: 천원
B95: 제10조(대행사업 경비)
B101: 제11조(중요자산취득 및 처분) 중요자산의 취득 및 처분은 다음과 같이 한다.

Sheet 간지2(세입세출예산안)

Sheet 예 산 규 모1
A1: 예 산 규 모
A2: 2019년 2차 추경 세입·세출예산(안) | F2: [단위:천원]
A3: 구 분 | B3: 2019년추경액(A) | D3: 2019년기정액(B) | F3: 증감(A-B)
B4: 금액 | C4: 구성비 | D4: 금액 | E4: 구성비 | F4: 금액 | G4: 증감률
A5: 총계 | B5: =SUM(B6:B8) -> 11461817800 | C5: =SUM(C6:C8) -> 1 | D5: =ROUNDUP(SUM(D6:D8),-3) -> 11354560000 | E5: =SUM(E6:E8) -> 1 | F5: =B5-D5 -> 107257800 | G5: =+F5/D5 -> 0.0094462313 | J5: 5914513000
A6: 출연금 | B6: ='세입·세출예산 총괄표(조직별)5'!C6 -> 5914513000 | C6: =+B6/$B$5 -> 0.51601876 | D6: ='세입·세출예산 총괄표(조직별)5'!G6 -> 5914513000 | E6: =+D6/$D$5 -> 0.52089319 | F6: =B6-D6 -> 0 | G6: =+F6/D6 -> 0 | J6: =B6-J5 -> 0
A7: 보조금 | B7: ='세입·세출예산 총괄표(조직별)5'!D6 -> 2251639800 | C7: =+B7/$B$5 -> 0.19644701 | D7: ='세입·세출예산 총괄표(조직별)5'!H6 -> 2065749000 | E7: =+D7/$D$5 -> 0.18193122 | F7: =B7-D7 -> 185890800 | G7: =+F7/D7 -> 0.089987118
A8: 자부담 | B8: ='세입·세출예산 총괄표(조직별)5'!E6 -> 3295665000 | C8: =+B8/$B$5 -> 0.28753423 | D8: ='세입·세출예산 총괄표(조직별)5'!I6 -> 3374298000 | E8: =+D8/$D$5 -> 0.29717558 | F8: =B8-D8 -> -78633000 | G8: =+F8/D8 -> -0.023303514
A12: 출연금 | B12: =B6 -> 5914513000 | C12: =B12/$B$17 -> 0.51601876
A13: 보조금 | B13: ='세입·세출예산 총괄표(성질별)2'!B10+'세입·세출예산 총괄표(성질별)2'!B11+'세입·세출예산 총괄표(성질별)2'!B12 -> 2251639800 | C13: =B13/$B$17 -> 0.19644701
A14: 사업수익금 | B14: 2182348000 | C14: =B14/$B$17 -> 0.19040156
A15: 이월금 | B15: ='세입·세출예산 총괄표(성질별)2'!B15+'세입·세출예산 총괄표(성질별)2'!B22 -> 1113317000 | C15: =B15/$B$17 -> 0.097132673
B17: =SUM(B12:B16) -> 11461817800 | C17: =SUM(C12:C16) -> 1

Sheet 세입·세출예산 총괄표(성질별)2
A1: 세입·세출예산 총괄표(성질별)
A2: 2019년 2차 추경 세입·세출예산(안) | M2: [단위:천원]
A3: 세 입 | H3: 세 출
A4: 예산과목 | B4: ='세출 세부내역서(조직별)8'!B5:C5 -> 2019년추경액(A) | D4: ='세출 세부내역서(조직별)8'!D5:E5 -> 2019년기정액(B) | F4: 증 감(A-B) | H4: =A4 -> 예산과목 | I4: =B4 -> 2019년추경액(A) | K4: =D4 -> 2019년기정액(B) | M4: 증 감(A-B)
B5: 금 액 | C5: 구성비 | D5: 금 액 | E5: 구성비 | F5: 금 액 | G5: 증감률 | I5: 금 액 | J5: 구성비 | K5: 금 액 | L5: 구성비 | M5: 금 액 | N5: 증감률
A6: 총 계 | B6: =SUM(B7,B17) -> 11461817800 | C6: =+C7+C17 -> 1 | D6: =SUM(D7,D17) -> 11354560000 | E6: =+E7+E17 -> 1 | F6: =+B6-D6 -> 107257800 | G6: =+F6/D6 -> 0.0094462313 | H6: =A6 -> 총 계 | I6: =SUM(I7,I17) -> 11461817800 | J6: =+J7+J17 -> 1 | K6: =SUM(K7,K17) -> 11354560000 | L6: =+L7+L17 -> 1 | M6: =+I6-K6 -> 107257800 | N6: =+M6/K6 -> 0.0094462313
A7: 영업외수익 | B7: =SUM(B8:B16) -> 9078124800 | C7: =+B7/$B$6 -> 0.79203185 | D7: =SUM(D8:D16) -> 8962288000 | E7: =+D7/$D$6 -> 0.78931178 | F7: =+B7-D7 -> 115836800 | G7: =+F7/D7 -> 0.012924914 | H7: 사업비용 | I7: =SUM(I8:I16) -> 8225102800 | J7: =+I7/I6 -> 0.71760893 | K7: =SUM(K8:K16) -> 8043024000 | L7: =+K7/K6 -> 0.70835189 | M7: =+I7-K7 -> 182078800 | N7: =+M7/K7 -> 0.022638102
A8: ='세입 세부내역서(조직별)7'!A9 -> 지자체출자출연금 | B8: ='세입 세부내역서(조직별)7'!B9 -> 4313212000 | C8: =+B8/$B$6 -> 0.37631134 | D8: ='세입 세부내역서(조직별)7'!D9 -> 4313212000 | E8: =+D8/$D$6 -> 0.37986606 | F8: =+B8-D8 -> 0 | G8: =+F8/D8 -> 0 | H8: ='세출 세부내역서(조직별)8'!A9 -> 인건비 | I8: ='세출 세부내역서(조직별)8'!B9 -> 3588237000 | J8: =+I8/$I$6 -> 0.31306003 | K8: ='세출 세부내역서(조직별)8'!D9 -> 3547562000 | L8: =+K8/$K$6 -> 0.312435 | M8: =+I8-K8 -> 40675000 | N8: =+M8/K8 -> 0.011465621
A9: ='세입 세부내역서(조직별)7'!A17 -> 보조금수익(출연금위탁교부) | B9: ='세입 세부내역서(조직별)7'!B17 -> 1601301000 | C9: =+B9/$B$6 -> 0.13970742 | D9: ='세입 세부내역서(조직별)7'!D17 -> 1601301000 | E9: =+D9/$D$6 -> 0.14102713 | F9: =+B9-D9 -> 0 | G9: =+F9/D9 -> 0 | H9: ='세출 세부내역서(조직별)8'!A22 -> 경비 | I9: ='세출 세부내역서(조직별)8'!B22 -> 1419468000 | J9: =+I9/$I$6 -> 0.12384318 | K9: ='세출 세부내역서(조직별)8'!D22 -> 1423731000 | L9: =+K9/$K$6 -> 0.12538848 | M9: =+I9-K9 -> -4263000 | N9: =+M9/K9 -> -0.0029942454 | Q9: =SUM(Q10:Q12) -> 5914513000 | R9: =SUM(R10:R12) -> 1
A10: ='세입 세부내역서(조직별)7'!A23 -> 국도시비보조금 | B10: ='세입 세부내역서(조직별)7'!B23 -> 2094819800 | C10: =+B10/$B$6 -> 0.18276506 | D10: ='세입 세부내역서(조직별)7'!D23 -> 2060049000 | E10: =+D10/$D$6 -> 0.18142922 | F10: =+B10-D10 -> 34770800 | G10: =+F10/D10 -> 0.016878628 | H10: ='세출 세부내역서(조직별)8'!A35 -> 목적사업비 | I10: ='세출 세부내역서(조직별)8'!B35 -> 857890000 | J10: =+I10/$I$6 -> 0.074847639 | K10: ='세출 세부내역서(조직별)8'!D35 -> 851980000 | L10: =+K10/$K$6 -> 0.075034171 | M10: =+I10-K10 -> 5910000 | N10: =+M10/K10 -> 0.0069367826 | P10: 인건비 | Q10: =I8 -> 3588237000 | R10: =Q10/$Q$9 -> 0.60668342
A11: ='세입 세부내역서(조직별)7'!A32 -> 교육청보조금 | B11: ='세입 세부내역서(조직별)7'!B32 -> 127120000 | C11: =+B11/$B$6 -> 0.011090736 | D11: ='세입 세부내역서(조직별)7'!D32 -> 43000000 | E11: =+D11/$D$6 -> 0.0037870248 | F11: =+B11-D11 -> 84120000 | G11: =+F11/D11 -> 1.9562791 | H11: ='세출 세부내역서(조직별)8'!A47 -> 국도시비보조금사업비 | I11: ='세출 세부내역서(조직별)8'!B47 -> 2094819800 | J11: =+I11/$I$6 -> 0.18276506 | K11: ='세출 세부내역서(조직별)8'!D47 -> 2060049000 | L11: =+K11/$K$6 -> 0.18142922 | M11: =+I11-K11 -> 34770800 | N11: =+M11/K11 -> 0.016878628 | P11: 경비 | Q11: =I9+I14+I15 -> 1527336000 | R11: =Q11/$Q$9 -> 0.25823529
A12: ='세입 세부내역서(조직별)7'!A35 -> 기타보조금 | B12: ='세입 세부내역서(조직별)7'!B35 -> 29700000 | C12: =+B12/$B$6 -> 0.002591212 | D12: ='세입 세부내역서(조직별)7'!D35 -> 5700000 | E12: =+D12/$D$6 -> 0.00050200096 | F12: =+B12-D12 -> 24000000 | G12: =+F12/D12 -> 4.2105263 | H12: ='세출 세부내역서(조직별)8'!A56 -> 교육청사업비 | I12: ='세출 세부내역서(조직별)8'!B56 -> 127120000 | J12: =+I12/$I$6 -> 0.011090736 | K12: ='세출 세부내역서(조직별)8'!D56 -> 43000000 | L12: =+K12/$K$6 -> 0.0037870248 | M12: =+I12-K12 -> 84120000 | N12: =+M12/K12 -> 1.9562791 | P12: 사업비 | Q12: 798940000 | R12: =Q12/$Q$9 -> 0.13508128
A13: ='세입 세부내역서(조직별)7'!A45 -> 이자수익 | B13: ='세입 세부내역서(조직별)7'!B45 -> 2321000 | C13: =+B13/$B$6 -> 0.00020249842 | D13: ='세입 세부내역서(조직별)7'!D45 -> 2321000 | E13: =+D13/$D$6 -> 0.00020441127 | F13: =+B13-D13 -> 0 | G13: =+F13/D13 -> 0 | H13: ='세출 세부내역서(조직별)8'!A59 -> 기타보조금사업비 | I13: ='세출 세부내역서(조직별)8'!B59 -> 29700000 | J13: =+I13/$I$6 -> 0.002591212 | K13: ='세출 세부내역서(조직별)8'!D59 -> 5700000 | L13: =+K13/$K$6 -> 0.00050200096 | M13: =+I13-K13 -> 24000000
A14: ='세입 세부내역서(조직별)7'!A58 -> 법인전입금 | B14: ='세입 세부내역서(조직별)7'!B58 -> 50000000 | C14: =+B14/$B$6 -> 0.0043623098 | D14: ='세입 세부내역서(조직별)7'!D58 -> 50000000 | E14: =+D14/$D$6 -> 0.0044035172 | F14: =+B14-D14 -> 0 | G14: =+F14/D14 -> 0 | H14: ='세출 세부내역서(조직별)8'!A62 -> 자산취득비 | I14: ='세출 세부내역서(조직별)8'!B62 -> 16420000 | J14: =+I14/$I$6 -> 0.0014325825 | K14: ='세출 세부내역서(조직별)8'!D62 -> 19554000 | L14: =+K14/$K$6 -> 0.0017221275 | M14: =+I14-K14 -> -3134000 | N14: =+M14/K14 -> -0.16027411
A15: ='세입 세부내역서(조직별)7'!A60 -> 이월금 및 출자출연금 | B15: ='세입 세부내역서(조직별)7'!B60 -> 847517000 | C15: =+B15/$B$6 -> 0.073942634 | D15: ='세입 세부내역서(조직별)7'!D60 -> 886705000 | E15: =+D15/$D$6 -> 0.078092414 | F15: =+B15-D15 -> -39188000 | G15: =+F15/D15 -> -0.044195082 | H15: ='세출 세부내역서(조직별)8'!A72 -> 성과급 | I15: ='세출 세부내역서(조직별)8'!B72 -> 91448000 | J15: =+I15/$I$6 -> 0.0079784901 | K15: ='세출 세부내역서(조직별)8'!D72 -> 91448000 | L15: =+K15/$K$6 -> 0.0080538568 | M15: =+I15-K15 -> 0 | N15: =+M15/K15 -> 0 | P15: 5914513 | Q15: 1 | R15: 5999764 | S15: 1 | T15: =P15-R15 -> -85251 | U15: =T15/R15 -> -0.014209059
A16: 기타영업외수익 | B16: ='세입 세부내역서(조직별)7'!B62 -> 12134000 | C16: =+B16/$B$6 -> 0.0010586453 | D16: 0 | E16: =+D16/$D$6 -> 0 | F16: =+B16-D16 -> 12134000 | P16: 3588237 | Q16: 0.607 | R16: 3117875 | S16: 0.52 | T16: =P16-R16 -> 470362 | U16: =T16/R16 -> 0.1508598
A17: 영업수익(수익) | B17: =SUM(B18:B25) -> 2383693000 | C17: =+B17/$B$6 -> 0.20796815 | D17: =SUM(D18:D25) -> 2392272000 | E17: =+D17/$D$6 -> 0.21068822 | F17: =+B17-D17 -> -8579000 | G17: =+F17/D17 -> -0.0035861307 | H17: 사업비용(수익) | I17: =SUM(I18:I25) -> 3236715000 | J17: =+I17/$I$6 -> 0.28239107 | K17: =SUM(K18:K25) -> 3311536000 | L17: =+K17/$K$6 -> 0.29164811 | M17: =+I17-K17 -> -74821000 | N17: =+M17/K17 -> -0.022594047 | P17: 1527336 | Q17: 0.258 | R17: 1833106 | S17: 0.306 | T17: =P17-R17 -> -305770 | U17: =T17/R17 -> -0.16680432
A18: ='세입 세부내역서(조직별)7'!A65 -> 자체사업수익 | B18: ='세입 세부내역서(조직별)7'!B65 -> 1773784000 | C18: =+B18/$B$6 -> 0.15475591 | D18: ='세입 세부내역서(조직별)7'!D65 -> 1894317000 | E18: =+D18/$D$6 -> 0.16683315 | F18: =+B18-D18 -> -120533000 | G18: =+F18/D18 -> -0.063628738 | H18: ='세출 세부내역서(조직별)8'!A75 -> 자체사업인건비 | I18: ='세출 세부내역서(조직별)8'!B75 -> 342804000 | J18: =+I18/$I$6 -> 0.029908345 | K18: ='세출 세부내역서(조직별)8'!D75 -> 317913000 | L18: =+K18/$K$6 -> 0.027998707 | M18: =+I18-K18 -> 24891000 | N18: =+M18/K18 -> 0.078295005 | P18: 798940 | Q18: 0.135 | R18: 1048783 | S18: 0.175 | T18: =P18-R18 -> -249843 | U18: =T18/R18 -> -0.23822182
A19: ='세입 세부내역서(조직별)7'!A74 -> 기타영업수익 | B19: ='세입 세부내역서(조직별)7'!B74 -> 29003000 | C19: =+B19/$B$6 -> 0.0025304014 | D19: ='세입 세부내역서(조직별)7'!D74 -> 30403000 | E19: =+D19/$D$6 -> 0.0026776027 | F19: =+B19-D19 -> -1400000 | G19: =+F19/D19 -> -0.046048087 | H19: ='세출 세부내역서(조직별)8'!A82 -> 자체사업경비 | I19: ='세출 세부내역서(조직별)8'!B82 -> 405716000 | J19: =+I19/$I$6 -> 0.035397178 | K19: ='세출 세부내역서(조직별)8'!D82 -> 343152000 | L19: =+K19/$K$6 -> 0.030221515 | M19: =+I19-K19 -> 62564000 | N19: =+M19/K19 -> 0.18232154
A20: ='세입 세부내역서(조직별)7'!A81 -> 판매수익 | B20: ='세입 세부내역서(조직별)7'!B81 -> 256156000 | C20: =+B20/$B$6 -> 0.022348637 | D20: ='세입 세부내역서(조직별)7'!D81 -> 263518000 | E20: =+D20/$D$6 -> 0.023208121 | F20: =+B20-D20 -> -7362000 | G20: =+F20/D20 -> -0.027937371 | H20: ='세출 세부내역서(조직별)8'!A101 -> 자체사업비 | I20: ='세출 세부내역서(조직별)8'!B101 -> 1865496000 | J20: =+I20/$I$6 -> 0.16275743 | K20: ='세출 세부내역서(조직별)8'!D101 -> 2005712000 | L20: =+K20/$K$6 -> 0.17664374 | M20: =+I20-K20 -> -140216000 | N20: =+M20/K20 -> -0.069908342
A21: ='세입 세부내역서(조직별)7'!A38 -> 재단지원금 | B21: ='세입 세부내역서(조직별)7'!B38 -> 58950000 | C21: =+B21/$B$6 -> 0.0051431632 | D21: ='세입 세부내역서(조직별)7'!D38 -> 19762000 | E21: =+D21/$D$6 -> 0.0017404461 | F21: =+B21-D21 -> 39188000 | G21: =+F21/D21 -> 1.9829977 | H21: ='세출 세부내역서(조직별)8'!A93 -> 자체사업자산취득비 | I21: ='세출 세부내역서(조직별)8'!B93 -> 162194000 | J21: =+I21/$I$6 -> 0.014150809 | K21: ='세출 세부내역서(조직별)8'!D93 -> 117772000 | L21: =+K21/$K$6 -> 0.01037222 | M21: =+I21-K21 -> 44422000 | N21: =+M21/K21 -> 0.37718643
A22: ='세입 세부내역서(조직별)7'!A88 -> 이월금 | B22: ='세입 세부내역서(조직별)7'!B88 -> 265800000 | C22: =+B22/$B$6 -> 0.023190039 | D22: ='세입 세부내역서(조직별)7'!D88 -> 184272000 | E22: =+D22/$D$6 -> 0.016228898 | F22: =+B22-D22 -> 81528000 | G22: =+F22/D22 -> 0.44243293 | H22: 재단지원금 | I22: ='세출 세부내역서(조직별)8'!B113 -> 329517000 | J22: =+I22/$I$6 -> 0.028749105 | K22: ='세출 세부내역서(조직별)8'!D113 -> 368705000 | L22: =+K22/$K$6 -> 0.032471976 | M22: =+I22-K22 -> -39188000 | N22: =+M22/K22 -> -0.10628551
H23: ='세출 세부내역서(조직별)8'!A115 -> 법인전입금 | I23: ='세출 세부내역서(조직별)8'!B115 -> 81909000 | J23: =+I23/$I$6 -> 0.0071462487 | K23: ='세출 세부내역서(조직별)8'!D115 -> 50000000 | L23: =+K23/$K$6 -> 0.0044035172 | M23: =+I23-K23 -> 31909000 | N23: =+M23/K23 -> 0.63818
H24: ='세출 세부내역서(조직별)8'!A117 -> 이자반환금(과년도) | I24: ='세출 세부내역서(조직별)8'!B117 -> 2321000 | J24: =+I24/$I$6 -> 0.00020249842 | K24: ='세출 세부내역서(조직별)8'!D117 -> 2321000 | L24: =+K24/$K$6 -> 0.00020441127 | M24: =+I24-K24 -> 0 | N24: =+M24/K24 -> 0
H25: ='세출 세부내역서(조직별)8'!A130 -> 예비비(차기년도이월금) | I25: ='세출 세부내역서(조직별)8'!B130 -> 46758000 | J25: =+I25/$I$6 -> 0.0040794576 | K25: ='세출 세부내역서(조직별)8'!D130 -> 105961000 | L25: =+K25/$K$6 -> 0.0093320217 | M25: =+I25-K25 -> -59203000 | N25: =+M25/K25 -> -0.55872444
B27: 11462517800

Sheet 세입 세부내역서(성질별)3
A1: 세입 세부내역서(성질별)
A2: [일반회계] -2019년 2차 추경 세입·세출예산(안) | J2: (단위:천원)
A3: 예산과목 | G3: 추경예산 | H3: 기정예산 | I3: 증감 | J3: 증감률
A4: 장 | B4: 관 | C4: 항 | D4: 목 | E4: 세목 | F4: 세세목
A5: 고양시청소년재단 | G5: =G6+G30 -> 11461817800 | H5: =H6+H30 -> 11354560000 | I5: =+G5-H5 -> 107257800 | J5: =+I5/H5 -> 0.0094462313
B6: 600 사업수익 | G6: =G7+G16 -> 10298500800 | H6: =H7+H16 -> 10233583000 | I6: =+G6-H6 -> 64917800 | J6: =+I6/H6 -> 0.0063436042
C7: 610 영업수익 | G7: =G8+G11+G14 -> 2058943000 | H7: =H8+H11+H14 -> 2188238000 | I7: =+G7-H7 -> -129295000 | J7: =+I7/H7 -> -0.059086352
D8: 611 자체사업수익 | G8: =G9+G10 -> 1773784000 | H8: =H9+H10 -> 1894317000 | I8: =+G8-H8 -> -120533000 | J8: =+I8/H8 -> -0.063628738
E9: 611-1 사업운영수익 | G9: ='예산세입(마두)'!P9+'예산세입(탄현)'!P9+'예산세입(일산서구)'!P9+'예산세입(토당)'!P9+'예산세입(상담)'!P9+'예산세입(화정)'!P9 -> 1393424000 | H9: ='예산세입(마두)'!Q9+'예산세입(탄현)'!Q9+'예산세입(일산서구)'!Q9+'예산세입(토당)'!Q9+'예산세입(상담)'!Q9+'예산세입(화정)'!Q9 -> 1419787000 | I9: =+G9-H9 -> -26363000 | J9: =+I9/H9 -> -0.018568278
E10: 611-2 참가금수익 | G10: ='예산세입(마두)'!P51+'예산세입(성사)'!P9+'예산세입(탄현)'!P25+'예산세입(주교)'!P9+'예산세입(일산서구)'!P41+'예산세입(토당)'!P45+'예산세입(화정)'!P12 -> 380360000 | H10: ='예산세입(마두)'!Q51+'예산세입(성사)'!Q9+'예산세입(탄현)'!Q25+'예산세입(주교)'!Q9+'예산세입(일산서구)'!Q41+'예산세입(토당)'!Q45+'예산세입(화정)'!Q12 -> 474530000 | I10: =+G10-H10 -> -94170000 | J10: =+I10/H10 -> -0.19844899
D11: 617 기타영업수익 | G11: =G12+G13 -> 29003000 | H11: =H12+H13 -> 30403000 | I11: =+G11-H11 -> -1400000 | J11: =+I11/H11 -> -0.046048087
E12: 617-1 시설사용료수익 | G12: ='예산세입(마두)'!P56+'예산세입(성사)'!P21+'예산세입(탄현)'!P29+'예산세입(일산서구)'!P47+'예산세입(토당)'!P61+'예산세입(화정)'!P16 -> 28224000 | H12: ='예산세입(마두)'!Q56+'예산세입(성사)'!Q21+'예산세입(탄현)'!Q29+'예산세입(일산서구)'!Q47+'예산세입(토당)'!Q61+'예산세입(화정)'!Q16 -> 29624000 | I12: =+G12-H12 -> -1400000 | J12: =+I12/H12 -> -0.047258979
E13: 617-3 기타수수료수입 | G13: ='예산세입(마두)'!P59+'예산세입(일산서구)'!P50 -> 779000 | H13: ='예산세입(마두)'!Q59+'예산세입(일산서구)'!Q50 -> 779000 | I13: =+G13-H13 -> 0 | J13: =+I13/H13 -> 0
D14: 618 판매수익 | G14: =G15 -> 256156000 | H14: =H15 -> 263518000 | I14: =+G14-H14 -> -7362000 | J14: =+I14/H14 -> -0.027937371
E15: 618-1 상품판매수익 | G15: ='예산세입(마두)'!P65+'예산세입(일산서구)'!P54+'예산세입(토당)'!P65+'예산세입(화정)'!P20+'예산세입(백마)'!P9+'예산세입(능곡)'!P9 -> 256156000 | H15: ='예산세입(마두)'!Q65+'예산세입(일산서구)'!Q54+'예산세입(토당)'!Q65+'예산세입(화정)'!Q20+'예산세입(백마)'!Q9+'예산세입(능곡)'!Q9 -> 263518000 | I15: =+G15-H15 -> -7362000 | J15: =+I15/H15 -> -0.027937371
C16: 620 영업외수익 | G16: =G17+G19+G23+G28 -> 8239557800 | H16: =H17+H19+H23+H28 -> 8045345000 | I16: =+G16-H16 -> 194212800 | J16: =+I16/H16 -> 0.024139773
D17: 621 이자수익 | G17: =G18 -> 2321000 | H17: =H18 -> 2321000 | I17: =+G17-H17 -> 0 | J17: =+I17/H17 -> 0
E18: 621-1 예금이자수익 | G18: ='예산세입(사무국)'!P9+'예산세입(마두)'!P70+'예산세입(마두)'!U57+'예산세입(진로)'!P9+'예산세입(성사)'!P26+'예산세입(탄현)'!P34+'예산세입(주교)'!P14+'예산세입(일산서구)'!P59+'예산세입(토당)'!P74+'예산세입(상담)'!P16+'예산세입(화정)'!P25+'예산세입(백마)'!P14+'예산세입(능곡)'!P14 -> 2321000 | H18: ='예산세입(사무국)'!Q9+'예산세입(마두)'!Q70+'예산세입(마두)'!V57+'예산세입(진로)'!Q9+'예산세입(성사)'!Q26+'예산세입(탄현)'!Q34+'예산세입(주교)'!Q14+'예산세입(일산서구)'!Q59+'예산세입(토당)'!Q74+'예산세입(상담)'!Q16+'예산세입(화정)'!Q25+'예산세입(백마)'!Q14+'예산세입(능곡)'!Q14 -> 2321000 | I18: =+G18-H18 -> 0 | J18: =+I18/H18 -> 0
D19: 623 보조금수익 | G19: =G20+G21+G22 -> 2251639800 | H19: =H20+H21+H22 -> 2108749000 | I19: =+G19-H19 -> 142890800 | J19: =+I19/H19 -> 0.067760933
E20: 623-1 국도시비보조금 | G20: 2094819800 | H20: 2060049000 | I20: =+G20-H20 -> 34770800 | J20: =+I20/H20 -> 0.016878628
E21: 623-2 교육청보조금 | G21: ='예산세입(진로)'!P17+'예산세입(토당)'!P89 -> 127120000 | H21: 43000000 | I21: =+G21-H21 -> 84120000 | J21: =+I21/H21 -> 1.9562791
E22: 623-3 기타보조금 | G22: ='세입 세부내역서(조직별)7'!B35 -> 29700000 | H22: 5700000 | I22: =+G22-H22 -> 24000000 | J22: =+I22/H22 -> 4.2105263
D23: 625 출자출연금수익 | G23: =G24+G27 -> 5973463000 | H23: =H24+H27 -> 5934275000 | I23: =+G23-H23 -> 39188000 | J23: =+I23/H23 -> 0.006603671
E24: 625-2 지자체출자출연금 | G24: =G25+G26 -> 5914513000 | H24: =H25+H26 -> 5914513000 | I24: =+G24-H24 -> 0 | J24: =+I24/H24 -> 0
F25: ㅇ직영시설출자출연금 | G25: ='예산세입(사무국)'!P20+'예산세입(마두)'!P86+'예산세입(진로)'!O27+'예산세입(성사)'!P44+'예산세입(탄현)'!O46+'예산세입(주교)'!O21+'예산세입(일산서구)'!P72 -> 4313212000 | H25: 4313212000 | I25: =+G25-H25 -> 0 | J25: =+I25/H25 -> 0
F26: ㅇ위탁시설출자출연금 | G26: 1601301000 | H26: 1601301000 | I26: =+G26-H26 -> 0 | J26: =+I26/H26 -> 0
E27: 625-3 재단지원금 | G27: ='예산세입(진로)'!O28+'예산세입(탄현)'!O47+'예산세입(주교)'!O22+'예산세입(상담)'!O23+'예산세입(화정)'!O32+'예산세입(백마)'!O21 -> 58950000 | H27: ='예산세입(주교)'!O22 -> 19762000 | I27: =+G27-H27 -> 39188000 | J27: =+I27/H27 -> 1.9829977
D28: 628 기타영업외수익 | G28: =G29 -> 12134000 | H28: =H29 -> 0 | I28: =+G28-H28 -> 12134000
E29: 628-6 기타영업외수익 | G29: 12134000 | H29: 0 | I29: =+G29-H29 -> 12134000
B30: 100 자본적수입 | G30: =G31 -> 1163317000 | H30: =H31 -> 1120977000 | I30: =+G30-H30 -> 42340000 | J30: =+I30/H30 -> 0.037770623
C31: 170 자본잉여금수입 | G31: =G32 -> 1163317000 | H31: =H32 -> 1120977000 | I31: =+G31-H31 -> 42340000 | J31: =+I31/H31 -> 0.037770623
D32: 172 이월금 | G32: =G33 -> 1163317000 | H32: =H33 -> 1120977000 | I32: =+G32-H32 -> 42340000 | J32: =+I32/H32 -> 0.037770623
E33: 172-3 전년도이월사업비 | G33: ='세입 세부내역서(조직별)7'!B60+'세입 세부내역서(조직별)7'!B88+'세입 세부내역서(조직별)7'!B58 -> 1163317000 | H33: ='세입 세부내역서(조직별)7'!D88+'세입 세부내역서(조직별)7'!D60+'세입 세부내역서(조직별)7'!D58 -> 1120977000 | I33: =+G33-H33 -> 42340000 | J33: =+I33/H33 -> 0.037770623

Sheet 세출 세부내역서(성질별)4
A1: 세출 세부내역서(성질별)
A2: [일반회계] -2019년 2차 추경 세입·세출예산(안) | I2: (단위:천원)
A3: 예산과목 | F3: 추경예산 | G3: 기정예산 | H3: 증감 | I3: 증감률
A4: 장 | B4: 관 | C4: 항 | D4: 목 | E4: 세목
A5: 고양시청소년재단 | F5: =F6 -> 11461817800 | G5: =G6 -> 11354560000 | H5: =F5-G5 -> 107257800 | I5: =H5/G5 -> 0.0094462313
B6: 700 사업비용 | F6: =F7+F38+F48+F88+F92 -> 11461817800 | G6: =G7+G38+G48+G88+G92 -> 11354560000 | H6: =F6-G6 -> 107257800 | I6: =H6/G6 -> 0.0094462313
C7: 710 영업비용 | F7: =F8+F14+F34+F36 -> 5115573000 | G7: =G8+G14+G34+G36 -> 5082295000 | H7: =F7-G7 -> 33278000 | I7: =H7/G7 -> 0.0065478293
D8: 100 인건비 | F8: =SUM(F9:F13) -> 3588237000 | G8: =SUM(G9:G13) -> 3547562000 | H8: =F8-G8 -> 40675000 | I8: =H8/G8 -> 0.011465621
E9: 101 급여 | F9: ='예산세출(사무국)'!P9+'예산세출(토당)'!P9+'예산세출(상담)'!P9+'예산세출(화정)'!P9+'예산세출(백마)'!P9+'예산세출(능곡)'!P9 -> 1898686000 | G9: ='예산세출(사무국)'!Q9+'예산세출(토당)'!Q9+'예산세출(상담)'!Q9+'예산세출(화정)'!Q9+'예산세출(백마)'!Q9+'예산세출(능곡)'!Q9 -> 1920715000 | H9: =F9-G9 -> -22029000 | I9: =H9/G9 -> -0.011469166
E10: 102 제수당 | F10: ='예산세출(사무국)'!P18+'예산세출(토당)'!P18+'예산세출(상담)'!P21+'예산세출(화정)'!P14+'예산세출(백마)'!P14+'예산세출(능곡)'!P14 -> 1001259000 | G10: ='예산세출(사무국)'!Q18+'예산세출(토당)'!Q18+'예산세출(상담)'!Q21+'예산세출(화정)'!Q14+'예산세출(백마)'!Q14+'예산세출(능곡)'!Q14 -> 1006905000 | H10: =F10-G10 -> -5646000 | I10: =H10/G10 -> -0.0056072817
E11: 104 무기계약근로자보수 | F11: ='예산세출(성사)'!P9+'예산세출(탄현)'!P9+'예산세출(상담)'!P61 -> 88337000 | G11: ='예산세출(성사)'!Q9+'예산세출(탄현)'!Q9+'예산세출(상담)'!Q61 -> 89318000 | H11: =F11-G11 -> -981000 | I11: =H11/G11 -> -0.010983228
E12: 105 기간제근로자보수 | F12: ='예산세출(마두)'!P9+'예산세출(진로)'!P9+'예산세출(탄현)'!P20+'예산세출(주교)'!P9+'예산세출(일산서구)'!P9+'예산세출(토당)'!P47+'예산세출(상담)'!P68+'예산세출(백마)'!P19 -> 341085000 | G12: ='예산세출(마두)'!Q9+'예산세출(진로)'!Q9+'예산세출(탄현)'!Q20+'예산세출(주교)'!Q9+'예산세출(일산서구)'!Q9+'예산세출(토당)'!Q47+'예산세출(상담)'!Q68+'예산세출(백마)'!Q19 -> 277132000 | H12: =F12-G12 -> 63953000 | I12: =H12/G12 -> 0.23076729
E13: 106 퇴직급여 | F13: ='예산세출(사무국)'!P69+'예산세출(토당)'!P66+'예산세출(상담)'!P75+'예산세출(화정)'!P27+'예산세출(백마)'!P22+'예산세출(능곡)'!P19 -> 258870000 | G13: ='예산세출(사무국)'!Q69+'예산세출(토당)'!Q66+'예산세출(상담)'!Q75+'예산세출(화정)'!Q27+'예산세출(백마)'!Q22+'예산세출(능곡)'!Q19 -> 253492000 | H13: =F13-G13 -> 5378000 | I13: =H13/G13 -> 0.02121566 | L13: 1419468000 | M13: =F14 -> 1419468000 | O13: =L13-M13 -> 0
D14: 200 경비 | F14: =SUM(F15:F33) -> 1419468000 | G14: =SUM(G15:G33) -> 1423731000 | H14: =F14-G14 -> -4263000 | I14: =H14/G14 -> -0.0029942454
E15: 201 복리후생비 | F15: ='예산세출(사무국)'!P73+'예산세출(마두)'!P34+'예산세출(진로)'!P16+'예산세출(성사)'!P25+'예산세출(탄현)'!P28+'예산세출(주교)'!P14+'예산세출(토당)'!P72+'예산세출(상담)'!P79+'예산세출(화정)'!P31+'예산세출(백마)'!P26+'예산세출(능곡)'!P23 -> 377299000 | G15: ='예산세출(사무국)'!Q73+'예산세출(마두)'!Q34+'예산세출(진로)'!Q16+'예산세출(성사)'!Q25+'예산세출(탄현)'!Q28+'예산세출(주교)'!Q14+'예산세출(토당)'!Q72+'예산세출(상담)'!Q79+'예산세출(화정)'!Q31+'예산세출(백마)'!Q26+'예산세출(능곡)'!Q23 -> 370684000 | H15: =F15-G15 -> 6615000 | I15: =H15/G15 -> 0.017845389 | L15: 377299000 | N15: =F15-L15 -> 0
E16: 202 여비 | F16: ='예산세출(사무국)'!P85+'예산세출(진로)'!P28+'예산세출(성사)'!P37+'예산세출(탄현)'!P35+'예산세출(주교)'!P26+'예산세출(상담)'!P86+'예산세출(화정)'!P38+'예산세출(백마)'!P33 -> 38980000 | G16: ='예산세출(사무국)'!Q85+'예산세출(진로)'!Q28+'예산세출(성사)'!Q37+'예산세출(탄현)'!Q35+'예산세출(주교)'!Q26+'예산세출(상담)'!Q86+'예산세출(화정)'!Q38+'예산세출(백마)'!Q33 -> 40160000 | H16: =F16-G16 -> -1180000 | I16: =H16/G16 -> -0.02938247 | L16: 44620000 | N16: =F16-L16 -> -5640000
E17: 203 공공요금 및 제세 | F17: ='예산세출(사무국)'!P89+'예산세출(마두)'!P41+'예산세출(진로)'!P31+'예산세출(성사)'!P45+'예산세출(탄현)'!P42+'예산세출(주교)'!P29+'예산세출(일산서구)'!P22+'예산세출(토당)'!P79+'예산세출(상담)'!P89+'예산세출(화정)'!P41+'예산세출(백마)'!P36+'예산세출(능곡)'!P30 -> 57076000 | G17: ='예산세출(사무국)'!Q89+'예산세출(마두)'!Q41+'예산세출(진로)'!Q31+'예산세출(성사)'!Q45+'예산세출(탄현)'!Q42+'예산세출(주교)'!Q29+'예산세출(일산서구)'!Q22+'예산세출(토당)'!Q79+'예산세출(상담)'!Q89+'예산세출(화정)'!Q41+'예산세출(백마)'!Q36+'예산세출(능곡)'!Q30 -> 60886000 | H17: =F17-G17 -> -3810000 | I17: =H17/G17 -> -0.062575962 | L17: 57436000 | N17: =F17-L17 -> -360000
E18: 204 수도광열비 | F18: ='예산세출(사무국)'!P98+'예산세출(마두)'!P51+'예산세출(성사)'!P55+'예산세출(탄현)'!P51+'예산세출(주교)'!P34+'예산세출(일산서구)'!P31+'예산세출(토당)'!P83+'예산세출(백마)'!P39+'예산세출(능곡)'!P33 -> 312834000 | G18: ='예산세출(사무국)'!Q98+'예산세출(마두)'!Q51+'예산세출(성사)'!Q55+'예산세출(탄현)'!Q51+'예산세출(주교)'!Q34+'예산세출(일산서구)'!Q31+'예산세출(토당)'!Q83+'예산세출(백마)'!Q39+'예산세출(능곡)'!Q33 -> 314034000 | H18: =F18-G18 -> -1200000 | I18: =H18/G18 -> -0.0038212423 | L18: 314034000 | N18: =F18-L18 -> -1200000
E19: 206 소모품비 | F19: ='예산세출(사무국)'!P101+'예산세출(마두)'!P56+'예산세출(진로)'!P35+'예산세출(성사)'!P58+'예산세출(탄현)'!P54+'예산세출(주교)'!P39+'예산세출(일산서구)'!P36+'예산세출(상담)'!P95+'예산세출(화정)'!P46+'예산세출(백마)'!P43+'예산세출(능곡)'!P36 -> 36694000 | G19: ='예산세출(사무국)'!Q101+'예산세출(마두)'!Q56+'예산세출(진로)'!Q35+'예산세출(성사)'!Q58+'예산세출(탄현)'!Q54+'예산세출(주교)'!Q39+'예산세출(일산서구)'!Q36+'예산세출(상담)'!Q95+'예산세출(화정)'!Q46+'예산세출(백마)'!Q43+'예산세출(능곡)'!Q36 -> 41930000 | H19: =F19-G19 -> -5236000 | I19: =H19/G19 -> -0.12487479 | L19: 36694000 | N19: =F19-L19 -> 0
E20: 208 도서인쇄비 | F20: ='예산세출(사무국)'!P112+'예산세출(마두)'!P62+'예산세출(진로)'!P41+'예산세출(성사)'!P66+'예산세출(토당)'!P88+'예산세출(상담)'!P99+'예산세출(화정)'!P51+'예산세출(백마)'!P46 -> 15165000 | G20: ='예산세출(사무국)'!Q112+'예산세출(마두)'!Q62+'예산세출(진로)'!Q41+'예산세출(성사)'!Q66+'예산세출(토당)'!Q88+'예산세출(상담)'!Q99+'예산세출(화정)'!Q51+'예산세출(백마)'!Q46 -> 15165000 | H20: =F20-G20 -> 0 | I20: =H20/G20 -> 0 | L20: 15165000 | N20: =F20-L20 -> 0
E21: 209 지급임차료 | F21: ='예산세출(사무국)'!P120+'예산세출(마두)'!P65+'예산세출(진로)'!P44+'예산세출(성사)'!P71+'예산세출(주교)'!P42+'예산세출(일산서구)'!P44+'예산세출(상담)'!P102+'예산세출(화정)'!P54+'예산세출(백마)'!P49+'예산세출(능곡)'!P39 -> 99691000 | G21: ='예산세출(사무국)'!Q120+'예산세출(마두)'!Q65+'예산세출(진로)'!Q44+'예산세출(성사)'!Q71+'예산세출(주교)'!Q42+'예산세출(일산서구)'!Q44+'예산세출(상담)'!Q102+'예산세출(화정)'!Q54+'예산세출(백마)'!Q49+'예산세출(능곡)'!Q39 -> 94751000 | H21: =F21-G21 -> 4940000 | I21: =H21/G21 -> 0.052136653 | L21: 99691000 | N21: =F21-L21 -> 0
E22: 210 수선유지비 | F22: ='예산세출(사무국)'!P127+'예산세출(마두)'!P73+'예산세출(진로)'!P48+'예산세출(성사)'!P76+'예산세출(주교)'!P46+'예산세출(일산서구)'!P50+'예산세출(토당)'!P91+'예산세출(상담)'!P107+'예산세출(화정)'!P60+'예산세출(백마)'!P54+'예산세출(능곡)'!P45 -> 206929000 | G22: ='예산세출(사무국)'!Q127+'예산세출(마두)'!Q73+'예산세출(진로)'!Q48+'예산세출(성사)'!Q76+'예산세출(주교)'!Q46+'예산세출(일산서구)'!Q50+'예산세출(토당)'!Q91+'예산세출(상담)'!Q107+'예산세출(화정)'!Q60+'예산세출(백마)'!Q54+'예산세출(능곡)'!Q45 -> 219566000 | H22: =F22-G22 -> -12637000 | I22: =H22/G22 -> -0.057554448 | L22: 205969000 | N22: =F22-L22 -> 960000
E23: 211 차량유지비 | F23: ='예산세출(사무국)'!P131+'예산세출(마두)'!P92+'예산세출(일산서구)'!P64+'예산세출(상담)'!P110 -> 5640000 | G23: ='예산세출(사무국)'!Q131+'예산세출(마두)'!Q92+'예산세출(일산서구)'!Q64+'예산세출(상담)'!Q110 -> 3840000 | H23: =F23-G23 -> 1800000 | I23: =H23/G23 -> 0.46875 | L23: 5640000 | N23: =F23-L23 -> 0
E24: 212 보험료 | F24: ='예산세출(사무국)'!P134+'예산세출(마두)'!P95+'예산세출(성사)'!P79+'예산세출(주교)'!P49+'예산세출(일산서구)'!P67+'예산세출(상담)'!P113+'예산세출(화정)'!P65+'예산세출(백마)'!P63+'예산세출(능곡)'!P49 -> 13001000 | G24: ='예산세출(사무국)'!Q134+'예산세출(마두)'!Q95+'예산세출(성사)'!Q79+'예산세출(주교)'!Q49+'예산세출(일산서구)'!Q67+'예산세출(상담)'!Q113+'예산세출(화정)'!Q65+'예산세출(백마)'!Q63+'예산세출(능곡)'!Q49 -> 12112000 | H24: =F24-G24 -> 889000 | I24: =H24/G24 -> 0.073398283 | L24: 13001000 | N24: =F24-L24 -> 0
E25: 213 지급수수료 | F25: ='예산세출(사무국)'!P137+'예산세출(마두)'!P99+'예산세출(진로)'!P51+'예산세출(주교)'!P52+'예산세출(일산서구)'!P71+'예산세출(토당)'!P94+'예산세출(상담)'!P118+'예산세출(화정)'!P71+'예산세출(백마)'!P67+'예산세출(능곡)'!P53 -> 114383000 | G25: ='예산세출(사무국)'!Q137+'예산세출(마두)'!Q99+'예산세출(진로)'!Q51+'예산세출(주교)'!Q52+'예산세출(일산서구)'!Q71+'예산세출(토당)'!Q94+'예산세출(상담)'!Q118+'예산세출(화정)'!Q71+'예산세출(백마)'!Q67+'예산세출(능곡)'!Q53 -> 109022000 | H25: =F25-G25 -> 5361000 | I25: =H25/G25 -> 0.049173561 | L25: 109383000 | N25: =F25-L25 -> 5000000
E26: 214 업무추진비 | F26: ='예산세출(사무국)'!P151+'예산세출(진로)'!P55+'예산세출(성사)'!P83+'예산세출(상담)'!P122 -> 10076000 | G26: ='예산세출(사무국)'!Q151+'예산세출(진로)'!Q55+'예산세출(성사)'!Q83+'예산세출(상담)'!Q122 -> 9800000 | H26: =F26-G26 -> 276000 | I26: =H26/G26 -> 0.028163265 | L26: 10076000 | N26: =F26-L26 -> 0
E27: 215 관서업무비 | F27: ='예산세출(사무국)'!P156+'예산세출(진로)'!P58+'예산세출(성사)'!P86+'예산세출(주교)'!P56+'예산세출(상담)'!P125 -> 8790000 | G27: ='예산세출(사무국)'!Q156+'예산세출(진로)'!Q58+'예산세출(성사)'!Q86+'예산세출(주교)'!Q56+'예산세출(상담)'!Q125 -> 5600000 | H27: =F27-G27 -> 3190000 | I27: =H27/G27 -> 0.56964286 | L27: 8790000 | N27: =F27-L27 -> 0
E28: 216 교육훈련비 | F28: ='예산세출(사무국)'!P161+'예산세출(마두)'!P108+'예산세출(진로)'!P63+'예산세출(주교)'!P59+'예산세출(상담)'!P129+'예산세출(화정)'!P78+'예산세출(백마)'!P70 -> 20217000 | G28: ='예산세출(사무국)'!Q161+'예산세출(마두)'!Q108+'예산세출(진로)'!Q63+'예산세출(주교)'!Q59+'예산세출(상담)'!Q129+'예산세출(화정)'!Q78+'예산세출(백마)'!Q70 -> 27657000 | H28: =F28-G28 -> -7440000 | I28: =H28/G28 -> -0.26900965 | L28: 20217000 | N28: =F28-L28 -> 0
E29: 217 재료비기타 | F29: ='예산세출(사무국)'!P169+'예산세출(마두)'!P111+'예산세출(일산서구)'!P79 -> 15686000 | G29: ='예산세출(사무국)'!Q169+'예산세출(마두)'!Q111+'예산세출(일산서구)'!Q79 -> 15686000 | H29: =F29-G29 -> 0 | I29: =H29/G29 -> 0 | L29: 15686000 | N29: =F29-L29 -> 0
E30: 218 행사홍보비 | F30: ='예산세출(사무국)'!P173+'예산세출(진로)'!P68+'예산세출(성사)'!P91+'예산세출(백마)'!P73+'예산세출(능곡)'!P56 -> 18738000 | G30: ='예산세출(사무국)'!Q173+'예산세출(진로)'!Q68+'예산세출(성사)'!Q91+'예산세출(백마)'!Q73+'예산세출(능곡)'!Q56 -> 17969000 | H30: =F30-G30 -> 769000 | I30: =H30/G30 -> 0.042795926 | L30: 18738000 | N30: =F30-L30 -> 0
E31: 220 회의운영비 | F31: ='예산세출(사무국)'!P180+'예산세출(마두)'!P115+'예산세출(일산서구)'!P84 -> 19400000 | G31: ='예산세출(사무국)'!Q180+'예산세출(마두)'!Q115+'예산세출(일산서구)'!Q84 -> 16000000 | H31: =F31-G31 -> 3400000 | I31: =H31/G31 -> 0.2125 | L31: 17200000 | N31: =F31-L31 -> 2200000
E32: 221 연구개발비 | F32: ='예산세출(사무국)'!P197 -> 15000000 | G32: ='예산세출(사무국)'!Q197 -> 15000000 | H32: =F32-G32 -> 0 | I32: =H32/G32 -> 0 | L32: 15000000 | N32: =F32-L32 -> 0
E33: 401-1 시설비 | F33: ='예산세출(능곡)'!P60+'예산세출(일산서구)'!P88 -> 33869000 | G33: ='예산세출(능곡)'!Q60+'예산세출(일산서구)'!Q88 -> 33869000 | H33: =F33-G33 -> 0 | I33: =H33/G33 -> 0 | L33: 33869000 | N33: =F33-L33 -> 0
D34: 405 자산취득비 | F34: =F35 -> 16420000 | G34: =G35 -> 19554000 | H34: =F34-G34 -> -3134000 | I34: =H34/G34 -> -0.16027411 | L34: 16420000 | N34: =F34-L34 -> 0
E35: 405-1 자산취득비 | F35: ='예산세출(사무국)'!P201+'예산세출(마두)'!P121+'예산세출(진로)'!P73+'예산세출(주교)'!P63+'예산세출(일산서구)'!P93+'예산세출(상담)'!P133+'예산세출(화정)'!P82+'예산세출(능곡)'!P64 -> 16420000 | G35: ='예산세출(사무국)'!Q201+'예산세출(마두)'!Q121+'예산세출(진로)'!Q73+'예산세출(주교)'!Q63+'예산세출(일산서구)'!Q93+'예산세출(상담)'!Q133+'예산세출(화정)'!Q82+'예산세출(능곡)'!Q64 -> 19554000 | H35: =F35-G35 -> -3134000 | I35: =H35/G35 -> -0.16027411 | L35: 16420000 | N35: =F35-L35 -> 0
D36: 713 성과급 | F36: =F37 -> 91448000 | G36: =G37 -> 91448000 | H36: =F36-G36 -> 0 | I36: =H36/G36 -> 0 | L36: 91448000 | N36: =F36-L36 -> 0
E37: 713-1 성과급 | F37: ='예산세출(사무국)'!P207 -> 91448000 | G37: ='예산세출(사무국)'!Q207 -> 91448000 | H37: =F37-G37 -> 0 | I37: =H37/G37 -> 0 | L37: 91448000 | N37: =F37-L37 -> 0
C38: 720 청소년사업비 | F38: =F39+F43 -> 3109529800 | G38: =G39+G43 -> 2960729000 | H38: =F38-G38 -> 148800800 | I38: =H38/G38 -> 0.050258163 | L38: 3110229800 | N38: =F38-L38 -> -700000
D39: 721 보조금사업비 | F39: =SUM(F40:F42) -> 2251639800 | G39: =SUM(G40:G42) -> 2108749000 | H39: =F39-G39 -> 142890800 | I39: =H39/G39 -> 0.067760933 | L39: 2252339800 | N39: =F39-L39 -> -700000
E40: 721-1 국도시비보조금사업비 | F40: ='예산세출(사무국)'!P213+'예산세출(마두)'!P127+'예산세출(진로)'!P78+'예산세출(성사)'!P98+'예산세출(탄현)'!P63+'예산세출(일산서구)'!P98+'예산세출(토당)'!P99+'예산세출(상담)'!P138-700000 -> 2094819800 | G40: ='예산세출(사무국)'!Q213+'예산세출(마두)'!Q127+'예산세출(진로)'!Q78+'예산세출(성사)'!Q98+'예산세출(탄현)'!Q63+'예산세출(일산서구)'!Q98+'예산세출(토당)'!Q99+'예산세출(상담)'!Q138 -> 2060049000 | H40: =F40-G40 -> 34770800 | I40: =H40/G40 -> 0.016878628 | L40: 2095519800 | N40: =F40-L40 -> -700000
E41: 721-2 교육청사업비 | F41: ='예산세출(진로)'!P168+'예산세출(토당)'!P108 -> 127120000 | G41: ='예산세출(진로)'!Q168+'예산세출(토당)'!Q108 -> 43000000 | H41: =F41-G41 -> 84120000 | I41: =H41/G41 -> 1.9562791 | L41: 127120000 | N41: =F41-L41 -> 0
E42: 721-3 기타보조금사업비 | F42: ='예산세출(일산서구)'!P103+'예산세출(토당)'!P113 -> 29700000 | G42: ='예산세출(일산서구)'!Q103+'예산세출(토당)'!Q113 -> 5700000 | H42: =F42-G42 -> 24000000 | I42: =H42/G42 -> 4.2105263 | L42: 29700000 | N42: =F42-L42 -> 0
D43: 722 목적사업비 | F43: =SUM(F44:F47) -> 857890000 | G43: =SUM(G44:G47) -> 851980000 | H43: =F43-G43 -> 5910000 | I43: =H43/G43 -> 0.0069367826 | L43: 857890000 | N43: =F43-L43 -> 0
E44: 722-1 청소년참여와 활동 | F44: ='예산세출(사무국)'!P223+'예산세출(마두)'!P138+'예산세출(성사)'!P131+'예산세출(탄현)'!P71+'예산세출(주교)'!P69+'예산세출(일산서구)'!P109+'예산세출(토당)'!P119+'예산세출(상담)'!P156+'예산세출(화정)'!P87+'예산세출(백마)'!P79+'예산세출(능곡)'!P69 -> 289258000 | G44: ='예산세출(사무국)'!Q223+'예산세출(마두)'!Q138+'예산세출(성사)'!Q131+'예산세출(탄현)'!Q71+'예산세출(주교)'!Q69+'예산세출(일산서구)'!Q109+'예산세출(토당)'!Q119+'예산세출(상담)'!Q156+'예산세출(화정)'!Q87+'예산세출(백마)'!Q79+'예산세출(능곡)'!Q69 -> 281128000 | H44: =F44-G44 -> 8130000 | I44: =H44/G44 -> 0.028919211 | L44: 289258000 | N44: =F44-L44 -> 0
E45: 722-2 청소년보호와안전 | F45: ='예산세출(마두)'!P190+'예산세출(성사)'!P199+'예산세출(탄현)'!P95+'예산세출(일산서구)'!P218+'예산세출(화정)'!P105+'예산세출(백마)'!P92 -> 35210000 | G45: ='예산세출(마두)'!Q190+'예산세출(성사)'!Q199+'예산세출(탄현)'!Q95+'예산세출(일산서구)'!Q218+'예산세출(화정)'!Q105+'예산세출(백마)'!Q92 -> 37020000 | H45: =F45-G45 -> -1810000 | I45: =H45/G45 -> -0.048892491 | L45: 35210000 | N45: =F45-L45 -> 0
E46: 722-3 지역사회네트워킹 | F46: ='예산세출(사무국)'!P258+'예산세출(마두)'!P200+'예산세출(성사)'!P214+'예산세출(탄현)'!P97+'예산세출(주교)'!P77+'예산세출(일산서구)'!P233+'예산세출(화정)'!P119+'예산세출(백마)'!P100+'예산세출(능곡)'!P80 -> 523062000 | G46: ='예산세출(사무국)'!Q258+'예산세출(마두)'!Q200+'예산세출(성사)'!Q214+'예산세출(탄현)'!Q97+'예산세출(주교)'!Q77+'예산세출(일산서구)'!Q233+'예산세출(화정)'!Q119+'예산세출(백마)'!Q100+'예산세출(능곡)'!Q80 -> 523472000 | H46: =F46-G46 -> -410000 | I46: =H46/G46 -> -0.00078323196 | L46: 523062000 | N46: =F46-L46 -> 0
E47: 722-4 경영시스템 구축 | F47: ='예산세출(사무국)'!P346+'예산세출(화정)'!P140 -> 10360000 | G47: ='예산세출(사무국)'!Q346+'예산세출(화정)'!Q140 -> 10360000 | H47: =F47-G47 -> 0 | I47: =H47/G47 -> 0 | L47: 10360000 | N47: =F47-L47 -> 0
C48: 730 자체사업비 | F48: =F49+F54+F72+F74+F78+F86 -> 3105727000 | G48: =G49+G54+G72+G74+G78+G86 -> 3153254000 | H48: =F48-G48 -> -47527000 | I48: =H48/G48 -> -0.015072367
D49: 100 인건비 | F49: =SUM(F50:F53) -> 342804000 | G49: =SUM(G50:G53) -> 317913000 | H49: =F49-G49 -> 24891000 | I49: =H49/G49 -> 0.078295005
E50: 101 급여 | F50: ='예산세출(토당)'!P132 -> 19220000 | G50: ='예산세출(토당)'!Q132 -> 10720000 | H50: =+F50-G50 -> 8500000 | I50: =+H50/G50 -> 0.79291045
E51: 102 제수당 | F51: ='예산세출(토당)'!P137+'예산세출(상담)'!P190+'예산세출(화정)'!P145 -> 14422000 | G51: ='예산세출(토당)'!Q137+'예산세출(상담)'!Q190+'예산세출(화정)'!Q145 -> 9664000 | H51: =+F51-G51 -> 4758000 | I51: =H51/G51 -> 0.49234272
E52: 105 기간제근로자보수 | F52: ='예산세출(마두)'!P211+'예산세출(일산서구)'!P252+'예산세출(토당)'!P140+'예산세출(화정)'!P148+'예산세출(백마)'!P112 -> 306383000 | G52: ='예산세출(마두)'!Q211+'예산세출(일산서구)'!Q252+'예산세출(토당)'!Q140+'예산세출(화정)'!Q148+'예산세출(백마)'!Q112 -> 294750000 | H52: =F52-G52 -> 11633000 | I52: =H52/G52 -> 0.039467345
E53: 106 퇴직급여 | F53: ='예산세출(토당)'!P149 -> 2779000 | G53: ='예산세출(토당)'!Q149 -> 2779000 | H53: =+F53-G53 -> 0 | I53: =+H53/G53 -> 0
D54: 200 경비 | F54: =SUM(F55:F71) -> 405716000 | G54: =SUM(G55:G71) -> 343152000 | H54: =F54-G54 -> 62564000 | I54: =H54/G54 -> 0.18232154 | L54: 405716000 | N54: =F54-L54 -> 0
E55: 201 복리후생비 | F55: ='예산세출(마두)'!P222+'예산세출(탄현)'!P115+'예산세출(일산서구)'!P260+'예산세출(토당)'!P155+'예산세출(상담)'!P196+'예산세출(화정)'!P154 -> 110912000 | G55: ='예산세출(마두)'!Q222+'예산세출(탄현)'!Q115+'예산세출(일산서구)'!Q260+'예산세출(토당)'!Q155+'예산세출(상담)'!Q196+'예산세출(화정)'!Q154 -> 95745000 | H55: =F55-G55 -> 15167000 | I55: =H55/G55 -> 0.15841036 | L55: 110912000 | N55: =F55-L55 -> 0
E56: 202 여비 | F56: ='예산세출(마두)'!P234+'예산세출(탄현)'!P126+'예산세출(일산서구)'!P272+'예산세출(토당)'!P166+'예산세출(화정)'!P157 -> 60146000 | G56: ='예산세출(마두)'!Q234+'예산세출(탄현)'!Q126+'예산세출(일산서구)'!Q272+'예산세출(토당)'!Q166+'예산세출(화정)'!Q157 -> 48320000 | H56: =F56-G56 -> 11826000 | I56: =H56/G56 -> 0.24474338 | L56: 60146000 | N56: =F56-L56 -> 0
E57: 203 공공요금 및 제세 | F57: ='예산세출(마두)'!P241+'예산세출(일산서구)'!P275+'예산세출(토당)'!P171+'예산세출(상담)'!P200+'예산세출(화정)'!P160 -> 14162000 | G57: ='예산세출(마두)'!Q241+'예산세출(일산서구)'!Q275+'예산세출(토당)'!Q171+'예산세출(상담)'!Q200+'예산세출(화정)'!Q160 -> 11497000 | H57: =F57-G57 -> 2665000 | I57: =H57/G57 -> 0.2317996 | L57: 14162000 | N57: =F57-L57 -> 0
E58: 205 운반비 | F58: ='예산세출(진로)'!P188 -> 1333000 | G58: ='예산세출(진로)'!Q188 -> 1333000 | H58: =F58-G58 -> 0 | I58: =H58/G58 -> 0 | K58: =IF(H58<0,"감액","0") -> 0 | L58: 1333000 | N58: =F58-L58 -> 0
E59: 206 소모품비 | F59: ='예산세출(마두)'!P246+'예산세출(일산서구)'!P280+'예산세출(토당)'!P180+'예산세출(상담)'!P205+'예산세출(화정)'!P167 -> 23918000 | G59: ='예산세출(마두)'!Q246+'예산세출(일산서구)'!Q280+'예산세출(토당)'!Q180+'예산세출(상담)'!Q205+'예산세출(화정)'!Q167 -> 17817000 | H59: =F59-G59 -> 6101000 | I59: =H59/G59 -> 0.34242577 | L59: 23918000 | N59: =F59-L59 -> 0
E60: 207 피복비 | F60: ='예산세출(마두)'!P253+'예산세출(일산서구)'!P283 -> 960000 | G60: ='예산세출(마두)'!Q253+'예산세출(일산서구)'!Q283 -> 960000 | H60: =F60-G60 -> 0 | I60: =H60/G60 -> 0 | L60: 960000 | N60: =F60-L60 -> 0
E61: 208 도서인쇄비 | F61: ='예산세출(마두)'!P256+'예산세출(탄현)'!P129+'예산세출(일산서구)'!P286+'예산세출(토당)'!P186 -> 16309000 | G61: ='예산세출(마두)'!Q256+'예산세출(탄현)'!Q129+'예산세출(일산서구)'!Q286+'예산세출(토당)'!Q186 -> 17303000 | H61: =F61-G61 -> -994000 | I61: =H61/G61 -> -0.057446686 | L61: 16309000 | N61: =F61-L61 -> 0
E62: 209 지급임차료 | F62: ='예산세출(사무국)'!P352+'예산세출(탄현)'!P133+'예산세출(토당)'!P189 -> 28820000 | G62: ='예산세출(사무국)'!Q352+'예산세출(탄현)'!Q133+'예산세출(토당)'!Q189 -> 27636000 | H62: =F62-G62 -> 1184000 | I62: =H62/G62 -> 0.042842669 | L62: 28820000 | N62: =F62-L62 -> 0
E63: 210 수선유지비 | F63: ='예산세출(성사)'!P279+'예산세출(탄현)'!P137+'예산세출(토당)'!P194 -> 57712000 | G63: ='예산세출(성사)'!Q279+'예산세출(탄현)'!Q137+'예산세출(토당)'!Q194 -> 39982000 | H63: =F63-G63 -> 17730000 | I63: =H63/G63 -> 0.44344955 | L63: 59712000 | N63: =F63-L63 -> -2000000
E64: 212 보험료 | F64: ='예산세출(탄현)'!P145+'예산세출(토당)'!P207 -> 4485000 | G64: ='예산세출(탄현)'!Q145+'예산세출(토당)'!Q207 -> 4925000 | H64: =F64-G64 -> -440000 | I64: =H64/G64 -> -0.089340102 | L64: 5884000 | N64: =F64-L64 -> -1399000
E65: 213 지급수수료 | F65: ='예산세출(성사)'!P282+'예산세출(탄현)'!P148+'예산세출(토당)'!P212+'예산세출(상담)'!P212+'예산세출(화정)'!P163+'예산세출(능곡)'!P94 -> 33339000 | G65: ='예산세출(성사)'!Q282+'예산세출(탄현)'!Q148+'예산세출(토당)'!Q212+'예산세출(상담)'!Q212+'예산세출(화정)'!Q163+'예산세출(능곡)'!Q94 -> 28130000 | H65: =F65-G65 -> 5209000 | I65: =H65/G65 -> 0.18517597 | L65: 33325000 | N65: =F65-L65 -> 14000
E66: 214 업무추진비 | F66: ='예산세출(마두)'!P260+'예산세출(탄현)'!P152+'예산세출(일산서구)'!P291+'예산세출(토당)'!P223 -> 6000000 | G66: ='예산세출(마두)'!Q260+'예산세출(탄현)'!Q152+'예산세출(일산서구)'!Q291+'예산세출(토당)'!Q223 -> 4800000 | H66: =F66-G66 -> 1200000 | I66: =H66/G66 -> 0.25 | L66: 7476000 | N66: =F66-L66 -> -1476000
E67: 215 관서업무비 | F67: ='예산세출(마두)'!P263+'예산세출(탄현)'!P155+'예산세출(일산서구)'!P294+'예산세출(토당)'!P226 -> 12700000 | G67: ='예산세출(마두)'!Q263+'예산세출(탄현)'!Q155+'예산세출(일산서구)'!Q294+'예산세출(토당)'!Q226 -> 12320000 | H67: =F67-G67 -> 380000 | I67: =H67/G67 -> 0.030844156 | L67: 15970000 | N67: =F67-L67 -> -3270000
E68: 216 교육훈련비 | F68: ='예산세출(마두)'!P269+'예산세출(성사)'!P286+'예산세출(탄현)'!P161+'예산세출(일산서구)'!P300+'예산세출(토당)'!P231 -> 18432000 | G68: ='예산세출(마두)'!Q269+'예산세출(성사)'!Q286+'예산세출(탄현)'!Q161+'예산세출(일산서구)'!Q300+'예산세출(토당)'!Q231 -> 17532000 | H68: =F68-G68 -> 900000 | I68: =H68/G68 -> 0.051334702 | L68: 19292000 | N68: =F68-L68 -> -860000
E69: 217 재료비기타 | F69: ='예산세출(탄현)'!P166 -> 388000 | G69: ='예산세출(탄현)'!Q166 -> 952000 | H69: =F69-G69 -> -564000 | I69: =H69/G69 -> -0.59243697 | L69: 388000 | N69: =F69-L69 -> 0
E70: 218 행사홍보비 | F70: ='예산세출(성사)'!P291+'예산세출(토당)'!P236 -> 14900000 | G70: ='예산세출(성사)'!Q291+'예산세출(토당)'!Q236 -> 13900000 | H70: =F70-G70 -> 1000000 | I70: =H70/G70 -> 0.071942446 | L70: 14900000
E71: 220 회의운영비 | F71: ='예산세출(상담)'!P215 -> 1200000 | G71: ='예산세출(상담)'!Q215 -> 0 | H71: =F71-G71 -> 1200000 | L71: 0
D72: 405 자산취득비 | F72: =F73 -> 162194000 | G72: =G73 -> 117772000 | H72: =F72-G72 -> 44422000 | I72: =H72/G72 -> 0.37718643
E73: 405-1 자산취득비 | F73: ='예산세출(사무국)'!P356+'예산세출(마두)'!P276+'예산세출(성사)'!P295+'예산세출(탄현)'!P171+'예산세출(주교)'!P86+'예산세출(일산서구)'!P309+'예산세출(토당)'!P244 -> 162194000 | G73: ='예산세출(사무국)'!Q356+'예산세출(마두)'!Q276+'예산세출(성사)'!Q295+'예산세출(탄현)'!Q171+'예산세출(주교)'!Q86+'예산세출(일산서구)'!Q309+'예산세출(토당)'!Q244 -> 117772000 | H73: =F73-G73 -> 44422000 | I73: =H73/G73 -> 0.37718643
D74: 731 직영사업비 | F74: =SUM(F75:F77) -> 1249586000 | G74: =SUM(G75:G77) -> 1374443000 | H74: =F74-G74 -> -124857000 | I74: =H74/G74 -> -0.09084189
E75: 731-1 청소년참여와활동 | F75: ='예산세출(마두)'!P285+'예산세출(성사)'!P302+'예산세출(탄현)'!P176+'예산세출(주교)'!P91+'예산세출(일산서구)'!P317 -> 768500000 | G75: ='예산세출(마두)'!Q285+'예산세출(성사)'!Q302+'예산세출(탄현)'!Q176+'예산세출(주교)'!Q91+'예산세출(일산서구)'!Q317 -> 872059000 | H75: =F75-G75 -> -103559000 | I75: =H75/G75 -> -0.11875229
E76: 731-2 청소년보호와안전 | F76: ='예산세출(성사)'!P306+'예산세출(탄현)'!P190+'예산세출(일산서구)'!P340 -> 3460000 | G76: ='예산세출(성사)'!Q306+'예산세출(탄현)'!Q190+'예산세출(일산서구)'!Q340 -> 10360000 | H76: =F76-G76 -> -6900000 | I76: =H76/G76 -> -0.66602317 | L76: =F74+F78 -> 1865496000 | M76: =G74+G78 -> 2005712000
E77: 731-3 지역사회네트워킹 | F77: ='예산세출(사무국)'!P360+'예산세출(마두)'!P309+'예산세출(성사)'!P311+'예산세출(탄현)'!P192+'예산세출(일산서구)'!P351 -> 477626000 | G77: ='예산세출(사무국)'!Q360+'예산세출(마두)'!Q309+'예산세출(성사)'!Q311+'예산세출(탄현)'!Q192+'예산세출(일산서구)'!Q351 -> 492024000 | H77: =F77-G77 -> -14398000 | I77: =H77/G77 -> -0.0292628
D78: 732 민간사업비 | F78: =SUM(F79:F85) -> 615910000 | G78: =SUM(G79:G85) -> 631269000 | H78: =F78-G78 -> -15359000 | I78: =H78/G78 -> -0.024330357
E79: 732-1 청소년참여와활동 | F79: ='예산세출(토당)'!P251+'예산세출(상담)'!P219+'예산세출(화정)'!P171+'예산세출(백마)'!P116+'예산세출(능곡)'!P98 -> 135963000 | G79: ='예산세출(토당)'!Q251+'예산세출(상담)'!Q219+'예산세출(화정)'!Q171+'예산세출(백마)'!Q116+'예산세출(능곡)'!Q98 -> 136404000 | H79: =F79-G79 -> -441000 | I79: =H79/G79 -> -0.003233043
E80: 732-2 청소년보호와안전 | F80: ='예산세출(토당)'!P297 -> 125432000 | G80: ='예산세출(토당)'!Q297 -> 138460000 | H80: =F80-G80 -> -13028000 | I80: =H80/G80 -> -0.094092157
E81: 732-3 지역사회네트워킹 | F81: ='예산세출(토당)'!P332+'예산세출(화정)'!P174 -> 296115000 | G81: ='예산세출(토당)'!Q332+'예산세출(화정)'!Q174 -> 296115000 | H81: =F81-G81 -> 0 | I81: =H81/G81 -> 0
E82: 732-4 경영시스템 구축 | F82: ='예산세출(화정)'!P180+'예산세출(토당)'!P424 -> 1900000 | G82: ='예산세출(화정)'!Q180+'예산세출(토당)'!Q424 -> 3790000 | H82: =+F82-G82 -> -1890000 | I82: =+H82/G82 -> -0.49868074
E83: 732-5 식당사업비 | F83: ='예산세출(토당)'!P429 -> 49500000 | G83: ='예산세출(토당)'!Q429 -> 49500000 | H83: =+F83-G83 -> 0 | I83: =+H83/G83 -> 0
E84: 732-6 자판기사업비 | F84: ='예산세출(토당)'!P433 -> 6000000 | G84: ='예산세출(토당)'!Q433 -> 6000000 | H84: =+F84-G84 -> 0 | I84: =+H84/G84 -> 0
E85: 732-7 대관사업비 | F85: ='예산세출(토당)'!P436 -> 1000000 | G85: ='예산세출(토당)'!Q436 -> 1000000 | H85: =+F85-G85 -> 0 | I85: =+H85/G85 -> 0
D86: 733 재단지원금 | F86: =F87 -> 329517000 | G86: =G87 -> 368705000 | H86: =F86-G86 -> -39188000 | I86: =H86/G86 -> -0.10628551
E87: 733-1 재단지원금 | F87: ='예산세출(사무국)'!O369 -> 329517000 | G87: 368705000 | H87: =F87-G87 -> -39188000 | I87: =H87/G87 -> -0.10628551
C88: 750 법인전입금 | F88: =F89 -> 81909000 | G88: =G89 -> 50000000 | H88: =+F88-G88 -> 31909000 | I88: =+H88/G88 -> 0.63818
D89: 750 법인전입금 | F89: =SUM(F90:F91) -> 81909000 | G89: =SUM(G90:G91) -> 50000000 | H89: =+F89-G89 -> 31909000 | I89: =+H89/G89 -> 0.63818
E90: 210 수선유지비 | F90: ='예산세출(토당)'!P441 -> 51369000 | G90: ='예산세출(토당)'!Q441 -> 20000000 | H90: =+F90-G90 -> 31369000 | I90: =+H90/G90 -> 1.56845
E91: 731-1 청소년참여와활동 | F91: ='예산세출(토당)'!P447 -> 30540000 | G91: ='예산세출(토당)'!Q447 -> 30000000 | H91: =+F91-G91 -> 540000 | I91: =+H91/G91 -> 0.018
C92: 770 영업외비용 | F92: =F93 -> 49079000 | G92: =G93 -> 108282000 | H92: =F92-G92 -> -59203000 | I92: =H92/G92 -> -0.54674831
D93: 775 기타영업외비용 | F93: =F94 -> 49079000 | G93: =G94 -> 108282000 | H93: =F93-G93 -> -59203000 | I93: =H93/G93 -> -0.54674831
E94: 775-4 기타영업외비용 | F94: ='예산세출(사무국)'!P378+'예산세출(마두)'!P343+'예산세출(진로)'!P193+'예산세출(성사)'!P319+'예산세출(탄현)'!P200+'예산세출(주교)'!P97+'예산세출(일산서구)'!P373+'예산세출(토당)'!P454+'예산세출(상담)'!P232+'예산세출(화정)'!P186+'예산세출(백마)'!P121+'예산세출(능곡)'!P104 -> 49079000 | G94: ='예산세출(사무국)'!Q378+'예산세출(마두)'!Q343+'예산세출(진로)'!Q193+'예산세출(성사)'!Q319+'예산세출(탄현)'!Q200+'예산세출(주교)'!Q97+'예산세출(일산서구)'!Q373+'예산세출(토당)'!Q454+'예산세출(상담)'!Q232+'예산세출(화정)'!Q186+'예산세출(백마)'!Q121+'예산세출(능곡)'!Q104 -> 108282000 | H94: =F94-G94 -> -59203000 | I94: =H94/G94 -> -0.54674831 | L94: =#REF!-#REF!-#REF!-#REF!-#REF!-#REF! -> #REF!

Sheet 세입·세출예산 총괄표(조직별)5
A1: 세입·세출예산 총괄표(조직별)
A3: 2019년 2차 추경 세입·세출예산(안) | J3: [단위:천원]
A4: 구 분 | B4: ='예 산 규 모1'!B3 -> 2019년추경액(A) | F4: ='예 산 규 모1'!D3 -> 2019년기정액(B) | J4: 증감액(A-B) | N4: 증감률
B5: 합계 | C5: 출연금 | D5: 보조금 | E5: 자부담 | F5: 합계 | G5: 출연금 | H5: 보조금 | I5: 자부담 | J5: 합계 | K5: =C5 -> 출연금 | L5: =D5 -> 보조금 | M5: =E5 -> 자부담 | N5: 합계 | O5: =K5 -> 출연금 | P5: =L5 -> 보조금 | Q5: =M5 -> 자부담
A6: 총 계 | B6: =SUM(B7:B18) -> 11461817800 | C6: =SUM(C7:C18) -> 5914513000 | D6: =SUM(D7:D18) -> 2251639800 | E6: =SUM(E7:E18) -> 3295665000 | F6: =SUM(F7:F18) -> 11354560000 | G6: =SUM(G7:G18) -> 5914513000 | H6: =SUM(H7:H18) -> 2065749000 | I6: =SUM(I7:I18) -> 3374298000 | J6: =SUM(J7:J18) -> 107257800 | K6: =C6-G6 -> 0 | L6: =D6-H6 -> 185890800 | M6: =E6-I6 -> -78633000 | N6: =J6/F6 -> 0.0094462313 | O6: =K6/G6 -> 0 | P6: =L6/H6 -> 0.089987118 | Q6: =M6/I6 -> -0.023303514
A7: 사무국 | B7: =C7+D7+E7 -> 4121540000 | C7: 3222569000 | D7: 38420000 | E7: 860551000 | F7: =SUM(G7:I7) -> 4148594000 | G7: 3222569000 | H7: 38420000 | I7: 887605000 | J7: =SUM(K7:M7) -> -27054000 | K7: =C7-G7 -> 0 | L7: =D7-H7 -> 0 | M7: =E7-I7 -> -27054000 | N7: =J7/F7 -> -0.0065212455 | O7: =K7/G7 -> 0 | P7: =L7/H7 -> 0 | Q7: =M7/I7 -> -0.030479774
A8: 마두청소년수련관 | B8: =C8+D8+E8 -> 1250861000 | C8: 318913000 | D8: 65880000 | E8: 866068000 | F8: =SUM(G8:I8) -> 1266311000 | G8: 318913000 | H8: 65880000 | I8: 881518000 | J8: =SUM(K8:M8) -> -15450000 | K8: =C8-G8 -> 0 | L8: =D8-H8 -> 0 | M8: =E8-I8 -> -15450000 | N8: =J8/F8 -> -0.012200794 | O8: =K8/G8 -> 0 | P8: =L8/H8 -> 0 | Q8: =M8/I8 -> -0.017526585
A9: 고양시 청소년진로센터 | B9: =C9+D9+E9 -> 670584000 | C9: 61258000 | D9: 590630000 | E9: 18696000 | F9: =SUM(G9:I9) -> 553461000 | G9: 61258000 | H9: 447630000 | I9: 44573000 | J9: =SUM(K9:M9) -> 117123000 | K9: =C9-G9 -> 0 | L9: =D9-H9 -> 143000000 | M9: =E9-I9 -> -25877000 | N9: =J9/F9 -> 0.21161925 | O9: =K9/G9 -> 0 | P9: =L9/H9 -> 0.31946027 | Q9: =M9/I9 -> -0.58055325
A10: 성사 청소년문화의집 | B10: =C10+D10+E10 -> 466283000 | C10: 184082000 | D10: 252562000 | E10: 29639000 | F10: =SUM(G10:I10) -> 466283000 | G10: 184082000 | H10: 250562000 | I10: 31639000 | J10: =SUM(K10:M10) -> 0 | K10: =C10-G10 -> 0 | L10: =D10-H10 -> 2000000 | M10: =E10-I10 -> -2000000 | N10: =J10/F10 -> 0 | O10: =K10/G10 -> 0 | P10: =L10/H10 -> 0.0079820563 | Q10: =M10/I10 -> -0.063213123
A11: 탄현 청소년문화의집 | B11: =C11+D11+E11 -> 225812000 | C11: 86947000 | D11: 27080000 | E11: 111785000 | F11: =SUM(G11:I11) -> 241613000 | G11: 86947000 | H11: 27080000 | I11: 127586000 | J11: =SUM(K11:M11) -> -15801000 | K11: =C11-G11 -> 0 | L11: =D11-H11 -> 0 | M11: =E11-I11 -> -15801000 | N11: =J11/F11 -> -0.065397971 | O11: =K11/G11 -> 0 | P11: =L11/H11 -> 0 | Q11: =M11/I11 -> -0.12384588
A12: 주교동청소년카페 | B12: =C12+D12+E12 -> 37449000 | C12: 16041000 | D12: 0 | E12: 21408000 | F12: =SUM(G12:I12) -> 36969000 | G12: 16041000 | H12: 0 | I12: 20928000 | J12: =SUM(K12:M12) -> 480000 | K12: =C12-G12 -> 0 | L12: =D12-H12 -> 0 | M12: =E12-I12 -> 480000 | N12: =J12/F12 -> 0.012983851 | O12: =K12/G12 -> 0 | Q12: =M12/I12 -> 0.02293578
A13: 일산서구 청소년수련관 | B13: =C13+D13+E13 -> 944153000 | C13: 423402000 | D13: 145770000 | E13: 374981000 | F13: =SUM(G13:I13) -> 1048085000 | G13: 423402000 | H13: 165202000 | I13: 459481000 | J13: =SUM(K13:M13) -> -103932000 | K13: =C13-G13 -> 0 | L13: =D13-H13 -> -19432000 | M13: =E13-I13 -> -84500000 | N13: =J13/F13 -> -0.099163713 | O13: =K13/G13 -> 0 | P13: =L13/H13 -> -0.11762569 | Q13: =M13/I13 -> -0.18390314
A14: 토당청소년수련관 | B14: =C14+D14+E14 -> 2059049000 | C14: 931104000 | D14: 236042000 | E14: 891903000 | F14: =SUM(G14:I14) -> 1933404000 | G14: 931104000 | H14: 183822000 | I14: 818478000 | J14: =SUM(K14:M14) -> 125645000 | K14: =C14-G14 -> 0 | L14: =D14-H14 -> 52220000 | M14: =E14-I14 -> 73425000 | N14: =J14/F14 -> 0.064986418 | O14: =K14/G14 -> 0 | P14: =L14/H14 -> 0.28407916 | Q14: =M14/I14 -> 0.089709192
A15: 고양시청소년 상담복지센터 | B15: =C15+D15+E15 -> 1335135800 | C15: 375948000 | D15: ='세입 세부내역서(조직별)7'!B31 -> 895255800 | E15: 63932000 | F15: =SUM(G15:I15) -> 1311228000 | G15: 375948000 | H15: 887153000 | I15: 48127000 | J15: =SUM(K15:M15) -> 23907800 | K15: =C15-G15 -> 0 | L15: =D15-H15 -> 8102800 | M15: =E15-I15 -> 15805000 | N15: =J15/F15 -> 0.018233137 | O15: =K15/G15 -> 0 | P15: =L15/H15 -> 0.0091334866 | Q15: =M15/I15 -> 0.32840194
A16: 화정청소년카페 | B16: =C16+D16+E16 -> 157291000 | C16: 116324000 | D16: 0 | E16: 40967000 | F16: =SUM(G16:I16) -> 155824000 | G16: 116324000 | H16: 0 | I16: 39500000 | J16: =SUM(K16:M16) -> 1467000 | K16: =C16-G16 -> 0 | L16: =D16-H16 -> 0 | M16: =E16-I16 -> 1467000 | N16: =J16/F16 -> 0.0094144676 | O16: =K16/G16 -> 0 | Q16: =M16/I16 -> 0.037139241
A17: 백마역청소년카페 | B17: =C17+D17+E17 -> 102266000 | C17: 89380000 | D17: 0 | E17: 12886000 | F17: =SUM(G17:I17) -> 101394000 | G17: 89380000 | H17: 0 | I17: 12014000 | J17: =SUM(K17:M17) -> 872000 | K17: =C17-G17 -> 0 | L17: =D17-H17 -> 0 | M17: =E17-I17 -> 872000 | N17: =J17/F17 -> 0.0086001144 | O17: =K17/G17 -> 0 | Q17: =M17/I17 -> 0.072581988
A18: 능곡역청소년카페 | B18: =C18+D18+E18 -> 91394000 | C18: 88545000 | D18: 0 | E18: 2849000 | F18: =SUM(G18:I18) -> 91394000 | G18: 88545000 | H18: 0 | I18: 2849000 | J18: =SUM(K18:M18) -> 0 | K18: =C18-G18 -> 0 | L18: =D18-H18 -> 0 | M18: =E18-I18 -> 0 | N18: =J18/F18 -> 0 | O18: =K18/G18 -> 0 | Q18: =M18/I18 -> 0
A22: 사무국 | B22: 4121540000 | D22: =C7+D7 -> 3260989000 | E22: =B22-D22 -> 860551000
A23: 마두청소년수련관 | B23: 1250861000 | D23: =C8+D8 -> 384793000 | E23: =B23-D23 -> 866068000
A24: 고양시청소년진로센터 | B24: 670584000 | D24: =C9+D9 -> 651888000 | E24: =B24-D24 -> 18696000
A25: 성사청소년문화의집 | B25: 466283000 | D25: =C10+D10 -> 436644000 | E25: =B25-D25 -> 29639000
A26: 탄현청소년문화의집 | B26: 225812000 | D26: =C11+D11 -> 114027000 | E26: =B26-D26 -> 111785000
A27: 주교동청소년카페 | B27: 37449000 | D27: =C12+D12 -> 16041000 | E27: =B27-D27 -> 21408000
A28: 일산서구청소년수련관 | B28: 944153000 | D28: =C13+D13 -> 569172000 | E28: =B28-D28 -> 374981000
A29: 토당청소년수련관 | B29: 2059049000 | D29: =C14+D14 -> 1167146000 | E29: =B29-D29 -> 891903000
A30: 고양시청소년상담복지센터 | B30: 1335135800 | D30: =C15+D15 -> 1271203800 | E30: =B30-D30 -> 63932000
A31: 화정청소년카페 | B31: 157291000 | D31: =C16+D16 -> 116324000 | E31: =B31-D31 -> 40967000
A32: 백마역청소년카페 | B32: 102266000 | D32: =C17+D17 -> 89380000 | E32: =B32-D32 -> 12886000
A33: 능곡역청소년카페 | B33: 91394000 | D33: =C18+D18 -> 88545000 | E33: =B33-D33 -> 2849000

Sheet 세입·세출예산 세부 총괄표(조직별)6
A1: 세입·세출예산 세부 총괄표(조직별)
A2: 2019년 2차 추경 세입·세출예산(안) | M2: [단위:천원]
A3: 세 입 | H3: 세 출
A4: 예산과목 | B4: ='세입·세출예산 총괄표(성질별)2'!B4 -> 2019년추경액(A) | D4: ='세입·세출예산 총괄표(성질별)2'!D4 -> 2019년기정액(B) | F4: 증 감(A-B) | H4: =A4 -> 예산과목 | I4: =B4 -> 2019년추경액(A) | K4: =D4 -> 2019년기정액(B) | M4: 증 감(A-B)
B5: 금 액 | C5: 구성비 | D5: 금 액 | E5: 구성비 | F5: 금 액 | G5: 증감률 | I5: 금 액 | J5: 구성비 | K5: 금 액 | L5: 구성비 | M5: 금 액 | N5: 증감률
A6: 총 계 | B6: =SUM(B7,B73) -> 11461817800 | C6: =C7+C73 -> 0.99998761 | D6: =SUM(D7,D73) -> 11354560000 | E6: =E7+E73 -> 1 | F6: =B6-D6 -> 107257800 | G6: =+F6/D6 -> 0.0094462313 | H6: 총 계 | I6: =SUM(I7,I73) -> 11461817800 | J6: =+J7+J73 -> 1 | K6: =SUM(K7,K73) -> 11354560000 | L6: =L7+L73 -> 1 | M6: =I6-K6 -> 107257800 | N6: =+M6/K6 -> 0.0094462313 | T6: =I6-P6 -> 11461817800
A7: 영업외수익 | B7: 9137074800 | C7: 0.79717502 | D7: 8982050000 | E7: 0.79105223 | F7: 79582800 | G7: 0.0088602045 | H7: 사업비용 | I7: 8225102800 | J7: 0.71760893 | K7: 8043024000 | L7: 0.70835189 | M7: 182078800 | N7: 0.022638102
A8: 지자체출자출연금 | B8: 4313212000 | C8: 0.37631134 | D8: 4313212000 | E8: 0.37986606 | F8: 0 | G8: 0 | H8: 인건비 | I8: 3588237000 | J8: 0.31306003 | K8: 3547562000 | L8: 0.312435 | M8: 40675000 | N8: 0.011465621 | Q8: 2019년 | R8: 2018년
A9: 사무국 | B9: 3222569000 | C9: 0.28115689 | D9: 3222569000 | E9: 0.28381276 | F9: 0 | G9: 0 | H9: 사무국 | I9: 2200111000 | J9: 0.19195132 | K9: 2200111000 | L9: 0.19376453 | M9: 0 | N9: 0 | P9: 사무국 | Q9: =SUMIFS($B$9:$B$9989,$A$9:$A$9989,"사무국") -> 4121540000 | R9: =SUMIF($A$9:$A$9989,"사무국",$D$9:$D$9989) -> 4148594000 | S9: =Q9-R9 -> -27054000 | U9: 사무국 | V9: =SUMIFS($I:$I,$H:$H,U9) -> 4121540000 | W9: =SUMIFS($K$8:$K$128,$H$8:$H$128,"사무국") -> 4148594000
A10: 마두청소년수련관 | B10: 318913000 | C10: 0.027823946 | D10: 318913000 | E10: 0.028086777 | F10: 0 | G10: 0 | H10: 마두청소년수련관 | I10: 17903000 | J10: 0.0015619686 | K10: 12925000 | L10: 0.0011383092 | M10: 4978000 | N10: 0.38514507 | P10: 마두청소년수련관 | Q10: =SUMIFS($B$9:$B$9989,$A$9:$A$9989,"마두청소년수련관") -> 1250861000 | R10: =SUMIF($A$9:$A$9989,"마두청소년수련관",$D$9:$D$9989) -> 1266311000 | S10: =Q10-R10 -> -15450000 | U10: 마두청소년수련관 | V10: =SUMIFS($I:$I,$H:$H,U10) -> 1250861000 | W10: =SUMIFS($K$8:$K$128,$H$8:$H$128,"마두청소년수련관") -> 1178909000
A11: 고양시청소년진로센터 | B11: 61258000 | C11: 0.0053445275 | D11: 61258000 | E11: 0.0053950131 | F11: 0 | G11: 0 | H11: 고양시청소년진로센터 | I11: 38371000 | J11: 0.0033477238 | K11: 21248000 | L11: 0.0018713187 | M11: 17123000 | N11: 0.80586408 | P11: 고양시청소년진로센터 | Q11: =SUMIFS($B$9:$B$9989,$A$9:$A$9989,"고양시청소년진로센터") -> 670584000 | R11: =SUMIF($A$9:$A$9989,"고양시청소년진로센터",$D$9:$D$9989) -> 553461000 | S11: =Q11-R11 -> 117123000 | U11: 고양시청소년진로센터 | V11: =SUMIFS($I:$I,$H:$H,U11) -> 670584000 | W11: =SUMIFS($K$8:$K$128,$H$8:$H$128,"고양시청소년진로센터") -> 553461000
A12: 성사청소년문화의집 | B12: 184082000 | C12: 0.016060454 | D12: 184082000 | E12: 0.016212165 | F12: 0 | G12: 0 | H12: 성사청소년문화의집 | I12: 37340000 | J12: 0.003257773 | K12: 37340000 | L12: 0.0032885466 | M12: 0 | N12: 0 | P12: 성사청소년문화의집 | Q12: =SUMIFS($B$9:$B$9989,$A$9:$A$9989,"성사청소년문화의집") -> 466283000 | R12: =SUMIF($A$9:$A$9989,"성사청소년문화의집",$D$9:$D$9989) -> 466283000 | S12: =Q12-R12 -> 0 | U12: 성사청소년문화의집 | V12: =SUMIFS($I:$I,$H:$H,U12) -> 466283000 | W12: =SUMIFS($K$8:$K$128,$H$8:$H$128,"성사청소년문화의집") -> 458574000
A13: 탄현청소년문화의집 | B13: 86947000 | C13: 0.007585795 | D13: 86947000 | E13: 0.0076574522 | F13: 0 | G13: 0 | H13: 탄현청소년문화의집 | I13: 35516000 | J13: 0.0030986359 | K13: 32717000 | L13: 0.0028813974 | M13: 2799000 | N13: 0.085551854 | P13: 탄현청소년문화의집 | Q13: =SUMIFS($B$9:$B$9989,$A$9:$A$9989,"탄현청소년문화의집") -> 225812000 | R13: =SUMIF($A$9:$A$9989,"탄현청소년문화의집",$D$9:$D$9989) -> 241613000 | S13: =Q13-R13 -> -15801000 | U13: 탄현청소년문화의집 | V13: =SUMIFS($I:$I,$H:$H,U13) -> 225812000 | W13: =SUMIFS($K$8:$K$128,$H$8:$H$128,"탄현청소년문화의집") -> 241253000
A14: 주교동청소년카페 | B14: 16041000 | C14: 0.0013995162 | D14: 16041000 | E14: 0.0014127364 | F14: 0 | G14: 0 | H14: 주교동청소년카페 | I14: 14672000 | J14: 0.0012800762 | K14: 14672000 | L14: 0.0012921681 | M14: 0 | N14: 0 | P14: 주교동청소년카페 | Q14: =SUMIFS($B$9:$B$9989,$A$9:$A$9989,"주교동청소년카페") -> 37449000 | R14: =SUMIF($A$9:$A$9989,"주교동청소년카페",$D$9:$D$9989) -> 36969000 | S14: =Q14-R14 -> 480000 | U14: 주교동청소년카페 | V14: =SUMIFS($I:$I,$H:$H,U14) -> 37449000 | W14: =SUMIFS($K$8:$K$128,$H$8:$H$128,"주교동청소년카페") -> 36969000
A15: 일산서구청소년수련관 | B15: 423402000 | C15: 0.036940214 | D15: 423402000 | E15: 0.03728916 | F15: 0 | G15: 0 | H15: 일산서구청소년수련관 | I15: 155959000 | J15: 0.013606829 | K15: 140184000 | L15: 0.012346053 | M15: 15775000 | N15: 0.11253067 | P15: 일산서구청소년수련관 | Q15: =SUMIFS($B$9:$B$9989,$A$9:$A$9989,"일산서구청소년수련관") -> 944153000 | R15: =SUMIF($A$9:$A$9989,"일산서구청소년수련관",$D$9:$D$9989) -> 1048085000 | S15: =Q15-R15 -> -103932000 | U15: 일산서구청소년수련관 | V15: =SUMIFS($I:$I,$H:$H,U15) -> 944153000 | W15: =SUMIFS($K$8:$K$128,$H$8:$H$128,"일산서구청소년수련관") -> 1048085000
A16: 보조금수익(출연금위탁교부) | B16: 1601301000 | C16: 0.13970742 | D16: 1601301000 | E16: 0.14102713 | F16: 0 | G16: 0 | H16: 토당청소년수련관 | I16: 612394000 | J16: 0.053429047 | K16: 612394000 | L16: 0.05393375 | M16: 0 | N16: 0 | P16: 토당청소년수련관 | Q16: =SUMIFS($B$9:$B$9989,$A$9:$A$9989,"토당청소년수련관") -> 2059049000 | R16: =SUMIF($A$9:$A$9989,"토당청소년수련관",$D$9:$D$9989) -> 1933404000 | S16: =Q16-R16 -> 125645000 | U16: 토당청소년수련관 | V16: =SUMIFS($I:$I,$H:$H,U16) -> 2059049000 | W16: =SUMIFS($K$8:$K$128,$H$8:$H$128,"토당청소년수련관") -> 1922914000
A17: 토당청소년수련관 | B17: 931104000 | C17: 0.081235282 | D17: 931104000 | E17: 0.082002649 | F17: 0 | G17: 0 | H17: 고양시청소년상담복지센터 | I17: 309399000 | J17: 0.026993886 | K17: 309399000 | L17: 0.027248876 | M17: 0 | N17: 0 | P17: 고양시청소년상담복지센터 | Q17: =SUMIFS($B$9:$B$9989,$A$9:$A$9989,"고양시청소년상담복지센터") -> 1335135800 | R17: =SUMIF($A$9:$A$9989,"고양시청소년상담복지센터",$D$9:$D$9989) -> 1311228000 | S17: =Q17-R17 -> 23907800 | U17: 고양시청소년상담복지센터 | V17: =SUMIFS($I:$I,$H:$H,U17) -> 1335135800 | W17: =SUMIFS($K$8:$K$128,$H$8:$H$128,"고양시청소년상담복지센터") -> 1311228000
A18: 고양시청소년상담복지센터 | B18: 375948000 | C18: 0.032800033 | D18: 375948000 | E18: 0.03310987 | F18: 0 | G18: 0 | H18: 화정청소년카페 | I18: 62617000 | J18: 0.005463095 | K18: 62617000 | L18: 0.0055147007 | M18: 0 | N18: 0 | P18: 화정청소년카페 | Q18: =SUMIFS($B$9:$B$9989,$A$9:$A$9989,"화정청소년카페") -> 157291000 | R18: =SUMIF($A$9:$A$9989,"화정청소년카페",$D$9:$D$9989) -> 155824000 | S18: =Q18-R18 -> 1467000 | U18: 화정청소년카페 | V18: =SUMIFS($I:$I,$H:$H,U18) -> 157291000 | W18: =SUMIFS($K$8:$K$128,$H$8:$H$128,"화정청소년카페") -> 155824000
A19: 화정청소년카페 | B19: 116324000 | C19: 0.010148826 | D19: 116324000 | E19: 0.010244695 | F19: 0 | G19: 0 | H19: 백마역청소년카페 | I19: 57190000 | J19: 0.0049896099 | K19: 57190000 | L19: 0.0050367429 | M19: 0 | N19: 0 | P19: 백마역청소년카페 | Q19: =SUMIFS($B$9:$B$9989,$A$9:$A$9989,"백마역청소년카페") -> 102266000 | R19: =SUMIF($A$9:$A$9989,"백마역청소년카페",$D$9:$D$9989) -> 101394000 | S19: =Q19-R19 -> 872000 | U19: 백마역청소년카페 | V19: =SUMIFS($I:$I,$H:$H,U19) -> 102266000 | W19: =SUMIFS($K$8:$K$128,$H$8:$H$128,"백마역청소년카페") -> 101394000
A20: 백마역청소년카페 | B20: 89380000 | C20: 0.007798065 | D20: 89380000 | E20: 0.0078717273 | F20: 0 | G20: 0 | H20: 능곡역청소년카페 | I20: 46765000 | J20: 0.0040800683 | K20: 46765000 | L20: 0.0041186096 | M20: 0 | N20: 0 | P20: 능곡역청소년카페 | Q20: =SUMIFS($B$9:$B$9989,$A$9:$A$9989,"능곡역청소년카페") -> 91394000 | R20: =SUMIF($A$9:$A$9989,"능곡역청소년카페",$D$9:$D$9989) -> 91394000 | S20: =Q20-R20 -> 0 | U20: 능곡역청소년카페 | V20: =SUMIFS($I:$I,$H:$H,U20) -> 91394000 | W20: =SUMIFS($K$8:$K$128,$H$8:$H$128,"능곡역청소년카페") -> 91394000
A21: 능곡역청소년카페 | B21: 88545000 | C21: 0.0077252144 | D21: 88545000 | E21: 0.0077981886 | F21: 0 | G21: 0 | H21: 경비 | I21: 1419468000 | J21: 0.12384318 | K21: 1423731000 | L21: 0.12538848 | M21: -4263000 | N21: -0.0029942454 | Q21: =SUM(Q9:Q20) -> 11461817800 | R21: =SUM(R9:R20) -> 11354560000 | V21: =SUM(V9:V20) -> 11461817800 | W21: =SUM(W9:W20) -> 11248599000
A22: 국도시비보조금 | B22: 2094819800 | C22: 0.18276506 | D22: 2060049000 | E22: 0.18142922 | F22: 34770800 | G22: 0.016878628 | H22: 사무국 | I22: 396810000 | J22: 0.034620163 | K22: 396810000 | L22: 0.034947193 | M22: 0 | N22: 0
A23: 사무국 | B23: 38420000 | C23: 0.0033519988 | D23: 38420000 | E23: 0.0033836626 | F23: 0 | G23: 0 | H23: 마두청소년수련관 | I23: 229906000 | J23: 0.020058424 | K23: 233630000 | L23: 0.020575874 | M23: -3724000 | N23: -0.015939734
A24: 마두청소년수련관 | B24: 65880000 | C24: 0.0057477794 | D24: 65880000 | E24: 0.0058020742 | F24: 0 | G24: 0 | H24: 고양시청소년진로센터 | I24: 38310000 | J24: 0.0033424018 | K24: 38310000 | L24: 0.0033739749 | M24: 0 | N24: 0
A25: 고양시청소년진로센터 | B25: 487630000 | C25: 0.042543862 | D25: 447630000 | E25: 0.039422928 | F25: 40000000 | G25: 0.089359516 | H25: 성사청소년문화의집 | I25: 86150000 | J25: 0.0075162598 | K25: 86150000 | L25: 0.0075872601 | M25: 0 | N25: 0
A26: 성사청소년문화의집 | B26: 252562000 | C26: 0.022035074 | D26: 250562000 | E26: 0.022067081 | F26: 2000000 | G26: 0.0079820563 | H26: 탄현청소년문화의집 | I26: 28890000 | J26: 0.0025205426 | K26: 25630000 | L26: 0.0022572429 | M26: 3260000 | N26: 0.12719469
A27: 탄현청소년문화의집 | B27: 27080000 | C27: 0.002362627 | D27: 27080000 | E27: 0.0023849449 | F27: 0 | G27: 0 | H27: 주교동청소년카페 | I27: 13424000 | J27: 0.0011711929 | K27: 13424000 | L27: 0.0011822563 | M27: 0 | N27: 0
A28: 일산서구청소년수련관 | B28: 140070000 | C28: 0.012220575 | D28: 159502000 | E28: 0.014047396 | F28: -19432000 | G28: -0.12182919 | H28: 일산서구청소년수련관 | I28: 181724000 | J28: 0.015854728 | K28: 195619000 | L28: 0.017228233 | M28: -13895000 | N28: -0.071030933
A29: 토당청소년수련관 | B29: 187922000 | C29: 0.01639548 | D29: 183822000 | E29: 0.016189267 | F29: 4100000 | G29: 0.022304186 | H29: 토당청소년수련관 | I29: 311110000 | J29: 0.027143164 | K29: 311110000 | L29: 0.027399565 | M29: 0 | N29: 0
A30: 고양시청소년상담복지센터 | B30: 895255800 | C30: 0.078107663 | D30: 887153000 | E30: 0.078131869 | F30: 8102800 | G30: 0.0091334866 | H30: 고양시청소년상담복지센터 | I30: 60440000 | J30: 0.0052731601 | K30: 53181000 | L30: 0.0046836689 | M30: 7259000 | N30: 0.13649612
A31: 교육청사업 | B31: 127120000 | C31: 0.011090736 | D31: 43000000 | E31: 0.0037870248 | F31: 60000000 | G31: 1.3953488 | H31: 화정청소년카페 | I31: 23384000 | J31: 0.002040165 | K31: 22207000 | L31: 0.0019557781 | M31: 1177000 | N31: 0.053001306
A32: 고양시청소년진로센터 | B32: 103000000 | C32: 0.0089863582 | D32: 43000000 | E32: 0.0037870248 | F32: 60000000 | G32: 1.3953488 | H32: 백마역청소년카페 | I32: 27240000 | J32: 0.0023765864 | K32: 25580000 | L32: 0.0022528394 | M32: 1660000 | N32: 0.064894449
A33: 토당청소년수련관 | B33: 24120000 | C33: 0.0021043782 | D33: 0 | E33: 0 | F33: 24120000 | H33: 능곡역청소년카페 | I33: 22080000 | J33: 0.001926396 | K33: 22080000 | L33: 0.0019445932 | M33: 0 | N33: 0
A34: 기타보조금 | B34: 29700000 | C34: 0.002591212 | D34: 5700000 | E34: 0.00050200096 | F34: 24000000 | G34: 4.2105263 | H34: 목적사업비 | I34: 857890000 | J34: 0.074847639 | K34: 851980000 | L34: 0.075034171 | M34: 5910000 | N34: 0.0069367826
A35: 일산서구청소년수련관 | B35: 5700000 | C35: 0.00049730332 | D35: 5700000 | E35: 0.00050200096 | F35: 0 | G35: 0 | H35: 사무국 | I35: 528000000 | J35: 0.046065991 | K35: 528000000 | L35: 0.046501141 | M35: 0 | N35: 0
A36: 토당청소년수련관 | B36: 24000000 | C36: 0.0020939087 | D36: 0 | E36: 0 | F36: 24000000 | H36: 마두청소년수련관 | I36: 69004000 | J36: 0.0060203365 | K36: 69004000 | L36: 0.006077206 | M36: 0 | N36: 0
A37: 재단지원금 | B37: 58950000 | C37: 0.0051431632 | D37: 19762000 | E37: 0.0017404461 | F37: 6059000 | G37: 0.30659852 | H37: 성사청소년문화의집 | I37: 60592000 | J37: 0.0052864215 | K37: 60592000 | L37: 0.0053363583 | M37: 0 | N37: 0
A38: 고양시청소년진로센터 | B38: 17123000 | C38: 0.0014939166 | D38: 0 | E38: 0 | F38: 17123000 | H38: 탄현청소년문화의집 | I38: 28600000 | J38: 0.0024952412 | K38: 28600000 | L38: 0.0025188118 | M38: 0 | N38: 0
A39: 탄현청소년문화의집 | B39: 6059000 | C39: 0.0005286247 | D39: 0 | E39: 0 | F39: 6059000 | H39: 주교동청소년카페 | I39: 6307000 | J39: 0.00055026176 | K39: 6307000 | L39: 0.00055545966 | M39: 0 | N39: 0
A40: 주교동청소년카페 | B40: 19762000 | C40: 0.0017241593 | D40: 19762000 | E40: 0.0017404461 | F40: 0 | G40: 0 | H40: 일산서구청소년수련관 | I40: 84599000 | J40: 0.0073809409 | K40: 84599000 | L40: 0.007450663 | M40: 0 | N40: 0
A41: 고양시청소년상담복지센터 | B41: 12259000 | C41: 0.0010695511 | D41: 0 | E41: 0 | F41: 12259000 | H41: 토당청소년수련관 | I41: 7600000 | J41: 0.00066307109 | K41: 7600000 | L41: 0.00066933461 | M41: 0 | N41: 0
A42: 화정청소년카페 | B42: 1177000 | C42: 0.00010268877 | D42: 0 | E42: 0 | F42: 1177000 | H42: 고양시청소년상담복지센터 | I42: 17168000 | J42: 0.0014978427 | K42: 12168000 | L42: 0.0010716399 | M42: 5000000 | N42: 0.41091387
A43: 백마역청소년카페 | B43: 2570000 | C43: 0.00022422272 | D43: 0 | E43: 0 | F43: 2570000 | H43: 화정청소년카페 | I43: 30000000 | J43: 0.0026173859 | K43: 30000000 | L43: 0.0026421103 | M43: 0 | N43: 0
A44: 이자수익 | B44: 2321000 | C44: 0.00020249842 | D44: 2321000 | E44: 0.00020441127 | F44: 0 | G44: 0 | H44: 백마역청소년카페 | I44: 7520000 | J44: 0.00065609139 | K44: 6610000 | L44: 0.00058214497 | M44: 910000 | N44: 0.1376702
A45: 사무국 | B45: 900000 | C45: 7.8521576e-05 | D45: 900000 | E45: 7.9263309e-05 | F45: 0 | G45: 0 | H45: 능곡역청소년카페 | I45: 18500000 | J45: 0.0016140546 | K45: 18500000 | L45: 0.0016293014 | M45: 0 | N45: 0
A46: 마두청소년수련관 | B46: 200000 | C46: 1.7449239e-05 | D46: 200000 | E46: 1.7614069e-05 | F46: 0 | G46: 0 | H46: 국도시비보조금사업비 | I46: 2094819800 | J46: 0.18276506 | K46: 2060049000 | L46: 0.18142922 | M46: 34770800 | N46: 0.016878628
A47: 고양시청소년진로센터 | B47: 240000 | C47: 2.0939087e-05 | D47: 240000 | E47: 2.1136882e-05 | F47: 0 | G47: 0 | H47: 사무국 | I47: 38420000 | J47: 0.0033519988 | K47: 38420000 | L47: 0.0033836626 | M47: 0 | N47: 0
A48: 성사청소년문화의집 | B48: 100000 | C48: 8.7246196e-06 | D48: 100000 | E48: 8.8070344e-06 | F48: 0 | G48: 0 | H48: 마두청소년수련관 | I48: 65880000 | J48: 0.0057477794 | K48: 65880000 | L48: 0.0058020742 | M48: 0 | N48: 0
A49: 탄현청소년문화의집 | B49: 70000 | C49: 6.1072337e-06 | D49: 70000 | E49: 6.164924e-06 | F49: 0 | G49: 0 | H49: 고양시청소년진로센터 | I49: 487630000 | J49: 0.042543862 | K49: 447630000 | L49: 0.039422928 | M49: 40000000 | N49: 0.089359516
A50: 주교동청소년카페 | B50: 10000 | C50: 8.7246196e-07 | D50: 10000 | E50: 8.8070344e-07 | F50: 0 | G50: 0 | H50: 성사청소년문화의집 | I50: 252562000 | J50: 0.022035074 | K50: 250562000 | L50: 0.022067081 | M50: 2000000 | N50: 0.0079820563
A51: 일산서구청소년수련관 | B51: 233000 | C51: 2.0328364e-05 | D51: 233000 | E51: 2.052039e-05 | F51: 0 | G51: 0 | H51: 탄현청소년문화의집 | I51: 27080000 | J51: 0.002362627 | K51: 27080000 | L51: 0.0023849449 | M51: 0 | N51: 0
A52: 토당청소년수련관 | B52: 500000 | C52: 4.3623098e-05 | D52: 500000 | E52: 4.4035172e-05 | F52: 0 | G52: 0 | H52: 일산서구청소년수련관 | I52: 140070000 | J52: 0.012220575 | K52: 159502000 | L52: 0.014047396 | M52: -19432000 | N52: -0.12182919
A53: 고양시청소년상담복지센터 | B53: 24000 | C53: 2.0939087e-06 | D53: 24000 | E53: 2.1136882e-06 | F53: 0 | G53: 0 | H53: 토당청소년수련관 | I53: 187922000 | J53: 0.01639548 | K53: 183822000 | L53: 0.016189267 | M53: 4100000 | N53: 0.022304186
A54: 화정청소년카페 | B54: 20000 | C54: 1.7449239e-06 | D54: 20000 | E54: 1.7614069e-06 | F54: 0 | G54: 0 | H54: 고양시청소년상담복지센터 | I54: 895255800 | J54: 0.078107663 | K54: 887153000 | L54: 0.078131869 | M54: 8102800 | N54: 0.0091334866
A55: 백마역청소년카페 | B55: 14000 | C55: 1.2214467e-06 | D55: 14000 | E55: 1.2329848e-06 | F55: 0 | G55: 0 | H55: 교육청사업비 | I55: 127120000 | J55: 0.011090736 | K55: 43000000 | L55: 0.0037870248 | M55: 84120000 | N55: 1.9562791
A56: 능곡역청소년카페 | B56: 10000 | C56: 8.7246196e-07 | D56: 10000 | E56: 8.8070344e-07 | F56: 0 | G56: 0 | H56: 고양시청소년진로센터 | I56: 103000000 | J56: 0.0089863582 | K56: 43000000 | L56: 0.0037870248 | M56: 60000000 | N56: 1.3953488
A57: 법인전입금 | B57: 50000000 | C57: 0.0043623098 | D57: 50000000 | E57: 0.0044035172 | F57: 0 | G57: 0 | H57: 토당청소년수련관 | I57: 24120000 | J57: 0.0021043782 | K57: 0 | L57: 0 | M57: 24120000
A58: 토당청소년수련관 | B58: 50000000 | C58: 0.0043623098 | D58: 50000000 | E58: 0.0044035172 | F58: 0 | G58: 0 | H58: 기타보조금사업비 | I58: 29700000 | J58: 0.002591212 | K58: 5700000 | L58: 0.00050200096 | M58: 24000000 | N58: 4.2105263
A59: 이월금 및 출자출연금 | B59: 847517000 | C59: 0.073942634 | D59: 886705000 | E59: 0.078092414 | F59: -39188000 | G59: -0.044195082 | H59: 일산서구청소년수련관 | I59: 5700000 | J59: 0.00049730332 | K59: 5700000 | L59: 0.00050200096 | M59: 0 | N59: 0
A60: 사무국 | B60: 847517000 | C60: 0.073942634 | D60: 886705000 | E60: 0.078092414 | F60: -39188000 | G60: -0.044195082 | H60: 토당청소년수련관 | I60: 24000000 | J60: 0.0020939087 | K60: 0 | L60: 0 | M60: 24000000
A61: 기타영업외수익 | B61: 12134000 | C61: 0.0010586453 | D61: 0 | E61: 0 | F61: 12134000 | H61: 자산취득비 | I61: 16420000 | J61: 0.0014325825 | K61: 19554000 | L61: 0.0017221275 | M61: -3134000 | N61: -0.16027411
A62: 사무국 | B62: 12134000 | C62: 0.0010586453 | D62: 0 | E62: 0 | F62: 12134000 | H62: 사무국 | I62: 6200000 | J62: 0.00054092641 | K62: 6200000 | L62: 0.00054603613 | M62: 0 | N62: 0
H63: 마두청소년수련관 | I63: 2100000 | J63: 0.00018321701 | K63: 3354000 | L63: 0.00029538793 | M63: -1254000 | N63: -0.37388193
H64: 고양시청소년진로센터 | I64: 1700000 | J64: 0.00014831853 | K64: 1700000 | L64: 0.00014971958 | M64: 0 | N64: 0
H65: 성사청소년문화의집 | I65: 0 | J65: 0 | K65: 0 | L65: 0 | M65: 0
H66: 주교동청소년카페 | I66: 1400000 | J66: 0.00012214467 | K66: 1400000 | L66: 0.00012329848 | M66: 0 | N66: 0
H67: 일산서구청소년수련관 | I67: 1120000 | J67: 9.7715739e-05 | K67: 3000000 | L67: 0.00026421103 | M67: -1880000 | N67: -0.62666667
H68: 고양시청소년상담복지센터 | I68: 1200000 | J68: 0.00010469543 | K68: 1200000 | L68: 0.00010568441 | M68: 0 | N68: 0
H69: 화정청소년카페 | I69: 1500000 | J69: 0.00013086929 | K69: 1500000 | L69: 0.00013210552 | M69: 0 | N69: 0
H70: 능곡역청소년카페 | I70: 1200000 | J70: 0.00010469543 | K70: 1200000 | L70: 0.00010568441 | M70: 0 | N70: 0
H71: 성과급 | I71: 91448000 | J71: 0.0079784901 | K71: 91448000 | L71: 0.0080538568 | M71: 0 | N71: 0
H72: 사무국 | I72: 91448000 | J72: 0.0079784901 | K72: 91448000 | L72: 0.0080538568 | M72: 0 | N72: 0
A73: 영업수익 | B73: 2324743000 | C73: 0.2028126 | D73: 2372510000 | E73: 0.20894777 | F73: -47767000 | G73: -0.020133529 | H73: 자체사업비용 | I73: 3236715000 | J73: 0.28239107 | K73: 3311536000 | L73: 0.29164811 | M73: -151152000 | N73: -0.045644076
A74: 자체사업수익 | B74: 1773784000 | C74: 0.15474646 | D74: 1894317000 | E74: 0.16683315 | F74: -120533000 | G74: -0.063628738 | H74: 자체사업인건비 | I74: 342804000 | J74: 0.029908345 | K74: 317913000 | L74: 0.027998707 | M74: 24891000 | N74: 0.078295005
A75: 마두청소년수련관 | B75: 708400000 | C75: 0.061801431 | D75: 718450000 | E75: 0.063274138 | F75: -10050000 | G75: -0.013988447 | H75: 마두청소년수련관 | I75: 204300000 | J75: 0.017824398 | K75: 204300000 | L75: 0.017992771 | M75: 0 | N75: 0
A76: 성사청소년문화의집 | B76: 17400000 | C76: 0.0015179911 | D76: 18000000 | E76: 0.0015852662 | F76: -600000 | G76: -0.033333333 | H76: 일산서구청소년수련관 | I76: 49895000 | J76: 0.0043531489 | K76: 46410000 | L76: 0.0040873446 | M76: 3485000 | N76: 0.075091575
A77: 탄현청소년문화의집 | B77: 89260000 | C77: 0.0077871199 | D77: 111120000 | E77: 0.0097863766 | F77: -21860000 | G77: -0.19672426 | H77: 토당청소년수련관 | I77: 57547000 | J77: 0.0050207568 | K77: 35699000 | L77: 0.0031440232 | M77: 21848000 | N77: 0.61200594
A78: 주교동청소년카페 | B78: 480000 | C78: 4.1875617e-05 | D78: 0 | E78: 0 | F78: 480000 | H78: 고양시청소년상담복지센터 | I78: 9624000 | J78: 0.00083965739 | K78: 9664000 | L78: 0.0008511118 | M78: -40000 | N78: -0.0041390728
A79: 일산서구청소년수련관 | B79: 270444000 | C79: 0.023593769 | D79: 354944000 | E79: 0.03126004 | F79: -84500000 | G79: -0.23806572 | H79: 화정청소년카페 | I79: 19038000 | J79: 0.0016609931 | K79: 18240000 | L79: 0.0016064031 | M79: 798000 | N79: 0.04375
A80: 토당청소년수련관 | B80: 650000000 | C80: 0.056706564 | D80: 650000000 | E80: 0.057245723 | F80: 0 | G80: 0 | H80: 백마역청소년카페 | I80: 2400000 | J80: 0.00020939087 | K80: 3600000 | L80: 0.00031705324 | M80: -1200000 | N80: -0.33333333
A81: 고양시청소년상담복지센터 | B81: 36480000 | C81: 0.0031825469 | D81: 40483000 | E81: 0.0035653517 | F81: -4003000 | G81: -0.098881012 | H81: 자체사업경비 | I81: 405716000 | J81: 0.035397178 | K81: 343152000 | L81: 0.030221515 | M81: 62564000 | N81: 0.18232154
A82: 화정청소년카페 | B82: 1320000 | C82: 0.00011515795 | D82: 1320000 | E82: 0.00011625285 | F82: 0 | G82: 0 | H82: 사무국 | I82: 18000000 | J82: 0.0015704315 | K82: 18000000 | L82: 0.0015852662 | M82: 0 | N82: 0
A83: 기타영업수익 | B83: 29003000 | C83: 0.0025302469 | D83: 30403000 | E83: 0.0026776027 | F83: -1400000 | G83: -0.046048087 | H83: 마두청소년수련관 | I83: 85182000 | J83: 0.0074318055 | K83: 70040000 | L83: 0.0061684469 | M83: 15142000 | N83: 0.21619075
A84: 마두청소년수련관 | B84: 3500000 | C84: 0.00030534304 | D84: 3500000 | E84: 0.0003082462 | F84: 0 | G84: 0 | H84: 고양시청소년진로센터 | I84: 1333000 | J84: 0.00011629918 | K84: 1333000 | L84: 0.00011739777 | M84: 0 | N84: 0
A85: 성사청소년문화의집 | B85: 2400000 | C85: 0.00020937808 | D85: 3800000 | E85: 0.00033466731 | F85: -1400000 | G85: -0.36842105 | H85: 성사청소년문화의집 | I85: 5402000 | J85: 0.00047130395 | K85: 5902000 | L85: 0.00051979117 | M85: -500000 | N85: -0.084717045
A86: 탄현청소년문화의집 | B86: 1280000 | C86: 0.00011166831 | D86: 1280000 | E86: 0.00011273004 | F86: 0 | G86: 0 | H86: 탄현청소년문화의집 | I86: 29126000 | J86: 0.0025411327 | K86: 30496000 | L86: 0.0026857932 | M86: -1370000 | N86: -0.044923924
A87: 일산서구청소년수련관 | B87: 1503000 | C87: 0.00013112302 | D87: 1503000 | E87: 0.00013236973 | F87: 0 | G87: 0 | H87: 일산서구청소년수련관 | I87: 68427000 | J87: 0.0059699954 | K87: 60903000 | L87: 0.0053637481 | M87: 7524000 | N87: 0.12354071
A88: 토당청소년수련관 | B88: 19960000 | C88: 0.0017413277 | D88: 19960000 | E88: 0.0017578841 | F88: 0 | G88: 0 | H88: 토당청소년수련관 | I88: 190514000 | J88: 0.016621622 | K88: 153664000 | L88: 0.013533241 | M88: 36850000 | N88: 0.23980893
A89: 화정청소년카페 | B89: 360000 | C89: 3.1406712e-05 | D89: 360000 | E89: 3.1705324e-05 | F89: 0 | G89: 0 | H89: 고양시청소년상담복지센터 | I89: 5245000 | J89: 0.0004576063 | K89: 719000 | L89: 6.3322577e-05 | M89: 4526000 | N89: 6.294854
A90: 판매수익 | B90: 256156000 | C90: 0.022347272 | D90: 263518000 | E90: 0.023208121 | F90: -7362000 | G90: -0.027937371 | H90: 화정청소년카페 | I90: 2432000 | J90: 0.00021218275 | K90: 2040000 | L90: 0.0001796635 | M90: 392000 | N90: 0.19215686
... A104: 토당청소년수련관 | B104: 99575000 | C104: 0.0086870094 | D104: 26150000 | E104: 0.0023030395 | F104: 73425000 | G104: 2.8078394 | H104: 탄현청소년문화의집 | I104: 67170000 | J104: 0.005860327 | K104: 95204000 | L104: 0.008384649 | M104: -28034000 | N104: -0.29446242
A105: 고양시청소년상담복지센터 | B105: 15169000 | C105: 0.0013233567 | D105: 7620000 | E105: 0.00067109602 | F105: 7549000 | G105: 0.99068241 | H105: 주교동청소년카페 | I105: 480000 | J105: 4.1878174e-05 | K105: 0 | L105: 0 | M105: 480000
A106: 화정청소년카페 | B106: 377000 | C106: 3.2889807e-05 | D106: 0 | E106: 0 | F106: 377000 | H106: 일산서구청소년수련관 | I106: 244536000 | J106: 0.021334836 | K106: 351735000 | L106: 0.030977422 | M106: -107199000 | N106: -0.30477206
A107: 백마역청소년카페 | B107: 927000 | C107: 8.0872284e-05 | D107: 750000 | E107: 6.6052758e-05 | F107: 177000 | G107: 0.236 | H107: 토당청소년수련관 | I107: 550144000 | J107: 0.047997971 | K107: 563165000 | L107: 0.049598135 | M107: -13021000 | N107: -0.02312111
A108: 능곡역청소년카페 | B108: 39000 | C108: 3.4023938e-06 | D108: 39000 | E108: 3.4347434e-06 | F108: 0 | G108: 0 | H108: 고양시청소년상담복지센터 | I108: 36780000 | J108: 0.0032089151 | K108: 37720000 | L108: 0.0033220134 | M108: -940000 | N108: -0.024920467
H109: 화정청소년카페 | I109: 18300000 | J109: 0.0015966054 | K109: 19200000 | L109: 0.0016909506 | M109: -900000 | N109: -0.046875
H110: 백마역청소년카페 | I110: 7902000 | J110: 0.00068941944 | K110: 8400000 | L110: 0.00073979089 | M110: -498000 | N110: -0.059285714
H111: 능곡역청소년카페 | I111: 2784000 | J111: 0.00024289341 | K111: 2784000 | L111: 0.00024518784 | M111: 0 | N111: 0
H112: 재단지원금 | I112: 329517000 | J112: 0.028749105 | K112: 368705000 | L112: 0.032471976 | M112: -39188000 | N112: -0.10628551
H113: 사무국 | I113: 329517000 | J113: 0.028749105 | K113: 368705000 | L113: 0.032471976 | M113: -39188000 | N113: -0.10628551
...

Sheet 세입 세부내역서(조직별)7
A1: 세입 세부내역서(조직별)
A3: 2019년 2차 추경 세입·세출예산(안) | F3: [단위:천원]
A4: 세 입
A5: 예산과목 | B5: ='세입·세출예산 총괄표(조직별)5'!B4 -> 2019년추경액(A) | D5: ='세입·세출예산 총괄표(조직별)5'!F4 -> 2019년기정액(B) | F5: 증 감(A-B)
B6: 금액 | C6: 구성비 | D6: 금액 | E6: 구성비 | F6: 금 액 | G6: 증감률
A7: 총 계 | B7: =SUM(B8,B64) -> 11461817800 | C7: =+C8+C64 -> 1 | D7: =SUM(D8,D64) -> 11354560000 | E7: =+E8+E64 -> 1 | F7: =B7-D7 -> 107257800 | G7: =+F7/D7 -> 0.0094462313 | J7: 10967855000 | K7: =B7-J7 -> 493962800
A8: 영업외수익 | B8: =B9+B17+B23+B32+B35+B45+B58+B60+B38+B62 -> 9137074800 | C8: =+B8/$B$7 -> 0.79717502 | D8: =D9+D17+D23+D32+D35+D45+D58+D60+D38+D62 -> 8982050000 | E8: =+D8/$D$7 -> 0.79105223 | F8: =F9+F17+F23+F32+F35+F45+F58+F60 -> 103702800 | G8: =+F8/D8 -> 0.01154556
A9: 지자체출자출연금 | B9: =SUM(B10:B16) -> 4313212000 | C9: =+B9/$B$7 -> 0.37631134 | D9: =SUM(D10:D16) -> 4313212000 | E9: =+D9/$D$7 -> 0.37986606 | F9: =SUM(F10:F16) -> 0 | G9: =+F9/D9 -> 0
A10: 사무국 | B10: ='예산세입(사무국)'!P20 -> 3222569000 | C10: =+B10/$B$7 -> 0.28115689 | D10: ='예산세입(사무국)'!Q21 -> 3222569000 | E10: =+D10/$D$7 -> 0.28381276 | F10: =+B10-D10 -> 0 | G10: =+F10/D10 -> 0 | J10: 추경액 | M10: 합계 | N10: 추경액
A11: 마두청소년수련관 | B11: ='예산세입(마두)'!P86 -> 318913000 | C11: =+B11/$B$7 -> 0.027823946 | D11: ='예산세입(마두)'!Q86 -> 318913000 | E11: =+D11/$D$7 -> 0.028086777 | F11: =+B11-D11 -> 0 | G11: =+F11/D11 -> 0 | I11: 사무국 | J11: =SUMIFS(B:B,A:A,I11) -> 4180490000 | K11: 4180490000 | L11: =J11-K11 -> 0 | M11: =K11-B101 -> 4121540000 | N11: =SUMIFS(D:D,A:A,I11) -> 4168356000 | O11: 4168356000 | P11: =N11-O11 -> 0 | Q11: 3623469000 | R11: =N11-Q11 -> 544887000
A12: 고양시청소년진로센터 | B12: ='예산세입(진로)'!O27 -> 61258000 | C12: =+B12/$B$7 -> 0.0053445275 | D12: ='예산세입(진로)'!Q25 -> 61258000 | E12: =+D12/$D$7 -> 0.0053950131 | F12: =+B12-D12 -> 0 | G12: =+F12/D12 -> 0 | I12: 마두청소년수련관 | J12: =SUMIFS(B:B,A:A,I12) -> 1250861000 | K12: 1250861000 | L12: =J12-K12 -> 0 | M12: =K12 -> 1250861000 | N12: =SUMIFS(D:D,A:A,I12) -> 1266311000 | O12: 1266311000 | P12: =N12-O12 -> 0 | Q12: 1143863000 | R12: =N12-Q12 -> 122448000
A13: 성사청소년문화의집 | B13: ='예산세입(성사)'!P44 -> 184082000 | C13: =+B13/$B$7 -> 0.016060454 | D13: ='예산세입(성사)'!Q44 -> 184082000 | E13: =+D13/$D$7 -> 0.016212165 | F13: =+B13-D13 -> 0 | G13: =+F13/D13 -> 0 | I13: 고양시청소년진로센터 | J13: =SUMIFS(B:B,A:A,I13) -> 670584000 | K13: 670584000 | L13: =J13-K13 -> 0 | M13: =K13 -> 670584000 | N13: =SUMIFS(D:D,A:A,I13) -> 553461000 | O13: 553461000 | P13: =N13-O13 -> 0 | Q13: 61498000 | R13: =N13-Q13 -> 491963000
A14: 탄현청소년문화의집 | B14: ='예산세입(탄현)'!O46 -> 86947000 | C14: =+B14/$B$7 -> 0.007585795 | D14: ='예산세입(탄현)'!Q44 -> 86947000 | E14: =+D14/$D$7 -> 0.0076574522 | F14: =+B14-D14 -> 0 | G14: =+F14/D14 -> 0 | I14: 성사청소년문화의집 | J14: =SUMIFS(B:B,A:A,I14) -> 466283000 | K14: 466283000 | L14: =J14-K14 -> 0 | M14: =K14 -> 466283000 | N14: =SUMIFS(D:D,A:A,I14) -> 466283000 | O14: 466283000 | P14: =N14-O14 -> 0 | Q14: 215312000 | R14: =N14-Q14 -> 250971000
A15: 주교동청소년카페 | B15: ='예산세입(주교)'!O21 -> 16041000 | C15: =+B15/$B$7 -> 0.0013995162 | D15: ='예산세입(주교)'!O21 -> 16041000 | E15: =+D15/$D$7 -> 0.0014127364 | F15: =+B15-D15 -> 0 | G15: =+F15/D15 -> 0 | I15: 탄현청소년문화의집 | J15: =SUMIFS(B:B,A:A,I15) -> 225812000 | K15: 225812000 | L15: =J15-K15 -> 0 | M15: =K15 -> 225812000 | N15: =SUMIFS(D:D,A:A,I15) -> 241613000 | O15: 241613000 | P15: =N15-O15 -> 0 | Q15: 214777000 | R15: =N15-Q15 -> 26836000
A16: 일산서구청소년수련관 | B16: ='예산세입(일산서구)'!P72 -> 423402000 | C16: =+B16/$B$7 -> 0.036940214 | D16: ='예산세입(일산서구)'!Q72 -> 423402000 | E16: =+D16/$D$7 -> 0.03728916 | F16: =+B16-D16 -> 0 | G16: =+F16/D16 -> 0 | I16: 주교동청소년카페 | J16: =SUMIFS(B:B,A:A,I16) -> 37449000 | K16: 37449000 | L16: =J16-K16 -> 0 | M16: =K16 -> 37449000 | N16: =SUMIFS(D:D,A:A,I16) -> 36969000 | O16: 36969000 | P16: =N16-O16 -> 0 | Q16: 16051000 | R16: =N16-Q16 -> 20918000
A17: 보조금수익(출연금위탁교부) | B17: =SUM(B18:B22) -> 1601301000 | C17: =+B17/$B$7 -> 0.13970742 | D17: =SUM(D18:D22) -> 1601301000 | E17: =+D17/$D$7 -> 0.14102713 | F17: =SUM(F18:F22) -> 0 | G17: =+F17/D17 -> 0 | I17: 일산서구청소년수련관 | J17: =SUMIFS(B:B,A:A,I17) -> 944153000 | K17: 944153000 | L17: =J17-K17 -> 0 | M17: =K17 -> 944153000 | N17: =SUMIFS(D:D,A:A,I17) -> 1048085000 | O17: 1048085000 | P17: =N17-O17 -> 0 | Q17: 914627000 | R17: =N17-Q17 -> 133458000
A18: 토당청소년수련관 | B18: ='예산세입(토당)'!O80 -> 931104000 | C18: =+B18/$B$7 -> 0.081235282 | D18: ='예산세입(토당)'!Q79 -> 931104000 | E18: =+D18/$D$7 -> 0.082002649 | F18: =+B18-D18 -> 0 | G18: =+F18/D18 -> 0 | I18: 토당청소년수련관 | J18: =SUMIFS(B:B,A:A,I18) -> 2059049000 | K18: 2059049000 | L18: =J18-K18 -> 0 | M18: =K18 -> 2059049000 | N18: =SUMIFS(D:D,A:A,I18) -> 1933404000 | O18: 1933404000 | P18: =N18-O18 -> 0 | Q18: 1749582000 | R18: =N18-Q18 -> 183822000
A19: 고양시청소년상담복지센터 | B19: ='예산세입(상담)'!O22 -> 375948000 | C19: =+B19/$B$7 -> 0.032800033 | D19: ='예산세입(상담)'!Q21 -> 375948000 | E19: =+D19/$D$7 -> 0.03310987 | F19: =+B19-D19 -> 0 | G19: =+F19/D19 -> 0 | I19: 고양시청소년상담복지센터 | J19: =SUMIFS(B:B,A:A,I19) -> 1335835800 | K19: 1335835800 | L19: =J19-K19 -> 0 | M19: =K19-700000 -> 1335135800 | N19: =SUMIFS(D:D,A:A,I19) -> 1311228000 | O19: 1311228000 | P19: =N19-O19 -> 0 | Q19: 424075000 | R19: =N19-Q19 -> 887153000
A20: 화정청소년카페 | B20: ='예산세입(화정)'!O31 -> 116324000 | C20: =+B20/$B$7 -> 0.010148826 | D20: ='예산세입(화정)'!Q29 -> 116324000 | E20: =+D20/$D$7 -> 0.010244695 | F20: =+B20-D20 -> 0 | G20: =+F20/D20 -> 0 | I20: 화정청소년카페 | J20: =SUMIFS(B:B,A:A,I20) -> 157291000 | K20: 157291000 | L20: =J20-K20 -> 0 | M20: =K20 -> 157291000 | N20: =SUMIFS(D:D,A:A,I20) -> 155824000 | O20: 155824000 | P20: =N20-O20 -> 0 | Q20: 155824000 | R20: =N20-Q20 -> 0
A21: 백마역청소년카페 | B21: ='예산세입(백마)'!O20 -> 89380000 | C21: =+B21/$B$7 -> 0.007798065 | D21: ='예산세입(백마)'!Q18 -> 89380000 | E21: =+D21/$D$7 -> 0.0078717273 | F21: =+B21-D21 -> 0 | G21: =+F21/D21 -> 0 | I21: 백마역청소년카페 | J21: =SUMIFS(B:B,A:A,I21) -> 102266000 | K21: 102266000 | L21: =J21-K21 -> 0 | M21: =K21 -> 102266000 | N21: =SUMIFS(D:D,A:A,I21) -> 101394000 | O21: 101394000 | P21: =N21-O21 -> 0 | Q21: 101394000 | R21: =N21-Q21 -> 0
A22: 능곡역청소년카페 | B22: ='예산세입(능곡)'!P18 -> 88545000 | C22: =+B22/$B$7 -> 0.0077252144 | D22: ='예산세입(능곡)'!Q19 -> 88545000 | E22: =+D22/$D$7 -> 0.0077981886 | F22: =+B22-D22 -> 0 | G22: =+F22/D22 -> 0 | I22: 능곡역청소년카페 | J22: =SUMIFS(B:B,A:A,I22) -> 91394000 | K22: 91394000 | L22: =J22-K22 -> 0 | M22: =K22 -> 91394000 | N22: =SUMIFS(D:D,A:A,I22) -> 91394000 | O22: 91394000 | P22: =N22-O22 -> 0 | Q22: 91355000 | R22: =N22-Q22 -> 39000
A23: 국도시비보조금 | B23: =SUM(B24:B31) -> 2094819800 | C23: =+B23/$B$7 -> 0.18276506 | D23: =SUM(D24:D31) -> 2060049000 | E23: =+D23/$D$7 -> 0.18142922 | F23: =SUM(F24:F31) -> 34770800 | G23: =+F23/D23 -> 0.016878628 | O23: =SUM(O11:O22) -> 11374322000
A24: 사무국 | B24: ='예산세입(사무국)'!P13 -> 38420000 | C24: =+B24/$B$7 -> 0.0033519988 | D24: ='예산세입(사무국)'!Q13 -> 38420000 | E24: =+D24/$D$7 -> 0.0033836626 | F24: =+B24-D24 -> 0 | G24: =+F24/D24 -> 0 | J24: =SUM(J11:J23) -> 11521467800 | K24: =SUM(K11:K23) -> 11521467800 | M24: =SUM(M11:M23) -> 11461817800
A25: 마두청소년수련관 | B25: ='예산세입(마두)'!P74 -> 65880000 | C25: =+B25/$B$7 -> 0.0057477794 | D25: ='예산세입(마두)'!Q74 -> 65880000 | E25: =+D25/$D$7 -> 0.0058020742 | F25: =+B25-D25 -> 0 | G25: =+F25/D25 -> 0 | O25: =O23-D38 -> 11354560000
A26: 고양시청소년진로센터 | B26: ='예산세입(진로)'!P13 -> 487630000 | C26: =+B26/$B$7 -> 0.042543862 | D26: ='예산세입(진로)'!Q13 -> 447630000 | E26: =+D26/$D$7 -> 0.039422928 | F26: =+B26-D26 -> 40000000 | G26: =+F26/D26 -> 0.089359516 | M26: 11461817800
A27: 성사청소년문화의집 | B27: ='예산세입(성사)'!P30 -> 252562000 | C27: =+B27/$B$7 -> 0.022035074 | D27: ='예산세입(성사)'!Q30 -> 250562000 | E27: =+D27/$D$7 -> 0.022067081 | F27: =+B27-D27 -> 2000000 | G27: =+F27/D27 -> 0.0079820563 | K27: =K24-B101 -> 11462517800
A28: 탄현청소년문화의집 | B28: ='예산세입(탄현)'!P38 -> 27080000 | C28: =+B28/$B$7 -> 0.002362627 | D28: ='예산세입(탄현)'!Q38 -> 27080000 | E28: =+D28/$D$7 -> 0.0023849449 | F28: =+B28-D28 -> 0 | G28: =+F28/D28 -> 0
A29: 일산서구청소년수련관 | B29: ='예산세입(일산서구)'!P63 -> 140070000 | C29: =+B29/$B$7 -> 0.012220575 | D29: ='예산세입(일산서구)'!Q63 -> 159502000 | E29: =+D29/$D$7 -> 0.014047396 | F29: =+B29-D29 -> -19432000 | G29: =+F29/D29 -> -0.12182919
A30: 토당청소년수련관 | B30: ='예산세입(토당)'!O81+'예산세입(토당)'!O83+'예산세입(토당)'!O85+'예산세입(토당)'!O87 -> 187922000 | C30: =+B30/$B$7 -> 0.01639548 | D30: ='예산세입(토당)'!O81+'예산세입(토당)'!O83+'예산세입(토당)'!O85 -> 183822000 | E30: =+D30/$D$7 -> 0.016189267 | F30: =+B30-D30 -> 4100000 | G30: =+F30/D30 -> 0.022304186 | J30: =A23 -> 국도시비보조금 | K30: =A32 -> 교육청보조금 | L30: =A35 -> 기타보조금
A31: 고양시청소년상담복지센터 | B31: ='예산세입(상담)'!O24+'예산세입(상담)'!O26+'예산세입(상담)'!O28+'예산세입(상담)'!O30+'예산세입(상담)'!O32+'예산세입(상담)'!O34+'예산세입(상담)'!O36+'예산세입(상담)'!O38-B102 -> 895255800 | C31: =+B31/$B$7 -> 0.078107663 | D31: ='예산세입(상담)'!Q24+'예산세입(상담)'!Q26+'예산세입(상담)'!Q28+'예산세입(상담)'!Q30+'예산세입(상담)'!Q32 -> 887153000 | E31: =+D31/$D$7 -> 0.078131869 | F31: =+B31-D31 -> 8102800 | G31: =+F31/D31 -> 0.0091334866 | I31: 사무국 | J31: 38420000 | M31: =J31+K31+L31 -> 38420000
A32: 교육청보조금 | B32: =SUM(B33:B34) -> 127120000 | C32: =+B32/$B$7 -> 0.011090736 | D32: =SUM(D33:D34) -> 43000000 | E32: =+D32/$D$7 -> 0.0037870248 | F32: =SUM(F33:F34) -> 84120000 | G32: =+F32/D32 -> 1.9562791 | I32: 마두청소년수련관 | J32: 65880000 | M32: =J32+K32+L32 -> 65880000
A33: 고양시청소년진로센터 | B33: ='예산세입(진로)'!P17 -> 103000000 | C33: =+B33/$B$7 -> 0.0089863582 | D33: ='예산세입(진로)'!Q17 -> 43000000 | E33: =+D33/$D$7 -> 0.0037870248 | F33: =+B33-D33 -> 60000000 | G33: =+F33/D33 -> 1.3953488 | I33: 고양시청소년진로센터 | J33: 487630000 | K33: =B33 -> 103000000 | M33: =J33+K33+L33 -> 590630000
A34: 토당청소년수련관 | B34: ='예산세입(토당)'!P89 -> 24120000 | C34: =+B34/$B$7 -> 0.0021043782 | D34: 0 | E34: =+D34/$D$7 -> 0 | F34: =+B34-D34 -> 24120000 | I34: 성사청소년문화의집 | J34: 252562000 | M34: =J34+K34+L34 -> 252562000
A35: 기타보조금 | B35: =SUM(B36:B37) -> 29700000 | C35: =+B35/$B$7 -> 0.002591212 | D35: =SUM(D36:D37) -> 5700000 | E35: =+D35/$D$7 -> 0.00050200096 | F35: =SUM(F36:F37) -> 24000000 | G35: =+F35/D35 -> 4.2105263 | I35: 탄현청소년문화의집 | J35: 27080000 | M35: =J35+K35+L35 -> 27080000
A36: 일산서구청소년수련관 | B36: ='예산세입(일산서구)'!P68 -> 5700000 | C36: =+B36/$B$7 -> 0.00049730332 | D36: ='예산세입(일산서구)'!Q68 -> 5700000 | E36: =+D36/$D$7 -> 0.00050200096 | F36: =+B36-D36 -> 0 | G36: =+F36/D36 -> 0 | I36: 일산서구청소년수련관 | J36: 140070000 | L36: =B36 -> 5700000 | M36: =J36+K36+L36 -> 145770000
A37: 토당청소년수련관 | B37: ='예산세입(토당)'!P94 -> 24000000 | C37: =+B37/$B$7 -> 0.0020939087 | D37: ='예산세입(토당)'!Q94 -> 0 | E37: =+D37/$D$7 -> 0 | F37: =+B37-D37 -> 24000000 | I37: 토당청소년수련관 | J37: 187922000 | K37: =B34 -> 24120000 | L37: =B37 -> 24000000 | M37: =J37+K37+L37 -> 236042000
A38: 재단지원금 | B38: =SUM(B39:B44) -> 58950000 | C38: =+B38/$B$7 -> 0.0051431632 | D38: =SUM(D39:D44) -> 19762000 | E38: =+D38/$D$7 -> 0.0017404461 | F38: =SUM(F39:F44) -> 39188000 | G38: =+F38/D38 -> 1.9829977 | I38: 고양시청소년상담복지센터 | J38: 895955800 | M38: =J38+K38+L38 -> 895955800
A39: 고양시청소년진로센터 | B39: ='예산세입(진로)'!O28 -> 17123000 | C39: =+B39/$B$7 -> 0.0014939166 | D39: 0 | E39: =+D39/$D$7 -> 0 | F39: =+B39-D39 -> 17123000 | M39: =SUM(M31:M38) -> 2252339800
A40: 탄현청소년문화의집 | B40: ='예산세입(탄현)'!O47 -> 6059000 | C40: =+B40/$B$7 -> 0.0005286247 | D40: 0 | E40: =+D40/$D$7 -> 0 | F40: =+B40-D40 -> 6059000
A41: 주교동청소년카페 | B41: ='예산세입(주교)'!O22 -> 19762000 | C41: =+B41/$B$7 -> 0.0017241593 | D41: ='예산세입(주교)'!O22 -> 19762000 | E41: =+D41/$D$7 -> 0.0017404461 | F41: =+B41-D41 -> 0 | G41: =+F41/D41 -> 0
A42: 고양시청소년상담복지센터 | B42: ='예산세입(상담)'!O23 -> 12259000 | C42: =+B42/$B$7 -> 0.0010695511 | D42: 0 | E42: =+D42/$D$7 -> 0 | F42: =+B42-D42 -> 12259000
A43: 화정청소년카페 | B43: ='예산세입(화정)'!O32 -> 1177000 | C43: =+B43/$B$7 -> 0.00010268877 | D43: ='예산세입(주교)'!O23 -> 0 | E43: =+D43/$D$7 -> 0 | F43: =+B43-D43 -> 1177000
A44: 백마역청소년카페 | B44: ='예산세입(백마)'!O21 -> 2570000 | C44: =+B44/$B$7 -> 0.00022422272 | D44: ='예산세입(주교)'!O24 -> 0 | E44: =+D44/$D$7 -> 0 | F44: =+B44-D44 -> 2570000
A45: 이자수익 | B45: =SUM(B46:B57) -> 2321000 | C45: =+B45/$B$7 -> 0.00020249842 | D45: =SUM(D46:D57) -> 2321000 | E45: =+D45/$D$7 -> 0.00020441127 | F45: =SUM(F46:F57) -> 0 | G45: =+F45/D45 -> 0
A46: 사무국 | B46: ='예산세입(사무국)'!P9 -> 900000 | C46: =+B46/$B$7 -> 7.8521576e-05 | D46: ='예산세입(사무국)'!Q9 -> 900000 | E46: =+D46/$D$7 -> 7.9263309e-05 | F46: =+B46-D46 -> 0 | G46: =+F46/D46 -> 0
A47: 마두청소년수련관 | B47: ='예산세입(마두)'!P70 -> 200000 | C47: =+B47/$B$7 -> 1.7449239e-05 | D47: ='예산세입(마두)'!Q70 -> 200000 | E47: =+D47/$D$7 -> 1.7614069e-05 | F47: =+B47-D47 -> 0 | G47: =+F47/D47 -> 0
A48: 고양시청소년진로센터 | B48: ='예산세입(진로)'!P9 -> 240000 | C48: =+B48/$B$7 -> 2.0939087e-05 | D48: ='예산세입(진로)'!Q9 -> 240000 | E48: =+D48/$D$7 -> 2.1136882e-05 | F48: =+B48-D48 -> 0 | G48: =+F48/D48 -> 0
A49: 성사청소년문화의집 | B49: ='예산세입(성사)'!P26 -> 100000 | C49: =+B49/$B$7 -> 8.7246196e-06 | D49: ='예산세입(성사)'!Q26 -> 100000 | E49: =+D49/$D$7 -> 8.8070344e-06 | F49: =+B49-D49 -> 0 | G49: =+F49/D49 -> 0
A50: 탄현청소년문화의집 | B50: ='예산세입(탄현)'!P34 -> 70000 | C50: =+B50/$B$7 -> 6.1072337e-06 | D50: ='예산세입(탄현)'!Q34 -> 70000 | E50: =+D50/$D$7 -> 6.164924e-06 | F50: =+B50-D50 -> 0 | G50: =+F50/D50 -> 0
A51: 주교동청소년카페 | B51: ='예산세입(주교)'!P14 -> 10000 | C51: =+B51/$B$7 -> 8.7246196e-07 | D51: ='예산세입(주교)'!Q14 -> 10000 | E51: =+D51/$D$7 -> 8.8070344e-07 | F51: =+B51-D51 -> 0 | G51: =+F51/D51 -> 0
A52: 일산서구청소년수련관 | B52: ='예산세입(일산서구)'!P59 -> 233000 | C52: =+B52/$B$7 -> 2.0328364e-05 | D52: ='예산세입(일산서구)'!Q59 -> 233000 | E52: =+D52/$D$7 -> 2.052039e-05 | F52: =+B52-D52 -> 0 | G52: =+F52/D52 -> 0
A53: 토당청소년수련관 | B53: ='예산세입(토당)'!P74 -> 500000 | C53: =+B53/$B$7 -> 4.3623098e-05 | D53: ='예산세입(토당)'!Q74 -> 500000 | E53: =+D53/$D$7 -> 4.4035172e-05 | F53: =+B53-D53 -> 0 | G53: =+F53/D53 -> 0
A54: 고양시청소년상담복지센터 | B54: ='예산세입(상담)'!P16 -> 24000 | C54: =+B54/$B$7 -> 2.0939087e-06 | D54: ='예산세입(상담)'!Q16 -> 24000 | E54: =+D54/$D$7 -> 2.1136882e-06 | F54: =+B54-D54 -> 0 | G54: =+F54/D54 -> 0
A55: 화정청소년카페 | B55: ='예산세입(화정)'!P25 -> 20000 | C55: =+B55/$B$7 -> 1.7449239e-06 | D55: ='예산세입(화정)'!Q25 -> 20000 | E55: =+D55/$D$7 -> 1.7614069e-06 | F55: =+B55-D55 -> 0 | G55: =+F55/D55 -> 0
A56: 백마역청소년카페 | B56: ='예산세입(백마)'!P14 -> 14000 | C56: =+B56/$B$7 -> 1.2214467e-06 | D56: ='예산세입(백마)'!Q14 -> 14000 | E56: =+D56/$D$7 -> 1.2329848e-06 | F56: =+B56-D56 -> 0 | G56: =+F56/D56 -> 0
A57: 능곡역청소년카페 | B57: ='예산세입(능곡)'!P14 -> 10000 | C57: =+B57/$B$7 -> 8.7246196e-07 | D57: ='예산세입(능곡)'!Q14 -> 10000 | E57: =+D57/$D$7 -> 8.8070344e-07 | F57: =+B57-D57 -> 0 | G57: =+F57/D57 -> 0
A58: 법인전입금 | B58: =SUM(B59:B59) -> 50000000 | C58: =+B58/$B$7 -> 0.0043623098 | D58: =SUM(D59:D59) -> 50000000 | E58: =+D58/$D$7 -> 0.0044035172 | F58: =SUM(F59:F59) -> 0 | G58: =+F58/D58 -> 0
A59: 토당청소년수련관 | B59: ='예산세입(토당)'!P100 -> 50000000 | C59: =+B59/$B$7 -> 0.0043623098 | D59: ='예산세입(토당)'!Q100 -> 50000000 | E59: =+D59/$D$7 -> 0.0044035172 | F59: =+B59-D59 -> 0 | G59: =+F59/D59 -> 0
A60: 이월금 및 출자출연금 | B60: =SUM(B61:B61) -> 847517000 | C60: =+B60/$B$7 -> 0.073942634 | D60: =SUM(D61:D61) -> 886705000 | E60: =+D60/$D$7 -> 0.078092414 | F60: =SUM(F61:F61) -> -39188000 | G60: =+F60/D60 -> -0.044195082
A61: 사무국 | B61: ='예산세입(사무국)'!P32-'세입 세부내역서(조직별)7'!B38 -> 847517000 | C61: =+B61/$B$7 -> 0.073942634 | D61: 886705000 | E61: =+D61/$D$7 -> 0.078092414 | F61: =+B61-D61 -> -39188000 | G61: =+F61/D61 -> -0.044195082
A62: 기타영업외수익 | B62: =SUM(B63:B63) -> 12134000 | C62: =+B62/$B$7 -> 0.0010586453 | D62: =SUM(D63:D63) -> 0 | E62: =+D62/$D$7 -> 0 | F62: =SUM(F63:F63) -> 12134000
A63: 사무국 | B63: ='예산세입(사무국)'!P23 -> 12134000 | C63: =+B63/$B$7 -> 0.0010586453 | D63: 0 | E63: =+D63/$D$7 -> 0 | F63: =+B63-D63 -> 12134000
A64: 영업수익 | B64: =B65+B74+B81+B88 -> 2324743000 | C64: =+B64/$B$7 -> 0.20282498 | D64: =D65+D74+D81+D88 -> 2372510000 | E64: =+D64/$D$7 -> 0.20894777 | F64: =B64-D64 -> -47767000 | G64: =+F64/D64 -> -0.020133529
A65: 자체사업수익 | B65: =SUM(B66:B73) -> 1773784000 | C65: =+B65/$B$7 -> 0.15475591 | D65: =SUM(D66:D73) -> 1894317000 | E65: =+D65/$D$7 -> 0.16683315 | F65: =SUM(F66:F73) -> -120533000 | G65: =+F65/D65 -> -0.063628738
A66: 마두청소년수련관 | B66: ='예산세입(마두)'!P8 -> 708400000 | C66: =+B66/$B$7 -> 0.061805205 | D66: ='예산세입(마두)'!Q8 -> 718450000 | E66: =+D66/$D$7 -> 0.063274138 | F66: =+B66-D66 -> -10050000 | G66: =+F66/D66 -> -0.013988447
A67: 성사청소년문화의집 | B67: ='예산세입(성사)'!P8 -> 17400000 | C67: =+B67/$B$7 -> 0.0015180838 | D67: ='예산세입(성사)'!Q8 -> 18000000 | E67: =+D67/$D$7 -> 0.0015852662 | F67: =+B67-D67 -> -600000 | G67: =+F67/D67 -> -0.033333333
A68: 탄현청소년문화의집 | B68: ='예산세입(탄현)'!P8 -> 89260000 | C68: =+B68/$B$7 -> 0.0077875954 | D68: ='예산세입(탄현)'!Q8 -> 111120000 | E68: =+D68/$D$7 -> 0.0097863766 | F68: =+B68-D68 -> -21860000 | G68: =+F68/D68 -> -0.19672426
A69: 주교동청소년카페 | B69: ='예산세입(주교)'!P8 -> 480000 | C69: =+B69/$B$7 -> 4.1878174e-05 | D69: ='예산세입(주교)'!Q8 -> 0 | E69: =+D69/$D$7 -> 0 | F69: =+B69-D69 -> 480000
A70: 일산서구청소년수련관 | B70: ='예산세입(일산서구)'!P8 -> 270444000 | C70: =+B70/$B$7 -> 0.02359521 | D70: ='예산세입(일산서구)'!Q8 -> 354944000 | E70: =+D70/$D$7 -> 0.03126004 | F70: =+B70-D70 -> -84500000 | G70: =+F70/D70 -> -0.23806572
A71: 토당청소년수련관 | B71: ='예산세입(토당)'!P8 -> 650000000 | C71: =+B71/$B$7 -> 0.056710027 | D71: ='예산세입(토당)'!Q8 -> 650000000 | E71: =+D71/$D$7 -> 0.057245723 | F71: =+B71-D71 -> 0 | G71: =+F71/D71 -> 0
A72: 고양시청소년상담복지센터 | B72: ='예산세입(상담)'!P8 -> 36480000 | C72: =+B72/$B$7 -> 0.0031827412 | D72: ='예산세입(상담)'!Q9 -> 40483000 | E72: =+D72/$D$7 -> 0.0035653517 | F72: =+B72-D72 -> -4003000 | G72: =+F72/D72 -> -0.098881012
A73: 화정청소년카페 | B73: ='예산세입(화정)'!P8 -> 1320000 | C73: =+B73/$B$7 -> 0.00011516498 | D73: ='예산세입(화정)'!Q8 -> 1320000 | E73: =+D73/$D$7 -> 0.00011625285 | F73: =+B73-D73 -> 0 | G73: =+F73/D73 -> 0
A74: 기타영업수익 | B74: =SUM(B75:B80) -> 29003000 | C74: =+B74/$B$7 -> 0.0025304014 | D74: =SUM(D75:D80) -> 30403000 | E74: =+D74/$D$7 -> 0.0026776027 | F74: =SUM(F75:F80) -> -1400000 | G74: =+F74/D74 -> -0.046048087
A75: 마두청소년수련관 | B75: ='예산세입(마두)'!P55 -> 3500000 | C75: =+B75/$B$7 -> 0.00030536169 | D75: ='예산세입(마두)'!Q55 -> 3500000 | E75: =+D75/$D$7 -> 0.0003082462 | F75: =+B75-D75 -> 0 | G75: =+F75/D75 -> 0
A76: 성사청소년문화의집 | B76: ='예산세입(성사)'!P20 -> 2400000 | C76: =+B76/$B$7 -> 0.00020939087 | D76: ='예산세입(성사)'!Q20 -> 3800000 | E76: =+D76/$D$7 -> 0.00033466731 | F76: =+B76-D76 -> -1400000 | G76: =+F76/D76 -> -0.36842105
A77: 탄현청소년문화의집 | B77: ='예산세입(탄현)'!P28 -> 1280000 | C77: =+B77/$B$7 -> 0.00011167513 | D77: ='예산세입(탄현)'!Q28 -> 1280000 | E77: =+D77/$D$7 -> 0.00011273004 | F77: =+B77-D77 -> 0 | G77: =+F77/D77 -> 0
A78: 일산서구청소년수련관 | B78: ='예산세입(일산서구)'!P46 -> 1503000 | C78: =+B78/$B$7 -> 0.00013113103 | D78: ='예산세입(일산서구)'!Q46 -> 1503000 | E78: =+D78/$D$7 -> 0.00013236973 | F78: =+B78-D78 -> 0 | G78: =+F78/D78 -> 0
A79: 토당청소년수련관 | B79: ='예산세입(토당)'!P60 -> 19960000 | C79: =+B79/$B$7 -> 0.0017414341 | D79: ='예산세입(토당)'!Q61 -> 19960000 | E79: =+D79/$D$7 -> 0.0017578841 | F79: =+B79-D79 -> 0 | G79: =+F79/D79 -> 0
A80: 화정청소년카페 | B80: ='예산세입(화정)'!P15 -> 360000 | C80: =+B80/$B$7 -> 3.140863e-05 | D80: ='예산세입(화정)'!Q15 -> 360000 | E80: =+D80/$D$7 -> 3.1705324e-05 | F80: =+B80-D80 -> 0 | G80: =+F80/D80 -> 0
A81: 판매수익 | B81: =SUM(B82:B87) -> 256156000 | C81: =+B81/$B$7 -> 0.022348637 | D81: =SUM(D82:D87) -> 263518000 | E81: =+D81/$D$7 -> 0.023208121 | F81: =SUM(F82:F87) -> -7362000 | G81: =+F81/D81 -> -0.027937371
A82: 마두청소년수련관 | B82: ='예산세입(마두)'!P64 -> 50400000 | C82: =+B82/$B$7 -> 0.0043972083 | D82: ='예산세입(마두)'!Q64 -> 55800000 | E82: =+D82/$D$7 -> 0.0049143252 | F82: =+B82-D82 -> -5400000 | G82: =+F82/D82 -> -0.096774194
A83: 일산서구청소년수련관 | B83: ='예산세입(일산서구)'!P53 -> 84000000 | C83: =+B83/$B$7 -> 0.0073286804 | D83: ='예산세입(일산서구)'!Q53 -> 84000000 | E83: =+D83/$B$7 -> 0.0073286804 | F83: =+B83-D83 -> 0 | G83: =+F83/D83 -> 0
A84: 토당청소년수련관 | B84: ='예산세입(토당)'!P64 -> 71868000 | C84: =+B84/$B$7 -> 0.0062702096 | D84: ='예산세입(토당)'!Q65 -> 71868000 | E84: =+D84/$D$7 -> 0.0063294394 | F84: =+B84-D84 -> 0 | G84: =+F84/D84 -> 0
A85: 화정청소년카페 | B85: ='예산세입(화정)'!P19 -> 37713000 | C85: =+B85/$B$7 -> 0.0032903158 | D85: ='예산세입(화정)'!Q19 -> 37800000 | E85: =+D85/$D$7 -> 0.003329059 | F85: =+B85-D85 -> -87000 | G85: =+F85/D85 -> -0.0023015873
A86: 백마역청소년카페 | B86: ='예산세입(백마)'!P8 -> 9375000 | C86: =+B86/$B$7 -> 0.00081793309 | D86: ='예산세입(백마)'!Q9 -> 11250000 | E86: =+D86/$D$7 -> 0.00099079136 | F86: =+B86-D86 -> -1875000 | G86: =+F86/D86 -> -0.16666667
A87: 능곡역청소년카페 | B87: ='예산세입(능곡)'!P9 -> 2800000 | C87: =+B87/$B$7 -> 0.00024428935 | D87: ='예산세입(능곡)'!Q8 -> 2800000 | E87: =+D87/$D$7 -> 0.00024659696 | F87: =+B87-D87 -> 0 | G87: =+F87/D87 -> 0
A88: 이월금 | B88: =SUM(B89:B99) -> 265800000 | C88: =+B88/$B$7 -> 0.023190039 | D88: =SUM(D89:D99) -> 184272000 | E88: =+D88/$D$7 -> 0.016228898 | F88: =SUM(F89:F99) -> 81528000 | G88: =+F88/D88 -> 0.44243293 | I88: 마두 | J88: 103568 | K88: 50000 | L88: 53568 | N88: 1.071
A89: 마두청소년수련관 | B89: ='예산세입(마두)'!P92 -> 103568000 | C89: =+B89/$B$7 -> 0.009035914 | D89: ='예산세입(마두)'!Q92 -> 103568000 | E89: =+D89/$D$7 -> 0.0091212693 | F89: =+B89-D89 -> 0 | G89: =+F89/D89 -> 0 | I89: 진로 | J89: 1333 | K89: - | L89: 1333 | N89: -
A90: 고양시청소년진로센터 | B90: ='예산세입(진로)'!P32 -> 1333000 | C90: =+B90/$B$7 -> 0.00011629918 | D90: ='예산세입(진로)'!Q32 -> 1333000 | E90: =+D90/$D$7 -> 0.00011739777 | F90: =+B90-D90 -> 0 | G90: =+F90/D90 -> 0 | I90: 성사 | J90: 9739 | K90: 11030 | L90: △1,291 | N90: △11.7%
A91: 성사청소년문화의집 | B91: ='예산세입(성사)'!P50 -> 9739000 | C91: =+B91/$B$7 -> 0.0008496907 | D91: ='예산세입(성사)'!Q50 -> 9739000 | E91: =+D91/$D$7 -> 0.00085771708 | F91: =+B91-D91 -> 0 | G91: =+F91/D91 -> 0 | I91: 탄현 | J91: 15116 | K91: 15360 | L91: △244 | N91: △1.6%
A92: 탄현청소년문화의집 | B92: ='예산세입(탄현)'!P51 -> 15116000 | C92: =+B92/$B$7 -> 0.0013188135 | D92: ='예산세입(탄현)'!Q51 -> 15116000 | E92: =+D92/$D$7 -> 0.0013312713 | F92: =+B92-D92 -> 0 | G92: =+F92/D92 -> 0 | I92: 주교 | J92: 1156 | K92: - | L92: 1156 | N92: -
A93: 주교동청소년카페 | B93: ='예산세입(주교)'!P26 -> 1156000 | C93: =+B93/$B$7 -> 0.0001008566 | D93: ='예산세입(주교)'!Q26 -> 1156000 | E93: =+D93/$D$7 -> 0.00010180932 | F93: =+B93-D93 -> 0 | G93: =+F93/D93 -> 0 | I93: 서구 | J93: 18801 | K93: 24300 | L93: △5,499 | N93: △22.6%
A94: 일산서구청소년수련관 | B94: ='예산세입(일산서구)'!P77 -> 18801000 | C94: =+B94/$B$7 -> 0.0016403157 | D94: ='예산세입(일산서구)'!Q78 -> 18801000 | E94: =+D94/$D$7 -> 0.0016558105 | F94: =+B94-D94 -> 0 | G94: =+F94/D94 -> 0 | I94: 능곡 | J94: 39 | K94: - | L94: 39 | N94: -
A95: 토당청소년수련관 | B95: ='예산세입(토당)'!P105 -> 99575000 | C95: =+B95/$B$7 -> 0.0086875399 | D95: ='예산세입(토당)'!Q106 -> 26150000 | E95: =+D95/$D$7 -> 0.0023030395 | F95: =+B95-D95 -> 73425000 | G95: =+F95/D95 -> 2.8078394
A96: 고양시청소년상담복지센터 | B96: ='예산세입(상담)'!P43 -> 15169000 | C96: =+B96/$B$7 -> 0.0013234375 | D96: ='예산세입(상담)'!Q43 -> 7620000 | E96: =+D96/$D$7 -> 0.00067109602 | F96: =+B96-D96 -> 7549000 | G96: =+F96/D96 -> 0.99068241
A97: 화정청소년카페 | B97: ='예산세입(화정)'!P35 -> 377000 | C97: =+B97/$B$7 -> 3.2891816e-05 | D97: 0 | E97: =+D97/$D$7 -> 0 | F97: =+B97-D97 -> 377000
A98: 백마역청소년카페 | B98: ='예산세입(백마)'!P23 -> 927000 | C98: =+B98/$B$7 -> 8.0877224e-05 | D98: ='예산세입(백마)'!Q24 -> 750000 | E98: =+D98/$D$7 -> 6.6052758e-05 | F98: =+B98-D98 -> 177000 | G98: =+F98/D98 -> 0.236
A99: 능곡역청소년카페 | B99: ='예산세입(능곡)'!P24 -> 39000 | C99: =+B99/$B$7 -> 3.4026016e-06 | D99: ='예산세입(능곡)'!Q25 -> 39000 | E99: =+D99/$D$7 -> 3.4347434e-06 | F99: =+B99-D99 -> 0 | G99: =+F99/D99 -> 0
A101: 사무국 | B101: 58950000 | D101: 19762000
A102: 고양시청소년상담복지센터 | B102: ='예산세출(상담)'!O149 -> 700000

Sheet 세출 세부내역서(조직별)8
A1: 세출 세부내역서(조직별) | P1: 1335835800 | S1: 1335835800
A3: 2019년 2차 추경 세입·세출예산(안) | F3: [단위:천원]
A4: 세 출
A5: 예산과목 | B5: ='세입 세부내역서(조직별)7'!B5:C5 -> 2019년추경액(A) | D5: ='세입 세부내역서(조직별)7'!D5:E5 -> 2019년기정액(B) | F5: 증 감(A-B)
B6: 금액 | C6: 구성비 | D6: 금액 | E6: 구성비 | F6: 금 액 | G6: 증감률
A7: 총 계 | B7: =SUM(B8,B74) -> 11461817800 | C7: =+C8+C74 -> 1 | D7: =SUM(D8,D74) -> 11354560000 | E7: =+E8+E74 -> 1 | F7: =B7-D7 -> 107257800 | G7: =+F7/D7 -> 0.0094462313
A8: 사업비용 | B8: =SUM(B9,B22,B35,B47,B56,B59,B62,B72) -> 8225102800 | C8: =+B8/B7 -> 0.71760893 | D8: =SUM(D9,D22,D35,D47,D56,D59,D62,D72) -> 8043024000 | E8: =+D8/D7 -> 0.70835189 | F8: =SUM(F9,F22,F35,F47,F56,F59,F62,F72) -> 182078800 | G8: =+F8/D8 -> 0.022638102
A9: 인건비 | B9: =SUM(B10:B21) -> 3588237000 | C9: =+B9/$B$7 -> 0.31306003 | D9: =SUM(D10:D21) -> 3547562000 | E9: =+D9/$D$7 -> 0.312435 | F9: =SUM(F10:F21) -> 40675000 | G9: =+F9/D9 -> 0.011465621 | J9: 추경액 | M9: 기정액
A10: 사무국 | B10: ='예산세출(사무국)'!P8 -> 2200111000 | C10: =+B10/$B$7 -> 0.19195132 | D10: ='예산세출(사무국)'!Q8 -> 2200111000 | E10: =+D10/$D$7 -> 0.19376453 | F10: =+B10-D10 -> 0 | G10: =+F10/D10 -> 0 | I10: 사무국 | J10: =SUMIFS(B:B,A:A,I10) -> 4510007000 | K10: 4180490000 | L10: =J10-K10 -> 329517000 | M10: =SUMIFS(D:D,A:A,I10) -> 4537061000 | N10: 4168356000 | O10: =M10-N10 -> 368705000 | P10: =M10-O10 -> 4168356000
A11: 마두청소년수련관 | B11: ='예산세출(마두)'!P8 -> 17903000 | C11: =+B11/$B$7 -> 0.0015619686 | D11: ='예산세출(마두)'!Q8 -> 12925000 | E11: =+D11/$D$7 -> 0.0011383092 | F11: =+B11-D11 -> 4978000 | G11: =+F11/D11 -> 0.38514507 | I11: 마두청소년수련관 | J11: =SUMIFS(B:B,A:A,I11) -> 1250861000 | K11: 1250861000 | L11: =J11-K11 -> 0 | M11: =SUMIFS(D:D,A:A,I11) -> 1266311000 | N11: 1266311000 | O11: =M11-N11 -> 0 | P11: =M11-O11 -> 1266311000
A12: 고양시청소년진로센터 | B12: ='예산세출(진로)'!P8 -> 38371000 | C12: =+B12/$B$7 -> 0.0033477238 | D12: ='예산세출(진로)'!Q8 -> 21248000 | E12: =+D12/$D$7 -> 0.0018713187 | F12: =+B12-D12 -> 17123000 | G12: =+F12/D12 -> 0.80586408 | I12: 고양시청소년진로센터 | J12: =SUMIFS(B:B,A:A,I12) -> 670584000 | K12: 670584000 | L12: =J12-K12 -> 0 | M12: =SUMIFS(D:D,A:A,I12) -> 553461000 | N12: 553461000 | O12: =M12-N12 -> 0 | P12: =M12-O12 -> 553461000
A13: 성사청소년문화의집 | B13: ='예산세출(성사)'!P8 -> 37340000 | C13: =+B13/$B$7 -> 0.003257773 | D13: ='예산세출(성사)'!Q8 -> 37340000 | E13: =+D13/$D$7 -> 0.0032885466 | F13: =+B13-D13 -> 0 | G13: =+F13/D13 -> 0 | I13: 성사청소년문화의집 | J13: =SUMIFS(B:B,A:A,I13) -> 466283000 | K13: 466283000 | L13: =J13-K13 -> 0 | M13: =SUMIFS(D:D,A:A,I13) -> 466283000 | N13: 466283000 | O13: =M13-N13 -> 0 | P13: =M13-O13 -> 466283000
A14: 탄현청소년문화의집 | B14: ='예산세출(탄현)'!P8 -> 35516000 | C14: =+B14/$B$7 -> 0.0030986359 | D14: ='예산세출(탄현)'!Q8 -> 32717000 | E14: =+D14/$D$7 -> 0.0028813974 | F14: =+B14-D14 -> 2799000 | G14: =+F14/D14 -> 0.085551854 | I14: 탄현청소년문화의집 | J14: =SUMIFS(B:B,A:A,I14) -> 225812000 | K14: 225812000 | L14: =J14-K14 -> 0 | M14: =SUMIFS(D:D,A:A,I14) -> 241613000 | N14: 241613000 | O14: =M14-N14 -> 0 | P14: =M14-O14 -> 241613000
A15: 주교동청소년카페 | B15: ='예산세출(주교)'!P8 -> 14672000 | C15: =+B15/$B$7 -> 0.0012800762 | D15: ='예산세출(주교)'!Q8 -> 14672000 | E15: =+D15/$D$7 -> 0.0012921681 | F15: =+B15-D15 -> 0 | G15: =+F15/D15 -> 0 | I15: 주교동청소년카페 | J15: =SUMIFS(B:B,A:A,I15) -> 37449000 | K15: 37449000 | L15: =J15-K15 -> 0 | M15: =SUMIFS(D:D,A:A,I15) -> 36969000 | N15: 36969000 | O15: =M15-N15 -> 0 | P15: =M15-O15 -> 36969000
A16: 일산서구청소년수련관 | B16: ='예산세출(일산서구)'!P8 -> 155959000 | C16: =+B16/$B$7 -> 0.013606829 | D16: ='예산세출(일산서구)'!Q8 -> 140184000 | E16: =+D16/$D$7 -> 0.012346053 | F16: =+B16-D16 -> 15775000 | G16: =+F16/D16 -> 0.11253067 | I16: 일산서구청소년수련관 | J16: =SUMIFS(B:B,A:A,I16) -> 944153000 | K16: 944153000 | L16: =J16-K16 -> 0 | M16: =SUMIFS(D:D,A:A,I16) -> 1048085000 | N16: 1048085000 | O16: =M16-N16 -> 0 | P16: =M16-O16 -> 1048085000
A17: 토당청소년수련관 | B17: ='예산세출(토당)'!P8 -> 612394000 | C17: =+B17/$B$7 -> 0.053429047 | D17: ='예산세출(토당)'!Q8 -> 612394000 | E17: =+D17/$D$7 -> 0.05393375 | F17: =+B17-D17 -> 0 | G17: =+F17/D17 -> 0 | I17: 토당청소년수련관 | J17: =SUMIFS(B:B,A:A,I17) -> 2059049000 | K17: 2059049000 | L17: =J17-K17 -> 0 | M17: =SUMIFS(D:D,A:A,I17) -> 1933404000 | N17: 1933404000 | O17: =M17-N17 -> 0 | P17: =M17-O17 -> 1933404000
A18: 고양시청소년상담복지센터 | B18: ='예산세출(상담)'!P8 -> 309399000 | C18: =+B18/$B$7 -> 0.026993886 | D18: ='예산세출(상담)'!Q8 -> 309399000 | E18: =+D18/$D$7 -> 0.027248876 | F18: =+B18-D18 -> 0 | G18: =+F18/D18 -> 0 | I18: 고양시청소년상담복지센터 | J18: =SUMIFS(B:B,A:A,I18) -> 1335835800 | K18: 1335835800 | L18: =J18-K18 -> 0 | M18: =SUMIFS(D:D,A:A,I18) -> 1311228000 | N18: 1311228000 | O18: =M18-N18 -> 0 | P18: =M18-O18 -> 1311228000
A19: 화정청소년카페 | B19: ='예산세출(화정)'!P8 -> 62617000 | C19: =+B19/$B$7 -> 0.005463095 | D19: ='예산세출(화정)'!Q8 -> 62617000 | E19: =+D19/$D$7 -> 0.0055147007 | F19: =+B19-D19 -> 0 | G19: =+F19/D19 -> 0 | I19: 화정청소년카페 | J19: =SUMIFS(B:B,A:A,I19) -> 157291000 | K19: 157291000 | L19: =J19-K19 -> 0 | M19: =SUMIFS(D:D,A:A,I19) -> 155824000 | N19: 155824000 | O19: =M19-N19 -> 0 | P19: =M19-O19 -> 155824000
A20: 백마역청소년카페 | B20: ='예산세출(백마)'!P8 -> 57190000 | C20: =+B20/$B$7 -> 0.0049896099 | D20: ='예산세출(백마)'!Q8 -> 57190000 | E20: =+D20/$D$7 -> 0.0050367429 | F20: =+B20-D20 -> 0 | G20: =+F20/D20 -> 0 | I20: 백마역청소년카페 | J20: =SUMIFS(B:B,A:A,I20) -> 102266000 | K20: 102266000 | L20: =J20-K20 -> 0 | M20: =SUMIFS(D:D,A:A,I20) -> 101394000 | N20: 101394000 | O20: =M20-N20 -> 0 | P20: =M20-O20 -> 101394000
A21: 능곡역청소년카페 | B21: ='예산세출(능곡)'!P8 -> 46765000 | C21: =+B21/$B$7 -> 0.0040800683 | D21: ='예산세출(능곡)'!Q8 -> 46765000 | E21: =+D21/$D$7 -> 0.0041186096 | F21: =+B21-D21 -> 0 | G21: =+F21/D21 -> 0 | I21: 능곡역청소년카페 | J21: =SUMIFS(B:B,A:A,I21) -> 91394000 | K21: 91394000 | L21: =J21-K21 -> 0 | M21: =SUMIFS(D:D,A:A,I21) -> 91394000 | N21: 91394000 | O21: =M21-N21 -> 0 | P21: =M21-O21 -> 91394000
A22: 경비 | B22: =SUM(B23:B34) -> 1419468000 | C22: =B22/$B$7 -> 0.12384318 | D22: =SUM(D23:D34) -> 1423731000 | E22: =+D22/$D$7 -> 0.12538848 | F22: =SUM(F23:F34) -> -4263000 | G22: =+F22/D22 -> -0.0029942454 | J22: =SUM(J10:J21) -> 11850984800 | K22: =SUM(K10:K21) -> 11521467800 | L22: =SUM(L10:L21) -> 329517000 | M22: =SUM(M10:M21) -> 11743027000
A23: 사무국 | B23: ='예산세출(사무국)'!P72 -> 396810000 | C23: =+B23/$B$7 -> 0.034620163 | D23: ='예산세출(사무국)'!Q72 -> 396810000 | E23: =+D23/$D$7 -> 0.034947193 | F23: =+B23-D23 -> 0 | G23: =+F23/D23 -> 0 | R23: 1335835800
A24: 마두청소년수련관 | B24: ='예산세출(마두)'!P33 -> 229906000 | C24: =+B24/$B$7 -> 0.020058424 | D24: ='예산세출(마두)'!Q33 -> 233630000 | E24: =+D24/$D$7 -> 0.020575874 | F24: =+B24-D24 -> -3724000 | G24: =+F24/D24 -> -0.015939734 | J24: =J22-B136-B137 -> 11461817800 | K24: 1335835800
A25: 고양시청소년진로센터 | B25: ='예산세출(진로)'!P15 -> 38310000 | C25: =+B25/$B$7 -> 0.0033424018 | D25: ='예산세출(진로)'!Q15 -> 38310000 | E25: =+D25/$D$7 -> 0.0033739749 | F25: =+B25-D25 -> 0 | G25: =+F25/D25 -> 0
A26: 성사청소년문화의집 | B26: ='예산세출(성사)'!P24 -> 86150000 | C26: =+B26/$B$7 -> 0.0075162598 | D26: ='예산세출(성사)'!Q24 -> 86150000 | E26: =+D26/$D$7 -> 0.0075872601 | F26: =+B26-D26 -> 0 | G26: =+F26/D26 -> 0
A27: 탄현청소년문화의집 | B27: ='예산세출(탄현)'!P27 -> 28890000 | C27: =+B27/$B$7 -> 0.0025205426 | D27: ='예산세출(탄현)'!Q27 -> 25630000 | E27: =+D27/$D$7 -> 0.0022572429 | F27: =+B27-D27 -> 3260000 | G27: =+F27/D27 -> 0.12719469
A28: 주교동청소년카페 | B28: ='예산세출(주교)'!P13 -> 13424000 | C28: =+B28/$B$7 -> 0.0011711929 | D28: ='예산세출(주교)'!Q13 -> 13424000 | E28: =+D28/$D$7 -> 0.0011822563 | F28: =+B28-D28 -> 0 | G28: =+F28/D28 -> 0
A29: 일산서구청소년수련관 | B29: ='예산세출(일산서구)'!P21 -> 181724000 | C29: =+B29/$B$7 -> 0.015854728 | D29: ='예산세출(일산서구)'!Q21 -> 195619000 | E29: =+D29/$D$7 -> 0.017228233 | F29: =+B29-D29 -> -13895000 | G29: =+F29/D29 -> -0.071030933
A30: 토당청소년수련관 | B30: ='예산세출(토당)'!P71 -> 311110000 | C30: =+B30/$B$7 -> 0.027143164 | D30: ='예산세출(토당)'!Q71 -> 311110000 | E30: =+D30/$D$7 -> 0.027399565 | F30: =+B30-D30 -> 0 | G30: =+F30/D30 -> 0
A31: 고양시청소년상담복지센터 | B31: ='예산세출(상담)'!P78 -> 60440000 | C31: =+B31/$B$7 -> 0.0052731601 | D31: ='예산세출(상담)'!Q78 -> 53181000 | E31: =+D31/$D$7 -> 0.0046836689 | F31: =+B31-D31 -> 7259000 | G31: =+F31/D31 -> 0.13649612
A32: 화정청소년카페 | B32: ='예산세출(화정)'!P30 -> 23384000 | C32: =+B32/$B$7 -> 0.002040165 | D32: ='예산세출(화정)'!Q30 -> 22207000 | E32: =+D32/$D$7 -> 0.0019557781 | F32: =+B32-D32 -> 1177000 | G32: =+F32/D32 -> 0.053001306
A33: 백마역청소년카페 | B33: ='예산세출(백마)'!P25 -> 27240000 | C33: =+B33/$B$7 -> 0.0023765864 | D33: ='예산세출(백마)'!Q25 -> 25580000 | E33: =+D33/$D$7 -> 0.0022528394 | F33: =+B33-D33 -> 1660000 | G33: =+F33/D33 -> 0.064894449
A34: 능곡역청소년카페 | B34: ='예산세출(능곡)'!P22 -> 22080000 | C34: =+B34/$B$7 -> 0.001926396 | D34: ='예산세출(능곡)'!Q22 -> 22080000 | E34: =+D34/$D$7 -> 0.0019445932 | F34: =+B34-D34 -> 0 | G34: =+F34/D34 -> 0
A35: 목적사업비 | B35: =SUM(B36:B46) -> 857890000 | C35: =+B35/$B$7 -> 0.074847639 | D35: =SUM(D36:D46) -> 851980000 | E35: =+D35/$D$7 -> 0.075034171 | F35: =SUM(F36:F46) -> 5910000 | G35: =+F35/D35 -> 0.0069367826
A36: 사무국 | B36: ='예산세출(사무국)'!P222 -> 528000000 | C36: =+B36/$B$7 -> 0.046065991 | D36: ='예산세출(사무국)'!Q222 -> 528000000 | E36: =+D36/$D$7 -> 0.046501141 | F36: =+B36-D36 -> 0 | G36: =+F36/D36 -> 0
A37: 마두청소년수련관 | B37: ='예산세출(마두)'!P137 -> 69004000 | C37: =+B37/$B$7 -> 0.0060203365 | D37: ='예산세출(마두)'!Q137 -> 69004000 | E37: =+D37/$D$7 -> 0.006077206 | F37: =+B37-D37 -> 0 | G37: =+F37/D37 -> 0
A38: 성사청소년문화의집 | B38: ='예산세출(성사)'!P130 -> 60592000 | C38: =+B38/$B$7 -> 0.0052864215 | D38: ='예산세출(성사)'!Q130 -> 60592000 | E38: =+D38/$D$7 -> 0.0053363583 | F38: =+B38-D38 -> 0 | G38: =+F38/D38 -> 0
A39: 탄현청소년문화의집 | B39: ='예산세출(탄현)'!P70 -> 28600000 | C39: =+B39/$B$7 -> 0.0024952412 | D39: ='예산세출(탄현)'!Q70 -> 28600000 | E39: =+D39/$D$7 -> 0.0025188118 | F39: =+B39-D39 -> 0 | G39: =+F39/D39 -> 0
A40: 주교동청소년카페 | B40: ='예산세출(주교)'!P68 -> 6307000 | C40: =+B40/$B$7 -> 0.00055026176 | D40: ='예산세출(주교)'!Q68 -> 6307000 | E40: =+D40/$D$7 -> 0.00055545966 | F40: =+B40-D40 -> 0 | G40: =+F40/D40 -> 0
A41: 일산서구청소년수련관 | B41: ='예산세출(일산서구)'!P108 -> 84599000 | C41: =+B41/$B$7 -> 0.0073809409 | D41: ='예산세출(일산서구)'!Q108 -> 84599000 | E41: =+D41/$D$7 -> 0.007450663 | F41: =+B41-D41 -> 0 | G41: =+F41/D41 -> 0
A42: 토당청소년수련관 | B42: ='예산세출(토당)'!P118 -> 7600000 | C42: =+B42/$B$7 -> 0.00066307109 | D42: ='예산세출(토당)'!Q118 -> 7600000 | E42: =+D42/$D$7 -> 0.00066933461 | F42: =+B42-D42 -> 0 | G42: =+F42/D42 -> 0
A43: 고양시청소년상담복지센터 | B43: ='예산세출(상담)'!P155 -> 17168000 | C43: =+B43/$B$7 -> 0.0014978427 | D43: ='예산세출(상담)'!Q155 -> 12168000 | E43: =+D43/$D$7 -> 0.0010716399 | F43: =+B43-D43 -> 5000000 | G43: =+F43/D43 -> 0.41091387
A44: 화정청소년카페 | B44: ='예산세출(화정)'!P86 -> 30000000 | C44: =+B44/$B$7 -> 0.0026173859 | D44: ='예산세출(화정)'!Q86 -> 30000000 | E44: =+D44/$D$7 -> 0.0026421103 | F44: =+B44-D44 -> 0 | G44: =+F44/D44 -> 0
A45: 백마역청소년카페 | B45: ='예산세출(백마)'!P78 -> 7520000 | C45: =+B45/$B$7 -> 0.00065609139 | D45: ='예산세출(백마)'!Q78 -> 6610000 | E45: =+D45/$D$7 -> 0.00058214497 | F45: =+B45-D45 -> 910000 | G45: =+F45/D45 -> 0.1376702
A46: 능곡역청소년카페 | B46: ='예산세출(능곡)'!P68 -> 18500000 | C46: =+B46/$B$7 -> 0.0016140546 | D46: ='예산세출(능곡)'!Q68 -> 18500000 | E46: =+D46/$D$7 -> 0.0016293014 | F46: =+B46-D46 -> 0 | G46: =+F46/D46 -> 0
A47: 국도시비보조금사업비 | B47: =SUM(B48:B55) -> 2094819800 | C47: =+B47/$B$7 -> 0.18276506 | D47: =SUM(D48:D55) -> 2060049000 | E47: =+D47/$D$7 -> 0.18142922 | F47: =SUM(F48:F55) -> 34770800 | G47: =+F47/D47 -> 0.016878628
A48: 사무국 | B48: ='예산세출(사무국)'!P212 -> 38420000 | C48: =+B48/$B$7 -> 0.0033519988 | D48: ='예산세출(사무국)'!Q212 -> 38420000 | E48: =+D48/$D$7 -> 0.0033836626 | F48: =+B48-D48 -> 0 | G48: =+F48/D48 -> 0
A49: 마두청소년수련관 | B49: ='예산세출(마두)'!P126 -> 65880000 | C49: =+B49/$B$7 -> 0.0057477794 | D49: ='예산세출(마두)'!Q127 -> 65880000 | E49: =+D49/$D$7 -> 0.0058020742 | F49: =+B49-D49 -> 0 | G49: =+F49/D49 -> 0
A50: 고양시청소년진로센터 | B50: ='예산세출(진로)'!P78 -> 487630000 | C50: =+B50/$B$7 -> 0.042543862 | D50: ='예산세출(진로)'!Q78 -> 447630000 | E50: =+D50/$D$7 -> 0.039422928 | F50: =+B50-D50 -> 40000000 | G50: =+F50/D50 -> 0.089359516
A51: 성사청소년문화의집 | B51: ='예산세출(성사)'!P97 -> 252562000 | C51: =+B51/$B$7 -> 0.022035074 | D51: ='예산세출(성사)'!Q97 -> 250562000 | E51: =+D51/$D$7 -> 0.022067081 | F51: =+B51-D51 -> 2000000 | G51: =+F51/D51 -> 0.0079820563
A52: 탄현청소년문화의집 | B52: ='예산세출(탄현)'!P63 -> 27080000 | C52: =+B52/$B$7 -> 0.002362627 | D52: ='예산세출(탄현)'!Q63 -> 27080000 | E52: =+D52/$D$7 -> 0.0023849449 | F52: =+B52-D52 -> 0 | G52: =+F52/D52 -> 0
A53: 일산서구청소년수련관 | B53: ='예산세출(일산서구)'!P98 -> 140070000 | C53: =+B53/$B$7 -> 0.012220575 | D53: ='예산세출(일산서구)'!Q98 -> 159502000 | E53: =+D53/$D$7 -> 0.014047396 | F53: =+B53-D53 -> -19432000 | G53: =+F53/D53 -> -0.12182919
A54: 토당청소년수련관 | B54: ='예산세출(토당)'!P99 -> 187922000 | C54: =+B54/$B$7 -> 0.01639548 | D54: ='예산세출(토당)'!Q99 -> 183822000 | E54: =+D54/$D$7 -> 0.016189267 | F54: =+B54-D54 -> 4100000 | G54: =+F54/D54 -> 0.022304186
A55: 고양시청소년상담복지센터 | B55: ='예산세출(상담)'!P137-B137 -> 895255800 | C55: =+B55/$B$7 -> 0.078107663 | D55: ='예산세출(상담)'!Q138 -> 887153000 | E55: =+D55/$D$7 -> 0.078131869 | F55: =+B55-D55 -> 8102800 | G55: =+F55/D55 -> 0.0091334866
A56: 교육청사업비 | B56: =SUM(B57:B58) -> 127120000 | C56: =+B56/$B$7 -> 0.011090736 | D56: =SUM(D57:D58) -> 43000000 | E56: =+D56/$D$7 -> 0.0037870248 | F56: =SUM(F57:F58) -> 84120000 | G56: =+F56/D56 -> 1.9562791
A57: 고양시청소년진로센터 | B57: ='예산세출(진로)'!P168 -> 103000000 | C57: =+B57/$B$7 -> 0.0089863582 | D57: ='예산세입(진로)'!Q17 -> 43000000 | E57: =+D57/$D$7 -> 0.0037870248 | F57: =+B57-D57 -> 60000000 | G57: =+F57/D57 -> 1.3953488
A58: 토당청소년수련관 | B58: ='예산세출(토당)'!P108 -> 24120000 | C58: =+B58/$B$7 -> 0.0021043782 | D58: 0 | E58: =+D58/$D$7 -> 0 | F58: =+B58-D58 -> 24120000
A59: 기타보조금사업비 | B59: =SUM(B60:B61) -> 29700000 | C59: =+B59/$B$7 -> 0.002591212 | D59: =SUM(D60:D61) -> 5700000 | E59: =+D59/$D$7 -> 0.00050200096 | F59: =SUM(F60:F61) -> 24000000 | G59: =+F59/D59 -> 4.2105263
A60: 일산서구청소년수련관 | B60: ='예산세출(일산서구)'!P103 -> 5700000 | C60: =+B60/$B$7 -> 0.00049730332 | D60: ='예산세출(일산서구)'!Q103 -> 5700000 | E60: =+D60/$D$7 -> 0.00050200096 | F60: =+B60-D60 -> 0 | G60: =+F60/D60 -> 0
A61: 토당청소년수련관 | B61: ='예산세출(토당)'!P113 -> 24000000 | C61: =+B61/$B$7 -> 0.0020939087 | D61: ='예산세출(토당)'!Q113 -> 0 | E61: =+D61/$D$7 -> 0 | F61: =+B61-D61 -> 24000000
A62: 자산취득비 | B62: =SUM(B63:B71) -> 16420000 | C62: =+B62/$B$7 -> 0.0014325825 | D62: =SUM(D63:D71) -> 19554000 | E62: =+D62/$D$7 -> 0.0017221275 | F62: =SUM(F63:F71) -> -3134000 | G62: =+F62/D62 -> -0.16027411
A63: 사무국 | B63: ='예산세출(사무국)'!P200 -> 6200000 | C63: =+B63/$B$7 -> 0.00054092641 | D63: ='예산세출(사무국)'!Q200 -> 6200000 | E63: =+D63/$D$7 -> 0.00054603613 | F63: =+B63-D63 -> 0 | G63: =+F63/D63 -> 0
A64: 마두청소년수련관 | B64: ='예산세출(마두)'!P120 -> 2100000 | C64: =+B64/$B$7 -> 0.00018321701 | D64: ='예산세출(마두)'!Q120 -> 3354000 | E64: =+D64/$D$7 -> 0.00029538793 | F64: =+B64-D64 -> -1254000 | G64: =+F64/D64 -> -0.37388193
A65: 고양시청소년진로센터 | B65: ='예산세출(진로)'!P72 -> 1700000 | C65: =+B65/$B$7 -> 0.00014831853 | D65: ='예산세출(진로)'!Q72 -> 1700000 | E65: =+D65/$D$7 -> 0.00014971958 | F65: =+B65-D65 -> 0 | G65: =+F65/D65 -> 0
A66: 성사청소년문화의집 | B66: 0 | C66: =+B66/$B$7 -> 0 | D66: 0 | E66: =+D66/$D$7 -> 0 | F66: =+B66-D66 -> 0
A67: 주교동청소년카페 | B67: ='예산세출(주교)'!P62 -> 1400000 | C67: =+B67/$B$7 -> 0.00012214467 | D67: ='예산세출(주교)'!Q62 -> 1400000 | E67: =+D67/$D$7 -> 0.00012329848 | F67: =+B67-D67 -> 0 | G67: =+F67/D67 -> 0
A68: 일산서구청소년수련관 | B68: ='예산세출(일산서구)'!P92 -> 1120000 | C68: =+B68/$B$7 -> 9.7715739e-05 | D68: ='예산세출(일산서구)'!Q92 -> 3000000 | E68: =+D68/$D$7 -> 0.00026421103 | F68: =+B68-D68 -> -1880000 | G68: =+F68/D68 -> -0.62666667
A69: 고양시청소년상담복지센터 | B69: ='예산세출(상담)'!P132 -> 1200000 | C69: =+B69/$B$7 -> 0.00010469543 | D69: 1200000 | E69: =+D69/$D$7 -> 0.00010568441 | F69: =+B69-D69 -> 0 | G69: =+F69/D69 -> 0
A70: 화정청소년카페 | B70: ='예산세출(화정)'!P81 -> 1500000 | C70: =+B70/$B$7 -> 0.00013086929 | D70: ='예산세출(화정)'!Q81 -> 1500000 | E70: =+D70/$D$7 -> 0.00013210552 | F70: =+B70-D70 -> 0 | G70: =+F70/D70 -> 0
A71: 능곡역청소년카페 | B71: ='예산세출(능곡)'!P63 -> 1200000 | C71: =+B71/$B$7 -> 0.00010469543 | D71: ='예산세출(능곡)'!Q63 -> 1200000 | E71: =+D71/$D$7 -> 0.00010568441 | F71: =+B71-D71 -> 0 | G71: =+F71/D71 -> 0
A72: 성과급 | B72: =SUM(B73:B73) -> 91448000 | C72: =+B72/$B$7 -> 0.0079784901 | D72: =SUM(D73:D73) -> 91448000 | E72: =+D72/$D$7 -> 0.0080538568 | F72: =SUM(F73:F73) -> 0 | G72: =+F72/D72 -> 0
A73: 사무국 | B73: ='예산세출(사무국)'!P206 -> 91448000 | C73: =+B73/$B$7 -> 0.0079784901 | D73: ='예산세출(사무국)'!Q206 -> 91448000 | E73: =+D73/$D$7 -> 0.0080538568 | F73: =+B73-D73 -> 0 | G73: =+F73/D73 -> 0
A74: 자체사업비용 | B74: =SUM(B75,B82,B101,B117,B130,B113,B93,B115) -> 3236715000 | C74: =+B74/$B$7 -> 0.28239107 | D74: =SUM(D75,D82,D101,D117,D130,D113,D93,D115) -> 3311536000 | E74: =+D74/$D$7 -> 0.29164811 | F74: =SUM(F75,F82,F101,F117,F130,F113) -> -151152000 | G74: =+F74/D74 -> -0.045644076
A75: 자체사업인건비 | B75: =SUM(B76:B81) -> 342804000 | C75: =+B75/$B$7 -> 0.029908345 | D75: =SUM(D76:D81) -> 317913000 | E75: =+D75/$D$7 -> 0.027998707 | F75: =SUM(F76:F81) -> 24891000 | G75: =+F75/D75 -> 0.078295005
A76: 마두청소년수련관 | B76: ='예산세출(마두)'!P210 -> 204300000 | C76: =+B76/$B$7 -> 0.017824398 | D76: ='예산세출(마두)'!Q210 -> 204300000 | E76: =+D76/$D$7 -> 0.017992771 | F76: =+B76-D76 -> 0 | G76: =+F76/D76 -> 0 | J76: 14672 | K76: - | L76: 14672 | M76: -
A77: 일산서구청소년수련관 | B77: ='예산세출(일산서구)'!P251 -> 49895000 | C77: =+B77/$B$7 -> 0.0043531489 | D77: ='예산세출(일산서구)'!Q251 -> 46410000 | E77: =+D77/$D$7 -> 0.0040873446 | F77: =+B77-D77 -> 3485000 | G77: =+F77/D77 -> 0.075091575 | J77: 140184 | K77: 130434 | L77: 9750 | M77: 0.075
A78: 토당청소년수련관 | B78: ='예산세출(토당)'!P131 -> 57547000 | C78: =+B78/$B$7 -> 0.0050207568 | D78: ='예산세출(토당)'!Q131 -> 35699000 | E78: =+D78/$D$7 -> 0.0031440232 | F78: =+B78-D78 -> 21848000 | G78: =+F78/D78 -> 0.61200594 | J78: 204300 | K78: 187960 | L78: 16340 | M78: 0.087
A79: 고양시청소년상담복지센터 | B79: ='예산세출(상담)'!P189 -> 9624000 | C79: =+B79/$B$7 -> 0.00083965739 | D79: ='예산세출(상담)'!Q189 -> 9664000 | E79: =+D79/$D$7 -> 0.0008511118 | F79: =+B79-D79 -> -40000 | G79: =+F79/D79 -> -0.0041390728 | J79: 46410 | K79: 47711 | L79: △1,301 | M79: △2.7%
A80: 화정청소년카페 | B80: ='예산세출(화정)'!P144 -> 19038000 | C80: =+B80/$B$7 -> 0.0016609931 | D80: ='예산세출(화정)'!Q144 -> 18240000 | E80: =+D80/$D$7 -> 0.0016064031 | F80: =+B80-D80 -> 798000 | G80: =+F80/D80 -> 0.04375
A81: 백마역청소년카페 | B81: ='예산세출(백마)'!P111 -> 2400000 | C81: =+B81/$B$7 -> 0.00020939087 | D81: ='예산세출(백마)'!Q111 -> 3600000 | E81: =+D81/$D$7 -> 0.00031705324 | F81: =+B81-D81 -> -1200000 | G81: =+F81/D81 -> -0.33333333
A82: 자체사업경비 | B82: =SUM(B83:B92) -> 405716000 | C82: =+B82/$B$7 -> 0.035397178 | D82: =SUM(D83:D92) -> 343152000 | E82: =+D82/$D$7 -> 0.030221515 | F82: =SUM(F83:F92) -> 62564000 | G82: =+F82/D82 -> 0.18232154 | J82: 14672 | K82: 0 | L82: =J82-K82 -> 14672 | M82: =L82/K82 -> #DIV/0!
A83: 사무국 | B83: ='예산세출(사무국)'!P351 -> 18000000 | C83: =+B83/$B$7 -> 0.0015704315 | D83: ='예산세출(사무국)'!Q351 -> 18000000 | E83: =+D83/$D$7 -> 0.0015852662 | F83: =+B83-D83 -> 0 | G83: =+F83/D83 -> 0 | J83: 140184 | K83: 130434 | L83: =J83-K83 -> 9750 | M83: =L83/K83 -> 0.074750449
A84: 마두청소년수련관 | B84: ='예산세출(마두)'!P221 -> 85182000 | C84: =+B84/$B$7 -> 0.0074318055 | D84: ='예산세출(마두)'!Q221 -> 70040000 | E84: =+D84/$D$7 -> 0.0061684469 | F84: =+B84-D84 -> 15142000 | G84: =+F84/D84 -> 0.21619075 | J84: 204300 | K84: 187960 | L84: =J84-K84 -> 16340 | M84: =L84/K84 -> 0.08693339
A85: 고양시청소년진로센터 | B85: ='예산세출(진로)'!P187 -> 1333000 | C85: =+B85/$B$7 -> 0.00011629918 | D85: ='예산세출(진로)'!Q188 -> 1333000 | E85: =+D85/$D$7 -> 0.00011739777 | F85: =+B85-D85 -> 0 | G85: =+F85/D85 -> 0 | J85: 46410 | K85: 47711 | L85: =J85-K85 -> -1301 | M85: =L85/K85 -> -0.027268345
A86: 성사청소년문화의집 | B86: ='예산세출(성사)'!P278 -> 5402000 | C86: =+B86/$B$7 -> 0.00047130395 | D86: ='예산세출(성사)'!Q278 -> 5902000 | E86: =+D86/$D$7 -> 0.00051979117 | F86: =+B86-D86 -> -500000 | G86: =+F86/D86 -> -0.084717045
A87: 탄현청소년문화의집 | B87: ='예산세출(탄현)'!P114 -> 29126000 | C87: =+B87/$B$7 -> 0.0025411327 | D87: ='예산세출(탄현)'!Q114 -> 30496000 | E87: =+D87/$D$7 -> 0.0026857932 | F87: =+B87-D87 -> -1370000 | G87: =+F87/D87 -> -0.044923924 | L87: =L76-L82 -> 0 | M87: =M76-M82 -> #VALUE!
A88: 일산서구청소년수련관 | B88: ='예산세출(일산서구)'!P259 -> 68427000 | C88: =+B88/$B$7 -> 0.0059699954 | D88: ='예산세출(일산서구)'!Q259 -> 60903000 | E88: =+D88/$D$7 -> 0.0053637481 | F88: =+B88-D88 -> 7524000 | G88: =+F88/D88 -> 0.12354071 | L88: =L78-L84 -> 0 | M88: =M78-M84 -> 6.6609917e-05
A89: 토당청소년수련관 | B89: ='예산세출(토당)'!P154 -> 190514000 | C89: =+B89/$B$7 -> 0.016621622 | D89: ='예산세출(토당)'!Q154 -> 153664000 | E89: =+D89/$D$7 -> 0.013533241 | F89: =+B89-D89 -> 36850000 | G89: =+F89/D89 -> 0.23980893 | L89: =L79-L85 -> #VALUE! | M89: =M79-M85 -> #VALUE!
A90: 고양시청소년상담복지센터 | B90: ='예산세출(상담)'!P195 -> 5245000 | C90: =+B90/$B$7 -> 0.0004576063 | D90: ='예산세출(상담)'!Q195 -> 719000 | E90: =+D90/$D$7 -> 6.3322577e-05 | F90: =+B90-D90 -> 4526000 | G90: =+F90/D90 -> 6.294854
A91: 화정청소년카페 | B91: ='예산세출(화정)'!P153 -> 2432000 | C91: =+B91/$B$7 -> 0.00021218275 | D91: ='예산세출(화정)'!Q153 -> 2040000 | E91: =+D91/$D$7 -> 0.0001796635 | F91: =+B91-D91 -> 392000 | G91: =+F91/D91 -> 0.19215686
A92: 능곡역청소년카페 | B92: ='예산세출(능곡)'!P93 -> 55000 | C92: =+B92/$B$7 -> 4.7985408e-06 | D92: ='예산세출(능곡)'!Q93 -> 55000 | E92: =+D92/$D$7 -> 4.8438689e-06 | F92: =+B92-D92 -> 0 | G92: =+F92/D92 -> 0
A93: 자체사업자산취득비 | B93: =SUM(B94:B100) -> 162194000 | C93: =+B93/$B$7 -> 0.014150809 | D93: =SUM(D94:D100) -> 117772000 | E93: =+D93/$D$7 -> 0.01037222 | F93: =SUM(F94:F100) -> 44422000 | G93: =+F93/D93 -> 0.37718643
A94: 사무국 | B94: ='예산세출(사무국)'!P355 -> 112134000 | C94: =+B94/$B$7 -> 0.0097832649 | D94: ='예산세출(사무국)'!Q355 -> 100000000 | E94: =+D94/$D$7 -> 0.0088070344 | F94: =+B94-D94 -> 12134000 | G94: =+F94/D94 -> 0.12134
A95: 마두청소년수련관 | B95: ='예산세출(마두)'!P275 -> 13400000 | C95: =+B95/$B$7 -> 0.001169099 | D95: ='예산세출(마두)'!Q275 -> 5000000 | E95: =+D95/$D$7 -> 0.00044035172 | F95: =+B95-D95 -> 8400000 | G95: =+F95/D95 -> 1.68
A96: 성사청소년문화의집 | B96: ='예산세출(성사)'!P294 -> 4728000 | C96: =+B96/$B$7 -> 0.00041250001 | D96: ='예산세출(성사)'!Q294 -> 5000000 | E96: =+D96/$D$7 -> 0.00044035172 | F96: =+B96-D96 -> -272000 | G96: =+F96/D96 -> -0.0544
A97: 탄현청소년문화의집 | B97: ='예산세출(탄현)'!P170 -> 9000000 | C97: =+B97/$B$7 -> 0.00078521576 | D97: ='예산세출(탄현)'!Q170 -> 1456000 | E97: =+D97/$D$7 -> 0.00012823042 | F97: =+B97-D97 -> 7544000 | G97: =+F97/D97 -> 5.1813187 | I97: =B130+#REF! -> #REF!
A98: 주교동청소년카페 | B98: ='예산세출(주교)'!P86 -> 1156000 | C98: =+B98/$B$7 -> 0.0001008566 | D98: ='예산세출(주교)'!Q85 -> 1156000 | E98: =+D98/$D$7 -> 0.00010180932 | F98: =+B98-D98 -> 0 | G98: =+F98/D98 -> 0 | I98: =I93-I94-I97 -> #REF!
A99: 일산서구청소년수련관 | B99: ='예산세출(일산서구)'!P308 -> 11890000 | C99: =+B99/$B$7 -> 0.0010373573 | D99: ='예산세출(일산서구)'!Q308 -> 200000 | E99: =+D99/$D$7 -> 1.7614069e-05 | F99: =+B99-D99 -> 11690000 | G99: =+F99/D99 -> 58.45
A100: 토당청소년수련관 | B100: ='예산세출(토당)'!P243 -> 9886000 | C100: =+B100/$B$7 -> 0.00086251589 | D100: ='예산세출(토당)'!Q243 -> 4960000 | E100: =+D100/$D$7 -> 0.0004368289 | F100: =+B100-D100 -> 4926000 | G100: =+F100/D100 -> 0.99314516
A101: 자체사업비 | B101: =SUM(B102:B112) -> 1865496000 | C101: =+B101/$B$7 -> 0.16275743 | D101: =SUM(D102:D112) -> 2005712000 | E101: =+D101/$D$7 -> 0.17664374 | F101: =SUM(F102:F112) -> -140216000 | G101: =+F101/D101 -> -0.069908342
...

Sheet 간지3(세입예산 사업내역서)

Sheet 예산세입(사무국)
A1: 2019년 2차 추경 고양시청소년재단 사무국 세입예산서(안)
A2: [일반회계] | S2: (단위:천원)
A3: 예산과목 | G3: 산출내역 | P3: 추경예산 | Q3: 기정예산 | R3: 증감 | S3: 증감률
A4: 장 | B4: 관 | C4: 항 | D4: 목 | E4: 세목 | F4: 세세목
A5: 고양시청소년재단사무국 | P5: =P6+P28 -> 4180490000 | Q5: =Q6+Q28 -> 4168356000 | R5: =+P5-Q5 -> 12134000 | S5: =+R5/Q5 -> 0.0029109798
B6: 600 사업수익 | P6: =SUM(P7) -> 3274023000 | Q6: =SUM(Q7) -> 3261889000 | R6: =+P6-Q6 -> 12134000 | S6: =+R6/Q6 -> 0.0037199304
C7: 620 영업외수익 | P7: =SUM(P8,P12,P19,P23) -> 3274023000 | Q7: =SUM(Q8,Q12,Q19,Q23) -> 3261889000 | R7: =+P7-Q7 -> 12134000 | S7: =+R7/Q7 -> 0.0037199304
D8: 621 이자수익 | P8: =P9 -> 900000 | Q8: =Q9 -> 900000 | R8: =+P8-Q8 -> 0 | S8: =+R8/Q8 -> 0
E9: 621-1 예금이자수익 | P9: =ROUNDUP(O10,-3) -> 900000 | Q9: =Q10 -> 900000 | R9: =+P9-Q9 -> 0 | S9: =+R9/Q9 -> 0
F10: ㅇ예금이자수익 | O10: =SUM(O11:O11) -> 900000 | P10: 900000 | Q10: 900000 | R10: =+P10-Q10 -> 0 | S10: =+R10/Q10 -> 0
F11: ­ 예금이자 | G11: 900000 | H11: × | I11: 1 | N11: = | O11: =G11*I11 -> 900000
D12: 623 보조금수익 | P12: =P13 -> 38420000 | Q12: =Q13 -> 38420000 | R12: =+P12-Q12 -> 0 | S12: =+R12/Q12 -> 0
E13: 623-1 국도시비보조금 | P13: =ROUNDUP(O14+O16,-3) -> 38420000 | Q13: =Q14+Q16 -> 38420000 | R13: =+P13-Q13 -> 0 | S13: =+R13/Q13 -> 0
F14: ㅇ고양시청소년차세대위원회 | O14: =SUM(O15) -> 2800000 | P14: =O14 -> 2800000 | Q14: 2800000 | R14: =+P14-Q14 -> 0 | S14: =+R14/Q14 -> 0
F15: ­ 고양시청소년차세대위원회 | G15: 2800000 | H15: × | I15: 1 | N15: = | O15: =PRODUCT(G15:L15) -> 2800000
F16: ㅇ경기도청소년종합예술제 | O16: =SUM(O17:O18) -> 35620000 | P16: =O16 -> 35620000 | Q16: 35620000 | R16: =+P16-Q16 -> 0 | S16: =+R16/Q16 -> 0
F17: ­ 예선대회보조금 | G17: 23620000 | H17: × | I17: 1 | N17: = | O17: =PRODUCT(G17:L17) -> 23620000
F18: ­ 본선대회보조금 | G18: 12000000 | H18: × | I18: 1 | N18: = | O18: =PRODUCT(G18:L18) -> 12000000
D19: 625 출자출연금수익 | P19: =P20 -> 3222569000 | Q19: =Q20 -> 3222569000 | R19: =+P19-Q19 -> 0 | S19: =+R19/Q19 -> 0
E20: 625-2 지자체출자출연금 | P20: =ROUNDUP(O21,-3) -> 3222569000 | Q20: =Q21 -> 3222569000 | R20: =+P20-Q20 -> 0 | S20: =+R20/Q20 -> 0
F21: ㅇ고양시지원금 | O21: =SUM(O22:O22) -> 3222569000 | P21: =O21 -> 3222569000 | Q21: 3222569000 | R21: =+P21-Q21 -> 0 | S21: =+R21/Q21 -> 0
F22: ­ 재단지원금 | G22: 3222569000 | H22: × | I22: 1 | N22: = | O22: =G22 -> 3222569000
D23: 628 기타영업외수익 | P23: =P24 -> 12134000 | Q23: =Q24 -> 0 | R23: =+P23-Q23 -> 12134000
E24: 628-6 기타영업외수익 | P24: =ROUNDUP(O25,-3) -> 12134000 | Q24: =Q25 -> 0 | R24: =+P24-Q24 -> 12134000
F25: ㅇ고양시지원금 | O25: =ROUNDDOWN(SUM(O26:O27),-3) -> 12134000 | P25: =O25 -> 12134000 | Q25: 0 | R25: =+P25-Q25 -> 12134000
F26: ­ 법인세환급 | G26: 434240 | H26: × | I26: 1 | N26: = | O26: =G26 -> 434240
F27: ­ 기타잡수입 | G27: 11700000 | H27: × | I27: 1 | N27: = | O27: =G27 -> 11700000
B28: 100 자본적수입 | P28: =P29 -> 906467000 | Q28: =Q29 -> 906467000 | R28: =+P28-Q28 -> 0 | S28: =+R28/Q28 -> 0
C29: 170 자본잉여금수입 | P29: =P30 -> 906467000 | Q29: =Q30 -> 906467000 | R29: =+P29-Q29 -> 0 | S29: =+R29/Q29 -> 0
D30: 172 이월금 | P30: =SUM(P31) -> 906467000 | Q30: =SUM(Q31) -> 906467000 | R30: =+P30-Q30 -> 0 | S30: =+R30/Q30 -> 0
E31: 172-3 전년도이월사업비 | P31: =P32 -> 906467000 | Q31: =Q32 -> 906467000 | R31: =+P31-Q31 -> 0 | S31: =+R31/Q31 -> 0
F32: ㅇ전년도이월금 | O32: =SUM(O33:O34) -> 906467000 | P32: =O32 -> 906467000 | Q32: 906467000 | R32: =+P32-Q32 -> 0 | S32: =+R32/Q32 -> 0
F33: ­ 재단지원금 | G33: 388467000 | H33: × | I33: 1 | N33: = | O33: =G33*I33 -> 388467000
F34: ­ 2018년사업비이월금 | G34: 518000000 | H34: × | I34: 1 | N34: = | O34: =G34*I34 -> 518000000
O36: 19762000 | P36: =P5-O36 -> 4160728000 | Q36: 3623469000 | R36: =+P36-Q36 -> 537259000 | S36: =+R36/Q36 -> 0.148272
E328: 청소녀

Sheet 예산세입(마두)
A1: 2019년 2차 추경 마두청소년수련관 세입예산서(안)
A2: [일반회계] | S2: (단위:천원)
A3: 예산과목 | G3: 산출내역 | P3: 추경예산 | Q3: 기정예산 | R3: 증감 | S3: 증감률
A4: 장 | B4: 관 | C4: 항 | D4: 목 | E4: 세목 | F4: 세세목
A5: 마두청소년수련관 | P5: =P6+P89 -> 1250861000 | Q5: =Q6+Q89 -> 1266311000 | R5: =+P5-Q5 -> -15450000 | S5: =+R5/Q5 -> -0.012200794
B6: 600 사업수익 | P6: =SUM(P7,P68) -> 1147293000 | Q6: =SUM(Q7,Q68) -> 1162743000 | R6: =+P6-Q6 -> -15450000 | S6: =+R6/Q6 -> -0.013287545 | V6: 1137867000
C7: 610 영업수익 | P7: =SUM(P8,P55,P64) -> 762300000 | Q7: =SUM(Q8,Q55,Q64) -> 777750000 | R7: =+P7-Q7 -> -15450000 | S7: =+R7/Q7 -> -0.019864995
D8: 611 자체사업수익 | P8: =P9+P51 -> 708400000 | Q8: =Q9+Q51 -> 718450000 | R8: =+P8-Q8 -> -10050000 | S8: =+R8/Q8 -> -0.013988447 | V8: 1143363000
E9: 611-1 사업운영수익 | P9: =O10+O17+O26+O35+O48 -> 577800000 | Q9: 577800000 | R9: =+P9-Q9 -> 0 | S9: =+R9/Q9 -> 0
F10: ㅇ평생교육프로그램 | O10: =SUM(O11:O16) -> 33600000 | P10: =O10 -> 33600000 | Q10: 33600000 | R10: =+P10-Q10 -> 0 | S10: =+R10/Q10 -> 0
F11: - 미술교실 | G11: 40000 | H11: × | I11: 10 | J11: × | K11: 1 | L11: × | M11: 12 | N11: = | O11: =G11*I11*K11*M11 -> 4800000 | V11: =V6-V8 -> -5496000
F12: - 손뜨개질 | G12: 30000 | H12: × | I12: 10 | J12: × | K12: 1 | L12: × | M12: 12 | N12: = | O12: =G12*I12*K12*M12 -> 3600000
F13: - 캘리그라피 | G13: 40000 | H13: × | I13: 10 | J13: × | K13: 1 | L13: × | M13: 12 | N13: = | O13: =G13*I13*K13*M13 -> 4800000
F14: - 기타교실 | G14: 40000 | H14: × | I14: 10 | J14: × | K14: 1 | L14: × | M14: 12 | N14: = | O14: =G14*I14*K14*M14 -> 4800000 | V14: =P5-V8 -> 107498000
F15: - 중국어(원어민) | G15: 40000 | H15: × | I15: 10 | J15: × | K15: 2 | L15: × | M15: 12 | N15: = | O15: =G15*I15*K15*M15 -> 9600000
F16: - 성인영어(원어민) | G16: 50000 | H16: × | I16: 10 | J16: × | K16: 1 | L16: × | M16: 12 | N16: = | O16: =G16*I16*K16*M16 -> 6000000
F17: ㅇ생활체육프로그램 | O17: =SUM(O18:O25) -> 224700000 | P17: =O17 -> 224700000 | Q17: 224700000 | R17: =+P17-Q17 -> 0 | S17: =+R17/Q17 -> 0
F18: - 요가 | G18: 40000 | H18: × | I18: 20 | J18: × | K18: 4 | L18: × | M18: 12 | N18: = | O18: =G18*I18*K18*M18 -> 38400000
F19: - 필라테스 | G19: 40000 | H19: × | I19: 20 | J19: × | K19: 4 | L19: × | M19: 12 | N19: = | O19: =G19*I19*K19*M19 -> 38400000
F20: - 발레 | G20: 40000 | H20: × | I20: 20 | J20: × | K20: 3 | L20: × | M20: 12 | N20: = | O20: =G20*I20*K20*M20 -> 28800000
F21: - 발레핏 | G21: 40000 | H21: × | I21: 20 | J21: × | K21: 3 | L21: × | M21: 12 | N21: = | O21: =G21*I21*K21*M21 -> 28800000
F22: - 라인댄스 | G22: 30000 | H22: × | I22: 15 | J22: × | K22: 2 | L22: × | M22: 12 | N22: = | O22: =G22*I22*K22*M22 -> 10800000
F23: - 줌바댄스 | G23: 40000 | H23: × | I23: 20 | J23: × | K23: 2 | L23: × | M23: 12 | N23: = | O23: =G23*I23*K23*M23 -> 19200000
F24: - 클라이밍 | G24: 45000 | H24: × | I24: 15 | J24: × | K24: 3 | L24: × | M24: 12 | N24: = | O24: =G24*I24*K24*M24 -> 24300000
F25: - 휘트니스 | G25: 30000 | H25: × | I25: 100 | J25: × | K25: 1 | L25: × | M25: 12 | N25: = | O25: =G25*I25*K25*M25 -> 36000000
F26: ㅇ평생교육프로그램(청소년) | O26: =SUM(O27:O34) -> 69000000 | P26: =O26 -> 69000000 | Q26: 69000000 | R26: =+P26-Q26 -> 0 | S26: =+R26/Q26 -> 0
F27: - 미술교실 | G27: 40000 | H27: × | I27: 10 | J27: × | K27: 2 | L27: × | M27: 12 | N27: = | O27: =G27*I27*K27*M27 -> 9600000
F28: - 캘리그라피 | G28: 30000 | H28: × | I28: 10 | J28: × | K28: 1 | L28: × | M28: 12 | N28: = | O28: =G28*I28*K28*M28 -> 3600000
F29: - 기타교실 | G29: 30000 | H29: × | I29: 10 | J29: × | K29: 1 | L29: × | M29: 12 | N29: = | O29: =G29*I29*K29*M29 -> 3600000
F30: - 청소년영어(원어민) | G30: 45000 | H30: × | I30: 10 | J30: × | K30: 2 | L30: × | M30: 12 | N30: = | O30: =G30*I30*K30*M30 -> 10800000
F31: - 코딩교육 | G31: 40000 | H31: × | I31: 10 | J31: × | K31: 1 | L31: × | M31: 12 | N31: = | O31: =G31*I31*K31*M31 -> 4800000
F32: - 과학실험 | G32: 35000 | H32: × | I32: 15 | J32: × | K32: 2 | L32: × | M32: 12 | N32: = | O32: =G32*I32*K32*M32 -> 12600000
F33: - 독서논술 | G33: 40000 | H33: × | I33: 10 | J33: × | K33: 3 | L33: × | M33: 12 | N33: = | O33: =G33*I33*K33*M33 -> 14400000
F34: - 중등논술 | G34: 40000 | H34: × | I34: 10 | J34: × | K34: 2 | L34: × | M34: 12 | N34: = | O34: =G34*I34*K34*M34 -> 9600000
F35: ㅇ생활체육프로그램(청소년) | O35: =SUM(O36:O47) -> 244500000 | P35: =O35 -> 244500000 | Q35: 244500000 | R35: =+P35-Q35 -> 0 | S35: =+R35/Q35 -> 0
F36: - 요가&필라테스 | G36: 30000 | H36: × | I36: 20 | J36: × | K36: 4 | L36: × | M36: 12 | N36: = | O36: =G36*I36*K36*M36 -> 28800000
F37: - 발레 | G37: 40000 | H37: × | I37: 20 | J37: × | K37: 3 | L37: × | M37: 12 | N37: = | O37: =G37*I37*K37*M37 -> 28800000
F38: - 방송댄스(주중) | G38: 30000 | H38: × | I38: 15 | J38: × | K38: 4 | L38: × | M38: 12 | N38: = | O38: =G38*I38*K38*M38 -> 21600000
F39: - 방송댄스(주말) | G39: 35000 | H39: × | I39: 15 | J39: × | K39: 2 | L39: × | M39: 12 | N39: = | O39: =G39*I39*K39*M39 -> 12600000
F40: - 음악줄넘기(주중) | G40: 40000 | H40: × | I40: 15 | J40: × | K40: 2 | L40: × | M40: 12 | N40: = | O40: =G40*I40*K40*M40 -> 14400000
F41: - 음악줄넘기(주말) | G41: 30000 | H41: × | I41: 15 | J41: × | K41: 2 | L41: × | M41: 12 | N41: = | O41: =G41*I41*K41*M41 -> 10800000
F42: - 농구교실(주중) | G42: 40000 | H42: × | I42: 15 | J42: × | K42: 4 | L42: × | M42: 12 | N42: = | O42: =G42*I42*K42*M42 -> 28800000
F43: - 농구교실(주말) | G43: 30000 | H43: × | I43: 15 | J43: × | K43: 3 | L43: × | M43: 12 | N43: = | O43: =G43*I43*K43*M43 -> 16200000
F44: - 클라이밍(주중) | G44: 35000 | H44: × | I44: 15 | J44: × | K44: 3 | L44: × | M44: 12 | N44: = | O44: =G44*I44*K44*M44 -> 18900000
F45: - 클라이밍(주말) | G45: 30000 | H45: × | I45: 15 | J45: × | K45: 6 | L45: × | M45: 12 | N45: = | O45: =G45*I45*K45*M45 -> 32400000
F46: - 그룹트레이닝 | G46: 30000 | H46: × | I46: 10 | J46: × | K46: 2 | L46: × | M46: 12 | N46: = | O46: =G46*I46*K46*M46 -> 7200000
F47: - 휘트니스 | G47: 20000 | H47: × | I47: 100 | J47: × | K47: 1 | L47: × | M47: 12 | N47: = | O47: =G47*I47*K47*M47 -> 24000000
F48: ㅇ방학특강(청소년) | O48: =SUM(O49:O50) -> 6000000 | P48: =O48 -> 6000000 | Q48: 6000000 | R48: =+P48-Q48 -> 0 | S48: =+R48/Q48 -> 0
F49: - 여름방학프로그램 | G49: 40000 | H49: × | I49: 15 | J49: × | K49: 5 | L49: × | M49: 1 | N49: = | O49: =G49*I49*K49*M49 -> 3000000
F50: - 겨울방학프로그램 | G50: 40000 | H50: × | I50: 15 | J50: × | K50: 5 | L50: × | M50: 1 | N50: = | O50: =G50*I50*K50*M50 -> 3000000
E51: 611-2 참가금수익 | P51: =O52+O53+O54 -> 130600000 | Q51: =SUM(Q52:Q54) -> 140650000 | R51: =+P51-Q51 -> -10050000 | S51: =+R51/Q51 -> -0.071453964
F52: ㅇ학교연계참가비 | G52: 2500000 | H52: × | I52: 4 | N52: = | O52: =+I52*G52 -> 10000000 | P52: =O52 -> 10000000 | Q52: 10000000 | R52: =+P52-Q52 -> 0 | S52: =+R52/Q52 -> 0
F53: ㅇ청소년국제교류캠프 | G53: 4100000 | H53: × | I53: 27 | N53: = | O53: =+I53*G53 -> 110700000 | P53: =O53 -> 110700000 | Q53: 123000000 | R53: =+P53-Q53 -> -12300000 | S53: =+R53/Q53 -> -0.1 | V53: -456000
F54: ㅇ국가간청소년교류 MDTelecom | G54: 450000 | H54: × | I54: 22 | N54: = | O54: =+I54*G54 -> 9900000 | P54: =O54 -> 9900000 | Q54: 7650000 | R54: =+P54-Q54 -> 2250000 | S54: =+R54/Q54 -> 0.29411765
D55: 617 기타영업수익 | P55: =P56+P59 -> 3500000 | Q55: =Q56+Q59 -> 3500000 | R55: =+P55-Q55 -> 0 | S55: =+R55/Q55 -> 0
E56: 617-1 시설사용료수익 | P56: =ROUNDUP(O57,-3) -> 3000000 | Q56: 3000000 | R56: =+P56-Q56 -> 0 | S56: =+R56/Q56 -> 0 | V56: =O66-V53 -> 50856000
F57: ㅇ대관수입 | O57: =SUM(O58:O58) -> 3000000 | P57: =P56 -> 3000000 | Q57: 3000000 | R57: =+P57-Q57 -> 0 | S57: =+R57/Q57 -> 0
F58: - 대관사용료 | G58: 100000 | H58: × | I58: 30 | N58: = | O58: =G58*I58 -> 3000000
E59: 617-3 기타수수료수입 | P59: =P60+P62 -> 500000 | Q59: 500000 | R59: =+P59-Q59 -> 0 | S59: =+R59/Q59 -> 0
F60: ㅇ부가가치세환급 | O60: =SUM(O61:O61) -> 400000 | P60: 400000 | Q60: 400000 | R60: =+P60-Q60 -> 0 | S60: =+R60/Q60 -> 0 | V60: =V56/12/25/80 -> 2119
F61: - 부가세환급 | G61: 200000 | H61: × | I61: 2 | N61: = | O61: =SUM(G61*I61) -> 400000
F62: ㅇ기타수입 | O62: =SUM(O63:O63) -> 100000 | P62: 100000 | Q62: 100000 | R62: =+P62-Q62 -> 0 | S62: =+R62/Q62 -> 0
F63: - 기타수입 | G63: 100000 | H63: × | I63: 1 | N63: = | O63: =SUM(G63*I63) -> 100000
D64: 618 판매수익 | P64: =P65 -> 50400000 | Q64: =Q65 -> 55800000 | R64: =+P64-Q64 -> -5400000 | S64: =+R64/Q64 -> -0.096774194
E65: 618-1 상품판매수익 | P65: =ROUNDUP(O66,-3) -> 50400000 | Q65: 55800000 | R65: =+P65-Q65 -> -5400000 | S65: =+R65/Q65 -> -0.096774194
F66: ㅇ청소년 카페 운영 | O66: =SUM(O67:O67) -> 50400000 | P66: =O66 -> 50400000 | Q66: 55800000 | R66: =+P66-Q66 -> -5400000 | S66: =+R66/Q66 -> -0.096774194
F67: - 판매수입 | G67: 2400 | H67: × | I67: 70 | J67: × | K67: 25 | L67: × | M67: 12 | N67: = | O67: =G67*I67*K67*M67 -> 50400000
C68: 620 영업외수익 | P68: =SUM(P69,P85,P73) -> 384993000 | Q68: =SUM(Q69,Q85,Q73) -> 384993000 | R68: =+P68-Q68 -> 0 | S68: =+R68/Q68 -> 0
D69: 621 이자수익 | P69: =P70 -> 200000 | Q69: =Q70 -> 200000 | R69: =+P69-Q69 -> 0 | S69: =+R69/Q69 -> 0
E70: 621-1 예금이자수익 | P70: =ROUNDUP(O71,-3) -> 200000 | Q70: 200000 | R70: =+P70-Q70 -> 0 | S70: =+R70/Q70 -> 0
F71: ㅇ예금이자수익 | O71: =SUM(O72:O72) -> 200000 | P71: 200000 | Q71: 200000 | R71: =+P71-Q71 -> 0 | S71: =+R71/Q71 -> 0
F72: - 예금이자 | G72: 200000 | H72: × | I72: 1 | N72: = | O72: =G72*I72 -> 200000
D73: 623 보조금수익 | P73: =SUM(P74,P84) -> 65880000 | Q73: =SUM(Q74,Q84) -> 65880000 | R73: =+P73-Q73 -> 0 | S73: =+R73/Q73 -> 0
E74: 623-1 국도시비보조금 | P74: =SUM(O75,O77,O79,O81) -> 65880000 | Q74: =SUM(Q75,Q77,Q79,Q81) -> 65880000 | R74: =+P74-Q74 -> 0 | S74: =+R74/Q74 -> 0
F75: ㅇ청소년어울림마당 | O75: =SUM(O76:O76) -> 24000000 | P75: =O75 -> 24000000 | Q75: 24000000 | R75: =+P75-Q75 -> 0 | S75: =+R75/Q75 -> 0
F76: - 청소년어울림마당 | G76: 24000000 | H76: × | I76: 1 | N76: = | O76: =G76*I76 -> 24000000
F77: ㅇ청소년지도사배치지원 | O77: =SUM(O78:O78) -> 25080000 | P77: =O77 -> 25080000 | Q77: 25080000 | R77: =+P77-Q77 -> 0 | S77: =+R77/Q77 -> 0
F78: - 청소년지도사배치지원 | G78: 25080000 | H78: × | I78: 1 | N78: = | O78: =G78*I78 -> 25080000
F79: ㅇ공공청소년수련시설프로그램 | O79: =SUM(O80:O80) -> 4800000 | P79: =O79 -> 4800000 | Q79: 4800000 | R79: =+P79-Q79 -> 0 | S79: =+R79/Q79 -> 0
F80: - 공공청소년수련시설프로그램 | G80: 4800000 | H80: × | I80: 1 | N80: = | O80: =G80*I80 -> 4800000
F81: ㅇ여성가족부공모사업 | O81: =SUM(O82:O83) -> 12000000 | P81: =O81 -> 12000000 | Q81: 12000000 | R81: =+P81-Q81 -> 0 | S81: =+R81/Q81 -> 0
F82: - 민주시민프로젝트 | G82: 10000000 | H82: × | I82: 1 | N82: = | O82: =G82*I82 -> 10000000
F83: - 환경보전국제활동 | G83: 2000000 | H83: × | I83: 1 | N83: = | O83: =G83*I83 -> 2000000
E84: 623-2 교육청보조금 | P84: 0 | Q84: 0 | R84: =+P84-Q84 -> 0
D85: 625 출자출연금수익 | P85: =P86 -> 318913000 | Q85: =Q86 -> 318913000 | R85: =+P85-Q85 -> 0 | S85: =+R85/Q85 -> 0
E86: 625-2 지자체출자출연금 | P86: =P87 -> 318913000 | Q86: 318913000 | R86: =+P86-Q86 -> 0 | S86: =+R86/Q86 -> 0
F87: ㅇ고양시지원금 | O87: =SUM(O88:O88) -> 318913000 | P87: =O87 -> 318913000 | Q87: 318913000 | R87: =+P87-Q87 -> 0 | S87: =+R87/Q87 -> 0
F88: - 마두지원금 | G88: 318913000 | H88: × | I88: 1 | N88: = | O88: =G88 -> 318913000
B89: 100 자본적수입 | P89: =P90 -> 103568000 | Q89: =Q90 -> 103568000 | R89: =+P89-Q89 -> 0 | S89: =+R89/Q89 -> 0
C90: 170 자본잉여금수입 | P90: =P91 -> 103568000 | Q90: =Q91 -> 103568000 | R90: =+P90-Q90 -> 0 | S90: =+R90/Q90 -> 0
D91: 172 이월금 | P91: =SUM(P92) -> 103568000 | Q91: =SUM(Q92) -> 103568000 | R91: =+P91-Q91 -> 0 | S91: =+R91/Q91 -> 0
E92: 172-3 전년도이월사업비 | P92: =O93 -> 103568000 | Q92: =Q93 -> 103568000 | R92: =+P92-Q92 -> 0 | S92: =+R92/Q92 -> 0
F93: ㅇ전년도이월금 | O93: =SUM(O94) -> 103568000 | P93: =P92 -> 103568000 | Q93: 103568000 | R93: =+P93-Q93 -> 0 | S93: =+R93/Q93 -> 0
F94: - 2018년도사업비이월금 | G94: 103568000 | H94: × | I94: 1 | N94: = | O94: =G94*I94 -> 103568000

Sheet 예산세입(진로)
A1: 2019년 2차 추경 고양시청소년진로센터 세입예산서(안)
A2: [일반회계] | S2: (단위:천원)
A3: 예산과목 | G3: 산출내역 | P3: 추경예산 | Q3: 기정예산 | R3: 증감 | S3: 증감률
A4: 장 | B4: 관 | C4: 항 | D4: 목 | E4: 세목 | F4: 세세목
A5: 고양시청소년진로센터 | P5: =P6+P29 -> 670584000 | Q5: =Q6+Q29 -> 553461000 | R5: =+P5-Q5 -> 117123000 | S5: =+R5/Q5 -> 0.21161925
B6: 600 사업수익 | P6: =P7 -> 669251000 | Q6: =Q7 -> 552128000 | R6: =+P6-Q6 -> 117123000 | S6: =+R6/Q6 -> 0.21213016 | T6: 61498000
C7: 620 영업외수익 | P7: =SUM(P8,P24,P12) -> 669251000 | Q7: =SUM(Q8,Q24,Q12) -> 552128000 | R7: =+P7-Q7 -> 117123000 | S7: =+R7/Q7 -> 0.21213016
D8: 621 이자수익 | P8: =P9 -> 240000 | Q8: =Q9 -> 240000 | R8: =+P8-Q8 -> 0 | S8: =+R8/Q8 -> 0 | T8: =P5-T6 -> 609086000
E9: 621-1 예금이자수익 | P9: =ROUNDUP(O10,-3) -> 240000 | Q9: 240000 | R9: =+P9-Q9 -> 0 | S9: =+R9/Q9 -> 0
F10: ㅇ예금이자수익 | O10: =SUM(O11:O11) -> 240000 | P10: =O10 -> 240000 | Q10: 240000 | R10: =+P10-Q10 -> 0 | S10: =+R10/Q10 -> 0 | T10: =G27-T8 -> -547828000
F11: - 예금이자 | G11: 240000 | H11: × | I11: 1 | N11: = | O11: =G11*I11 -> 240000
D12: 623 보조금수익 | P12: =P13+P17 -> 590630000 | Q12: =Q13+Q17 -> 490630000 | R12: =+P12-Q12 -> 100000000 | S12: =+R12/Q12 -> 0.20381958
E13: 623-1 국도시비보조금 | P13: =ROUNDUP(O14,-3) -> 487630000 | Q13: =Q14 -> 447630000 | R13: =+P13-Q13 -> 40000000 | S13: =+R13/Q13 -> 0.089359516
F14: ㅇ고양시보조금 | O14: =SUM(O15:O16) -> 487630000 | P14: =O14 -> 487630000 | Q14: 447630000 | R14: =+P14-Q14 -> 40000000 | S14: =+R14/Q14 -> 0.089359516
F15: - 진로체험 사업 | G15: 447630000 | H15: × | I15: 1 | N15: = | O15: =G15*I15 -> 447630000
F16: - 입시박람회 | G16: 40000000 | H16: × | I16: 1 | N16: = | O16: =G16*I16 -> 40000000
E17: 623-2 교육청보조금 | P17: =ROUNDUP(O18+O20,-3) -> 103000000 | Q17: =Q18+Q20 -> 43000000 | R17: =+P17-Q17 -> 60000000 | S17: =+R17/Q17 -> 1.3953488
F18: ㅇ고양교육지원청보조금 | O18: =SUM(O19:O19) -> 15000000 | P18: =O18 -> 15000000 | Q18: 15000000 | R18: =+P18-Q18 -> 0 | S18: =+R18/Q18 -> 0
F19: - 진로센터 운영지원금 | G19: 15000000 | H19: × | I19: 1 | N19: = | O19: =G19*I19 -> 15000000
F20: ㅇ경기도교육청보조금 | O20: =SUM(O21:O23) -> 88000000 | P20: =O20 -> 88000000 | Q20: 28000000 | R20: =+P20-Q20 -> 60000000 | S20: =+R20/Q20 -> 2.1428571
F21: - 진로센터 운영지원금 | G21: 28000000 | H21: × | I21: 1 | N21: = | O21: =G21*I21 -> 28000000
F22: - 나노드림플러스 거점센터운영 | G22: 10000000 | H22: × | I22: 1 | N22: = | O22: =G22*I22 -> 10000000
F23: - 창업체험교육 거점센터 운영 | G23: 50000000 | H23: × | I23: 1 | N23: = | O23: =G23*I23 -> 50000000
D24: 625 출자출연금수익 | P24: =P25 -> 78381000 | Q24: =Q25 -> 61258000 | R24: =+P24-Q24 -> 17123000 | S24: =+R24/Q24 -> 0.27952267
E25: 625-2 지자체출자출연금 | P25: =O26 -> 78381000 | Q25: =Q26 -> 61258000 | R25: =+P25-Q25 -> 17123000 | S25: =+R25/Q25 -> 0.27952267
F26: ㅇ고양시지원금 | O26: =SUM(O27:O28) -> 78381000 | P26: =O26 -> 78381000 | Q26: 61258000 | R26: =+P26-Q26 -> 17123000 | S26: =+R26/Q26 -> 0.27952267
F27: - 진로지원금 | G27: 61258000 | H27: × | I27: 1 | N27: = | O27: =G27*I27 -> 61258000
F28: - 재단지원금 | G28: 17123000 | H28: × | I28: 1 | N28: = | O28: 17123000
B29: 100 자본적수입 | P29: =P30 -> 1333000 | Q29: =Q30 -> 1333000 | R29: =+P29-Q29 -> 0 | S29: =+R29/Q29 -> 0
C30: 170 자본잉여금수입 | P30: =P31 -> 1333000 | Q30: =Q31 -> 1333000 | R30: =+P30-Q30 -> 0 | S30: =+R30/Q30 -> 0
D31: 172 이월금 | P31: =SUM(P32) -> 1333000 | Q31: =SUM(Q32) -> 1333000 | R31: =+P31-Q31 -> 0 | S31: =+R31/Q31 -> 0
E32: 172-3 전년도이월사업비 | P32: =O33 -> 1333000 | Q32: =Q33 -> 1333000 | R32: =+P32-Q32 -> 0 | S32: =+R32/Q32 -> 0
F33: ㅇ전년도이월금 | O33: =SUM(O34) -> 1333000 | P33: =P32 -> 1333000 | Q33: 1333000 | R33: =+P33-Q33 -> 0 | S33: =+R33/Q33 -> 0
F34: - 2018년도사업비이월금 | G34: 1333000 | H34: × | I34: 1 | N34: = | O34: =G34*I34 -> 1333000

Sheet 예산세입(성사)
A1: 2019년 2차 추경 성사청소년문화의집 세입예산서(안)
A2: [일반회계] | S2: (단위:천원)
A3: 예산과목 | G3: 산출내역 | P3: 추경예산 | Q3: 기정예산 | R3: 증감 | S3: 증감률
A4: 장 | B4: 관 | C4: 항 | D4: 목 | E4: 세목 | F4: 세세목
A5: 성사청소년문화의집 | P5: =P6+P47 -> 466283000 | Q5: =Q6+Q47 -> 466283000 | R5: =+P5-Q5 -> 0 | S5: =+R5/Q5 -> 0
B6: 600 사업수익 | P6: =SUM(P7,P24) -> 456544000 | Q6: =SUM(Q7,Q24) -> 456544000 | R6: =+P6-Q6 -> 0 | S6: =+R6/Q6 -> 0
C7: 610 영업수익 | P7: =SUM(P8,P20) -> 19800000 | Q7: =SUM(Q8,Q20) -> 21800000 | R7: =+P7-Q7 -> -2000000 | S7: =+R7/Q7 -> -0.091743119
D8: 611 자체사업수익 | P8: =P9 -> 17400000 | Q8: =Q9 -> 18000000 | R8: =+P8-Q8 -> -600000 | S8: =+R8/Q8 -> -0.033333333
E9: 611-2 참가금수익 | P9: =SUM(O10) -> 17400000 | Q9: =Q10 -> 18000000 | R9: =+P9-Q9 -> -600000 | S9: =+R9/Q9 -> -0.033333333
F10: ㅇ프로그램참가비 | O10: =SUM(O11:O19) -> 17400000 | P10: =P9 -> 17400000 | Q10: 18000000 | R10: =+P10-Q10 -> -600000 | S10: =+R10/Q10 -> -0.033333333
F11: - 국제활동가프로젝트 | G11: 1500000 | H11: × | I11: 7 | N11: = | O11: =G11*I11 -> 10500000
F12: - 글로컬캠프 | G12: 30000 | H12: × | I12: 25 | N12: = | O12: =G12*I12 -> 750000
F13: - 메이커프로그램 | G13: 30000 | H13: × | I13: 15 | N13: = | O13: =G13*I13 -> 450000
F14: - 여행지원사업 | G14: 30000 | H14: × | I14: 20 | N14: = | O14: =G14*I14 -> 600000
F15: - 학교연계사업 | G15: 1200000 | H15: × | I15: 1 | N15: = | O15: =G15*I15 -> 1200000
F16: - 진로캠프 | G16: 30000 | H16: × | I16: 40 | N16: = | O16: =G16*I16 -> 1200000
F17: - 성사창의체험학교1 | G17: 30000 | H17: × | I17: 20 | N17: = | O17: =G17*I17 -> 600000
F18: - 성사창의체험학교2 | G18: 30000 | H18: × | I18: 15 | J18: × | K18: 2 | N18: = | O18: =G18*I18*K18 -> 900000
F19: - 성사창의체험학교3 | G19: 30000 | H19: × | I19: 20 | J19: × | K19: 2 | N19: = | O19: =G19*I19*K19 -> 1200000
D20: 617 기타영업수익 | P20: =P21 -> 2400000 | Q20: =Q21 -> 3800000 | R20: =+P20-Q20 -> -1400000 | S20: =+R20/Q20 -> -0.36842105
E21: 617-1 시설사용료수익 | P21: =ROUNDUP(O22,-3) -> 2400000 | Q21: =Q22 -> 3800000 | R21: =+P21-Q21 -> -1400000 | S21: =+R21/Q21 -> -0.36842105
F22: ㅇ대관수입 | O22: =SUM(O23:O23) -> 2400000 | P22: =P21 -> 2400000 | Q22: 3800000 | R22: =+P22-Q22 -> -1400000 | S22: =+R22/Q22 -> -0.36842105
F23: - 대관사용료 | G23: 600000 | H23: × | I23: 4 | N23: = | O23: =G23*I23 -> 2400000
C24: 620 영업외수익 | P24: =SUM(P25,P29,P43) -> 436744000 | Q24: =SUM(Q25,Q29,Q43) -> 434744000 | R24: =+P24-Q24 -> 2000000 | S24: =+R24/Q24 -> 0.0046004085
D25: 621 이자수익 | P25: =P26 -> 100000 | Q25: =Q26 -> 100000 | R25: =+P25-Q25 -> 0 | S25: =+R25/Q25 -> 0
E26: 621-1 예금이자수익 | P26: =ROUNDUP(O27,-3) -> 100000 | Q26: =Q27 -> 100000 | R26: =+P26-Q26 -> 0 | S26: =+R26/Q26 -> 0
F27: ㅇ예금이자수익 | O27: =SUM(O28:O28) -> 100000 | P27: =P26 -> 100000 | Q27: 100000 | R27: =+P27-Q27 -> 0 | S27: =+R27/Q27 -> 0
F28: - 예금이자 | G28: 100000 | H28: × | I28: 1 | N28: = | O28: =G28*I28 -> 100000
D29: 623 보조금수익 | P29: =SUM(P30:P30) -> 252562000 | Q29: =SUM(Q30:Q30) -> 250562000 | R29: =+P29-Q29 -> 2000000 | S29: =+R29/Q29 -> 0.0079820563
E30: 623-1 국도시비보조금 | P30: =SUM(O31,O33,O35,O39,O41,O37) -> 252562000 | Q30: =Q31+Q33+Q35+Q39+Q41+Q37 -> 250562000 | R30: =+P30-Q30 -> 2000000 | S30: =+R30/Q30 -> 0.0079820563
F31: ㅇ청소년운영위원회 | O31: =SUM(O32:O32) -> 2000000 | P31: =O31 -> 2000000 | Q31: 2000000 | R31: =+P31-Q31 -> 0 | S31: =+R31/Q31 -> 0
F32: - 청소년운영위원회 | G32: 2000000 | H32: × | I32: 1 | N32: = | O32: =G32*I32 -> 2000000
F33: ㅇ공공청소년수련시설프로그램 | O33: =SUM(O34:O34) -> 2000000 | P33: =O33 -> 2000000 | Q33: 2000000 | R33: =+P33-Q33 -> 0 | S33: =+R33/Q33 -> 0
F34: - 공공청소년수련시설프로그램 | G34: 2000000 | H34: × | I34: 1 | N34: = | O34: =G34*I34 -> 2000000
F35: ㅇ청소년동아리활동지원사업 | O35: =SUM(O36:O36) -> 52500000 | P35: =O35 -> 52500000 | Q35: 52500000 | R35: =+P35-Q35 -> 0 | S35: =+R35/Q35 -> 0
F36: - 청소년동아리활동지원사업 | G36: 52500000 | H36: × | I36: 1 | N36: = | O36: =G36*I36 -> 52500000
F37: ㅇ경기도청소년활동공모사업 | O37: =SUM(O38:O38) -> 2000000 | P37: =O37 -> 2000000 | Q37: 0 | R37: =+P37-Q37 -> 2000000
F38: - 경기도청소년활동공모사업 | G38: 2000000 | H38: × | I38: 1 | N38: = | O38: =G38*I38 -> 2000000
F39: ㅇ방과후아카데미사업 | O39: =SUM(O40:O40) -> 168982000 | P39: =O39 -> 168982000 | Q39: 168982000 | R39: =+P39-Q39 -> 0 | S39: =+R39/Q39 -> 0
F40: - 방과후아카데미사업 | G40: 168982000 | H40: × | I40: 1 | N40: = | O40: =G40*I40 -> 168982000
F41: ㅇ청소년지도사배치지원사업 | O41: =SUM(O42:O42) -> 25080000 | P41: =O41 -> 25080000 | Q41: 25080000 | R41: =+P41-Q41 -> 0 | S41: =+R41/Q41 -> 0
F42: - 청소년지도사배치지원사업 | G42: 25080000 | H42: × | I42: 1 | N42: = | O42: =G42*I42 -> 25080000
D43: 625 출자출연금수익 | P43: =P44 -> 184082000 | Q43: =Q44 -> 184082000 | R43: =+P43-Q43 -> 0 | S43: =+R43/Q43 -> 0
E44: 625-2 지자체출자출연금 | P44: =ROUNDUP(O45,-3) -> 184082000 | Q44: =Q45 -> 184082000 | R44: =+P44-Q44 -> 0 | S44: =+R44/Q44 -> 0
F45: ㅇ고양시지원금 | O45: =SUM(O46:O46) -> 184082000 | P45: =O45 -> 184082000 | Q45: 184082000 | R45: =+P45-Q45 -> 0 | S45: =+R45/Q45 -> 0
F46: - 성사지원금 | G46: 184082000 | H46: × | I46: 1 | N46: = | O46: =G46 -> 184082000
B47: 100 자본적수입 | P47: =P48 -> 9739000 | Q47: =Q48 -> 9739000 | R47: =+P47-Q47 -> 0 | S47: =+R47/Q47 -> 0
C48: 170 자본잉여금수입 | P48: =P49 -> 9739000 | Q48: =Q49 -> 9739000 | R48: =+P48-Q48 -> 0 | S48: =+R48/Q48 -> 0
D49: 172 이월금 | P49: =SUM(P50) -> 9739000 | Q49: =SUM(Q50) -> 9739000 | R49: =+P49-Q49 -> 0 | S49: =+R49/Q49 -> 0
E50: 172-3 전년도이월사업비 | P50: =O51 -> 9739000 | Q50: =Q51 -> 9739000 | R50: =+P50-Q50 -> 0 | S50: =+R50/Q50 -> 0
F51: ㅇ전년도이월금 | O51: =SUM(O52) -> 9739000 | P51: =O51 -> 9739000 | Q51: 9739000 | R51: =+P51-Q51 -> 0 | S51: =+R51/Q51 -> 0
F52: - 전년도이월금 | G52: 9739000 | H52: × | I52: 1 | N52: = | O52: =G52 -> 9739000

Sheet 예산세입(탄현)
A1: 2019년 2차 추경 탄현청소년문화의집 세입예산서(안)
A2: [일반회계] | S2: (단위:천원)
A3: 예산과목 | G3: 산출내역 | P3: 추경예산 | Q3: 기정예산 | R3: 증감 | S3: 증감률
A4: 장 | B4: 관 | C4: 항 | D4: 목 | E4: 세목 | F4: 세세목
A5: 탄현청소년문화의집 | P5: =P6+P48 -> 225812000 | Q5: =Q6+Q48 -> 241613000 | R5: =+P5-Q5 -> -15801000 | S5: =+R5/Q5 -> -0.065397971
B6: 600 사업수익 | P6: =SUM(P7,P32) -> 210696000 | Q6: =SUM(Q7,Q32) -> 226497000 | R6: =+P6-Q6 -> -15801000 | S6: =+R6/Q6 -> -0.069762513
C7: 610 영업수익 | P7: =SUM(P8,P28) -> 90540000 | Q7: =SUM(Q8,Q28) -> 112400000 | R7: =+P7-Q7 -> -21860000 | S7: =+R7/Q7 -> -0.19448399
D8: 611 자체사업수익 | P8: =SUM(P9,P25) -> 89260000 | Q8: =SUM(Q9,Q25) -> 111120000 | R8: =+P8-Q8 -> -21860000 | S8: =+R8/Q8 -> -0.19672426
E9: 611-1 사업운영수익 | P9: =O10 -> 78760000 | Q9: =Q10 -> 101120000 | R9: =+P9-Q9 -> -22360000 | S9: =+R9/Q9 -> -0.22112342
F10: ㅇ교육활동프로그램 | O10: =SUM(O11:O24) -> 78760000 | P10: 101120000 | Q10: 101120000 | R10: =+P10-Q10 -> 0 | S10: =+R10/Q10 -> 0
F11: - 한자교실(청소년) | G11: 35000 | H11: × | I11: 12 | J11: × | K11: 12 | N11: = | O11: =G11*I11*K11 -> 5040000
F12: - 스크레칭 코딩(청소년) | G12: 40000 | H12: × | I12: 10 | J12: × | K12: 12 | N12: = | O12: =G12*I12*K12 -> 4800000
F13: - 영재과학교실(청소년) | G13: 30000 | H13: × | I13: 15 | J13: × | K13: 12 | N13: = | O13: =G13*I13*K13 -> 5400000
F14: - 드럼교실(청소년) | G14: 50000 | H14: × | I14: 6 | J14: × | K14: 12 | N14: = | O14: =G14*I14*K14 -> 3600000
F15: - 우크렐레(청소년) | G15: 40000 | H15: × | I15: 8 | J15: × | K15: 12 | N15: = | O15: =G15*I15*K15 -> 3840000
F16: - 교정필라테스(청소년) | G16: 45000 | H16: × | I16: 15 | J16: × | K16: 12 | N16: = | O16: =G16*I16*K16 -> 8100000
F17: - 발레(청소년) | G17: 40000 | H17: × | I17: 25 | J17: × | K17: 12 | N17: = | O17: =G17*I17*K17 -> 12000000
F18: - 청소년 방학특강(청소년) | G18: 2000 | H18: × | I18: 50 | J18: × | K18: 1 | N18: = | O18: =G18*I18*K18 -> 100000
F19: - 드럼교실(성인) | G19: 50000 | H19: × | I19: 6 | J19: × | K19: 12 | N19: = | O19: =G19*I19*K19 -> 3600000
F20: - 우크렐레(성인) | G20: 40000 | H20: × | I20: 6 | J20: × | K20: 12 | N20: = | O20: =G20*I20*K20 -> 2880000
F21: - 원어민 일본어교실(성인) | G21: 40000 | H21: × | I21: 5 | J21: × | K21: 12 | N21: = | O21: =G21*I21*K21 -> 2400000
F22: - 테라피요가(성인) | G22: 45000 | H22: × | I22: 25 | J22: × | K22: 12 | N22: = | O22: =G22*I22*K22 -> 13500000
... F24: - 발레피트니스(성인) | G24: 45000 | H24: × | I24: 10 | J24: × | K24: 12 | N24: = | O24: =G24*I24*K24 -> 5400000
E25: 611-2 참가금수익 | P25: =O26 -> 10500000 | Q25: =Q26 -> 10000000 | R25: =+P25-Q25 -> 500000 | S25: =+R25/Q25 -> 0.05
F26: ㅇ후기청소년 국제활동가 프로젝트 | O26: =O27 -> 10500000 | P26: =O26 -> 10500000 | Q26: 10000000 | R26: =+P26-Q26 -> 500000 | S26: =+R26/Q26 -> 0.05
F27: - 참가비 | G27: 1500000 | H27: × | I27: 7 | N27: = | O27: =G27*I27 -> 10500000
D28: 617 기타영업수익 | P28: =SUM(P29) -> 1280000 | Q28: =SUM(Q29) -> 1280000 | R28: =+P28-Q28 -> 0 | S28: =+R28/Q28 -> 0 | XFD28: =SUM(R28:XFC28) -> 0
E29: 617-1 시설사용료수익 | P29: =O30 -> 1280000 | Q29: =Q30 -> 1280000 | R29: =+P29-Q29 -> 0 | S29: =+R29/Q29 -> 0
F30: ㅇ대관수입 | O30: =SUM(O31:O31) -> 1280000 | P30: =O30 -> 1280000 | Q30: 1280000 | R30: =+P30-Q30 -> 0 | S30: =+R30/Q30 -> 0
F31: - 대관사용료 | G31: 320000 | H31: × | I31: 4 | N31: = | O31: =ROUNDUP(G31*I31,-3) -> 1280000
C32: 620 영업외수익 | P32: =SUM(P33,P37,P43) -> 120156000 | Q32: =SUM(Q33,Q37,Q43) -> 114097000 | R32: =+P32-Q32 -> 6059000 | S32: =+R32/Q32 -> 0.053103938
D33: 621 이자수익 | P33: =P34 -> 70000 | Q33: =Q34 -> 70000 | R33: =+P33-Q33 -> 0 | S33: =+R33/Q33 -> 0
E34: 621-1 예금이자수익 | P34: =O35 -> 70000 | Q34: =Q35 -> 70000 | R34: =+P34-Q34 -> 0 | S34: =+R34/Q34 -> 0
F35: ㅇ예금이자수익 | O35: =SUM(O36:O36) -> 70000 | P35: 70000 | Q35: 70000 | R35: =+P35-Q35 -> 0 | S35: =+R35/Q35 -> 0
F36: - 예금이자 | G36: 70000 | H36: × | I36: 1 | N36: = | O36: =G36*I36 -> 70000
D37: 623 보조금수익 | P37: =P38 -> 27080000 | Q37: =Q38 -> 27080000 | R37: =+P37-Q37 -> 0 | S37: =+R37/Q37 -> 0
E38: 623-1 국도시비보조금 | P38: =SUM(O39,O41) -> 27080000 | Q38: =Q39+Q41 -> 27080000 | R38: =+P38-Q38 -> 0 | S38: =+R38/Q38 -> 0
F39: ㅇ공공청소년수련시설프로그램 | O39: =SUM(O40) -> 2000000 | P39: =O39 -> 2000000 | Q39: 2000000 | R39: =+P39-Q39 -> 0 | S39: =+R39/Q39 -> 0
F40: - 공공청소년수련시설프로그램 | G40: 2000000 | H40: × | I40: 1 | N40: = | O40: =PRODUCT(G40:M40) -> 2000000
F41: ㅇ청소년배치지도사지원 | O41: =SUM(O42) -> 25080000 | P41: =O41 -> 25080000 | Q41: 25080000 | R41: =+P41-Q41 -> 0 | S41: =+R41/Q41 -> 0
F42: - 청소년지도사배치지원 | G42: 25080000 | H42: × | I42: 1 | N42: = | O42: =PRODUCT(G42:M42) -> 25080000
D43: 625 출자출연금수익 | P43: =P44 -> 93006000 | Q43: =Q44 -> 86947000 | R43: =+P43-Q43 -> 6059000 | S43: =+R43/Q43 -> 0.069686131
E44: 625-2 지자체출자출연금 | P44: =O45 -> 93006000 | Q44: =Q45 -> 86947000 | R44: =+P44-Q44 -> 6059000 | S44: =+R44/Q44 -> 0.069686131
F45: ㅇ고양시지원금 | O45: =SUM(O46:O47) -> 93006000 | P45: =O45 -> 93006000 | Q45: 86947000 | R45: =+P45-Q45 -> 6059000 | S45: =+R45/Q45 -> 0.069686131
F46: - 탄현지원금 | G46: 86947000 | H46: × | I46: 1 | N46: = | O46: =G46 -> 86947000
F47: - 재단지원금 | G47: 6059000 | H47: × | I47: 1 | N47: = | O47: =G47 -> 6059000
B48: 100 자본적수입 | P48: =P49 -> 15116000 | Q48: =Q49 -> 15116000 | R48: =+P48-Q48 -> 0 | S48: =+R48/Q48 -> 0
C49: 170 자본잉여금수입 | P49: =P50 -> 15116000 | Q49: =Q50 -> 15116000 | R49: =+P49-Q49 -> 0 | S49: =+R49/Q49 -> 0
D50: 172 이월금 | P50: =SUM(P51) -> 15116000 | Q50: =SUM(Q51) -> 15116000 | R50: =+P50-Q50 -> 0 | S50: =+R50/Q50 -> 0
E51: 172-3 전년도이월사업비 | P51: =O52 -> 15116000 | Q51: =Q52 -> 15116000 | R51: =+P51-Q51 -> 0 | S51: =+R51/Q51 -> 0
F52: ㅇ전년도이월금 | O52: =SUM(O53) -> 15116000 | P52: =O52 -> 15116000 | Q52: 15116000 | R52: =+P52-Q52 -> 0 | S52: =+R52/Q52 -> 0
F53: - 전년도이월금 | G53: 15116000 | H53: × | I53: 1 | N53: = | O53: =G53 -> 15116000

Sheet 예산세입(주교)
A1: 2019년 2차 추경 주교동청소년카페 세입예산서(안)
A2: [일반회계] | S2: (단위:천원)
A3: 예산과목 | G3: 산출내역 | P3: 추경예산 | Q3: 기정예산 | R3: 증감 | S3: 증감률
A4: 장 | B4: 관 | C4: 항 | D4: 목 | E4: 세목 | F4: 세세목
A5: 주교동청소년카페 | P5: =P6+P23 -> 37449000 | Q5: =Q6+Q23 -> 36969000 | R5: =P5-Q5 -> 480000 | S5: =+R5/Q5 -> 0.012983851 | U5: 16051000 | W5: =P5-U5 -> 21398000
B6: 600 사업수익 | P6: =SUM(P7,P12) -> 36293000 | Q6: =SUM(Q7,Q12) -> 35813000 | R6: =P6-Q6 -> 480000 | S6: =+R6/Q6 -> 0.013402954
C7: 610 영업수익 | P7: =P8 -> 480000 | Q7: =Q8 -> 0 | R7: =P7-Q7 -> 480000
D8: 611 자체사업수익 | P8: =P9 -> 480000 | Q8: =Q9 -> 0 | R8: =P8-Q8 -> 480000
E9: 611-2 참가금수익 | P9: =ROUNDUP(O10,-3) -> 480000 | Q9: =Q10 -> 0 | R9: =P9-Q9 -> 480000
F10: ㅇ청소년카페 쿡뜰 운영 | O10: =O11 -> 480000 | P10: =O10 -> 480000 | Q10: 0 | R10: =P10-Q10 -> 480000
F11: - 쿡뜰 이용료 | G11: 2000 | H11: × | I11: 5 | J11: × | K11: 8 | L11: × | M11: 6 | N11: = | O11: =G11*I11*K11*M11 -> 480000
C12: 620 영업외수익 | P12: =P13+P18+P17 -> 35813000 | Q12: =Q13+Q18+Q17 -> 35813000 | R12: =P12-Q12 -> 0 | S12: =+R12/Q12 -> 0
D13: 621 이자수익 | P13: =P14 -> 10000 | Q13: =Q14 -> 10000 | R13: =P13-Q13 -> 0 | S13: =+R13/Q13 -> 0
E14: 621-1 예금이자수익 | P14: =ROUNDUP(O15,-3) -> 10000 | Q14: =Q15 -> 10000 | R14: =P14-Q14 -> 0 | S14: =+R14/Q14 -> 0
F15: ㅇ예금이자수익 | O15: =SUM(O16:O16) -> 10000 | P15: 10000 | Q15: 10000 | R15: =P15-Q15 -> 0 | S15: =+R15/Q15 -> 0
F16: - 예금이자 | G16: 10000 | H16: × | I16: 1 | N16: = | O16: =G16*I16 -> 10000
D17: 623 보조금수익 | P17: 0 | Q17: 0 | R17: =P17-Q17 -> 0
D18: 625 출자출연금수익 | P18: =P19 -> 35803000 | Q18: =Q19 -> 35803000 | R18: =P18-Q18 -> 0 | S18: =+R18/Q18 -> 0
E19: 625-2 지자체출자출연금 | P19: =ROUNDUP(O20,-3) -> 35803000 | Q19: =Q20 -> 35803000 | R19: =P19-Q19 -> 0 | S19: =+R19/Q19 -> 0
F20: ㅇ고양시지원금 | O20: =SUM(O21:O22) -> 35803000 | P20: =O20 -> 35803000 | Q20: 35803000 | R20: =P20-Q20 -> 0 | S20: =+R20/Q20 -> 0
F21: - 주교지원금 | G21: 16041000 | H21: × | I21: 1 | N21: = | O21: =G21 -> 16041000
F22: - 재단지원금 | G22: 19762000 | H22: × | I22: 1 | N22: = | O22: =G22*I22 -> 19762000
B23: 100 자본적수입 | P23: =P24 -> 1156000 | Q23: =Q24 -> 1156000 | R23: =P23-Q23 -> 0 | S23: =+R23/Q23 -> 0
C24: 170 자본잉여금수입 | P24: =P25 -> 1156000 | Q24: =Q25 -> 1156000 | R24: =P24-Q24 -> 0 | S24: =+R24/Q24 -> 0
D25: 172 이월금 | P25: =SUM(P26) -> 1156000 | Q25: =SUM(Q26) -> 1156000 | R25: =P25-Q25 -> 0 | S25: =+R25/Q25 -> 0
E26: 172-3 전년도이월사업비 | P26: =O27 -> 1156000 | Q26: =Q27 -> 1156000 | R26: =P26-Q26 -> 0 | S26: =+R26/Q26 -> 0
F27: ㅇ전년도이월금 | O27: =SUM(O28) -> 1156000 | P27: =P26 -> 1156000 | Q27: 1156000 | R27: =P27-Q27 -> 0 | S27: =+R27/Q27 -> 0
F28: - 2018년도사업비이월금 | G28: 1156000 | H28: × | I28: 1 | N28: = | O28: =G28*I28 -> 1156000

Sheet 예산세입(일산서구)
A1: 2019년 2차 추경 일산서구청소년수련관 세입예산서(안)
A2: [일반회계] | S2: (단위:천원)
A3: 예산과목 | G3: 산출내역 | P3: 추경예산 | Q3: 기정예산 | R3: 증감 | S3: 증감률
A4: 장 | B4: 관 | C4: 항 | D4: 목 | E4: 세목 | F4: 세세목
A5: 일산서구청소년수련관 | P5: =P6 -> 944153000 | Q5: =Q6 -> 1048085000 | R5: =+P5-Q5 -> -103932000 | S5: =+R5/Q5 -> -0.099163713
B6: 600 사업수익 | P6: =SUM(P7,P57,P75) -> 944153000 | Q6: =SUM(Q7,Q57,Q75) -> 1048085000 | R6: =+P6-Q6 -> -103932000 | S6: =+R6/Q6 -> -0.099163713
C7: 610 영업수익 | P7: =SUM(P8,P46,P53) -> 355947000 | Q7: =SUM(Q8,Q46,Q53) -> 440447000 | R7: =+P7-Q7 -> -84500000 | S7: =+R7/Q7 -> -0.19185055 | U7: 914627000
D8: 611 자체사업수익 | P8: =P9+P41 -> 270444000 | Q8: =Q9+Q41 -> 354944000 | R8: =+P8-Q8 -> -84500000 | S8: =+R8/Q8 -> -0.23806572
E9: 611-1 사업운영수익 | P9: =O10+O16+O20+O26+O29+O33 -> 269544000 | Q9: =SUM(Q10,Q16,Q20,Q26,Q29,Q33) -> 269544000 | R9: =+P9-Q9 -> 0 | S9: =+R9/Q9 -> 0
F10: ㅇ생활체육프로그램(성인) | O10: =SUM(O11:O15) -> 87300000 | P10: =O10 -> 87300000 | Q10: 87300000 | R10: =+P10-Q10 -> 0 | S10: =+R10/Q10 -> 0
F11: - 줌바댄스 | G11: 35000 | H11: × | I11: 15 | J11: × | K11: 4 | L11: × | M11: 12 | N11: = | O11: =G11*I11*K11*M11 -> 25200000
F12: - 요가 | G12: 30000 | H12: × | I12: 15 | J12: × | K12: 3 | L12: × | M12: 12 | N12: = | O12: =G12*I12*K12*M12 -> 16200000 | U12: =P5-U7 -> 29526000
F13: - 필라테스 | G13: 35000 | H13: × | I13: 15 | J13: × | K13: 3 | L13: × | M13: 12 | N13: = | O13: =G13*I13*K13*M13 -> 18900000
F14: - 클라이밍(월수금) | G14: 40000 | H14: × | I14: 10 | J14: × | K14: 3 | L14: × | M14: 12 | N14: = | O14: =G14*I14*K14*M14 -> 14400000
F15: - 클라이밍(화목) | G15: 35000 | H15: × | I15: 10 | J15: × | K15: 3 | L15: × | M15: 12 | N15: = | O15: =G15*I15*K15*M15 -> 12600000
F16: ㅇ요리프로그램(성인) | O16: =SUM(O17:O19) -> 15120000 | P16: =O16 -> 15120000 | Q16: 15120000 | R16: =+P16-Q16 -> 0 | S16: =+R16/Q16 -> 0
F17: - 요리프로그램 | G17: 42000 | H17: × | I17: 10 | J17: × | K17: 1 | L17: × | M17: 12 | N17: = | O17: =G17*I17*K17*M17 -> 5040000
F18: - 제과프로그램 | G18: 42000 | H18: × | I18: 10 | J18: × | K18: 1 | L18: × | M18: 12 | N18: = | O18: =G18*I18*K18*M18 -> 5040000
F19: - 제빵프로그램 | G19: 42000 | H19: × | I19: 10 | J19: × | K19: 1 | L19: × | M19: 12 | N19: = | O19: =G19*I19*K19*M19 -> 5040000
F20: ㅇ생활체육프로그램(청소년) | O20: =SUM(O21:O25) -> 48456000 | P20: =O20 -> 48456000 | Q20: 48456000 | R20: =+P20-Q20 -> 0 | S20: =+R20/Q20 -> 0
F21: - 음악줄넘기(초등학생) | G21: 32000 | H21: × | I21: 14 | J21: × | K21: 2 | L21: × | M21: 12 | N21: = | O21: =G21*I21*K21*M21 -> 10752000
F22: - 요가 | G22: 22000 | H22: × | I22: 14 | J22: × | K22: 2 | L22: × | M22: 12 | N22: = | O22: =G22*I22*K22*M22 -> 7392000
F23: - 필라테스 | G23: 27000 | H23: × | I23: 14 | J23: × | K23: 2 | L23: × | M23: 12 | N23: = | O23: =G23*I23*K23*M23 -> 9072000
F24: - 클라이밍(월수금) | G24: 32000 | H24: × | I24: 10 | J24: × | K24: 3 | L24: × | M24: 12 | N24: = | O24: =G24*I24*K24*M24 -> 11520000
F25: - 클라이밍(화목) | G25: 27000 | H25: × | I25: 10 | J25: × | K25: 3 | L25: × | M25: 12 | N25: = | O25: =G25*I25*K25*M25 -> 9720000 | U25: =O56-U12 -> 54474000
F26: ㅇ교육문화프로그램(청소년) | O26: =SUM(O27:O28) -> 36600000 | P26: =O26 -> 36600000 | Q26: 36600000 | R26: =+P26-Q26 -> 0 | S26: =+R26/Q26 -> 0
F27: - 통기타 | G27: 27000 | H27: × | I27: 10 | J27: × | K27: 3 | L27: × | M27: 12 | N27: = | O27: =G27*I27*K27*M27 -> 9720000
F28: - 신규프로그램 5개 | G28: 32000 | H28: × | I28: 7 | J28: × | K28: 10 | L28: × | M28: 12 | N28: = | O28: =G28*I28*K28*M28 -> 26880000
F29: ㅇ요리프로그램(청소년) | O29: =SUM(O30:O32) -> 15120000 | P29: =O29 -> 15120000 | Q29: 15120000 | R29: =+P29-Q29 -> 0 | S29: =+R29/Q29 -> 0
F30: - 요리프로젝트 | G30: 42000 | H30: × | I30: 10 | J30: × | K30: 1 | L30: × | M30: 12 | N30: = | O30: =G30*I30*K30*M30 -> 5040000
F31: - 제과프로젝트 | G31: 42000 | H31: × | I31: 10 | J31: × | K31: 1 | L31: × | M31: 12 | N31: = | O31: =G31*I31*K31*M31 -> 5040000
F32: - 제빵프로젝트 | G32: 42000 | H32: × | I32: 10 | J32: × | K32: 1 | L32: × | M32: 12 | N32: = | O32: =G32*I32*K32*M32 -> 5040000
F33: ㅇ토요일 프로그램(청소년) | O33: =SUM(O34:O40) -> 66948000 | P33: =O33 -> 66948000 | Q33: 66948000 | R33: =+P33-Q33 -> 0 | S33: =+R33/Q33 -> 0
F34: - 방송댄스 | G34: 32000 | H34: × | I34: 10 | J34: × | K34: 2 | L34: × | M34: 12 | N34: = | O34: =G34*I34*K34*M34 -> 7680000
F35: - 요가 | G35: 17000 | H35: × | I35: 10 | J35: × | K35: 3 | L35: × | M35: 12 | N35: = | O35: =G35*I35*K35*M35 -> 6120000
F36: - 필라테스 | G36: 22000 | H36: × | I36: 10 | J36: × | K36: 3 | L36: × | M36: 12 | N36: = | O36: =G36*I36*K36*M36 -> 7920000
F37: - 클라이밍 | G37: 22000 | H37: × | I37: 7 | J37: × | K37: 7 | L37: × | M37: 12 | N37: = | O37: =G37*I37*K37*M37 -> 12936000
F38: - 우쿠렐레 | G38: 32000 | H38: × | I38: 7 | J38: × | K38: 3 | L38: × | M38: 12 | N38: = | O38: =G38*I38*K38*M38 -> 8064000
F39: - 캘리그라피 | G39: 27000 | H39: × | I39: 7 | J39: × | K39: 3 | L39: × | M39: 12 | N39: = | O39: =G39*I39*K39*M39 -> 6804000
F40: - 신규프로그램 3개 | G40: 22000 | H40: × | I40: 11 | J40: × | K40: 6 | L40: × | M40: 12 | N40: = | O40: =G40*I40*K40*M40 -> 17424000
E41: 611-2 참가금수익 | P41: =SUM(P42:P45) -> 900000 | Q41: =SUM(Q42:Q45) -> 85400000 | R41: =+P41-Q41 -> -84500000 | S41: =+R41/Q41 -> -0.98946136
F42: ㅇ예비 청소년지도사 실습 지원 | G42: 100000 | H42: × | I42: 4 | N42: = | O42: =+I42*G42 -> 400000 | P42: =O42 -> 400000 | Q42: 400000 | R42: =+P42-Q42 -> 0 | S42: =+R42/Q42 -> 0
F43: ㅇ가족 소통 개선 프로젝트 | G43: 50000 | H43: × | I43: 10 | N43: = | O43: =+I43*G43 -> 500000 | P43: =O43 -> 500000 | Q43: 500000 | R43: =+P43-Q43 -> 0 | S43: =+R43/Q43 -> 0
F44: ㅇ포용적 세계시민 양성 사업 | O44: 0 | P44: =O44 -> 0 | Q44: 80000000 | R44: =+P44-Q44 -> -80000000 | S44: =+R44/Q44 -> -1 | U44: 914627000
F45: ㅇ학교 연계 교육활동프로그램 | O45: 0 | P45: =O45 -> 0 | Q45: 4500000 | R45: =+P45-Q45 -> -4500000 | S45: =+R45/Q45 -> -1
D46: 617 기타영업수익 | P46: =P47+P50 -> 1503000 | Q46: =Q47+Q50 -> 1503000 | R46: =+P46-Q46 -> 0 | S46: =+R46/Q46 -> 0
E47: 617-1 시설사용료수익 | P47: =O48 -> 1224000 | Q47: =Q48 -> 1224000 | R47: =+P47-Q47 -> 0 | S47: =+R47/Q47 -> 0
F48: ㅇ대관수입 | O48: =SUM(O49:O49) -> 1224000 | P48: =O48 -> 1224000 | Q48: 1224000 | R48: =+P48-Q48 -> 0 | S48: =+R48/Q48 -> 0 | U48: 89156000 | AB48: 3714.8333
F49: - 대관사용료 | G49: 102000 | H49: × | I49: 1 | J49: × | K49: 12 | N49: = | O49: =ROUNDUP(G49*I49*K49,-3) -> 1224000
E50: 617-3 기타수수료수입 | P50: =O51 -> 279000 | Q50: =Q51 -> 279000 | R50: =+P50-Q50 -> 0 | S50: =+R50/Q50 -> 0
F51: ㅇ부가가치세 환급액 | O51: =SUM(O52:O52) -> 279000 | P51: =O51 -> 279000 | Q51: 279000 | R51: =+P51-Q51 -> 0 | S51: =+R51/Q51 -> 0
F52: - 부가가치세 환급액 | G52: 278650 | H52: × | I52: 1 | N52: = | O52: =ROUNDUP(G52*I52,-3) -> 279000
D53: 618 판매수익 | P53: =P54 -> 84000000 | Q53: =Q54 -> 84000000 | R53: =+P53-Q53 -> 0 | S53: =+R53/Q53 -> 0 | U53: =O49-U12 -> -28302000
E54: 618-1 상품판매수익 | P54: =O55 -> 84000000 | Q54: =Q55 -> 84000000 | R54: =+P54-Q54 -> 0 | S54: =+R54/Q54 -> 0
F55: ㅇ카페운영 | O55: =SUM(O56:O56) -> 84000000 | P55: =O55 -> 84000000 | Q55: 84000000 | R55: =+P55-Q55 -> 0 | S55: =+R55/Q55 -> 0 | U55: =U53/12 -> -2358500
F56: - 판매수입 | G56: 3500 | H56: × | I56: 80 | J56: × | K56: 25 | L56: × | M56: 12 | N56: = | O56: =ROUNDUP(G56*I56*K56*M56,-3) -> 84000000
C57: 620 영업외수익 | P57: =SUM(P58,P62,P71) -> 569405000 | Q57: =SUM(Q58,Q62,Q71) -> 588837000 | R57: =+P57-Q57 -> -19432000 | S57: =+R57/Q57 -> -0.033000644
D58: 621 이자수익 | P58: =P59 -> 233000 | Q58: =Q59 -> 233000 | R58: =+P58-Q58 -> 0 | S58: =+R58/Q58 -> 0
E59: 621-1 예금이자수익 | P59: =O60 -> 233000 | Q59: =Q60 -> 233000 | R59: =+P59-Q59 -> 0 | S59: =+R59/Q59 -> 0
F60: ㅇ예금이자수익 | O60: =SUM(O61:O61) -> 233000 | P60: 233000 | Q60: 233000 | R60: =+P60-Q60 -> 0 | S60: =+R60/Q60 -> 0
F61: - 예금이자 | G61: 233000 | H61: × | I61: 1 | N61: = | O61: =G61*I61 -> 233000
D62: 623 보조금수익 | P62: =P63+P68 -> 145770000 | Q62: =Q63+Q68 -> 165202000 | R62: =+P62-Q62 -> -19432000 | S62: =+R62/Q62 -> -0.11762569
E63: 623-1 국도시비보조금 | P63: =O64+O66 -> 140070000 | Q63: =Q64 -> 159502000 | R63: =+P63-Q63 -> -19432000 | S63: =+R63/Q63 -> -0.12182919
F64: ㅇ방과후아카데미 | O64: =SUM(O65:O65) -> 89825000 | P64: =O64 -> 89825000 | Q64: 159502000 | R64: =+P64-Q64 -> -69677000 | S64: =+R64/Q64 -> -0.43684092
F65: - 방과후아카데미사업비 | G65: 89825000 | H65: × | I65: 1 | N65: = | O65: =G65*I65 -> 89825000
F66: ㅇ방과후아카데미(개소지원) | O66: =SUM(O67:O67) -> 50245000 | P66: =O66 -> 50245000 | Q66: 0 | R66: =+P66-Q66 -> 50245000
F67: - 방과후아카데미사업비(개소지원) | G67: 50245000 | H67: × | I67: 1 | N67: = | O67: =G67*I67 -> 50245000
E68: 623-3 기타보조금 | P68: =O69 -> 5700000 | Q68: =Q69 -> 5700000 | R68: =+P68-Q68 -> 0 | S68: =+R68/Q68 -> 0
F69: ㅇ공모사업금 | O69: =+O70 -> 5700000 | P69: =O69 -> 5700000 | Q69: 5700000 | R69: =+P69-Q69 -> 0 | S69: =+R69/Q69 -> 0
F70: - 사랑의 교실 | G70: 1900000 | H70: × | I70: 3 | N70: = | O70: =G70*I70 -> 5700000
D71: 625 출자출연금수익 | P71: =P72 -> 423402000 | Q71: 423402000 | R71: =+P71-Q71 -> 0 | S71: =+R71/Q71 -> 0
E72: 625-2 지자체출자출연금 | P72: =O73 -> 423402000 | Q72: =Q73 -> 423402000 | R72: =+P72-Q72 -> 0 | S72: =+R72/Q72 -> 0
F73: ㅇ고양시지원금 | O73: =SUM(O74:O75) -> 423402000 | P73: =O73 -> 423402000 | Q73: 423402000 | R73: =+P73-Q73 -> 0 | S73: =+R73/Q73 -> 0
F74: - 일산서구지원금 | G74: 423402000 | H74: × | I74: 1 | N74: = | O74: =G74*I74 -> 423402000
B75: 100 자본적수입 | P75: =P76 -> 18801000 | Q75: =Q76 -> 18801000 | R75: =+P75-Q75 -> 0 | S75: =+R75/Q75 -> 0
C76: 170 자본잉여금수입 | P76: =P77 -> 18801000 | Q76: =Q77 -> 18801000 | R76: =+P76-Q76 -> 0 | S76: =+R76/Q76 -> 0
D77: 172 이월금 | P77: =P78 -> 18801000 | Q77: =Q78 -> 18801000 | R77: =+P77-Q77 -> 0 | S77: =+R77/Q77 -> 0
E78: 172-3 전년도이월사업비 | P78: =O79 -> 18801000 | Q78: =Q79 -> 18801000 | R78: =+P78-Q78 -> 0 | S78: =+R78/Q78 -> 0
F79: ㅇ전년도이월금 | O79: =O80 -> 18801000 | P79: =O79 -> 18801000 | Q79: 18801000 | R79: =+P79-Q79 -> 0 | S79: =+R79/Q79 -> 0
F80: - 이월금 | G80: 18801000 | H80: × | I80: 1 | N80: = | O80: =G80*I80 -> 18801000

Sheet 예산세입(토당)
A1: 2019년 2차 추경 토당청소년수련관 세입예산서(안)
A2: [일반회계] | S2: (단위:천원)
A3: 예산과목 | G3: 산출내역 | P3: 추경예산 | Q3: 기정예산 | R3: 증감 | S3: 증감률
A4: 장 | B4: 관 | C4: 항 | D4: 목 | E4: 세목 | F4: 세세목
A5: 토당청소년수련관 | P5: =P6+P103 -> 2059049000 | Q5: =Q6+Q103 -> 1933404000 | R5: =P5-Q5 -> 125645000 | S5: =+R5/Q5 -> 0.064986418
B6: 600 사업수익 | P6: =SUM(P7,P72) -> 1959474000 | Q6: =SUM(Q7,Q72) -> 1907254000 | R6: =P6-Q6 -> 52220000 | S6: =+R6/Q6 -> 0.027379678
C7: 610 영업수익 | P7: =P8+P60+P64 -> 741828000 | Q7: =Q8+Q60+Q64 -> 741828000 | R7: =P7-Q7 -> 0 | S7: =+R7/Q7 -> 0
D8: 611 자체사업수익 | P8: =SUM(P9+P45) -> 650000000 | Q8: =SUM(Q9+Q45) -> 650000000 | R8: =P8-Q8 -> 0 | S8: =+R8/Q8 -> 0
E9: 611-1 사업운영수익 | P9: =ROUNDUP((O10),-3) -> 430240000 | Q9: 430240000 | R9: =P9-Q9 -> 0 | S9: =+R9/Q9 -> 0
F10: ㅇ교육문화프로그램 | O10: =SUM(O11:O44) -> 430240000 | P10: =O10 -> 430240000 | Q10: 430240000 | R10: =P10-Q10 -> 0 | S10: =+R10/Q10 -> 0
F11: - SNPE바른자세척추운동 | G11: 700000 | H11: × | I11: 12 | N11: = | O11: =ROUNDUP(PRODUCT(G11*I11),-3) -> 8400000
F12: - 캘리그라피&서예 | G12: 200000 | H12: × | I12: 12 | N12: = | O12: =ROUNDUP(PRODUCT(G12*I12),-3) -> 2400000
F13: - 풍물 | G13: 240000 | H13: × | I13: 12 | N13: = | O13: =ROUNDUP(PRODUCT(G13*I13),-3) -> 2880000
F14: - 종이접기 | G14: 200000 | H14: × | I14: 12 | N14: = | O14: =ROUNDUP(PRODUCT(G14*I14),-3) -> 2400000
F15: - 또래체험 역사 | G15: 200000 | H15: × | I15: 12 | N15: = | O15: =ROUNDUP(PRODUCT(G15*I15),-3) -> 2400000
F16: - 코딩 | G16: 500000 | H16: × | I16: 12 | N16: = | O16: =ROUNDUP(PRODUCT(G16*I16),-3) -> 6000000
F17: - 방송댄스 | G17: 500000 | H17: × | I17: 12 | N17: = | O17: =ROUNDUP(PRODUCT(G17*I17),-3) -> 6000000
F18: - 도예 | G18: 650000 | H18: × | I18: 12 | N18: = | O18: =ROUNDUP(PRODUCT(G18*I18),-3) -> 7800000
F19: - 피아노 | G19: 3800000 | H19: × | I19: 12 | N19: = | O19: =ROUNDUP(PRODUCT(G19*I19),-3) -> 45600000
F20: - 통기타,클레식기타,우크렐레 | G20: 600000 | H20: × | I20: 12 | N20: = | O20: =ROUNDUP(PRODUCT(G20*I20),-3) -> 7200000
F21: - 바이올린 | G21: 600000 | H21: × | I21: 12 | N21: = | O21: =ROUNDUP(PRODUCT(G21*I21),-3) -> 7200000
F22: - 보컬트레이닝 | G22: 100000 | H22: × | I22: 12 | N22: = | O22: =ROUNDUP(PRODUCT(G22*I22),-3) -> 1200000
... F44: - 방학특강 | G44: 3000000 | H44: × | I44: 2 | N44: = | O44: =ROUNDUP(PRODUCT(G44*I44),-3) -> 6000000
E45: 611-2 참가금수익 | P45: =SUM(P46:P59) -> 219760000 | Q45: 219760000 | R45: =P45-Q45 -> 0 | S45: =+R45/Q45 -> 0
F46: ㅇ바우처연계사업 | G46: 36000 | H46: × | I46: 5 | J46: × | K46: 12 | N46: = | O46: =ROUNDUP(PRODUCT(G46:M46),-3) -> 2160000 | P46: =O46 -> 2160000 | Q46: 2160000 | R46: =P46-Q46 -> 0 | S46: =+R46/Q46 -> 0
F47: ㅇ청소년연합워크숍 | G47: 2000000 | H47: × | I47: 1 | N47: = | O47: =ROUNDUP(PRODUCT(G47:M47),-3) -> 2000000 | P47: =O47 -> 2000000 | Q47: 2000000 | R47: =P47-Q47 -> 0 | S47: =+R47/Q47 -> 0
F48: ㅇ청소년권리증진사업 | G48: 2000000 | H48: × | I48: 1 | N48: = | O48: =ROUNDUP(PRODUCT(G48:M48),-3) -> 2000000 | P48: =O48 -> 2000000 | Q48: 2000000 | R48: =P48-Q48 -> 0 | S48: =+R48/Q48 -> 0
F49: ㅇ고3 수험생프로그램 | G49: 10000 | H49: × | I49: 2840 | N49: = | O49: =ROUNDUP(PRODUCT(G49:M49),-3) -> 28400000 | P49: =O49 -> 28400000 | Q49: 30000000 | R49: =P49-Q49 -> -1600000 | S49: =+R49/Q49 -> -0.053333333
F50: ㅇ청소년지도사실습 | G50: 60000 | H50: × | I50: 20 | N50: = | O50: =ROUNDUP(PRODUCT(G50:M50),-3) -> 1200000 | P50: =O50 -> 1200000 | Q50: 1200000 | R50: =P50-Q50 -> 0 | S50: =+R50/Q50 -> 0
F51: ㅇ꿈터예술제 | G51: 40000 | H51: × | I51: 60 | N51: = | O51: =ROUNDUP(PRODUCT(G51:M51),-3) -> 2400000 | P51: =O51 -> 2400000 | Q51: 2400000 | R51: =P51-Q51 -> 0 | S51: =+R51/Q51 -> 0
F52: ㅇ창의적체험활동 | G52: 2000000 | H52: × | I52: 1 | N52: = | O52: =ROUNDUP(PRODUCT(G52:M52),-3) -> 2000000 | P52: =O52 -> 2000000 | Q52: 2000000 | R52: =P52-Q52 -> 0 | S52: =+R52/Q52 -> 0
F53: ㅇ자유학년제프로그램 | G53: 10000 | H53: × | I53: 2000 | N53: = | O53: =ROUNDUP(PRODUCT(G53:M53),-3) -> 20000000 | P53: =O53 -> 20000000 | Q53: 20000000 | R53: =P53-Q53 -> 0 | S53: =+R53/Q53 -> 0
F54: ㅇ청소년안전특화사업 | G54: 129870000 | H54: × | I54: 1 | N54: = | O54: =ROUNDUP(PRODUCT(G54:M54),-3) -> 129870000 | P54: =O54 -> 129870000 | Q54: 140000000 | R54: =P54-Q54 -> -10130000 | S54: =+R54/Q54 -> -0.072357143
F55: ㅇ청소년인성교육사업 | G55: 10000 | H55: × | I55: 200 | N55: = | O55: =ROUNDUP(PRODUCT(G55:M55),-3) -> 2000000 | P55: =O55 -> 2000000 | Q55: 2000000 | R55: =P55-Q55 -> 0 | S55: =+R55/Q55 -> 0
F56: ㅇ국제교류사업 | G56: 800000 | H56: × | I56: 20 | N56: = | O56: =ROUNDUP(PRODUCT(G56:M56),-3) -> 16000000 | P56: =O56 -> 16000000 | Q56: 16000000 | R56: =P56-Q56 -> 0 | S56: =+R56/Q56 -> 0
F57: ㅇ청소년 농구대회 | G57: 1600000 | H57: × | I57: 1 | N57: = | O57: =ROUNDUP(PRODUCT(G57:M57),-3) -> 1600000 | P57: =O57 -> 1600000 | Q57: 0
F58: ㅇ특별교육 | G58: 2000000 | H58: × | I58: 4 | N58: = | O58: =ROUNDUP(PRODUCT(G58:M58),-3) -> 8000000 | P58: =O58 -> 8000000 | Q58: 0
F59: ㅇ캠핑안전스쿨 | G59: 2130000 | H59: × | I59: 1 | N59: = | O59: =ROUNDUP(PRODUCT(G59:M59),-3) -> 2130000 | P59: =O59 -> 2130000 | Q59: 0
D60: 617 기타영업수익 | P60: =SUM(P61) -> 19960000 | Q60: =SUM(Q61) -> 19960000 | R60: =P60-Q60 -> 0 | S60: =+R60/Q60 -> 0
E61: 617-1 시설사용료수익 | P61: =ROUNDUP(O62,-3) -> 19960000 | Q61: =Q62 -> 19960000 | R61: =P61-Q61 -> 0 | S61: =+R61/Q61 -> 0
F62: ㅇ대관수입 | O62: =SUM(O63:O63) -> 19960000 | P62: =O62 -> 19960000 | Q62: 19960000 | R62: =P62-Q62 -> 0 | S62: =+R62/Q62 -> 0
F63: - 대관사용료 | G63: 19960000 | H63: × | I63: 1 | N63: = | O63: =G63*I63 -> 19960000
D64: 618 판매수익 | P64: =P65 -> 71868000 | Q64: =SUM(Q65) -> 71868000 | R64: =P64-Q64 -> 0 | S64: =+R64/Q64 -> 0
E65: 618-2 기타판매수익 | P65: =O66+O70 -> 71868000 | Q65: =SUM(Q66,Q70) -> 71868000 | R65: =P65-Q65 -> 0 | S65: =+R65/Q65 -> 0
F66: ㅇ토당행복식당 | O66: =SUM(O67:O69) -> 56868000 | P66: =O66 -> 56868000 | Q66: 56868000 | R66: =P66-Q66 -> 0 | S66: =+R66/Q66 -> 0
F67: - 방과후청소년 | G67: 3300 | H67: × | I67: 40 | J67: × | K67: 249 | N67: = | O67: =G67*I67*K67 -> 32868000
F68: - 수련관직원 | G68: 80000 | H68: × | I68: 20 | J68: × | K68: 12 | N68: = | O68: =G68*I68*K68 -> 19200000
F69: - 직원외급식 | G69: 80000 | H69: × | I69: 5 | J69: × | K69: 12 | N69: = | O69: =G69*I69*K69 -> 4800000
F70: ㅇ음료판매수입 | O70: =SUM(O71:O71) -> 15000000 | P70: =O70 -> 15000000 | Q70: 15000000 | R70: =P70-Q70 -> 0 | S70: =+R70/Q70 -> 0
F71: - 판매수입 | G71: 15000000 | H71: × | I71: 1 | N71: = | O71: =G71*I71 -> 15000000
C72: 620 영업외수익 | P72: =SUM(P73,P77,P99) -> 1217646000 | Q72: =SUM(Q73,Q77,Q99) -> 1165426000 | R72: =P72-Q72 -> 52220000 | S72: =+R72/Q72 -> 0.04480765
D73: 621 이자수익 | P73: =P74 -> 500000 | Q73: =Q74 -> 500000 | R73: =P73-Q73 -> 0 | S73: =+R73/Q73 -> 0
E74: 621-1 예금이자수익 | P74: =ROUNDUP(O75,-3) -> 500000 | Q74: =SUM(Q75) -> 500000 | R74: =P74-Q74 -> 0 | S74: =+R74/Q74 -> 0
F75: ㅇ예금이자수익 | O75: =SUM(O76:O76) -> 500000 | P75: 500000 | Q75: 500000 | R75: =P75-Q75 -> 0 | S75: =+R75/Q75 -> 0
F76: - 예금이자 | G76: 500000 | H76: × | I76: 1 | N76: = | O76: =G76*I76 -> 500000
D77: 623 보조금수익 | P77: =P78+P94+P89 -> 1167146000 | Q77: =Q78+Q94 -> 1114926000 | R77: =P77-Q77 -> 52220000 | S77: =+R77/Q77 -> 0.046837189
E78: 623-1 국도시비보조금 | P78: =O79+O81+O83+O85+O87 -> 1119026000 | Q78: =Q79+Q81+Q83+Q85+Q87 -> 1114926000 | R78: =P78-Q78 -> 4100000 | S78: =+R78/Q78 -> 0.0036773741
F79: ㅇ고양시위탁보조금 | O79: =SUM(O80:O80) -> 931104000 | P79: =O79 -> 931104000 | Q79: 931104000 | R79: =P79-Q79 -> 0 | S79: =+R79/Q79 -> 0
F80: - 토당지원금 | G80: 931104000 | H80: × | I80: 1 | N80: = | O80: =G80*I80 -> 931104000
F81: ㅇ방과후아카데미 | O81: =SUM(O82:O82) -> 159502000 | P81: =O81 -> 159502000 | Q81: 159502000 | R81: =P81-Q81 -> 0 | S81: =+R81/Q81 -> 0
F82: - 방과후아카데미 | G82: 159502000 | H82: × | I82: 1 | N82: = | O82: =G82*I82 -> 159502000
F83: ㅇ청소년지도사배치지원사업 | O83: =SUM(O84:O84) -> 22320000 | P83: =O83 -> 22320000 | Q83: 22320000 | R83: =P83-Q83 -> 0 | S83: =+R83/Q83 -> 0
F84: - 청소년지도사배치지원사업 | G84: 22320000 | H84: × | I84: 1 | N84: = | O84: =G84*I84 -> 22320000
F85: ㅇ청소년운영위원회 | O85: =SUM(O86:O86) -> 2000000 | P85: =O85 -> 2000000 | Q85: 2000000 | R85: =P85-Q85 -> 0 | S85: =+R85/Q85 -> 0
F86: - 청소년운영위원회 | G86: 2000000 | H86: × | I86: 1 | N86: = | O86: =G86*I86 -> 2000000
F87: ㅇ소확행(경기도청소년공모사업) | O87: =SUM(O88:O88) -> 4100000 | P87: =O87 -> 4100000 | Q87: 0 | R87: =P87-Q87 -> 4100000
F88: - 소확행 | G88: 4100000 | H88: × | I88: 1 | N88: = | O88: =G88*I88 -> 4100000
E89: 623-2 교육청보조금 | P89: =P90+P92 -> 24120000 | Q89: =Q90+Q92 -> 0 | R89: =P89-Q89 -> 24120000
F90: ㅇ경기꿈의학교 | O90: =SUM(O91:O91) -> 19320000 | P90: =O90 -> 19320000 | Q90: 0 | R90: =P90-Q90 -> 19320000
F91: - 경기꿈의학교 | G91: 19320000 | H91: × | I91: 1 | N91: = | O91: =G91*I91 -> 19320000
F92: ㅇ피어나(학교폭력피해학생프로그램) | O92: =SUM(O93:O93) -> 4800000 | P92: =O92 -> 4800000 | Q92: 0 | R92: =P92-Q92 -> 4800000
F93: - 피어나 | G93: 4800000 | H93: × | I93: 1 | N93: = | O93: =G93*I93 -> 4800000
E94: 623-3 기타보조금 | P94: =P95+P97 -> 24000000 | Q94: =Q95+Q97 -> 0 | R94: =P94-Q94 -> 24000000
F95: ㅇ사랑의교실 | O95: =SUM(O96:O96) -> 9000000 | P95: =O95 -> 9000000 | Q95: 0 | R95: =P95-Q95 -> 9000000
F96: - 사랑의교실 | G96: 9000000 | H96: × | I96: 1 | N96: = | O96: =G96*I96 -> 9000000
F97: ㅇ공공기관공모사업 | O97: =SUM(O98:O98) -> 15000000 | P97: =O97 -> 15000000 | Q97: 0 | R97: =P97-Q97 -> 15000000
F98: - 공공기관공모사업 | G98: 15000000 | H98: × | I98: 1 | N98: = | O98: =G98*I98 -> 15000000
D99: 628 기타영업외수익 | P99: =P100 -> 50000000 | Q99: 50000000 | R99: =P99-Q99 -> 0 | S99: =+R99/Q99 -> 0
E100: 628-6 기타영업외수익 | P100: =ROUNDUP(O101,-3) -> 50000000 | Q100: =Q101 -> 50000000 | R100: =P100-Q100 -> 0 | S100: =+R100/Q100 -> 0
F101: ㅇ법인전입금 | O101: =SUM(O102:O102) -> 50000000 | P101: =O101 -> 50000000 | Q101: 50000000 | R101: =P101-Q101 -> 0 | S101: =+R101/Q101 -> 0
F102: - 법인전입금 | G102: 50000000 | H102: × | I102: 1 | N102: = | O102: =G102*I102 -> 50000000
B103: 100 자본적수입 | P103: =P104 -> 99575000 | Q103: =Q104 -> 26150000 | R103: =P103-Q103 -> 73425000 | S103: =+R103/Q103 -> 2.8078394
C104: 170 자본잉여금수입 | P104: =P105 -> 99575000 | Q104: =Q105 -> 26150000 | R104: =P104-Q104 -> 73425000 | S104: =+R104/Q104 -> 2.8078394
D105: 172 이월금 | P105: =SUM(P106) -> 99575000 | Q105: =SUM(Q106) -> 26150000 | R105: =P105-Q105 -> 73425000 | S105: =+R105/Q105 -> 2.8078394
E106: 172-3 전년도이월사업비 | P106: =O107 -> 99575000 | Q106: =Q107 -> 26150000 | R106: =P106-Q106 -> 73425000 | S106: =+R106/Q106 -> 2.8078394
F107: ㅇ전년도이월금 | O107: =ROUNDDOWN(SUM(O108:O109),-3) -> 99575000 | P107: =O107 -> 99575000 | Q107: 26150000 | R107: =P107-Q107 -> 73425000 | S107: =+R107/Q107 -> 2.8078394
F108: - 이월금(자체사업비) | G108: 67667146 | H108: × | I108: 1 | N108: = | O108: =G108*I108 -> 67667146
F109: - 이월금(법인전입금) | G109: 31908600 | H109: × | I109: 1 | N109: = | O109: =G109*I109 -> 31908600

Sheet 예산세입(상담)
A1: 2019년 2차 추경 고양시청소년상담복지센터 세입예산서(안)
A2: [일반회계] | S2: (단위:천원)
A3: 예산과목 | G3: 산출내역 | P3: 추경예산 | Q3: 기정예산 | R3: 증감 | S3: 증감률
A4: 장 | B4: 관 | C4: 항 | D4: 목 | E4: 세목 | F4: 세세목
A5: 고양시청소년상담복지센터 | P5: =P6+P40 -> 1335835800 | Q5: =Q6+Q40 -> 1311228000 | R5: =+P5-Q5 -> 24607800 | S5: =+R5/Q5 -> 0.018766988
B6: 600 사업수익 | P6: =P7+P14 -> 1320666800 | Q6: =Q7+Q14 -> 1303608000 | R6: =+P6-Q6 -> 17058800 | S6: =+R6/Q6 -> 0.013085836
C7: 610 영업수익 | P7: =SUM(P8) -> 36480000 | Q7: =SUM(Q8) -> 40483000 | R7: =+P7-Q7 -> -4003000 | S7: =+R7/Q7 -> -0.098881012
D8: 611 자체사업수익 | P8: =P9 -> 36480000 | Q8: =Q9 -> 40483000 | R8: =+P8-Q8 -> -4003000 | S8: =+R8/Q8 -> -0.098881012 | U8: 1335835800
E9: 611-1 사업운영수익 | P9: =ROUNDUP((O10),-3) -> 36480000 | Q9: =Q10 -> 40483000 | R9: =+P9-Q9 -> -4003000 | S9: =+R9/Q9 -> -0.098881012
F10: ㅇ프로그램 | O10: =SUM(O11:O13) -> 36480000 | P10: =O10 -> 36480000 | Q10: 40483000 | R10: =+P10-Q10 -> -4003000 | S10: =+R10/Q10 -> -0.098881012
F11: - 놀이치료 | G11: 30000 | H11: × | I11: 20 | J11: × | K11: 4 | L11: × | M11: 12 | N11: = | O11: =+G11*I11*K11*M11 -> 28800000
F12: - 심리검사 | G12: 10000 | H12: × | I12: 9 | J12: × | K12: 12 | N12: = | O12: =+G12*I12*K12 -> 1080000
F13: - 집단및상설 | G13: 50000 | H13: × | I13: 11 | J13: × | K13: 12 | N13: = | O13: =ROUNDDOWN(G13*I13*K13,-3) -> 6600000
C14: 620 영업외수익 | P14: =P15+P19 -> 1284186800 | Q14: =Q15+Q19 -> 1263125000 | R14: =+P14-Q14 -> 21061800 | S14: =+R14/Q14 -> 0.016674359
D15: 621 이자수익 | P15: =P16 -> 24000 | Q15: =Q16 -> 24000 | R15: =+P15-Q15 -> 0 | S15: =+R15/Q15 -> 0
E16: 621-1 예금이자수익 | P16: =ROUNDUP(O17,-3) -> 24000 | Q16: =Q17 -> 24000 | R16: =+P16-Q16 -> 0 | S16: =+R16/Q16 -> 0
F17: ㅇ예금이자수익 | O17: =SUM(O18:O18) -> 24000 | P17: 24000 | Q17: 24000 | R17: =+P17-Q17 -> 0 | S17: =+R17/Q17 -> 0
F18: - 예금이자 | G18: 24000 | H18: × | I18: 1 | N18: = | O18: =ROUNDUP(G18*I18,-3) -> 24000
D19: 623 보조금수익 | P19: =P20 -> 1284162800 | Q19: =Q20 -> 1263101000 | R19: =+P19-Q19 -> 21061800 | S19: =+R19/Q19 -> 0.016674676
E20: 623-1 국도시비보조금 | P20: =O21+O24+O26+O28+O30+O32+O34+O36+O38 -> 1284162800 | Q20: =SUM(Q21+Q24+Q26+Q28+Q30+Q32+Q34+Q36+Q38) -> 1263101000 | R20: =+P20-Q20 -> 21061800 | S20: =+R20/Q20 -> 0.016674676
F21: ㅇ고양시위탁보조금 | O21: =SUM(O22:O23) -> 388207000 | P21: =O21 -> 388207000 | Q21: 375948000 | R21: =+P21-Q21 -> 12259000 | S21: =+R21/Q21 -> 0.032608233
F22: - 상담지원금 | G22: 375948000 | H22: × | I22: 1 | N22: = | O22: =G22 -> 375948000
F23: - 재단지원금 | G23: 12259000 | H23: × | I23: 1 | N23: = | O23: =G23 -> 12259000
F24: ㅇ통합지원체계구축지원사업 | O24: =SUM(O25:O25) -> 94700000 | P24: =O24 -> 94700000 | Q24: 94700000 | R24: =+P24-Q24 -> 0 | S24: =+R24/Q24 -> 0
F25: - 통합지원체계구축지원사업 | G25: 94700000 | H25: × | I25: 1 | N25: = | O25: =G25 -> 94700000
F26: ㅇ청소년동반자운영지원사업 | O26: =SUM(O27:O27) -> 416486000 | P26: =O26 -> 416486000 | Q26: 416486000 | R26: =+P26-Q26 -> 0 | S26: =+R26/Q26 -> 0
F27: - 청소년동반자운영지원사업 | G27: 416486000 | H27: × | I27: 1 | N27: = | O27: =G27 -> 416486000
F28: ㅇ경기도학교밖청소년프로그램운영사업 | O28: =SUM(O29:O29) -> 175237000 | P28: =O28 -> 175237000 | Q28: 175237000 | R28: =+P28-Q28 -> 0 | S28: =+R28/Q28 -> 0
F29: - 경기도학교밖청소년프로그램운영사업 | G29: 175237000 | H29: × | I29: 1 | N29: = | O29: =G29 -> 175237000
F30: ㅇ학교밖청소년지원사업 꿈드림 | O30: =SUM(O31:O31) -> 160730000 | P30: =O30 -> 160730000 | Q30: 160730000 | R30: =+P30-Q30 -> 0 | S30: =+R30/Q30 -> 0
F31: - 학교밖청소년지원사업 꿈드림 | G31: 160730000 | H31: × | I31: 1 | N31: = | O31: =G31 -> 160730000
F32: ㅇ학교밖청소년문화활동사업 | O32: =SUM(O33:O33) -> 40000000 | P32: =O32 -> 40000000 | Q32: 40000000 | R32: =+P32-Q32 -> 0 | S32: =+R32/Q32 -> 0
F33: - 경기도문화지원사업 | G33: 40000000 | H33: × | I33: 1 | N33: = | O33: =G33 -> 40000000
F34: ㅇ청소년동아리활동지원사업 | O34: =SUM(O35:O35) -> 700000 | P34: =O34 -> 700000 | Q34: 0 | R34: =+P34-Q34 -> 700000
F35: - 1388청소년기자단지원사업 | G35: 700000 | H35: × | I35: 1 | N35: = | O35: =G35 -> 700000
F36: ㅇ또래상담사업 | O36: =SUM(O37:O37) -> 1400000 | P36: =O36 -> 1400000 | Q36: 0 | R36: =+P36-Q36 -> 1400000
F37: - 또래상담사업(경기도보조금) | G37: 1400000 | H37: × | I37: 1 | N37: = | O37: =G37 -> 1400000
F38: ㅇ인터넷스마트폰과의존예방해소사업 | O38: =SUM(O39:O39) -> 6702800 | P38: =O38 -> 6702800 | Q38: 0 | R38: =+P38-Q38 -> 6702800
F39: - 인터넷스마트폰과의존예방해소사업 | G39: 6702800 | H39: × | I39: 1 | N39: = | O39: =G39 -> 6702800
B40: 100 자본적수입 | P40: =P41 -> 15169000 | Q40: =Q41 -> 7620000 | R40: =+P40-Q40 -> 7549000 | S40: =+R40/Q40 -> 0.99068241
C41: 170 자본잉여금수입 | P41: =P42 -> 15169000 | Q41: =Q42 -> 7620000 | R41: =+P41-Q41 -> 7549000 | S41: =+R41/Q41 -> 0.99068241
D42: 172 이월금 | P42: =SUM(P43) -> 15169000 | Q42: =SUM(Q43) -> 7620000 | R42: =+P42-Q42 -> 7549000 | S42: =+R42/Q42 -> 0.99068241
E43: 172-3 전년도이월사업비 | P43: =O44 -> 15169000 | Q43: =Q44 -> 7620000 | R43: =+P43-Q43 -> 7549000 | S43: =+R43/Q43 -> 0.99068241
F44: ㅇ전년도이월금 | O44: =ROUNDDOWN(SUM(O45),-3) -> 15169000 | P44: =O44 -> 15169000 | Q44: 7620000 | R44: =+P44-Q44 -> 7549000 | S44: =+R44/Q44 -> 0.99068241
F45: - 2018년도사업비이월금 | G45: 15169120 | H45: × | I45: 1 | N45: = | O45: =G45*I45 -> 15169120
O53: =O24+O26+O28+O30+O32 -> 887153000

Sheet 예산세입(화정)
A1: 2019년 2차 추경 화정청소년카페 세입예산서(안)
A2: [일반회계] | S2: (단위:천원)
A3: 예산과목 | G3: 산출내역 | P3: 추경예산 | Q3: 기정예산 | R3: 증감 | S3: 증감률
A4: 장 | B4: 관 | C4: 항 | D4: 목 | E4: 세목 | F4: 세세목
A5: 화정청소년카페 | P5: =P6+P33 -> 157291000 | Q5: =Q6 -> 155824000 | R5: =+P5-Q5 -> 1467000 | S5: =+R5/Q5 -> 0.0094144676
B6: 600 사업수익 | P6: =SUM(P7,P23) -> 156914000 | Q6: =SUM(Q7,Q23) -> 155824000 | R6: =+P6-Q6 -> 1090000 | S6: =+R6/Q6 -> 0.0069950714
C7: 610 영업수익 | P7: =SUM(P8,P15,P19) -> 39393000 | Q7: =SUM(Q8,Q15,Q19) -> 39480000 | R7: =+P7-Q7 -> -87000 | S7: =+R7/Q7 -> -0.0022036474
D8: 611 자체사업수익 | P8: =SUM(P9,P12) -> 1320000 | Q8: =SUM(Q9,Q12) -> 1320000 | R8: =+P8-Q8 -> 0 | S8: =+R8/Q8 -> 0
E9: 611-1 사업운영수익 | P9: =O10 -> 600000 | Q9: =Q10 -> 600000 | R9: =+P9-Q9 -> 0 | S9: =+R9/Q9 -> 0
F10: ㅇ보드게임 사용 | O10: =O11 -> 600000 | P10: 600000 | Q10: 600000 | R10: =+P10-Q10 -> 0 | S10: =+R10/Q10 -> 0
F11: - 보드게임 사용료 | G11: 50000 | H11: × | I11: 12 | N11: = | O11: =G11*I11 -> 600000
E12: 611-2 참가금수익 | P12: =O13 -> 720000 | Q12: =Q13 -> 720000 | R12: =+P12-Q12 -> 0 | S12: =+R12/Q12 -> 0
F13: ㅇ프로그램 참가비 | O13: =O14 -> 720000 | P13: 720000 | Q13: 720000 | R13: =+P13-Q13 -> 0 | S13: =+R13/Q13 -> 0
F14: - 프로그램참가비 | G14: 60000 | H14: × | I14: 12 | N14: = | O14: =G14*I14 -> 720000
D15: 617 기타영업수익 | P15: =P16 -> 360000 | Q15: =Q16 -> 360000 | R15: =+P15-Q15 -> 0 | S15: =+R15/Q15 -> 0
E16: 617-1 시설사용료수익 | P16: =ROUNDUP(O17,-3) -> 360000 | Q16: =Q17 -> 360000 | R16: =+P16-Q16 -> 0 | S16: =+R16/Q16 -> 0
F17: ㅇ대관수입 | O17: =SUM(O18:O18) -> 360000 | P17: 360000 | Q17: 360000 | R17: =+P17-Q17 -> 0 | S17: =+R17/Q17 -> 0
F18: - 대관사용료 | G18: 5000 | H18: × | I18: 6 | J18: × | K18: 12 | N18: = | O18: =G18*I18*K18 -> 360000
D19: 618 판매수익 | P19: =P20 -> 37713000 | Q19: =Q20 -> 37800000 | R19: =+P19-Q19 -> -87000 | S19: =+R19/Q19 -> -0.0023015873
E20: 618-1 상품판매수익 | P20: =ROUNDUP(O21,-3) -> 37713000 | Q20: =Q21 -> 37800000 | R20: =+P20-Q20 -> -87000 | S20: =+R20/Q20 -> -0.0023015873
F21: ㅇ북카페운영 | O21: =SUM(O22:O22) -> 37713000 | P21: 37800000 | Q21: 37800000 | R21: =+P21-Q21 -> 0 | S21: =+R21/Q21 -> 0
F22: - 식음료 판매수입 | G22: 3142750 | H22: × | I22: 12 | N22: = | O22: =G22*I22 -> 37713000
C23: 620 영업외수익 | P23: =P24+P28 -> 117521000 | Q23: =Q24+Q28 -> 116344000 | R23: =+P23-Q23 -> 1177000 | S23: =+R23/Q23 -> 0.010116551
D24: 621 이자수익 | P24: =P25 -> 20000 | Q24: 20000 | R24: =+P24-Q24 -> 0 | S24: =+R24/Q24 -> 0
E25: 621-1 예금이자수익 | P25: =ROUNDUP(O26,-3) -> 20000 | Q25: =Q26 -> 20000 | R25: =+P25-Q25 -> 0 | S25: =+R25/Q25 -> 0
F26: ㅇ예금이자수익 | O26: =SUM(O27:O27) -> 20000 | P26: 20000 | Q26: 20000 | R26: =+P26-Q26 -> 0 | S26: =+R26/Q26 -> 0
F27: - 예금이자 | G27: 20000 | H27: × | I27: 1 | N27: = | O27: =G27*I27 -> 20000
D28: 623 보조금수익 | P28: =P29 -> 117501000 | Q28: =Q29 -> 116324000 | R28: =+P28-Q28 -> 1177000 | S28: =+R28/Q28 -> 0.01011829
E29: 623-1 국도시비보조금 | P29: =ROUNDUP(O30,-3) -> 117501000 | Q29: =Q30 -> 116324000 | R29: =+P29-Q29 -> 1177000 | S29: =+R29/Q29 -> 0.01011829
F30: ㅇ고양시위탁보조금 | O30: =SUM(O31:O32) -> 117501000 | P30: =O30 -> 117501000 | Q30: 116324000 | R30: =+P30-Q30 -> 1177000 | S30: =+R30/Q30 -> 0.01011829
F31: - 화정지원금 | G31: 116324000 | H31: × | I31: 1 | N31: = | O31: =G31 -> 116324000
F32: - 재단지원금 | G32: 1177000 | H32: × | I32: 1 | N32: = | O32: =G32 -> 1177000
B33: 100 자본적수입 | P33: =P34 -> 377000 | Q33: =Q34 -> 0 | R33: =+P33-Q33 -> 377000
C34: 170 자본잉여금수입 | P34: =P35 -> 377000 | Q34: =Q35 -> 0 | R34: =+P34-Q34 -> 377000
D35: 172 이월금 | P35: =SUM(P36) -> 377000 | Q35: =SUM(Q36) -> 0 | R35: =+P35-Q35 -> 377000
E36: 172-3 전년도이월사업비 | P36: =O37 -> 377000 | Q36: =Q37 -> 0 | R36: =+P36-Q36 -> 377000
F37: ㅇ전년도이월금 | O37: =SUM(O38:O38) -> 377000 | P37: =O37 -> 377000 | Q37: 0 | R37: =+P37-Q37 -> 377000
F38: - 전년도이월금 | G38: 377953 | H38: × | I38: 1 | N38: = | O38: =ROUNDDOWN(G38,-3) -> 377000
K113: -

Sheet 예산세입(백마)
A1: 2019년 2차 추경 백마역청소년카페 세입예산서(안)
A2: [일반회계] | S2: (단위:천원)
A3: 예산과목 | G3: 산출내역 | P3: 추경예산 | Q3: 기정예산 | R3: 증감 | S3: 증감률
A4: 장 | B4: 관 | C4: 항 | D4: 목 | E4: 세목 | F4: 세세목
A5: 백마역청소년카페 | P5: =P6+P22 -> 102266000 | Q5: =Q6+Q22 -> 101394000 | R5: =+P5-Q5 -> 872000 | S5: =+R5/Q5 -> 0.0086001144 | U5: 101394000 | V5: 89509000
B6: 600 사업수익 | P6: =P7+P12 -> 101339000 | Q6: =Q7+Q12 -> 100644000 | R6: =+P6-Q6 -> 695000 | S6: =+R6/Q6 -> 0.0069055284 | U6: =P5-U5 -> 872000 | V6: =Q5-V5 -> 11885000
C7: 610 영업수익 | P7: =P8 -> 9375000 | Q7: =Q8 -> 11250000 | R7: =+P7-Q7 -> -1875000 | S7: =+R7/Q7 -> -0.16666667
D8: 618 판매수익 | P8: =P9 -> 9375000 | Q8: =Q9 -> 11250000 | R8: =+P8-Q8 -> -1875000 | S8: =+R8/Q8 -> -0.16666667
E9: 618-1 상품판매수익 | P9: =O10 -> 9375000 | Q9: =Q10 -> 11250000 | R9: =+P9-Q9 -> -1875000 | S9: =+R9/Q9 -> -0.16666667
F10: ㅇ북카페운영 | O10: =SUM(O11:O11) -> 9375000 | P10: 11250000 | Q10: 11250000 | R10: =+P10-Q10 -> 0 | S10: =+R10/Q10 -> 0
F11: - 판매수입 | G11: 1250 | H11: × | I11: 25 | J11: × | K11: 25 | L11: × | M11: 12 | N11: = | O11: =G11*I11*K11*M11 -> 9375000
C12: 620 영업외수익 | P12: =P13+P17 -> 91964000 | Q12: =Q13+Q17 -> 89394000 | R12: =+P12-Q12 -> 2570000 | S12: =+R12/Q12 -> 0.028749133
D13: 621 이자수익 | P13: =P14 -> 14000 | Q13: =Q14 -> 14000 | R13: =+P13-Q13 -> 0 | S13: =+R13/Q13 -> 0
E14: 621-1 예금이자수익 | P14: =ROUNDUP(O15,-3) -> 14000 | Q14: =Q15 -> 14000 | R14: =+P14-Q14 -> 0 | S14: =+R14/Q14 -> 0
F15: ㅇ예금이자수익 | O15: =SUM(O16:O16) -> 14000 | P15: 14000 | Q15: 14000 | R15: =+P15-Q15 -> 0 | S15: =+R15/Q15 -> 0
F16: - 예금이자 | G16: 14000 | H16: × | I16: 1 | N16: = | O16: =G16*I16 -> 14000
D17: 623 보조금수익 | P17: =P18 -> 91950000 | Q17: =Q18 -> 89380000 | R17: =+P17-Q17 -> 2570000 | S17: =+R17/Q17 -> 0.028753636
E18: 623-1 국도시비보조금 | P18: =ROUNDUP(O19,-3) -> 91950000 | Q18: =Q19 -> 89380000 | R18: =+P18-Q18 -> 2570000 | S18: =+R18/Q18 -> 0.028753636
F19: ㅇ고양시위탁보조금 | O19: =SUM(O20:O21) -> 91950000 | P19: =O19 -> 91950000 | Q19: 89380000 | R19: =+P19-Q19 -> 2570000 | S19: =+R19/Q19 -> 0.028753636
F20: - 백마지원금 | G20: 89380000 | H20: × | I20: 1 | N20: = | O20: =G20*I20 -> 89380000
F21: - 재단지원금 | G21: 2570000 | H21: × | I21: 1 | N21: = | O21: =G21*I21 -> 2570000
B22: 100 자본적수입 | P22: =P23 -> 927000 | Q22: =Q23 -> 750000 | R22: =+P22-Q22 -> 177000 | S22: =+R22/Q22 -> 0.236
C23: 170 자본잉여금수입 | P23: =P24 -> 927000 | Q23: =Q24 -> 750000 | R23: =+P23-Q23 -> 177000 | S23: =+R23/Q23 -> 0.236
D24: 172 이월금 | P24: =SUM(P25) -> 927000 | Q24: =SUM(Q25) -> 750000 | R24: =+P24-Q24 -> 177000 | S24: =+R24/Q24 -> 0.236
E25: 172-3 전년도이월사업비 | P25: =O26 -> 927000 | Q25: =Q26 -> 750000 | R25: =+P25-Q25 -> 177000 | S25: =+R25/Q25 -> 0.236
F26: ㅇ전년도이월금 | O26: =SUM(O27) -> 927000 | P26: 750000 | Q26: 750000 | R26: =+P26-Q26 -> 0 | S26: =+R26/Q26 -> 0
F27: - 2018년도사업비이월금 | G27: 927989 | H27: × | I27: 1 | N27: = | O27: =ROUNDDOWN(G27*I27,-3) -> 927000
K102: -

Sheet 예산세입(능곡)
A1: 2019년 2차 추경 능곡역청소년카페 세입예산서(안)
A2: [일반회계] | S2: (단위:천원)
A3: 예산과목 | G3: 산출내역 | P3: 추경예산 | Q3: 기정예산 | R3: 증감 | S3: 증감률
A4: 장 | B4: 관 | C4: 항 | D4: 목 | E4: 세목 | F4: 세세목
A5: 능곡역청소년카페 | P5: =P6+P21 -> 91394000 | Q5: =Q6+Q21 -> 91394000 | R5: =+P5-Q5 -> 0 | S5: =+R5/Q5 -> 0 | U5: 91355000 | V5: 69780000
B6: 600 사업수익 | P6: =P7+P12 -> 91355000 | Q6: =Q7+Q12 -> 91355000 | R6: =+P6-Q6 -> 0 | S6: =+R6/Q6 -> 0 | U6: =P5-U5 -> 39000 | V6: =Q5-V5 -> 21614000
C7: 610 영업수익 | P7: =P8 -> 2800000 | Q7: =Q8 -> 2800000 | R7: =+P7-Q7 -> 0 | S7: =+R7/Q7 -> 0
D8: 618 판매수익 | P8: =P9 -> 2800000 | Q8: =Q9 -> 2800000 | R8: =+P8-Q8 -> 0 | S8: =+R8/Q8 -> 0
E9: 618-1 상품판매수익 | P9: =O10 -> 2800000 | Q9: =Q10 -> 2800000 | R9: =+P9-Q9 -> 0 | S9: =+R9/Q9 -> 0
F10: ㅇ북카페운영 | O10: =SUM(O11:O11) -> 2800000 | P10: 2800000 | Q10: 2800000 | R10: =+P10-Q10 -> 0 | S10: =+R10/Q10 -> 0
F11: - 판매수입 | G11: 233333.33 | H11: × | I11: 12 | N11: = | O11: =ROUNDUP(G11*I11,-3) -> 2800000
C12: 620 영업외수익 | P12: =P13+P17 -> 88555000 | Q12: =Q13+Q17 -> 88555000 | R12: =+P12-Q12 -> 0 | S12: =+R12/Q12 -> 0
D13: 621 이자수익 | P13: =P14 -> 10000 | Q13: =Q14 -> 10000 | R13: =+P13-Q13 -> 0 | S13: =+R13/Q13 -> 0
E14: 621-1 예금이자수익 | P14: =ROUNDUP(O15,-3) -> 10000 | Q14: =Q15 -> 10000 | R14: =+P14-Q14 -> 0 | S14: =+R14/Q14 -> 0
F15: ㅇ예금이자수익 | O15: =SUM(O16:O16) -> 10000 | P15: 10000 | Q15: 10000 | R15: =+P15-Q15 -> 0 | S15: =+R15/Q15 -> 0
F16: - 예금이자 | G16: 10000 | H16: × | I16: 1 | N16: = | O16: =G16*I16 -> 10000
D17: 623 보조금수익 | P17: =P18 -> 88545000 | Q17: =Q18 -> 88545000 | R17: =+P17-Q17 -> 0 | S17: =+R17/Q17 -> 0
E18: 623-1 국도시비보조금 | P18: =ROUNDDOWN(O19,-3) -> 88545000 | Q18: =Q19 -> 88545000 | R18: =+P18-Q18 -> 0 | S18: =+R18/Q18 -> 0
F19: ㅇ고양시위탁보조금 | O19: =SUM(O20:O20) -> 88545000 | P19: =O19 -> 88545000 | Q19: 88545000 | R19: =+P19-Q19 -> 0 | S19: =+R19/Q19 -> 0
F20: - 능곡지원금 | G20: 88545000 | H20: × | I20: 1식 | N20: = | O20: =G20 -> 88545000
B21: 100 자본적수입 | P21: =P22 -> 39000 | Q21: =Q22 -> 39000 | R21: =+P21-Q21 -> 0 | S21: =+R21/Q21 -> 0
C22: 170 자본잉여금수입 | P22: =P23 -> 39000 | Q22: =Q23 -> 39000 | R22: =+P22-Q22 -> 0 | S22: =+R22/Q22 -> 0
D23: 172 이월금 | P23: =SUM(P24) -> 39000 | Q23: =SUM(Q24) -> 39000 | R23: =+P23-Q23 -> 0 | S23: =+R23/Q23 -> 0
E24: 172-3 전년도이월사업비 | P24: =O25 -> 39000 | Q24: =Q25 -> 39000 | R24: =+P24-Q24 -> 0 | S24: =+R24/Q24 -> 0
F25: ㅇ전년도이월금 | O25: =SUM(O26) -> 39000 | P25: =O25 -> 39000 | Q25: 39000 | R25: =+P25-Q25 -> 0 | S25: =+R25/Q25 -> 0
F26: - 2018년도사업비이월금 | G26: 39000 | H26: × | I26: 1 | N26: = | O26: =G26*I26 -> 39000
K112: -

Sheet 간지4(세출예산 사업내역서)

Sheet 예산세출(사무국)
A1: 2019년 2차 추경 고양시청소년재단사무국 세출예산서(안)
A2: [일반회계] | S2: (단위:천원)
A3: 예산과목 | G3: 산출내역 | P3: 추경예산 | Q3: 기정예산 | R3: 증감 | S3: 증감률
A4: 장 | B4: 관 | C4: 항 | D4: 목 | E4: 세목 | F4: 세세목
A5: 고양시청소년재단사무국 | P5: =P6 -> 4180490000 | Q5: =Q6 -> 4168356000 | R5: =P5-Q5 -> 12134000 | S5: =R5/Q5 -> 0.0029109798 | V5: 4180490000 | X5: =P5-V5 -> 0
B6: 700 사업비용 | P6: =P7+P211+P350+P376 -> 4180490000 | Q6: =Q7+Q211+Q350+Q376 -> 4168356000 | R6: =P6-Q6 -> 12134000 | S6: =R6/Q6 -> 0.0029109798
C7: 710 영업비용 | P7: =P8+P72+P200+P206 -> 2694569000 | Q7: =Q8+Q72+Q200+Q206 -> 2694569000 | R7: =P7-Q7 -> 0 | S7: =R7/Q7 -> 0
D8: 100 인건비 | P8: =P9+P18+P69 -> 2200111000 | Q8: =Q9+Q18+Q69 -> 2200111000 | R8: =P8-Q8 -> 0 | S8: =R8/Q8 -> 0
E9: 101 급여 | P9: =SUM(O10) -> 1288589000 | Q9: =Q10 -> 1288589000 | R9: =P9-Q9 -> 0 | S9: =R9/Q9 -> 0 | U9: =IF(R9>0,"추경","0") -> 0
F10: ㅇ기본급 | O10: =SUM(O11:O17) -> 1288589000 | P10: =O10 -> 1288589000 | Q10: 1288589000 | R10: =P10-Q10 -> 0 | S10: =R10/Q10 -> 0 | U10: =IF(R10>0,"추경","0") -> 0
F11: - 대표이사(임기직) | G11: 5242280 | H11: × | I11: 1 | J11: × | K11: 12 | N11: = | O11: =ROUNDUP(G11*I11*K11,-3) -> 62908000 | U11: =IF(R11>0,"추경","0") -> 0
F12: - 사무국장(임기직) | G12: 4527330 | H12: × | I12: 1 | J12: × | K12: 12 | N12: = | O12: =ROUNDUP(G12*I12*K12,-3) -> 54328000 | U12: =IF(R12>0,"추경","0") -> 0 | V12: 인경비 | W12: =P8 -> 2200111000
F13: - 4급(일반직) | G13: 3664600 | H13: × | I13: 2 | J13: × | K13: 12 | N13: = | O13: =ROUNDUP(G13*I13*K13,-3) -> 87951000 | U13: =IF(R13>0,"추경","0") -> 0 | V13: 경비 | W13: =P72 -> 396810000 | Z13: =W13+W14 -> 403010000
F14: - 5급(일반직) | G14: 3172600 | H14: × | I14: 4 | J14: × | K14: 12 | N14: = | O14: =ROUNDUP(G14*I14*K14,-3) -> 152285000 | U14: =IF(R14>0,"추경","0") -> 0 | V14: 자산취득 | W14: =P200 -> 6200000
F15: - 6급(일반직) | G15: 2836100 | H15: × | I15: 4 | J15: × | K15: 12 | N15: = | O15: =ROUNDUP(G15*I15*K15,-3) -> 136133000 | U15: =IF(R15>0,"추경","0") -> 0 | V15: 성과급 | W15: =P206 -> 91448000
F16: - 7급 대리급(일반직) | G16: 2086600 | H16: × | I16: 19 | J16: × | K16: 12 | N16: = | O16: =ROUNDUP(G16*I16*K16,-3) -> 475745000 | U16: =IF(R16>0,"추경","0") -> 0 | V16: 사업비 | W16: 528000000
F17: - 7급 사원급(일반직) | G17: 1662700 | H17: × | I17: 16 | J17: × | K17: 12 | N17: = | O17: =ROUNDUP(G17*I17*K17,-3) -> 319239000 | U17: =IF(R17>0,"추경","0") -> 0 | W17: =SUM(W12:W16) -> 3222569000
E18: 102 제수당 | P18: =O19+O26+O30+O32+O35+O42+O48+O54+O60+O64+O62+O66 -> 742282000 | Q18: =SUM(Q19,Q26,Q30,Q32,Q35,Q42,Q48,Q54,Q60,Q62,Q64,Q66) -> 742282000 | R18: =P18-Q18 -> 0 | S18: =R18/Q18 -> 0 | U18: =IF(R18>0,"추경","0") -> 0
F19: ㅇ직급보조비 | O19: =SUM(O20:O25) -> 87180000 | P19: =O19 -> 87180000 | Q19: 87180000 | R19: =P19-Q19 -> 0 | S19: =R19/Q19 -> 0 | U19: =IF(R19>0,"추경","0") -> 0 | V19: 3222569000
F20: - 대표이사(임기직) | G20: 400000 | H20: × | I20: 1 | J20: × | K20: 12 | N20: = | O20: =ROUNDUP(G20*I20*K20,-3) -> 4800000 | U20: =IF(R20>0,"추경","0") -> 0
F21: - 사무국장(임기직) | G21: 250000 | H21: × | I21: 1 | J21: × | K21: 12 | N21: = | O21: =ROUNDUP(G21*I21*K21,-3) -> 3000000 | U21: =IF(R21>0,"추경","0") -> 0
F22: - 4급(일반직) | G22: 165000 | H22: × | I22: 2 | J22: × | K22: 12 | N22: = | O22: =ROUNDUP(G22*I22*K22,-3) -> 3960000 | U22: =IF(R22>0,"추경","0") -> 0 | W22: =V19-W17 -> 0
F23: - 5급(일반직) | G23: 155000 | H23: × | I23: 5 | J23: × | K23: 12 | N23: = | O23: =ROUNDUP(G23*I23*K23,-3) -> 9300000 | U23: =IF(R23>0,"추경","0") -> 0
F24: - 6급(일반직) | G24: 145000 | H24: × | I24: 5 | J24: × | K24: 12 | N24: = | O24: =ROUNDUP(G24*I24*K24,-3) -> 8700000 | U24: =IF(R24>0,"추경","0") -> 0 | W24: =W22+W16 -> 528000000
F25: - 7급 대리급(일반직) | G25: 145000 | H25: × | I25: 33 | J25: × | K25: 12 | N25: = | O25: =ROUNDUP(G25*I25*K25,-3) -> 57420000 | U25: =IF(R25>0,"추경","0") -> 0
F26: ㅇ가족수당 | O26: =SUM(O27:O29) -> 20160000 | P26: =O26 -> 20160000 | Q26: 20160000 | R26: =P26-Q26 -> 0 | S26: =R26/Q26 -> 0 | U26: =IF(R26>0,"추경","0") -> 0
F27: - 배우자 | G27: 40000 | H27: × | I27: 20 | J27: × | K27: 12 | N27: = | O27: =ROUNDUP(G27*I27*K27,-3) -> 9600000 | U27: =IF(R27>0,"추경","0") -> 0
F28: - 부양가족, 첫째자녀 | G28: 20000 | H28: × | I28: 20 | J28: × | K28: 12 | N28: = | O28: =ROUNDUP(G28*I28*K28,-3) -> 4800000 | U28: =IF(R28>0,"추경","0") -> 0
F29: - 둘째자녀 | G29: 60000 | H29: × | I29: 8 | J29: × | K29: 12 | N29: = | O29: =ROUNDUP(G29*I29*K29,-3) -> 5760000 | U29: =IF(R29>0,"추경","0") -> 0
F30: ㅇ급량비 | O30: =SUM(O31:O31) -> 73320000 | P30: =O30 -> 73320000 | Q30: 73320000 | R30: =P30-Q30 -> 0 | S30: =R30/Q30 -> 0 | U30: =IF(R30>0,"추경","0") -> 0
F31: - 정액급식비 | G31: 130000 | H31: × | I31: 47 | J31: × | K31: 12 | N31: = | O31: =ROUNDUP(G31*I31*K31,-3) -> 73320000 | U31: =IF(R31>0,"추경","0") -> 0
F32: ㅇ자격수당 | O32: =SUM(O33:O34) -> 16680000 | P32: =O32 -> 16680000 | Q32: 16680000 | R32: =P32-Q32 -> 0 | S32: =R32/Q32 -> 0 | U32: =IF(R32>0,"추경","0") -> 0
F33: - 청소년지도사 | G33: 30000 | H33: × | I33: 41 | J33: × | K33: 12 | N33: = | O33: =ROUNDUP(G33*I33*K33,-3) -> 14760000 | U33: =IF(R33>0,"추경","0") -> 0
F34: - 노무/회계담당 | G34: 40000 | H34: × | I34: 4 | J34: × | K34: 12 | N34: = | O34: =ROUNDUP(G34*I34*K34,-3) -> 1920000 | U34: =IF(R34>0,"추경","0") -> 0
F35: ㅇ시간외/당직근무수당 | O35: =SUM(O36:O41) -> 298448000 | P35: =O35 -> 298448000 | Q35: 300848000 | R35: =P35-Q35 -> -2400000 | S35: =R35/Q35 -> -0.0079774504 | U35: =IF(R35>0,"추경","0") -> 0
F36: - 사무국장(임기직) | G36: 856666.67 | H36: × | I36: 1 | J36: × | K36: 12 | N36: = | O36: =ROUNDUP(G36*I36*K36,-3) -> 10280000 | U36: =IF(R36>0,"추경","0") -> 0
F37: - 4급(일반직) | G37: 941800 | H37: × | I37: 2 | J37: × | K37: 12 | N37: = | O37: =ROUNDUP(G37*I37*K37,-3) -> 22604000 | U37: =IF(R37>0,"추경","0") -> 0
F38: - 5급(일반직) | G38: 800300 | H38: × | I38: 5 | J38: × | K38: 12 | N38: = | O38: =ROUNDUP(G38*I38*K38,-3) -> 48018000 | U38: =IF(R38>0,"추경","0") -> 0
F39: - 6급(일반직) | G39: 700560 | H39: × | I39: 5 | J39: × | K39: 12 | N39: = | O39: =ROUNDUP(G39*I39*K39,-3) -> 42034000 | U39: =IF(R39>0,"추경","0") -> 0
F40: - 7급 대리급(일반직) | G40: 457900 | H40: × | I40: 17 | J40: × | K40: 12 | N40: = | O40: =ROUNDUP(G40*I40*K40,-3) -> 93412000 | U40: =IF(R40>0,"추경","0") -> 0
F41: - 7급 사원급(일반직) | G41: 427600 | H41: × | I41: 16 | J41: × | K41: 12 | N41: = | O41: =ROUNDUP(G41*I41*K41,-3) -> 82100000 | U41: =IF(R41>0,"추경","0") -> 0
F42: ㅇ정근수당 | O42: =SUM(O43:O47) -> 69288000 | P42: =O42 -> 69288000 | Q42: 69288000 | R42: =P42-Q42 -> 0 | S42: =R42/Q42 -> 0 | U42: =IF(R42>0,"추경","0") -> 0
F43: - 4급(일반직) | G43: 1822200 | H43: × | I43: 2 | J43: × | K43: 2 | N43: = | O43: =ROUNDUP(G43*I43*K43,-3) -> 7289000 | U43: =IF(R43>0,"추경","0") -> 0
F44: - 5급(일반직) | G44: 1579600 | H44: × | I44: 4 | J44: × | K44: 2 | N44: = | O44: =ROUNDUP(G44*I44*K44,-3) -> 12637000 | U44: =IF(R44>0,"추경","0") -> 0
F45: - 6급(일반직) | G45: 1412600 | H45: × | I45: 4 | J45: × | K45: 2 | N45: = | O45: =ROUNDUP(G45*I45*K45,-3) -> 11301000 | U45: =IF(R45>0,"추경","0") -> 0
F46: - 7급 대리급(일반직) | G46: 785600 | H46: × | I46: 19 | J46: × | K46: 2 | N46: = | O46: =ROUNDUP(G46*I46*K46,-3) -> 29853000 | U46: =IF(R46>0,"추경","0") -> 0
F47: - 7급 사원급(일반직) | G47: 256500 | H47: × | I47: 16 | J47: × | K47: 2 | N47: = | O47: =ROUNDUP(G47*I47*K47,-3) -> 8208000 | U47: =IF(R47>0,"추경","0") -> 0
F48: ㅇ정근수당가산금 | O48: =SUM(O49:O53) -> 23610000 | P48: =O48 -> 23610000 | Q48: 22620000 | R48: =P48-Q48 -> 990000 | S48: =R48/Q48 -> 0.043766578 | U48: =IF(R48>0,"추경","0") -> 추경
F49: - 25년 이상(가산) | G49: 130000 | H49: × | I49: 1 | J49: × | K49: 9 | N49: = | O49: =ROUNDUP(G49*I49*K49,-3) -> 1170000 | U49: =IF(R49>0,"추경","0") -> 0
F50: - 20년 이상 | G50: 110000 | H50: × | I50: 3 | J50: × | K50: 12 | N50: = | O50: =ROUNDUP(G50*I50*K50,-3) -> 3960000 | U50: =IF(R50>0,"추경","0") -> 0
F51: - 15년 이상 | G51: 80000 | H51: × | I51: 4 | J51: × | K51: 12 | N51: = | O51: =ROUNDUP(G51*I51*K51,-3) -> 3840000 | U51: =IF(R51>0,"추경","0") -> 0
F52: - 10년 이상 | G52: 60000 | H52: × | I52: 7 | J52: × | K52: 12 | N52: = | O52: =ROUNDUP(G52*I52*K52,-3) -> 5040000 | U52: =IF(R52>0,"추경","0") -> 0
F53: - 5년 이상 | G53: 50000 | H53: × | I53: 16 | J53: × | K53: 12 | N53: = | O53: =ROUNDUP(G53*I53*K53,-3) -> 9600000 | U53: =IF(R53>0,"추경","0") -> 0
F54: ㅇ명절휴가비 | O54: =SUM(O55:O59) -> 116666000 | P54: =O54 -> 116666000 | Q54: 116666000 | R54: =P54-Q54 -> 0 | S54: =R54/Q54 -> 0 | U54: =IF(R54>0,"추경","0") -> 0
F55: - 4급(일반직) | G55: 2198600 | H55: × | I55: 2 | J55: × | K55: 2 | N55: = | O55: =ROUNDUP(G55*I55*K55,-3) -> 8795000 | U55: =IF(R55>0,"추경","0") -> 0
F56: - 5급(일반직) | G56: 1899200 | H56: × | I56: 4 | J56: × | K56: 2 | N56: = | O56: =ROUNDUP(G56*I56*K56,-3) -> 15194000 | U56: =IF(R56>0,"추경","0") -> 0
F57: - 6급(일반직) | G57: 1695000 | H57: × | I57: 4 | J57: × | K57: 2 | N57: = | O57: =ROUNDUP(G57*I57*K57,-3) -> 13560000 | U57: =IF(R57>0,"추경","0") -> 0
F58: - 7급 대리급(일반직) | G58: 1247800 | H58: × | I58: 19 | J58: × | K58: 2 | N58: = | O58: =ROUNDUP(G58*I58*K58,-3) -> 47417000 | U58: =IF(R58>0,"추경","0") -> 0
F59: - 7급 사원급(일반직) | G59: 990600 | H59: × | I59: 16 | J59: × | K59: 2 | N59: = | O59: =ROUNDUP(G59*I59*K59,-3) -> 31700000 | U59: =IF(R59>0,"추경","0") -> 0
F60: ㅇ연가보상비 | O60: =SUM(O61:O61) -> 24640000 | P60: =O60 -> 24640000 | Q60: 24640000 | R60: =P60-Q60 -> 0 | S60: =R60/Q60 -> 0 | U60: =IF(R60>0,"추경","0") -> 0
F61: - 연가보상비 | G61: 104850 | H61: × | I61: 47 | J61: × | K61: 5 | N61: = | O61: =ROUNDUP(G61*I61*K61,-3) -> 24640000 | U61: =IF(R61>0,"추경","0") -> 0
F62: ㅇ자녀학비보조수당 | O62: =SUM(O63:O63) -> 1880000 | P62: =O62 -> 1880000 | Q62: 1880000 | R62: =P62-Q62 -> 0 | S62: =R62/Q62 -> 0 | U62: =IF(R62>0,"추경","0") -> 0
F63: - 자녀학비보조수당 | G63: 470000 | H63: × | I63: 1 | J63: × | K63: 4 | N63: = | O63: =ROUNDUP(G63*I63*K63,-3) -> 1880000 | U63: =IF(R63>0,"추경","0") -> 0
F64: ㅇ육아휴직수당 | O64: =SUM(O65:O65) -> 9000000 | P64: =O64 -> 9000000 | Q64: 9000000 | R64: =P64-Q64 -> 0 | S64: =R64/Q64 -> 0 | U64: =IF(R64>0,"추경","0") -> 0
F65: - 육아휴직수당 | G65: 500000 | H65: × | I65: 3 | J65: × | K65: 6 | N65: = | O65: =ROUNDUP(G65*I65*K65,-3) -> 9000000 | U65: =IF(R65>0,"추경","0") -> 0
F66: ㅇ생활임금보전수당 | O66: =SUM(O67:O68) -> 1410000 | P66: =O66 -> 1410000 | Q66: 0 | R66: =P66-Q66 -> 1410000 | U66: =IF(R66>0,"추경","0") -> 추경
F67: - 2호봉 | G67: 96640 | H67: × | I67: 1 | J67: × | K67: 6 | N67: = | O67: =ROUNDUP(G67*I67*K67,-3) -> 580000 | U67: =IF(R67>0,"추경","0") -> 0
F68: - 3호봉 | G68: 46080 | H68: × | I68: 3 | J68: × | K68: 6 | N68: = | O68: =ROUNDUP(G68*I68*K68,-3) -> 830000 | U68: =IF(R68>0,"추경","0") -> 0
E69: 106 퇴직급여 | P69: =SUM(O70) -> 169240000 | Q69: =Q70 -> 169240000 | R69: =P69-Q69 -> 0 | S69: =R69/Q69 -> 0 | U69: =IF(R69>0,"추경","0") -> 0
F70: ㅇ퇴직급여충당금 | O70: =SUM(O71:O71) -> 169240000 | P70: =O70 -> 169240000 | Q70: 169240000 | R70: =P70-Q70 -> 0 | S70: =R70/Q70 -> 0 | U70: =IF(R70>0,"추경","0") -> 0
F71: - 퇴직급여충당금 | G71: =P9+P18 -> 2030871000 | H71: × | I71: 12 | N71: = | O71: =ROUNDUP((G71/12),-3) -> 169240000 | U71: =IF(R71>0,"추경","0") -> 0
D72: 200 경비 | P72: =P73+P85+P89+P98+P101+P112+P120+P127+P131+P134+P137+P151+P156+P161+P169+P173+P180+P197 -> 396810000 | Q72: =Q73+Q85+Q89+Q98+Q101+Q112+Q120+Q127+Q131+Q134+Q137+Q151+Q156+Q161+Q169+Q173+Q180+Q197 -> 396810000 | R72: =P72-Q72 -> 0 | S72: =R72/Q72 -> 0 | U72: =IF(R72>0,"추경","0") -> 0
E73: 201 복리후생비 | P73: =O74+O80+O82 -> 224543000 | Q73: =SUM(Q74,Q80,Q82) -> 224543000 | R73: =P73-Q73 -> 0 | S73: =R73/Q73 -> 0 | U73: =IF(R73>0,"추경","0") -> 0
F74: ㅇ사회4대보험 | O74: =SUM(O75:O79) -> 205423000 | P74: =O74 -> 205423000 | Q74: 205423000 | R74: =P74-Q74 -> 0 | S74: =R74/Q74 -> 0 | U74: =IF(R74>0,"추경","0") -> 0
F75: - 국민연금부담금 | G75: =G71 -> 2030871000 | H75: × | I75: 0.045 | N75: = | O75: =ROUNDUP(G75*I75,-3) -> 91390000 | U75: =IF(R75>0,"추경","0") -> 0
F76: - 국민건강보험부담금 | G76: =G75 -> 2030871000 | H76: × | I76: 0.0323 | N76: = | O76: =ROUNDUP(G76*I76,-3) -> 65598000 | U76: =IF(R76>0,"추경","0") -> 0
F77: - 장기요양보험부담금 | G77: =O76 -> 65598000 | H77: × | I77: 0.0851 | N77: = | O77: =ROUNDUP(G77*I77,-3) -> 5583000 | U77: =IF(R77>0,"추경","0") -> 0
F78: - 고용보험부담금 | G78: =G76 -> 2030871000 | H78: × | I78: 0.009 | N78: = | O78: =ROUNDUP(G78*I78,-3) -> 18278000 | U78: =IF(R78>0,"추경","0") -> 0
F79: - 산재보험부담금 | G79: =G78 -> 2030871000 | H79: × | I79: 0.0121 | N79: = | O79: =ROUNDUP(G79*I79,-3) -> 24574000 | U79: =IF(R79>0,"추경","0") -> 0
F80: ㅇ급량비 | O80: =SUM(O81) -> 6720000 | P80: =O80 -> 6720000 | Q80: 6720000 | R80: =P80-Q80 -> 0 | S80: =R80/Q80 -> 0 | U80: =IF(R80>0,"추경","0") -> 0
F81: - 특근매식비 | G81: 8000 | H81: × | I81: 7 | J81: × | K81: 10 | L81: × | M81: 12 | N81: = | O81: =G81*I81*K81*M81 -> 6720000 | U81: =IF(R81>0,"추경","0") -> 0
F82: ㅇ직원복지제도 | O82: =SUM(O83:O84) -> 12400000 | P82: =O82 -> 12400000 | Q82: 12400000 | R82: =P82-Q82 -> 0 | S82: =R82/Q82 -> 0 | U82: =IF(R82>0,"추경","0") -> 0
F83: - 종합건강검진 | G83: 400000 | H83: × | I83: 6 | N83: = | O83: =ROUNDUP(G83*I83,-3) -> 2400000 | U83: =IF(R83>0,"추경","0") -> 0
F84: - 선택적복지제도 | G84: 1000000 | H84: × | I84: 10 | N84: = | O84: =ROUNDUP(G84*I84,-3) -> 10000000 | U84: =IF(R84>0,"추경","0") -> 0
E85: 202 여비 | P85: =SUM(O86) -> 7200000 | Q85: =Q86 -> 12840000 | R85: =P85-Q85 -> -5640000 | S85: =R85/Q85 -> -0.43925234 | U85: =IF(R85>0,"추경","0") -> 0
F86: ㅇ여비 | O86: =SUM(O87:O88) -> 7200000 | P86: =O86 -> 7200000 | Q86: 12840000 | R86: =P86-Q86 -> -5640000 | S86: =R86/Q86 -> -0.43925234 | U86: =IF(R86>0,"추경","0") -> 0
F87: - 국내여비 | G87: 100000 | H87: × | I87: 6 | J87: × | K87: 12 | N87: = | O87: =G87*I87*K87 -> 7200000 | U87: =IF(R87>0,"추경","0") -> 0
