Workbook
Name 은행코드: '[1]추산계좌(2분기)'!#REF!
Name 은행코드: '[1]추산계좌(2분기)'!#REF!
Name 은행코드: '[1]추산계좌(2분기)'!#REF!
Name 은행코드: '[1]추산계좌(2분기)'!#REF!
Name 은행코드: '[1]추산계좌(2분기)'!#REF!

Sheet 표지
F9: 2019년도 세입·세출예산서(안)

Sheet 목차
D1: 목 차
C3: 1 | D3: 예산총칙 | F3: 8
C5: 2 | D5: 2019년 세입·세출예산(안) | F5: 14
D7: ○ 2019년 세입예산규모 | F7: 15
D9: ○ 2019년 시설별 예산(안) 총괄표 | F9: 16
D11: ○ 2019년 세입예산(안) 총괄표 | F11: 17
D13: ○ 2019년 세출예산(안) 총괄표 | F13: 23
D15: ○ 2019년 세입·세출예산(안) 요약 총괄표 | F15: 30
D17: ○ 2019년 세입·세출예산(안) 세부 총괄표 | F17: 31
C19: 3 | D19: 세입예산 사업내역서 | F19: 36
C21: 4 | D21: 세출예산 사업내역서 | F21: 57
D23: ○ 사무국 | F23: 58
D25: ○ 마두청소년수련관 | F25: 66
D27: ○ 고양시청소년진로센터 | F27: 75
D29: ○ 성사청소년문화의집 | F29: 78
D31: ○ 탄현청소년문화의집 | F31: 86
D33: ○ 주교동청소년카페 | F33: 92
D35: ○ 일산서구청소년수련관 | F35: 95
D37: ○ 토당청소년수련관 | F37: 105
D39: ○ 고양시청소년상담복지센터 | F39: 115
D41: ○ 화정청소년카페 | F41: 121
D43: ○ 백마역청소년카페 | F43: 126
D45: ○ 능곡역청소년카페 | F45: 130

Sheet 간지1(예산총칙)

Sheet 예산총칙
B1: 1. 예산총칙
B3: 제1조(총칙) 2019년도 재단법인 고양시청소년재단의 본예산은 다음과 같이 정한다.
B5: 제2조(업무의 연간 예정량) 2019년도 업무의 예정량은 다음과 같다.
B6: 가. 청소년 주도적 활동 및 청소년공간 확대 - 청소년들의 자기주도적인 참여를 통해 공공선에 기여하고 사회적 가치를 실현하는 건강한 시민으로서의 역할 수행 - 자율적 배움과 소통이 가능한 지역사회 내 청소년 이용시설 확대와 인접도시를 연결하는 이용시설 확장
B11: 나. 평화특별시의 주체가 되는 글로컬 역량강화 - 국제협약 등 국제사회의 AGENDA를 일상생활 속에서 실천할 수 있는 환경을 조성하고, 그 과정 속에서 세계시민의 역량을 증가시킬 수 있는 글로컬 (Glocalization) 사업의 확대
B14: 다. 4차 산업혁명에 대응할 수 있는 진로사업 확대 - 4차 산업혁명 등 급변하는 사회 환경에 대응할 수 있는 진로‧직업 역량 지원 체계 구축을 통해 과학기술‧산업분야의 주역이 될 수 있는 창의적 융합인재 성장 지원
B17: 라. 청소년 인권이 존중받는 청소년친화도시 조성 - 청소년의 인권 및 권리의식 제고를 통해 청소년이 누려야 할 권리와 시민권을 보장하며, 청소년이 차별받지 않고 존중받는 청소년친화도시 구현
B20: 마. 청소년이 안전한 지원시스템 확대 - 지역사회 청소년에 대한 종합적 사회안전망을 비롯한 안전교육 및 위기대응, 안전관리 지도자 역량강화 등을 통한 청소년의 안전한 생활환경 조성
B23: 바. 지역사회 기반의 청소년 지원체계 강화 - 지역 협력체계 구축을 위한 협업과 자원공유, 데이터베이스를 통한 청소년과 관련된 정보와 시각공유의 확대
B26: 사. 교육문화 활동을 통한 네트워크 기반 조성 - 지역자원을 활용한 다양한 형태의 열린 학습을 확대하고, 배움의 즐거움을 알아갈 수 있는 소통, 상호교육을 통한 시민의 삶과 행복 증진
B29: 아. 혁신경영을 통한 윤리경영 및 사회적 책임 강화 - 임직원 반부패 및 청렴활동 참여를 통한 깨끗하고 투명한 조직풍토를 조성하여, 청소년 및 지역주민이 공감할 수 있는 사회적 책임과 가치의 향상
B32: 자. 고객중심 서비스를 통한 신뢰 및 공감 - 수요자 중심의 서비스 시스템 구축을 통한 청소년과 시민이 공감하는 시설별 맞춤형 서비스 개발
... B38: 수 입
B39: 제1관 재단사업수입 | D39: =+SUM(D40:D42) -> 8711827000 | E39: 천원
B40: 제1항 영업수입 | D40: =세입예산총괄표3!B57 -> 2344993000 | E40: 천원
B41: 제2항 영업외수익 | D41: =세입예산총괄표3!B8 -> 6366834000 | E41: 천원
B42: 제3항 특별이익 | D42: 0 | E42: 천원
B43: 지 출
B44: 제1관 재단사업비용 | D44: =+SUM(D45:D49) -> 8711827000 | E44: 천원
B45: 제1항 영업비용 | D45: =세입세출요약총괄표5!I7+세입세출요약총괄표5!I17-세입세출요약총괄표5!I16 -> 8711827000 | E45: 천원
B46: 제2항 영업외비용 | D46: 0 | E46: 천원
B47: 제3항 특별손실 | D47: 0 | E47: 천원
B48: 제4항 법인세등 | D48: 0 | E48: 천원
B49: 제5항 예 비 비 | D49: =세출예산총괄표4!B71 -> 0 | E49: 천원
B50: 제4조(자본적수입 및 지출) 자본적수입 및 지출의 예정액은 다음과 같이 정한다.
B52: 수 입
B53: 제1관 자본적수입 | D53: =+SUM(D54:D59) -> 585277000 | E53: 천원
B54: 제1항 투자자산 | D54: 0 | E54: 천원
B55: 제2항 고정자산매각수입 | D55: 0 | E55: 천원
B56: 제3항 고정부채수입 | D56: 0 | E56: 천원
B57: 제4항 자 본 금 | D57: 0 | E57: 천원
B58: 제5항 자본잉여금수입 | D58: 50067000 | E58: 천원
B59: 제6항 기타자본잉여금수입 | D59: =세입세출요약총괄표5!B15+세입세출요약총괄표5!B22 -> 535210000 | E59: 천원
B61: 지 출
B62: 제1관 자본적지출 | D62: =+SUM(D63:D69) -> 92327000 | E62: 천원
B63: 제1항 투자자산 | D63: 0 | E63: 천원
B64: 제2항 유형자산 | D64: =세입세출요약총괄표5!I14+세입세출요약총괄표5!I21 -> 42260000 | E64: 천원
B65: 제3항 무형자산 | D65: 0 | E65: 천원
B66: 제4항 유동부채상환금 | D66: 0 | E66: 천원
B67: 제5항 고정부채상환금 | D67: 0 | E67: 천원
...

Sheet 간지2(세입세출예산안)

Sheet 세입예산규모1
A1: 2019년 세입예산 규모
F3: [단위:천원]
A4: 구 분 | B4: 2019년예산액(A) | D4: 2018년예산액(B) | F4: 증감(A-B)
B5: 금액 | C5: 구성비 | D5: 금액 | E5: 구성비 | F5: 금액 | G5: 증감률
A6: 총계 | B6: =SUM(B7:B10) -> 8711827000 | C6: =SUM(C7:C10) -> 1 | D6: =ROUNDUP(SUM(D7:D10),-3) -> 10222359000 | E6: =SUM(E7:E10) -> 1 | F6: =B6-D6 -> -1510532000 | G6: =+F6/D6 -> -0.14776746 | J6: 5914513000
A7: 출연금 | B7: =세입예산총괄표3!B9+세입예산총괄표3!B17 -> 5914513000 | C7: =+B7/$B$6 -> 0.67890616 | D7: =세입예산총괄표3!D9+세입예산총괄표3!D17 -> 5999764000 | E7: =+D7/$D$6 -> 0.58692558 | F7: =B7-D7 -> -85251000 | G7: =+F7/D7 -> -0.014209059 | J7: =B7-J6 -> 0
A8: 사업수익금 | B8: 2262104000 | C8: =+B8/$B$6 -> 0.25965897 | D8: 3475150000 | E8: =+D8/$D$6 -> 0.33995578 | F8: =B8-D8 -> -1213046000 | G8: =+F8/D8 -> -0.34906292
A9: 재단지원금 | B9: 0 | C9: =+B9/$B$6 -> 0 | D9: =세입예산총괄표3!D35 -> 65391000 | E9: =+D9/$D$6 -> 0.0063968601 | F9: =B9-D9 -> -65391000 | G9: =+F9/D9 -> -1 | J9: 5878391000
A10: 이월금 | B10: =세입예산총괄표3!B55+세입예산총괄표3!B81 -> 535210000 | C10: =+B10/$B$6 -> 0.061434875 | D10: =세입예산총괄표3!D55+세입예산총괄표3!D81 -> 682054000 | E10: =+D10/$D$6 -> 0.066721781 | F10: =B10-D10 -> -146844000 | G10: =+F10/D10 -> -0.21529674

Sheet 시설별예산총괄표2
A1: 2019년 시설별 예산(안) 총괄표
J3: [단위:천원]
A4: 구 분 | B4: 2019년예산액(A) | F4: 2018년예산액(B) | J4: 증감액(A-B) | N4: 증감률
B5: 합계 | C5: 출연금 | D5: 보조금 | E5: 자부담 | F5: 합계 | G5: 출연금 | H5: 보조금 | I5: 자부담 | J5: 합계 | K5: =C5 -> 출연금 | L5: =D5 -> 보조금 | M5: =E5 -> 자부담 | N5: 합계 | O5: =K5 -> 출연금 | P5: =L5 -> 보조금 | Q5: =M5 -> 자부담
A6: 총 계 | B6: =SUM(B7:B18) -> 8711827000 | C6: =SUM(C7:C18) -> 5914513000 | D6: =SUM(D7:D18) -> 0 | E6: =SUM(E7:E18) -> 2797314000 | F6: =SUM(F7:F18) -> 10222359000 | G6: =SUM(G7:G18) -> 5999764000 | H6: =SUM(H7:H18) -> 1553941000 | I6: =SUM(I7:I18) -> 2668654000 | J6: =SUM(J7:J18) -> -1510532000 | K6: =C6-G6 -> -85251000 | L6: =D6-H6 -> -1553941000 | M6: =E6-I6 -> 128660000 | N6: =J6/F6 -> -0.14776746 | O6: =K6/G6 -> -0.014209059 | P6: =L6/H6 -> -1 | Q6: =M6/I6 -> 0.04821157
A7: 사무국 | B7: 3623469000 | C7: 3222569000 | D7: 0 | E7: =B7-C7 -> 400900000 | F7: =SUM(G7:I7) -> 2147350000 | G7: 1600000000 | H7: 2800000 | I7: 544550000 | J7: =SUM(K7:M7) -> 1476119000 | K7: =C7-G7 -> 1622569000 | L7: =D7-H7 -> -2800000 | M7: =E7-I7 -> -143650000 | N7: =J7/F7 -> 0.68741425 | O7: =K7/G7 -> 1.0141056 | P7: =L7/H7 -> -1 | Q7: =M7/I7 -> -0.26379579
A8: 마두청소년수련관 | B8: 1143863000 | C8: 318913000 | D8: 0 | E8: =B8-C8 -> 824950000 | F8: =SUM(G8:I8) -> 1644864000 | G8: 861000000 | H8: 29000000 | I8: 754864000 | J8: =SUM(K8:M8) -> -501001000 | K8: =C8-G8 -> -542087000 | L8: =D8-H8 -> -29000000 | M8: =E8-I8 -> 70086000 | N8: =J8/F8 -> -0.30458506 | O8: =K8/G8 -> -0.62960163 | P8: =L8/H8 -> -1 | Q8: =M8/I8 -> 0.092845864
A9: 고양시청소년진로센터 | B9: 61498000 | C9: 61258000 | D9: 0 | E9: =B9-C9 -> 240000 | F9: =SUM(G9:I9) -> 656844000 | G9: 324988000 | H9: 286300000 | I9: 45556000 | J9: =SUM(K9:M9) -> -595346000 | K9: =C9-G9 -> -263730000 | L9: =D9-H9 -> -286300000 | M9: =E9-I9 -> -45316000 | N9: =J9/F9 -> -0.90637351 | O9: =K9/G9 -> -0.81150689 | P9: =L9/H9 -> -1 | Q9: =M9/I9 -> -0.99473176
A10: 성사청소년문화의집 | B10: 215312000 | C10: 184082000 | D10: 0 | E10: =B10-C10 -> 31230000 | F10: =SUM(G10:I10) -> 587720000 | G10: 331348000 | H10: 229944000 | I10: 26428000 | J10: =SUM(K10:M10) -> -372408000 | K10: =C10-G10 -> -147266000 | L10: =D10-H10 -> -229944000 | M10: =E10-I10 -> 4802000 | N10: =J10/F10 -> -0.63364868 | O10: =K10/G10 -> -0.44444512 | P10: =L10/H10 -> -1 | Q10: =M10/I10 -> 0.18170123
A11: 탄현청소년문화의집 | B11: 214777000 | C11: 86947000 | D11: 0 | E11: =B11-C11 -> 127830000 | F11: =SUM(G11:I11) -> 358832000 | G11: 216088000 | H11: 2000000 | I11: 140744000 | J11: =SUM(K11:M11) -> -144055000 | K11: =C11-G11 -> -129141000 | L11: =D11-H11 -> -2000000 | M11: =E11-I11 -> -12914000 | N11: =J11/F11 -> -0.40145528 | O11: =K11/G11 -> -0.59763152 | P11: =L11/H11 -> -1 | Q11: =M11/I11 -> -0.091755244
A12: 주교동청소년카페 | B12: 16051000 | C12: 16041000 | D12: 0 | E12: =B12-C12 -> 10000 | F12: =SUM(G12:I12) -> 106242000 | G12: 65189000 | H12: 0 | I12: 41053000 | J12: =SUM(K12:M12) -> -90191000 | K12: =C12-G12 -> -49148000 | L12: =D12-H12 -> 0 | M12: =E12-I12 -> -41043000 | N12: =J12/F12 -> -0.84892039 | O12: =K12/G12 -> -0.75393088 | Q12: =M12/I12 -> -0.99975641
A13: 일산서구청소년수련관 | B13: 914627000 | C13: 423402000 | D13: 0 | E13: =B13-C13 -> 491225000 | F13: =SUM(G13:I13) -> 1345286000 | G13: 1200000000 | H13: 0 | I13: 145286000 | J13: =SUM(K13:M13) -> -430659000 | K13: =C13-G13 -> -776598000 | L13: =D13-H13 -> 0 | M13: =E13-I13 -> 345939000 | N13: =J13/F13 -> -0.32012449 | O13: =K13/G13 -> -0.647165 | Q13: =M13/I13 -> 2.3810897
A14: 토당청소년수련관 | B14: 1749582000 | C14: 931104000 | D14: 0 | E14: =B14-C14 -> 818478000 | F14: =SUM(G14:I14) -> 1947236000 | G14: 822500000 | H14: 235394000 | I14: 889342000 | J14: =SUM(K14:M14) -> -197654000 | K14: =C14-G14 -> 108604000 | L14: =D14-H14 -> -235394000 | M14: =E14-I14 -> -70864000 | N14: =J14/F14 -> -0.1015049 | O14: =K14/G14 -> 0.13204134 | P14: =L14/H14 -> -1 | Q14: =M14/I14 -> -0.079681382
A15: 고양시청소년상담복지센터 | B15: 424075000 | C15: 375948000 | D15: 0 | E15: =B15-C15 -> 48127000 | F15: =SUM(G15:I15) -> 1115590000 | G15: 323393000 | H15: 768503000 | I15: 23694000 | J15: =SUM(K15:M15) -> -691515000 | K15: =C15-G15 -> 52555000 | L15: =D15-H15 -> -768503000 | M15: =E15-I15 -> 24433000 | N15: =J15/F15 -> -0.61986482 | O15: =K15/G15 -> 0.16251125 | P15: =L15/H15 -> -1 | Q15: =M15/I15 -> 1.0311893
A16: 화정청소년카페 | B16: 155824000 | C16: 116324000 | D16: 0 | E16: =B16-C16 -> 39500000 | F16: =SUM(G16:I16) -> 153106000 | G16: 118473000 | H16: 0 | I16: 34633000 | J16: =SUM(K16:M16) -> 2718000 | K16: =C16-G16 -> -2149000 | L16: =D16-H16 -> 0 | M16: =E16-I16 -> 4867000 | N16: =J16/F16 -> 0.017752407 | O16: =K16/G16 -> -0.018139154 | Q16: =M16/I16 -> 0.14053071
A17: 백마역청소년카페 | B17: 101394000 | C17: 89380000 | D17: 0 | E17: =B17-C17 -> 12014000 | F17: =SUM(G17:I17) -> 89509000 | G17: 69415000 | H17: 0 | I17: 20094000 | J17: =SUM(K17:M17) -> 11885000 | K17: =C17-G17 -> 19965000 | L17: =D17-H17 -> 0 | M17: =E17-I17 -> -8080000 | N17: =J17/F17 -> 0.13277994 | O17: =K17/G17 -> 0.28761795 | Q17: =M17/I17 -> -0.40211008
A18: 능곡역청소년카페 | B18: 91355000 | C18: 88545000 | D18: 0 | E18: =B18-C18 -> 2810000 | F18: =SUM(G18:I18) -> 69780000 | G18: 67370000 | H18: 0 | I18: 2410000 | J18: =SUM(K18:M18) -> 21575000 | K18: =C18-G18 -> 21175000 | L18: =D18-H18 -> 0 | M18: =E18-I18 -> 400000 | N18: =J18/F18 -> 0.30918601 | O18: =K18/G18 -> 0.31430904 | Q18: =M18/I18 -> 0.1659751

Sheet 세입예산총괄표3
A1: 2019년 세입예산(안) 총괄표
F3: [단위:천원]
A4: 세 입
A5: 예산과목 | B5: 2019년예산액(A) | D5: 2018년예산액(B) | F5: 증 감(A-B)
B6: 금액 | C6: 구성비 | D6: 금액 | E6: 구성비 | F6: 금 액 | G6: 증감률
A7: 총 계 | B7: =SUM(B8,B57) -> 8711827000 | C7: =+C8+C57 -> 1 | D7: =SUM(D8,D57) -> 10222359000 | E7: =+E8+E57 -> 1 | F7: =B7-D7 -> -1510532000 | G7: =+F7/D7 -> -0.14776746 | I7: 8794791000
A8: 영업외수익 | B8: =B9+B17+B23+B31+B33+B40+B53+B55 -> 6366834000 | C8: =+B8/$B$7 -> 0.7308265 | D8: =D9+D17+D23+D31+D33+D40+D53+D55+D35 -> 8265090000 | E8: =+D8/$D$7 -> 0.80853059 | F8: =F9+F17+F23+F31+F33+F40+F53+F55 -> -1832865000 | G8: =+F8/D8 -> -0.22175984 | N8: =B9+B17 -> 5914513000
A9: 지자체출자출연금 | B9: =SUM(B10:B16) -> 4313212000 | C9: =+B9/$B$7 -> 0.49509844 | D9: =SUM(D10:D16) -> 4598613000 | E9: =+D9/$D$7 -> 0.4498583 | F9: =SUM(F10:F16) -> -285401000 | G9: =+F9/D9 -> -0.062062409
A10: 사무국 | B10: ='예산세입(사무국)'!P20 -> 3222569000 | C10: =+B10/$B$7 -> 0.36990737 | D10: 1600000000 | E10: =+D10/$D$7 -> 0.15651964 | F10: =+B10-D10 -> 1622569000 | G10: =+F10/D10 -> 1.0141056 | J10: 추경액 | K10: 기정액 | O10: =D9+D17 -> 5999764000
A11: 마두청소년수련관 | B11: ='예산세입(마두)'!P87 -> 318913000 | C11: =+B11/$B$7 -> 0.036606902 | D11: 861000000 | E11: =+D11/$D$7 -> 0.084227134 | F11: =+B11-D11 -> -542087000 | G11: =+F11/D11 -> -0.62960163 | I11: 사무국 | J11: =SUMIFS($B$10:$B$105,$A$10:$A$105,"사무국") -> 3623469000 | K11: =SUMIF($A$10:$A$105,"사무국",$D$10:$D$105) -> 2147350000 | L11: =J11-K11 -> 1476119000
A12: 고양시청소년진로센터 | B12: ='예산세입(진로)'!O29 -> 61258000 | C12: =+B12/$B$7 -> 0.0070315905 | D12: 324988000 | E12: =+D12/$D$7 -> 0.031791879 | F12: =+B12-D12 -> -263730000 | G12: =+F12/D12 -> -0.81150689 | I12: 마두청소년수련관 | J12: =SUMIFS($B$10:$B$105,$A$10:$A$105,"마두청소년수련관") -> 1143863000 | K12: =SUMIF($A$10:$A$105,"마두청소년수련관",$D$10:$D$105) -> 1644864000 | L12: =J12-K12 -> -501001000 | O12: =B11+B12+B13+B14+B15+B16 -> 1090643000
A13: 성사청소년문화의집 | B13: ='예산세입(성사)'!P32 -> 184082000 | C13: =+B13/$B$7 -> 0.021130126 | D13: 331348000 | E13: =+D13/$D$7 -> 0.032414045 | F13: =+B13-D13 -> -147266000 | G13: =+F13/D13 -> -0.44444512 | I13: 고양시청소년진로센터 | J13: =SUMIFS($B$10:$B$105,$A$10:$A$105,"고양시청소년진로센터") -> 61498000 | K13: =SUMIF($A$10:$A$105,"고양시청소년진로센터",$D$10:$D$105) -> 656844000 | L13: =J13-K13 -> -595346000
A14: 탄현청소년문화의집 | B14: ='예산세입(탄현)'!O48 -> 86947000 | C14: =+B14/$B$7 -> 0.0099803405 | D14: 216088000 | E14: =+D14/$D$7 -> 0.021138761 | F14: =+B14-D14 -> -129141000 | G14: =+F14/D14 -> -0.59763152 | I14: 성사청소년문화의집 | J14: =SUMIFS($B$10:$B$105,$A$10:$A$105,"성사청소년문화의집") -> 215312000 | K14: =SUMIF($A$10:$A$105,"성사청소년문화의집",$D$10:$D$105) -> 587720000 | L14: =J14-K14 -> -372408000 | O14: v
A15: 주교동청소년카페 | B15: ='예산세입(주교)'!O23 -> 16041000 | C15: =+B15/$B$7 -> 0.00184129 | D15: 65189000 | E15: =+D15/$D$7 -> 0.0063770995 | F15: =+B15-D15 -> -49148000 | G15: =+F15/D15 -> -0.75393088 | I15: 탄현청소년문화의집 | J15: =SUMIFS($B$10:$B$105,$A$10:$A$105,"탄현청소년문화의집") -> 214777000 | K15: =SUMIF($A$10:$A$105,"탄현청소년문화의집",$D$10:$D$105) -> 358832000 | L15: =J15-K15 -> -144055000
A16: 일산서구청소년수련관 | B16: ='예산세입(일산서구)'!P77 -> 423402000 | C16: =+B16/$B$7 -> 0.048600827 | D16: 1200000000 | E16: =+D16/$D$7 -> 0.11738973 | F16: =+B16-D16 -> -776598000 | G16: =+F16/D16 -> -0.647165 | I16: 주교동청소년카페 | J16: =SUMIFS($B$10:$B$105,$A$10:$A$105,"주교동청소년카페") -> 16051000 | K16: =SUMIF($A$10:$A$105,"주교동청소년카페",$D$10:$D$105) -> 106242000 | L16: =J16-K16 -> -90191000
A17: 보조금수익(출연금위탁교부) | B17: =SUM(B18:B22) -> 1601301000 | C17: =+B17/$B$7 -> 0.18380771 | D17: =SUM(D18:D22) -> 1401151000 | E17: =+D17/$D$7 -> 0.13706729 | F17: =SUM(F18:F22) -> 200150000 | G17: =+F17/D17 -> 0.14284685 | I17: 일산서구청소년수련관 | J17: =SUMIFS($B$10:$B$105,$A$10:$A$105,"일산서구청소년수련관") -> 914627000 | K17: =SUMIF($A$10:$A$105,"일산서구청소년수련관",$D$10:$D$105) -> 1345286000 | L17: =J17-K17 -> -430659000
A18: 토당청소년수련관 | B18: ='예산세입(토당)'!P82 -> 931104000 | C18: =+B18/$B$7 -> 0.10687816 | D18: 822500000 | E18: =+D18/$D$7 -> 0.08046088 | F18: =+B18-D18 -> 108604000 | G18: =+F18/D18 -> 0.13204134 | I18: 토당청소년수련관 | J18: =SUMIFS($B$10:$B$105,$A$10:$A$105,"토당청소년수련관") -> 1749582000 | K18: =SUMIF($A$10:$A$105,"토당청소년수련관",$D$10:$D$105) -> 1947236000 | L18: =J18-K18 -> -197654000
A19: 고양시청소년상담복지센터 | B19: ='예산세입(상담)'!O22 -> 375948000 | C19: =+B19/$B$7 -> 0.043153749 | D19: 323393000 | E19: =+D19/$D$7 -> 0.031635848 | F19: =+B19-D19 -> 52555000 | G19: =+F19/D19 -> 0.16251125 | I19: 고양시청소년상담복지센터 | J19: =SUMIFS($B$10:$B$105,$A$10:$A$105,"고양시청소년상담복지센터") -> 424075000 | K19: =SUMIF($A$10:$A$105,"고양시청소년상담복지센터",$D$10:$D$105) -> 1115590000 | L19: =J19-K19 -> -691515000
A20: 화정청소년카페 | B20: ='예산세입(화정)'!P29 -> 116324000 | C20: =+B20/$B$7 -> 0.013352423 | D20: 118473000 | E20: =+D20/$D$7 -> 0.011589595 | F20: =+B20-D20 -> -2149000 | G20: =+F20/D20 -> -0.018139154 | I20: 화정청소년카페 | J20: =SUMIFS($B$10:$B$105,$A$10:$A$105,"화정청소년카페") -> 155824000 | K20: =SUMIF($A$10:$A$105,"화정청소년카페",$D$10:$D$105) -> 153106000 | L20: =J20-K20 -> 2718000
A21: 백마역청소년카페 | B21: ='예산세입(백마)'!O20 -> 89380000 | C21: =+B21/$B$7 -> 0.010259616 | D21: 69415000 | E21: =+D21/$D$7 -> 0.006790507 | F21: =+B21-D21 -> 19965000 | G21: =+F21/D21 -> 0.28761795 | I21: 백마역청소년카페 | J21: =SUMIFS($B$10:$B$105,$A$10:$A$105,"백마역청소년카페") -> 101394000 | K21: =SUMIF($A$10:$A$105,"백마역청소년카페",$D$10:$D$105) -> 89509000 | L21: =J21-K21 -> 11885000
A22: 능곡역청소년카페 | B22: ='예산세입(능곡)'!P18 -> 88545000 | C22: =+B22/$B$7 -> 0.010163769 | D22: 67370000 | E22: =+D22/$D$7 -> 0.0065904553 | F22: =+B22-D22 -> 21175000 | G22: =+F22/D22 -> 0.31430904 | I22: 능곡역청소년카페 | J22: =SUMIFS($B$10:$B$105,$A$10:$A$105,"능곡역청소년카페") -> 91355000 | K22: =SUMIF($A$10:$A$105,"능곡역청소년카페",$D$10:$D$105) -> 69780000 | L22: =J22-K22 -> 21575000
A23: 국도시비보조금 | B23: =SUM(B24:B30) -> 0 | C23: =+B23/$B$7 -> 0 | D23: =SUM(D24:D30) -> 1553941000 | E23: =+D23/$D$7 -> 0.15201393 | F23: =SUM(F24:F30) -> -1553941000 | G23: =+F23/D23 -> -1 | J23: =SUM(J11:J22) -> 8711827000 | K23: =SUM(K11:K22) -> 10222359000
A24: 사무국 | B24: ='예산세입(사무국)'!P13 -> 0 | C24: =+B24/$B$7 -> 0 | D24: 2800000 | E24: =+D24/$D$7 -> 0.00027390938 | F24: =+B24-D24 -> -2800000 | G24: =+F24/D24 -> -1 | I24: =B23+B31+B33 -> 0 | J24: =C23+C31+C33 -> 0 | K24: =D23+D31+D33 -> 1603941000 | L24: =E23+E31+E33 -> 0.15690517
A25: 마두청소년수련관 | B25: ='예산세입(마두)'!P76 -> 0 | C25: =+B25/$B$7 -> 0 | D25: 29000000 | E25: =+D25/$D$7 -> 0.0028369186 | F25: =+B25-D25 -> -29000000 | G25: =+F25/D25 -> -1
A26: 고양시청소년진로센터 | B26: ='예산세입(진로)'!P13 -> 0 | C26: =+B26/$B$7 -> 0 | D26: 286300000 | E26: =+D26/$D$7 -> 0.028007234 | F26: =+B26-D26 -> -286300000 | G26: =+F26/D26 -> -1
A27: 성사청소년문화의집 | B27: ='예산세입(성사)'!P30 -> 0 | C27: =+B27/$B$7 -> 0 | D27: 229944000 | E27: =+D27/$D$7 -> 0.022494221 | F27: =+B27-D27 -> -229944000 | G27: =+F27/D27 -> -1 | I27: =D23+D31+D33+D35 -> 1669332000
A28: 탄현청소년문화의집 | B28: ='예산세입(탄현)'!P39 -> 0 | C28: =+B28/$B$7 -> 0 | D28: 2000000 | E28: =+D28/$D$7 -> 0.00019564956 | F28: =+B28-D28 -> -2000000 | G28: =+F28/D28 -> -1
A29: 토당청소년수련관 | B29: 0 | C29: =+B29/$B$7 -> 0 | D29: 235394000 | E29: =+D29/$D$7 -> 0.023027366 | F29: =+B29-D29 -> -235394000 | G29: =+F29/D29 -> -1
A30: 고양시청소년상담복지센터 | B30: 0 | C30: =+B30/$B$7 -> 0 | D30: 768503000 | E30: =+D30/$D$7 -> 0.075178635 | F30: =+B30-D30 -> -768503000 | G30: =+F30/D30 -> -1
A31: 교육청사업 | B31: =SUM(B32:B32) -> 0 | C31: =+B31/$B$7 -> 0 | D31: =SUM(D32:D32) -> 44000000 | E31: =+D31/$D$7 -> 0.0043042902 | F31: =SUM(F32:F32) -> -44000000 | G31: =+F31/D31 -> -1
A32: 고양시청소년진로센터 | B32: ='예산세입(진로)'!P19 -> 0 | C32: =+B32/$B$7 -> 0 | D32: ='예산세입(진로)'!Q19 -> 44000000 | E32: =+D32/$D$7 -> 0.0043042902 | F32: =+B32-D32 -> -44000000 | G32: =+F32/D32 -> -1
A33: 기타보조금 | B33: =SUM(B34:B34) -> 0 | C33: =+B33/$B$7 -> 0 | D33: =SUM(D34:D34) -> 6000000 | E33: =+D33/$D$7 -> 0.00058694867 | F33: =SUM(F34:F34) -> -6000000 | G33: =+F33/D33 -> -1
A34: 토당청소년수련관 | B34: ='예산세입(토당)'!P85 -> 0 | C34: =+B34/$B$7 -> 0 | D34: ='예산세입(토당)'!Q85 -> 6000000 | E34: =+D34/$D$7 -> 0.00058694867 | F34: =+B34-D34 -> -6000000 | G34: =+F34/D34 -> -1
A35: 재단지원금 | B35: =SUM(B36:B39) -> 0 | C35: =+B35/$B$7 -> 0 | D35: =SUM(D36:D39) -> 65391000 | E35: =+D35/$D$7 -> 0.0063968601 | F35: =SUM(F36:F39) -> -65391000 | G35: =+F35/D35 -> -1
A36: 탄현청소년문화의집 | B36: 0 | C36: =+B36/$B$7 -> 0 | D36: 20720000 | E36: =+D36/$D$7 -> 0.0020269294 | F36: =+B36-D36 -> -20720000 | G36: =+F36/D36 -> -1
A37: 주교동청소년카페 | B37: 0 | C37: =+B37/$B$7 -> 0 | D37: 37081000 | E37: =+D37/$D$7 -> 0.0036274406 | F37: =+B37-D37 -> -37081000 | G37: =+F37/D37 -> -1
A38: 고양시청소년상담복지센터 | B38: 0 | C38: =+B38/$B$7 -> 0 | D38: 3510000 | E38: =+D38/$D$7 -> 0.00034336497 | F38: =+B38-D38 -> -3510000 | G38: =+F38/D38 -> -1
A39: 백마역청소년카페 | B39: 0 | C39: =+B39/$B$7 -> 0 | D39: 4080000 | E39: =+D39/$D$7 -> 0.00039912509 | F39: =+B39-D39 -> -4080000 | G39: =+F39/D39 -> -1
A40: 이자수익 | B40: =SUM(B41:B52) -> 2321000 | C40: =+B40/$B$7 -> 0.00026641943 | D40: =SUM(D41:D52) -> 2164000 | E40: =+D40/$D$7 -> 0.00021169282 | F40: =SUM(F41:F52) -> 157000 | G40: =+F40/D40 -> 0.072550832
A41: 사무국 | B41: ='예산세입(사무국)'!P9 -> 900000 | C41: =+B41/$B$7 -> 0.00010330784 | D41: ='예산세입(사무국)'!Q9 -> 720000 | E41: =+D41/$D$7 -> 7.043384e-05 | F41: =+B41-D41 -> 180000 | G41: =+F41/D41 -> 0.25
...

Sheet 세출예산총괄표4
A1: 2019년 세출예산(안) 총괄표
F3: [단위:천원]
A4: 세 출
A5: 예산과목 | B5: 2019년예산액(A) | D5: 2018년예산액(B) | F5: 증 감(A-B)
B6: 금액 | C6: 구성비 | D6: 금액 | E6: 구성비 | F6: 금 액 | G6: 증감률
A7: 총 계 | B7: =SUM(B8,B73) -> 8711827000 | C7: =+C8+C73 -> 1 | D7: =SUM(D8,D73) -> 10222359000 | E7: =+E8+E73 -> 1 | F7: =B7-D7 -> -1510532000 | G7: =+F7/D7 -> -0.14776746 | J7: =B9+B74 -> 3826014000
A8: 사업비용 | B8: =SUM(B9,B22,B35,B48,B56,B58,B60,B69,B71) -> 6314513000 | C8: =+B8/B7 -> 0.72482075 | D8: =SUM(D9,D22,D35,D48,D56,D58,D60,D69,D71) -> 8034222000 | E8: =+D8/D7 -> 0.78594598 | F8: =SUM(F9,F22,F35,F48,F56,F58,F60,F69,F71) -> -1719709000 | G8: =+F8/D8 -> -0.21404798
A9: 인건비 | B9: =SUM(B10:B21) -> 3523140000 | C9: =+B9/$B$7 -> 0.40440886 | D9: =SUM(D10:D21) -> 3101397000 | E9: =+D9/$D$7 -> 0.30339347 | F9: =SUM(F10:F21) -> 421743000 | G9: =+F9/D9 -> 0.13598485 | K9: 추경액 | L9: 기정액
A10: 사무국 | B10: ='예산세출(사무국)'!Q8 -> 2200111000 | C10: =+B10/$B$7 -> 0.25254301 | D10: 569927000 | E10: =+D10/$D$7 -> 0.055752982 | F10: =+B10-D10 -> 1630184000 | G10: =+F10/D10 -> 2.8603383 | J10: 사무국 | K10: =SUMIFS($B$10:$B$137,$A$10:$A$137,"사무국") -> 3623469000 | L10: =SUMIF($A$10:$A$137,"사무국",$D$10:$D$137) -> 2147350000 | M10: 2147350000 | N10: =L10-M10 -> 0 | O10: 인건비 | P10: =B9 -> 3523140000 | Q10: =C9 -> 0.40440886 | R10: =D9 -> 3101397000 | S10: 5999764000
A11: 마두청소년수련관 | B11: ='예산세출(마두)'!Q8 -> 12925000 | C11: =+B11/$B$7 -> 0.0014836153 | D11: 518616000 | E11: =+D11/$D$7 -> 0.050733495 | F11: =+B11-D11 -> -505691000 | G11: =+F11/D11 -> -0.9750779 | J11: 마두청소년수련관 | K11: =SUMIFS($B$10:$B$137,$A$10:$A$137,"마두청소년수련관") -> 1143863000 | L11: =SUMIF($A$10:$A$137,"마두청소년수련관",$D$10:$D$137) -> 1644864000 | M11: 1644864000 | N11: =L11-M11 -> 0 | O11: 운영비 | P11: =B22 -> 1436607000 | Q11: =C22 -> 0.16490307 | R11: =D22 -> 1461948000
A12: 고양시청소년진로센터 | B12: ='예산세출(진로)'!Q8 -> 21248000 | C12: =+B12/$B$7 -> 0.0024389832 | D12: 191160000 | E12: =+D12/$D$7 -> 0.018700185 | F12: =+B12-D12 -> -169912000 | G12: =+F12/D12 -> -0.88884704 | J12: 고양시청소년진로센터 | K12: =SUMIFS($B$10:$B$137,$A$10:$A$137,"고양시청소년진로센터") -> 61498000 | L12: =SUMIF($A$10:$A$137,"고양시청소년진로센터",$D$10:$D$137) -> 656844000 | M12: 656844000 | N12: =L12-M12 -> 0 | O12: 자산취득비 | P12: =B60 -> 16900000 | Q12: =C60 -> 0.0019398916 | R12: =D60 -> 378802000
A13: 성사청소년문화의집 | B13: ='예산세출(성사)'!Q8 -> 37340000 | C13: =+B13/$B$7 -> 0.0042861274 | D13: 183764000 | E13: =+D13/$D$7 -> 0.017976673 | F13: =+B13-D13 -> -146424000 | G13: =+F13/D13 -> -0.7968046 | J13: 성사청소년문화의집 | K13: =SUMIFS($B$10:$B$137,$A$10:$A$137,"성사청소년문화의집") -> 215312000 | L13: =SUMIF($A$10:$A$137,"성사청소년문화의집",$D$10:$D$137) -> 587720000 | M13: 587720000 | N13: =L13-M13 -> 0 | O13: 성과급 | P13: =B69 -> 91448000 | Q13: =C69 -> 0.010496994 | R13: =D69 -> 91448000
A14: 탄현청소년문화의집 | B14: ='예산세출(탄현)'!Q8 -> 32717000 | C14: =+B14/$B$7 -> 0.0037554694 | D14: 144144000 | E14: =+D14/$D$7 -> 0.014100855 | F14: =+B14-D14 -> -111427000 | G14: =+F14/D14 -> -0.77302559 | J14: 탄현청소년문화의집 | K14: =SUMIFS($B$10:$B$137,$A$10:$A$137,"탄현청소년문화의집") -> 214777000 | L14: =SUMIF($A$10:$A$137,"탄현청소년문화의집",$D$10:$D$137) -> 358832000 | M14: 358832000 | N14: =L14-M14 -> 0 | O14: 예비비 | P14: =B71 -> 0 | Q14: =C71 -> 0 | R14: =D71 -> 20000000
A15: 주교동청소년카페 | B15: ='예산세출(주교)'!Q8 -> 0 | C15: =+B15/$B$7 -> 0 | D15: 46863000 | E15: =+D15/$D$7 -> 0.0045843626 | F15: =+B15-D15 -> -46863000 | G15: =+F15/D15 -> -1 | J15: 주교동청소년카페 | K15: =SUMIFS($B$10:$B$137,$A$10:$A$137,"주교동청소년카페") -> 16051000 | L15: =SUMIF($A$10:$A$137,"주교동청소년카페",$D$10:$D$137) -> 106242000 | M15: 106242000 | N15: =L15-M15 -> 0 | O15: 사업비 | P15: =B35 -> 1246418000 | Q15: =C35 -> 0.14307194 | R15: =D35 -> 1376686000 | S15: =R15-R18 -> 946169000
A16: 일산서구청소년수련관 | B16: ='예산세출(일산서구)'!Q8 -> 130434000 | C16: =+B16/$B$7 -> 0.01497206 | D16: 500000000 | E16: =+D16/$D$7 -> 0.048912389 | F16: =+B16-D16 -> -369566000 | G16: =+F16/D16 -> -0.739132 | J16: 일산서구청소년수련관 | K16: =SUMIFS($B$10:$B$137,$A$10:$A$137,"일산서구청소년수련관") -> 914627000 | L16: =SUMIF($A$10:$A$137,"일산서구청소년수련관",$D$10:$D$137) -> 1345286000 | M16: 1345286000 | N16: =L16-M16 -> 0 | P16: =SUM(P10:P15) -> 6314513000 | R16: =SUM(R10:R15) -> 6430281000
A17: 토당청소년수련관 | B17: ='예산세출(토당)'!Q8 -> 612394000 | C17: =+B17/$B$7 -> 0.070294555 | D17: 576692000 | E17: =+D17/$D$7 -> 0.056414767 | F17: =+B17-D17 -> 35702000 | G17: =+F17/D17 -> 0.061908263 | J17: 토당청소년수련관 | K17: =SUMIFS($B$10:$B$137,$A$10:$A$137,"토당청소년수련관") -> 1749582000 | L17: =SUMIF($A$10:$A$137,"토당청소년수련관",$D$10:$D$137) -> 1947236000 | M17: 1947236000 | N17: =L17-M17 -> 0
A18: 고양시청소년상담복지센터 | B18: ='예산세출(상담)'!Q8 -> 309399000 | C18: =+B18/$B$7 -> 0.035514824 | D18: 224951000 | E18: =+D18/$D$7 -> 0.022005782 | F18: =+B18-D18 -> 84448000 | G18: =+F18/D18 -> 0.3754062 | J18: 고양시청소년상담복지센터 | K18: =SUMIFS($B$10:$B$137,$A$10:$A$137,"고양시청소년상담복지센터") -> 424075000 | L18: =SUMIF($A$10:$A$137,"고양시청소년상담복지센터",$D$10:$D$137) -> 1115590000 | M18: 1115590000 | N18: =L18-M18 -> 0 | P18: 5934238000 | R18: =R16-S10 -> 430517000
A19: 화정청소년카페 | B19: ='예산세출(화정)'!Q8 -> 62617000 | C19: =+B19/$B$7 -> 0.0071875853 | D19: ='예산세출(화정)'!R8 -> 63200000 | E19: =+D19/$D$7 -> 0.006182526 | F19: =+B19-D19 -> -583000 | G19: =+F19/D19 -> -0.0092246835 | J19: 화정청소년카페 | K19: =SUMIFS($B$10:$B$137,$A$10:$A$137,"화정청소년카페") -> 155824000 | L19: =SUMIF($A$10:$A$137,"화정청소년카페",$D$10:$D$137) -> 153106000 | M19: 153106000 | N19: =L19-M19 -> 0
A20: 백마역청소년카페 | B20: ='예산세출(백마)'!Q8 -> 57190000 | C20: =+B20/$B$7 -> 0.0065646391 | D20: 44880000 | E20: =+D20/$D$7 -> 0.004390376 | F20: =+B20-D20 -> 12310000 | G20: =+F20/D20 -> 0.27428699 | J20: 백마역청소년카페 | K20: =SUMIFS($B$10:$B$137,$A$10:$A$137,"백마역청소년카페") -> 101394000 | L20: =SUMIF($A$10:$A$137,"백마역청소년카페",$D$10:$D$137) -> 89509000 | M20: 89509000 | N20: =L20-M20 -> 0 | P20: =P16-P18 -> 380275000
A21: 능곡역청소년카페 | B21: ='예산세출(능곡)'!Q8 -> 46765000 | C21: =+B21/$B$7 -> 0.00536799 | D21: ='예산세출(능곡)'!R8 -> 37200000 | E21: =+D21/$D$7 -> 0.0036390817 | F21: =+B21-D21 -> 9565000 | G21: =+F21/D21 -> 0.25712366 | J21: 능곡역청소년카페 | K21: =SUMIFS($B$10:$B$137,$A$10:$A$137,"능곡역청소년카페") -> 91355000 | L21: =SUMIF($A$10:$A$137,"능곡역청소년카페",$D$10:$D$137) -> 69780000 | M21: 69780000 | N21: =L21-M21 -> 0
A22: 경비 | B22: =SUM(B23:B34) -> 1436607000 | C22: =B22/$B$7 -> 0.16490307 | D22: =SUM(D23:D34) -> 1461948000 | E22: =+D22/$D$7 -> 0.14301474 | F22: =SUM(F23:F34) -> -25341000 | G22: =+F22/D22 -> -0.017333722 | K22: =SUM(K10:K21) -> 8711827000 | L22: =SUM(L10:L21) -> 10222359000
A23: 사무국 | B23: ='예산세출(사무국)'!Q70 -> 396810000 | C23: =+B23/$B$7 -> 0.045548425 | D23: 313140000 | E23: =+D23/$D$7 -> 0.030632851 | F23: =+B23-D23 -> 83670000 | G23: =+F23/D23 -> 0.26719678
A24: 마두청소년수련관 | B24: ='예산세출(마두)'!Q31 -> 234884000 | C24: =+B24/$B$7 -> 0.026961509 | D24: 274384000 | E24: =+D24/$D$7 -> 0.026841554 | F24: =+B24-D24 -> -39500000 | G24: =+F24/D24 -> -0.14395883
A25: 고양시청소년진로센터 | B25: ='예산세출(진로)'!Q17 -> 38310000 | C25: =+B25/$B$7 -> 0.0043974702 | D25: 51208000 | E25: =+D25/$D$7 -> 0.0050094112 | F25: =+B25-D25 -> -12898000 | G25: =+F25/D25 -> -0.25187471 | I25: 인건비 | J25: =B9 -> 3523140000 | M25: =SUM(J25:L25) -> 3523140000
A26: 성사청소년문화의집 | B26: ='예산세출(성사)'!Q24 -> 86150000 | C26: =+B26/$B$7 -> 0.0098888557 | D26: 88010000 | E26: =+D26/$D$7 -> 0.0086095587 | F26: =+B26-D26 -> -1860000 | G26: =+F26/D26 -> -0.021133962 | I26: 경비 | J26: =B22 -> 1436607000 | K26: =B60 -> 16900000 | L26: =B69 -> 91448000 | M26: =SUM(J26:L26) -> 1544955000
A27: 탄현청소년문화의집 | B27: ='예산세출(탄현)'!Q23 -> 25630000 | C27: =+B27/$B$7 -> 0.0029419776 | D27: 42544000 | E27: =+D27/$D$7 -> 0.0041618574 | F27: =+B27-D27 -> -16914000 | G27: =+F27/D27 -> -0.39756487 | I27: 목적사업비 | J27: =B35-400000000 -> 846418000 | M27: =SUM(J27:L27) -> 846418000
A28: 주교동청소년카페 | B28: ='예산세출(주교)'!Q13 -> 11334000 | C28: =+B28/$B$7 -> 0.00130099 | D28: 14296000 | E28: =+D28/$D$7 -> 0.001398503 | F28: =+B28-D28 -> -2962000 | G28: =+F28/D28 -> -0.20719082
A29: 일산서구청소년수련관 | B29: ='예산세출(일산서구)'!Q19 -> 209331000 | C29: =+B29/$B$7 -> 0.02402837 | D29: 325265000 | E29: =+D29/$D$7 -> 0.031818976 | F29: =+B29-D29 -> -115934000 | G29: =+F29/D29 -> -0.35642937 | J29: =SUM(J25:J28) -> 5806165000 | K29: =SUM(K25:K28) -> 16900000 | L29: =SUM(L25:L28) -> 91448000 | M29: =SUM(J29:L29) -> 5914513000
A30: 토당청소년수련관 | B30: ='예산세출(토당)'!Q59 -> 311110000 | C30: =+B30/$B$7 -> 0.035711223 | D30: 240808000 | E30: =+D30/$D$7 -> 0.023556989 | F30: =+B30-D30 -> 70302000 | G30: =+F30/D30 -> 0.29194213
A31: 고양시청소년상담복지센터 | B31: ='예산세출(상담)'!Q85 -> 53181000 | C31: =+B31/$B$7 -> 0.0061044601 | D31: 48841000 | E31: =+D31/$D$7 -> 0.00477786 | F31: =+B31-D31 -> 4340000 | G31: =+F31/D31 -> 0.088859769
A32: 화정청소년카페 | B32: ='예산세출(화정)'!Q30 -> 22207000 | C32: =+B32/$B$7 -> 0.0025490635 | D32: ='예산세출(화정)'!R30 -> 19247000 | E32: =+D32/$D$7 -> 0.0018828335 | F32: =+B32-D32 -> 2960000 | G32: =+F32/D32 -> 0.1537902
A33: 백마역청소년카페 | B33: ='예산세출(백마)'!Q25 -> 25580000 | C33: =+B33/$B$7 -> 0.0029362383 | D33: 24535000 | E33: =+D33/$D$7 -> 0.0024001309 | F33: =+B33-D33 -> 1045000 | G33: =+F33/D33 -> 0.042592215
A34: 능곡역청소년카페 | B34: ='예산세출(능곡)'!Q22 -> 22080000 | C34: =+B34/$B$7 -> 0.0025344856 | D34: ='예산세출(능곡)'!R22 -> 19670000 | E34: =+D34/$D$7 -> 0.0019242134 | F34: =+B34-D34 -> 2410000 | G34: =+F34/D34 -> 0.12252161
A35: 목적사업비 | B35: =SUM(B36:B47) -> 1246418000 | C35: =+B35/$B$7 -> 0.14307194 | D35: =SUM(D36:D47) -> 1376686000 | E35: =+D35/$D$7 -> 0.134674 | F35: =SUM(F36:F47) -> -130268000 | G35: =+F35/D35 -> -0.094624337
A36: 사무국 | B36: ='예산세출(사무국)'!Q214 -> 928000000 | C36: =+B36/$B$7 -> 0.10652186 | D36: ='예산세출(사무국)'!R214 -> 996980000 | E36: =+D36/$D$7 -> 0.097529347 | F36: =+B36-D36 -> -68980000 | G36: =+F36/D36 -> -0.069188951
A37: 마두청소년수련관 | B37: ='예산세출(마두)'!Q133 -> 69004000 | C37: =+B37/$B$7 -> 0.0079207266 | D37: ='예산세출(마두)'!R133 -> 65000000 | E37: =+D37/$D$7 -> 0.0063586106 | F37: =+B37-D37 -> 4004000 | G37: =+F37/D37 -> 0.0616
A38: 고양시청소년진로센터 | B38: ='예산세출(진로)'!Q97 -> 0 | C38: =+B38/$B$7 -> 0 | D38: ='예산세출(진로)'!R97 -> 77520000 | E38: =+D38/$D$7 -> 0.0075833768 | F38: =+B38-D38 -> -77520000 | G38: =+F38/D38 -> -1
A39: 성사청소년문화의집 | B39: ='예산세출(성사)'!Q100 -> 60592000 | C39: =+B39/$B$7 -> 0.0069551427 | D39: ='예산세출(성사)'!R100 -> 52574000 | E39: =+D39/$D$7 -> 0.0051430399 | F39: =+B39-D39 -> 8018000 | G39: =+F39/D39 -> 0.15250884
A40: 탄현청소년문화의집 | B40: ='예산세출(탄현)'!Q54 -> 28600000 | C40: =+B40/$B$7 -> 0.0032828935 | D40: ='예산세출(탄현)'!R54 -> 29400000 | E40: =+D40/$D$7 -> 0.0028760485 | F40: =+B40-D40 -> -800000 | G40: =+F40/D40 -> -0.027210884 | J40: =N32+N33+N34 -> 0
A41: 주교동청소년카페 | B41: ='예산세출(주교)'!Q61 -> 4707000 | C41: =+B41/$B$7 -> 0.00054029999 | D41: ='예산세출(주교)'!R61 -> 4030000 | E41: =+D41/$D$7 -> 0.00039423386 | F41: =+B41-D41 -> 677000 | G41: =+F41/D41 -> 0.16799007
...

Sheet 세입세출요약총괄표5
A1: 2019년 세입·세출예산(안) 요약 총괄표
M2: [단위:천원]
A3: 세 입 | H3: 세 출
A4: 예산과목 | B4: 2019년예산액(A) | D4: 2018년예산액(B) | F4: 증 감(A-B) | H4: =A4 -> 예산과목 | I4: =B4 -> 2019년예산액(A) | K4: =D4 -> 2018년예산액(B) | M4: 증 감(A-B)
B5: 금 액 | C5: 구성비 | D5: 금 액 | E5: 구성비 | F5: 금 액 | G5: 증감률 | I5: 금 액 | J5: 구성비 | K5: 금 액 | L5: 구성비 | M5: 금 액 | N5: 증감률
A6: 총 계 | B6: =SUM(B7,B17) -> 8711827000 | C6: =+C7+C17 -> 1 | D6: =SUM(D7,D17) -> 10222359000 | E6: =+E7+E17 -> 1 | F6: =+B6-D6 -> -1510532000 | G6: =+F6/D6 -> -0.14776746 | H6: =A6 -> 총 계 | I6: =SUM(I7,I17) -> 8711827000 | J6: =+J7+J17 -> 1 | K6: =SUM(K7,K17) -> 10222359000 | L6: =+L7+L17 -> 1 | M6: =+I6-K6 -> -1510532000 | N6: =+M6/K6 -> -0.14776746
A7: 영업외수익 | B7: =SUM(B8:B16) -> 6366834000 | C7: =+B7/$B$6 -> 0.7308265 | D7: =SUM(D8:D16) -> 8199699000 | E7: =+D7/$D$6 -> 0.80213373 | F7: =+B7-D7 -> -1832865000 | G7: =+F7/D7 -> -0.22352833 | H7: 사업비용 | I7: =SUM(I8:I16) -> 6314513000 | J7: =+I7/I6 -> 0.72482075 | K7: =SUM(K8:K16) -> 8034222000 | L7: =+K7/K6 -> 0.78594598 | M7: =+I7-K7 -> -1719709000 | N7: =+M7/K7 -> -0.21404798
A8: =세입예산총괄표3!A9 -> 지자체출자출연금 | B8: =세입예산총괄표3!B9 -> 4313212000 | C8: =+B8/$B$6 -> 0.49509844 | D8: =세입예산총괄표3!D9 -> 4598613000 | E8: =+D8/$D$6 -> 0.4498583 | F8: =+B8-D8 -> -285401000 | G8: =+F8/D8 -> -0.062062409 | H8: =세출예산총괄표4!A9 -> 인건비 | I8: =세출예산총괄표4!B9 -> 3523140000 | J8: =+I8/$I$6 -> 0.40440886 | K8: =세출예산총괄표4!D9 -> 3101397000 | L8: =+K8/$K$6 -> 0.30339347 | M8: =+I8-K8 -> 421743000 | N8: =+M8/K8 -> 0.13598485
A9: =세입예산총괄표3!A17 -> 보조금수익(출연금위탁교부) | B9: =세입예산총괄표3!B17 -> 1601301000 | C9: =+B9/$B$6 -> 0.18380771 | D9: =세입예산총괄표3!D17 -> 1401151000 | E9: =+D9/$D$6 -> 0.13706729 | F9: =+B9-D9 -> 200150000 | G9: =+F9/D9 -> 0.14284685 | H9: =세출예산총괄표4!A22 -> 경비 | I9: =세출예산총괄표4!B22 -> 1436607000 | J9: =+I9/$I$6 -> 0.16490307 | K9: =세출예산총괄표4!D22 -> 1461948000 | L9: =+K9/$K$6 -> 0.14301474 | M9: =+I9-K9 -> -25341000 | N9: =+M9/K9 -> -0.017333722
A10: =세입예산총괄표3!A23 -> 국도시비보조금 | B10: =세입예산총괄표3!B23 -> 0 | C10: =+B10/$B$6 -> 0 | D10: =세입예산총괄표3!D23 -> 1553941000 | E10: =+D10/$D$6 -> 0.15201393 | F10: =+B10-D10 -> -1553941000 | G10: =+F10/D10 -> -1 | H10: =세출예산총괄표4!A35 -> 목적사업비 | I10: =세출예산총괄표4!B35 -> 1246418000 | J10: =+I10/$I$6 -> 0.14307194 | K10: =세출예산총괄표4!D35 -> 1376686000 | L10: =+K10/$K$6 -> 0.134674 | M10: =+I10-K10 -> -130268000 | N10: =+M10/K10 -> -0.094624337 | P10: 846418000 | Q10: =B15 -> 400000000 | R10: 946168600 | S10: =D15 -> 543830000
A11: =세입예산총괄표3!A31 -> 교육청사업 | B11: =세입예산총괄표3!B31 -> 0 | C11: =+B11/$B$6 -> 0 | D11: =세입예산총괄표3!D31 -> 44000000 | E11: =+D11/$D$6 -> 0.0043042902 | F11: =+B11-D11 -> -44000000 | G11: =+F11/D11 -> -1 | H11: =세출예산총괄표4!A48 -> 국도시비보조금사업비 | I11: =세출예산총괄표4!B48 -> 0 | J11: =+I11/$I$6 -> 0 | K11: =세출예산총괄표4!D48 -> 1553941000 | L11: =+K11/$K$6 -> 0.15201393 | M11: =+I11-K11 -> -1553941000 | N11: =+M11/K11 -> -1 | P11: 1604770000 | R11: 1278144000
A12: =세입예산총괄표3!A33 -> 기타보조금 | B12: =세입예산총괄표3!B33 -> 0 | C12: =+B12/$B$6 -> 0 | D12: =세입예산총괄표3!D33 -> 6000000 | E12: =+D12/$D$6 -> 0.00058694867 | F12: =+B12-D12 -> -6000000 | G12: =+F12/D12 -> -1 | H12: =세출예산총괄표4!A56 -> 교육청사업비 | I12: =세출예산총괄표4!B56 -> 0 | J12: =+I12/$I$6 -> 0 | K12: =세출예산총괄표4!D56 -> 44000000 | L12: =+K12/$K$6 -> 0.0043042902 | M12: =+I12-K12 -> -44000000 | N12: =+M12/K12 -> -1 | P12: =P10+Q10 -> 1246418000 | R12: 1278144000
A13: =세입예산총괄표3!A40 -> 이자수익 | B13: =세입예산총괄표3!B40 -> 2321000 | C13: =+B13/$B$6 -> 0.00026641943 | D13: =세입예산총괄표3!D40 -> 2164000 | E13: =+D13/$D$6 -> 0.00021169282 | F13: =+B13-D13 -> 157000 | G13: =+F13/D13 -> 0.072550832 | H13: =세출예산총괄표4!A58 -> 기타보조금사업비 | I13: =세출예산총괄표4!B58 -> 0 | J13: =+I13/$I$6 -> 0 | K13: =세출예산총괄표4!D58 -> 6000000 | L13: =+K13/$K$6 -> 0.00058694867 | M13: =+I13-K13 -> -6000000 | N13: =+M13/K13 -> -1 | R13: =K20-R12 -> -8000000
A14: =세입예산총괄표3!A53 -> 법인전입금 | B14: =세입예산총괄표3!B53 -> 50000000 | C14: =+B14/$B$6 -> 0.0057393243 | D14: =세입예산총괄표3!D53 -> 50000000 | E14: =+D14/$D$6 -> 0.0048912389 | F14: =+B14-D14 -> 0 | G14: =+F14/D14 -> 0 | H14: =세출예산총괄표4!A60 -> 자산취득비 | I14: =세출예산총괄표4!B60 -> 16900000 | J14: =+I14/$I$6 -> 0.0019398916 | K14: =세출예산총괄표4!D60 -> 378802000 | L14: =+K14/$K$6 -> 0.037056222 | M14: =+I14-K14 -> -361902000 | N14: =+M14/K14 -> -0.95538566 | R14: 1270144000
A15: =세입예산총괄표3!A55 -> 이월금 및 출자출연금 | B15: =세입예산총괄표3!B55 -> 400000000 | C15: =+B15/$B$6 -> 0.045914594 | D15: =세입예산총괄표3!D55 -> 543830000 | E15: =+D15/$D$6 -> 0.053200049 | F15: =+B15-D15 -> -143830000 | G15: =+F15/D15 -> -0.26447603 | H15: =세출예산총괄표4!A69 -> 성과급 | I15: =세출예산총괄표4!B69 -> 91448000 | J15: =+I15/$I$6 -> 0.010496994 | K15: =세출예산총괄표4!D69 -> 91448000 | L15: =+K15/$K$6 -> 0.0089458803 | M15: =+I15-K15 -> 0 | N15: =+M15/K15 -> 0
H16: =세출예산총괄표4!A71 -> 예비비 | I16: =세출예산총괄표4!B71 -> 0 | J16: =+I16/$I$6 -> 0 | K16: =세출예산총괄표4!D71 -> 20000000 | L16: =+K16/$K$6 -> 0.0019564956 | M16: =+I16-K16 -> -20000000 | N16: =+M16/K16 -> -1
A17: 영업수익(수익) | B17: =SUM(B18:B25) -> 2344993000 | C17: =+B17/$B$6 -> 0.2691735 | D17: =SUM(D18:D25) -> 2022660000 | E17: =+D17/$D$6 -> 0.19786627 | F17: =+B17-D17 -> 322333000 | G17: =+F17/D17 -> 0.15936094 | H17: 사업비용(수익) | I17: =SUM(I18:I25) -> 2397314000 | J17: =+I17/$I$6 -> 0.27517925 | K17: =SUM(K18:K25) -> 2188137000 | L17: =+K17/$K$6 -> 0.21405402 | M17: =+I17-K17 -> 209177000 | N17: =+M17/K17 -> 0.095595934
A18: =세입예산총괄표3!A58 -> 자체사업수익 | B18: =세입예산총괄표3!B58 -> 1912797000 | C18: =+B18/$B$6 -> 0.21956324 | D18: =세입예산총괄표3!D58 -> 1567430000 | E18: =+D18/$D$6 -> 0.15333349 | F18: =+B18-D18 -> 345367000 | G18: =+F18/D18 -> 0.22033966 | H18: =세출예산총괄표4!A74 -> 자체사업인건비 | I18: =세출예산총괄표4!B74 -> 302874000 | J18: =+I18/$I$6 -> 0.034765842 | K18: =세출예산총괄표4!D74 -> 265752000 | L18: =+K18/$K$6 -> 0.02599713 | M18: =+I18-K18 -> 37122000 | N18: =+M18/K18 -> 0.13968663
A19: =세입예산총괄표3!A67 -> 기타영업수익 | B19: =세입예산총괄표3!B67 -> 28332000 | C19: =+B19/$B$6 -> 0.0032521307 | D19: =세입예산총괄표3!D67 -> 42498000 | E19: =+D19/$D$6 -> 0.0041573574 | F19: =+B19-D19 -> -14166000 | G19: =+F19/D19 -> -0.33333333 | H19: =세출예산총괄표4!A81 -> 자체사업경비 | I19: =세출예산총괄표4!B81 -> 326823000 | J19: =+I19/$I$6 -> 0.037514863 | K19: =세출예산총괄표4!D81 -> 326603000 | L19: =+K19/$K$6 -> 0.031949866 | M19: =+I19-K19 -> 220000 | N19: =+M19/K19 -> 0.00067360067
A20: =세입예산총괄표3!A74 -> 판매수익 | B20: =세입예산총괄표3!B74 -> 268654000 | C20: =+B20/$B$6 -> 0.030837848 | D20: =세입예산총괄표3!D74 -> 209117000 | E20: =+D20/$D$6 -> 0.020456824 | F20: =+B20-D20 -> 59537000 | G20: =+F20/D20 -> 0.28470665 | H20: =세출예산총괄표4!A100 -> 자체사업비 | I20: =세출예산총괄표4!B100 -> 1604770000 | J20: =+I20/$I$6 -> 0.18420591 | K20: =세출예산총괄표4!D100 -> 1270144000 | L20: =+K20/$K$6 -> 0.12425155 | M20: =+I20-K20 -> 334626000 | N20: =+M20/K20 -> 0.26345517
A21: =세입예산총괄표3!A35 -> 재단지원금 | B21: =세입예산총괄표3!B35 -> 0 | C21: =+B21/$B$6 -> 0 | D21: =세입예산총괄표3!D35 -> 65391000 | E21: =+D21/$D$6 -> 0.0063968601 | F21: =+B21-D21 -> -65391000 | G21: =+F21/D21 -> -1 | H21: =세출예산총괄표4!A93 -> 자체사업자산취득비 | I21: =세출예산총괄표4!B93 -> 25360000 | J21: =+I21/$I$6 -> 0.0029109853 | K21: =세출예산총괄표4!D93 -> 34527000 | L21: =+K21/$K$6 -> 0.0033775961 | M21: =+I21-K21 -> -9167000 | N21: =+M21/K21 -> -0.26550236
A22: =세입예산총괄표3!A81 -> 이월금 | B22: =세입예산총괄표3!B81 -> 135210000 | C22: =+B22/$B$6 -> 0.015520281 | D22: =세입예산총괄표3!D81 -> 138224000 | E22: =+D22/$D$6 -> 0.013521732 | F22: =+B22-D22 -> -3014000 | G22: =+F22/D22 -> -0.021805186 | H22: 재단지원금 | I22: =세출예산총괄표4!B110 -> 0 | J22: =+I22/$I$6 -> 0 | K22: =세출예산총괄표4!D110 -> 65391000 | L22: =+K22/$K$6 -> 0.0063968601 | M22: =+I22-K22 -> -65391000 | N22: =+M22/K22 -> -1
H23: =세출예산총괄표4!A117 -> 법인전입금 | I23: =세출예산총괄표4!B117 -> 50000000 | J23: =+I23/$I$6 -> 0.0057393243 | K23: =세출예산총괄표4!D117 -> 0 | L23: =+K23/$K$6 -> 0 | M23: =+I23-K23 -> 50000000
H24: =세출예산총괄표4!A119 -> 이자반환금(과년도) | I24: =세출예산총괄표4!B119 -> 2321000 | J24: =+I24/$I$6 -> 0.00026641943 | K24: =세출예산총괄표4!D119 -> 2164000 | L24: =+K24/$K$6 -> 0.00021169282 | M24: =+I24-K24 -> 157000 | N24: =+M24/K24 -> 0.072550832
H25: =세출예산총괄표4!A132 -> 예비비(차기년도이월금) | I25: =세출예산총괄표4!B132 -> 85166000 | J25: =+I25/$I$6 -> 0.0097759058 | K25: =세출예산총괄표4!D132 -> 223556000 | L25: =+K25/$K$6 -> 0.021869316 | M25: =+I25-K25 -> -138390000 | N25: =+M25/K25 -> -0.61903952

Sheet 세입세출세부총괄표6
A1: 2019년 세입·세출예산(안) 세부 총괄표
M2: [단위:천원]
A3: 세 입 | H3: 세 출
A4: 예산과목 | B4: 2019년예산액(A) | D4: 2018년예산액(B) | F4: 증 감(A-B) | H4: =A4 -> 예산과목 | I4: =B4 -> 2019년예산액(A) | K4: =D4 -> 2018년예산액(B) | M4: 증 감(A-B)
B5: 금 액 | C5: 구성비 | D5: 금 액 | E5: 구성비 | F5: 금 액 | G5: 증감률 | I5: 금 액 | J5: 구성비 | K5: 금 액 | L5: 구성비 | M5: 금 액 | N5: 증감률
A6: 합 계 | B6: =B7+B72 -> 8711827000 | C6: =C7+C72 -> 1 | D6: =D7+D72 -> 10222359000 | E6: =E7+E72 -> 1 | F6: =B6-D6 -> -1510532000 | G6: =F6/D6 -> -0.14776746 | H6: =A6 -> 합 계 | I6: =I7+I72 -> 8711827000 | J6: =J7+J72 -> 1 | K6: =K7+K72 -> 10222359200 | L6: =L7+L72 -> 1 | M6: =I6-K6 -> -1510532200 | N6: =M6/K6 -> -0.14776747 | T6: =I6-P6 -> 8711827000
A7: 영업외수익 | B7: =SUM(B8,B16,B22,B30,B32,B34,B39,B52,B54) -> 6366834000 | C7: =B7/$B$6 -> 0.7308265 | D7: =SUM(D8,D16,D22,D30,D32,D34,D39,D52,D54) -> 8265090000 | E7: =D7/$D$6 -> 0.80853059 | F7: =F8+F16+F22+F30+F33+F44+F57+F59+F61+F37 -> -1692732000 | G7: =F7/D7 -> -0.20480503 | H7: 사업비용 | I7: =SUM(I8,I21,I34,I47,I55,I57,I59,I68,I70) -> 6314513000 | J7: =I7/$I$6 -> 0.72482075 | K7: =SUM(K8,K21,K34,K47,K55,K57,K59,K68,K70) -> 8034222200 | L7: =K7/$K$6 -> 0.78594599 | M7: =SUM(M8,M21,M34,M47,M55,M57,M59,M68,M70) -> -1719709200 | N7: =M7/K7 -> -0.214048
A8: 지자체출자출연금 | B8: =SUM(B9:B15) -> 4313212000 | C8: =+B8/$B$6 -> 0.49509844 | D8: =SUM(D9:D15) -> 4598613000 | E8: =+D8/$D$6 -> 0.4498583 | F8: =SUM(F9:F15) -> -285401000 | G8: =+F8/D8 -> -0.062062409 | H8: 인건비 | I8: =SUM(I9:I20) -> 3523140000 | J8: =I8/$I$6 -> 0.40440886 | K8: =SUM(K9:K20) -> 3101397000 | L8: =K8/$K$6 -> 0.30339347 | M8: =I8-K8 -> 421743000 | N8: =M8/K8 -> 0.13598485 | Q8: 2019년 | R8: 2018년
A9: 사무국 | B9: =세입예산총괄표3!B10 -> 3222569000 | C9: =+B9/$B$6 -> 0.36990737 | D9: 1600000000 | E9: =+D9/$D$6 -> 0.15651964 | F9: =+B9-D9 -> 1622569000 | G9: =+F9/D9 -> 1.0141056 | H9: 사무국 | I9: ='예산세출(사무국)'!Q8 -> 2200111000 | J9: =I9/$I$6 -> 0.25254301 | K9: 569927000 | L9: =K9/$K$6 -> 0.055752981 | M9: =I9-K9 -> 1630184000 | N9: =M9/K9 -> 2.8603383 | P9: 사무국 | Q9: =SUMIFS($B$9:$B$10000,$A$9:$A$10000,"사무국") -> 3623469000 | R9: =SUMIF($A$9:$A$10000,"사무국",$D$9:$D$10000) -> 2147350000 | S9: =Q9-R9 -> 1476119000 | U9: 사무국 | V9: =SUMIFS($I$8:$I$136,$H$8:$H$136,"사무국") -> 3623469000 | W9: =SUMIFS($K$8:$K$136,$H$8:$H$136,"사무국") -> 2147350000
A10: 마두청소년수련관 | B10: =세입예산총괄표3!B11 -> 318913000 | C10: =+B10/$B$6 -> 0.036606902 | D10: 861000000 | E10: =+D10/$D$6 -> 0.084227134 | F10: =+B10-D10 -> -542087000 | G10: =+F10/D10 -> -0.62960163 | H10: 마두청소년수련관 | I10: =세출예산총괄표4!B11 -> 12925000 | J10: =I10/$I$6 -> 0.0014836153 | K10: 518616000 | L10: =K10/$K$6 -> 0.050733494 | M10: =I10-K10 -> -505691000 | N10: =M10/K10 -> -0.9750779 | P10: 마두청소년수련관 | Q10: =SUMIFS($B$9:$B$10000,$A$9:$A$10000,"마두청소년수련관") -> 1143863000 | R10: =SUMIF($A$9:$A$10000,"마두청소년수련관",$D$9:$D$10000) -> 1644864000 | S10: =Q10-R10 -> -501001000 | U10: 마두청소년수련관 | V10: =SUMIFS($I$8:$I$136,$H$8:$H$136,"마두청소년수련관") -> 1143863000 | W10: =SUMIFS($K$8:$K$136,$H$8:$H$136,"마두청소년수련관") -> 1644864000
A11: 고양시청소년진로센터 | B11: =세입예산총괄표3!B12 -> 61258000 | C11: =+B11/$B$6 -> 0.0070315905 | D11: 324988000 | E11: =+D11/$D$6 -> 0.031791879 | F11: =+B11-D11 -> -263730000 | G11: =+F11/D11 -> -0.81150689 | H11: 고양시청소년진로센터 | I11: =세출예산총괄표4!B12 -> 21248000 | J11: =I11/$I$6 -> 0.0024389832 | K11: 191160000 | L11: =K11/$K$6 -> 0.018700184 | M11: =I11-K11 -> -169912000 | N11: =M11/K11 -> -0.88884704 | P11: 고양시청소년진로센터 | Q11: =SUMIFS($B$9:$B$10000,$A$9:$A$10000,"고양시청소년진로센터") -> 61498000 | R11: =SUMIF($A$9:$A$10000,"고양시청소년진로센터",$D$9:$D$10000) -> 656844000 | S11: =Q11-R11 -> -595346000 | U11: 고양시청소년진로센터 | V11: =SUMIFS($I$8:$I$136,$H$8:$H$136,"고양시청소년진로센터") -> 61498000 | W11: =SUMIFS($K$8:$K$136,$H$8:$H$136,"고양시청소년진로센터") -> 656844000
A12: 성사청소년문화의집 | B12: =세입예산총괄표3!B13 -> 184082000 | C12: =+B12/$B$6 -> 0.021130126 | D12: 331348000 | E12: =+D12/$D$6 -> 0.032414045 | F12: =+B12-D12 -> -147266000 | G12: =+F12/D12 -> -0.44444512 | H12: 성사청소년문화의집 | I12: =세출예산총괄표4!B13 -> 37340000 | J12: =I12/$I$6 -> 0.0042861274 | K12: 183764000 | L12: =K12/$K$6 -> 0.017976672 | M12: =I12-K12 -> -146424000 | N12: =M12/K12 -> -0.7968046 | P12: 성사청소년문화의집 | Q12: =SUMIFS($B$9:$B$10000,$A$9:$A$10000,"성사청소년문화의집") -> 215312000 | R12: =SUMIF($A$9:$A$10000,"성사청소년문화의집",$D$9:$D$10000) -> 587720000 | S12: =Q12-R12 -> -372408000 | U12: 성사청소년문화의집 | V12: =SUMIFS($I$8:$I$136,$H$8:$H$136,"성사청소년문화의집") -> 215312000 | W12: =SUMIFS($K$8:$K$136,$H$8:$H$136,"성사청소년문화의집") -> 587720000
A13: 탄현청소년문화의집 | B13: =세입예산총괄표3!B14 -> 86947000 | C13: =+B13/$B$6 -> 0.0099803405 | D13: 216088000 | E13: =+D13/$D$6 -> 0.021138761 | F13: =+B13-D13 -> -129141000 | G13: =+F13/D13 -> -0.59763152 | H13: 탄현청소년문화의집 | I13: =세출예산총괄표4!B14 -> 32717000 | J13: =I13/$I$6 -> 0.0037554694 | K13: 144144000 | L13: =K13/$K$6 -> 0.014100855 | M13: =I13-K13 -> -111427000 | N13: =M13/K13 -> -0.77302559 | P13: 탄현청소년문화의집 | Q13: =SUMIFS($B$9:$B$10000,$A$9:$A$10000,"탄현청소년문화의집") -> 214777000 | R13: =SUMIF($A$9:$A$10000,"탄현청소년문화의집",$D$9:$D$10000) -> 358832000 | S13: =Q13-R13 -> -144055000 | U13: 탄현청소년문화의집 | V13: =SUMIFS($I$8:$I$136,$H$8:$H$136,"탄현청소년문화의집") -> 214777000 | W13: =SUMIFS($K$8:$K$136,$H$8:$H$136,"탄현청소년문화의집") -> 358832000
A14: 주교동청소년카페 | B14: =세입예산총괄표3!B15 -> 16041000 | C14: =+B14/$B$6 -> 0.00184129 | D14: 65189000 | E14: =+D14/$D$6 -> 0.0063770995 | F14: =+B14-D14 -> -49148000 | G14: =+F14/D14 -> -0.75393088 | H14: 주교동청소년카페 | I14: =세출예산총괄표4!B15 -> 0 | J14: =I14/$I$6 -> 0 | K14: 46863000 | L14: =K14/$K$6 -> 0.0045843625 | M14: =I14-K14 -> -46863000 | N14: =M14/K14 -> -1 | P14: 주교동청소년카페 | Q14: =SUMIFS($B$9:$B$10000,$A$9:$A$10000,"주교동청소년카페") -> 16051000 | R14: =SUMIF($A$9:$A$10000,"주교동청소년카페",$D$9:$D$10000) -> 106242000 | S14: =Q14-R14 -> -90191000 | U14: 주교동청소년카페 | V14: =SUMIFS($I$8:$I$136,$H$8:$H$136,"주교동청소년카페") -> 16051000 | W14: =SUMIFS($K$8:$K$136,$H$8:$H$136,"주교동청소년카페") -> 106242000
A15: 일산서구청소년수련관 | B15: =세입예산총괄표3!B16 -> 423402000 | C15: =+B15/$B$6 -> 0.048600827 | D15: 1200000000 | E15: =+D15/$D$6 -> 0.11738973 | F15: =+B15-D15 -> -776598000 | G15: =+F15/D15 -> -0.647165 | H15: 일산서구청소년수련관 | I15: =세출예산총괄표4!B16 -> 130434000 | J15: =I15/$I$6 -> 0.01497206 | K15: 500000000 | L15: =K15/$K$6 -> 0.048912388 | M15: =I15-K15 -> -369566000 | N15: =M15/K15 -> -0.739132 | P15: 일산서구청소년수련관 | Q15: =SUMIFS($B$9:$B$10000,$A$9:$A$10000,"일산서구청소년수련관") -> 914627000 | R15: =SUMIF($A$9:$A$10000,"일산서구청소년수련관",$D$9:$D$10000) -> 1345286000 | S15: =Q15-R15 -> -430659000 | U15: 일산서구청소년수련관 | V15: =SUMIFS($I$8:$I$136,$H$8:$H$136,"일산서구청소년수련관") -> 914627000 | W15: =SUMIFS($K$8:$K$136,$H$8:$H$136,"일산서구청소년수련관") -> 1345286000
A16: 보조금수익(출연금위탁교부) | B16: =SUM(B17:B21) -> 1601301000 | C16: =+B16/$B$6 -> 0.18380771 | D16: =SUM(D17:D21) -> 1401151000 | E16: =+D16/$D$6 -> 0.13706729 | F16: =SUM(F17:F21) -> 200150000 | G16: =+F16/D16 -> 0.14284685 | H16: 토당청소년수련관 | I16: =세출예산총괄표4!B17 -> 612394000 | J16: =I16/$I$6 -> 0.070294555 | K16: 576692000 | L16: =K16/$K$6 -> 0.056414766 | M16: =I16-K16 -> 35702000 | N16: =M16/K16 -> 0.061908263 | P16: 토당청소년수련관 | Q16: =SUMIFS($B$9:$B$10000,$A$9:$A$10000,"토당청소년수련관") -> 1749582000 | R16: =SUMIF($A$9:$A$10000,"토당청소년수련관",$D$9:$D$10000) -> 1947236000 | S16: =Q16-R16 -> -197654000 | U16: 토당청소년수련관 | V16: =SUMIFS($I$8:$I$136,$H$8:$H$136,"토당청소년수련관") -> 1749582000 | W16: =SUMIFS($K$8:$K$136,$H$8:$H$136,"토당청소년수련관") -> 1947236000
A17: 토당청소년수련관 | B17: =세입예산총괄표3!B18 -> 931104000 | C17: =+B17/$B$6 -> 0.10687816 | D17: 822500000 | E17: =+D17/$D$6 -> 0.08046088 | F17: =+B17-D17 -> 108604000 | G17: =+F17/D17 -> 0.13204134 | H17: 고양시청소년상담복지센터 | I17: =세출예산총괄표4!B18 -> 309399000 | J17: =I17/$I$6 -> 0.035514824 | K17: 224951000 | L17: =K17/$K$6 -> 0.022005781 | M17: =I17-K17 -> 84448000 | N17: =M17/K17 -> 0.3754062 | P17: 고양시청소년상담복지센터 | Q17: =SUMIFS($B$9:$B$10000,$A$9:$A$10000,"고양시청소년상담복지센터") -> 424075000 | R17: =SUMIF($A$9:$A$10000,"고양시청소년상담복지센터",$D$9:$D$10000) -> 1115590000 | S17: =Q17-R17 -> -691515000 | U17: 고양시청소년상담복지센터 | V17: =SUMIFS($I$8:$I$136,$H$8:$H$136,"고양시청소년상담복지센터") -> 424075000 | W17: =SUMIFS($K$8:$K$136,$H$8:$H$136,"고양시청소년상담복지센터") -> 1115590000
A18: 고양시청소년상담복지센터 | B18: =세입예산총괄표3!B19 -> 375948000 | C18: =+B18/$B$6 -> 0.043153749 | D18: 323393000 | E18: =+D18/$D$6 -> 0.031635848 | F18: =+B18-D18 -> 52555000 | G18: =+F18/D18 -> 0.16251125 | H18: 화정청소년카페 | I18: =세출예산총괄표4!B19 -> 62617000 | J18: =I18/$I$6 -> 0.0071875853 | K18: 63200000 | L18: =K18/$K$6 -> 0.0061825258 | M18: =I18-K18 -> -583000 | N18: =M18/K18 -> -0.0092246835 | P18: 화정청소년카페 | Q18: =SUMIFS($B$9:$B$10000,$A$9:$A$10000,"화정청소년카페") -> 155824000 | R18: =SUMIF($A$9:$A$10000,"화정청소년카페",$D$9:$D$10000) -> 153106000 | S18: =Q18-R18 -> 2718000 | U18: 화정청소년카페 | V18: =SUMIFS($I$8:$I$136,$H$8:$H$136,"화정청소년카페") -> 155824000 | W18: =SUMIFS($K$8:$K$136,$H$8:$H$136,"화정청소년카페") -> 153106200
A19: 화정청소년카페 | B19: =세입예산총괄표3!B20 -> 116324000 | C19: =+B19/$B$6 -> 0.013352423 | D19: 118473000 | E19: =+D19/$D$6 -> 0.011589595 | F19: =+B19-D19 -> -2149000 | G19: =+F19/D19 -> -0.018139154 | H19: 백마역청소년카페 | I19: =세출예산총괄표4!B20 -> 57190000 | J19: =I19/$I$6 -> 0.0065646391 | K19: 44880000 | L19: =K19/$K$6 -> 0.004390376 | M19: =I19-K19 -> 12310000 | N19: =M19/K19 -> 0.27428699 | P19: 백마역청소년카페 | Q19: =SUMIFS($B$9:$B$10000,$A$9:$A$10000,"백마역청소년카페") -> 101394000 | R19: =SUMIF($A$9:$A$10000,"백마역청소년카페",$D$9:$D$10000) -> 89509000 | S19: =Q19-R19 -> 11885000 | U19: 백마역청소년카페 | V19: =SUMIFS($I$8:$I$136,$H$8:$H$136,"백마역청소년카페") -> 101394000 | W19: =SUMIFS($K$8:$K$136,$H$8:$H$136,"백마역청소년카페") -> 89509000
A20: 백마역청소년카페 | B20: =세입예산총괄표3!B21 -> 89380000 | C20: =+B20/$B$6 -> 0.010259616 | D20: 69415000 | E20: =+D20/$D$6 -> 0.006790507 | F20: =+B20-D20 -> 19965000 | G20: =+F20/D20 -> 0.28761795 | H20: 능곡역청소년카페 | I20: =세출예산총괄표4!B21 -> 46765000 | J20: =I20/$I$6 -> 0.00536799 | K20: 37200000 | L20: =K20/$K$6 -> 0.0036390817 | M20: =I20-K20 -> 9565000 | N20: =M20/K20 -> 0.25712366 | P20: 능곡역청소년카페 | Q20: =SUMIFS($B$9:$B$10000,$A$9:$A$10000,"능곡역청소년카페") -> 91355000 | R20: =SUMIF($A$9:$A$10000,"능곡역청소년카페",$D$9:$D$10000) -> 69780000 | S20: =Q20-R20 -> 21575000 | U20: 능곡역청소년카페 | V20: =SUMIFS($I$8:$I$136,$H$8:$H$136,"능곡역청소년카페") -> 91355000 | W20: =SUMIFS($K$8:$K$136,$H$8:$H$136,"능곡역청소년카페") -> 69780000
A21: 능곡역청소년카페 | B21: =세입예산총괄표3!B22 -> 88545000 | C21: =+B21/$B$6 -> 0.010163769 | D21: 67370000 | E21: =+D21/$D$6 -> 0.0065904553 | F21: =+B21-D21 -> 21175000 | G21: =+F21/D21 -> 0.31430904 | H21: 경비 | I21: =SUM(I22:I33) -> 1436607000 | J21: =I21/$I$6 -> 0.16490307 | K21: =SUM(K22:K33) -> 1461948200 | L21: =K21/$K$6 -> 0.14301476 | M21: =SUM(M22:M33) -> -25341200 | N21: =M21/K21 -> -0.017333856 | Q21: =SUM(Q9:Q20) -> 8711827000 | R21: =SUM(R9:R20) -> 10222359000 | V21: =SUM(V9:V20) -> 8711827000 | W21: =SUM(W9:W20) -> 10222359200
A22: 국도시비보조금 | B22: =SUM(B23:B29) -> 0 | C22: =+B22/$B$6 -> 0 | D22: =SUM(D23:D29) -> 1553941000 | E22: =+D22/$D$6 -> 0.15201393 | F22: =SUM(F23:F29) -> -1553941000 | G22: =+F22/D22 -> -1 | H22: 사무국 | I22: =세출예산총괄표4!B23 -> 396810000 | J22: =I22/$I$6 -> 0.045548425 | K22: 313140000 | L22: =K22/$K$6 -> 0.03063285 | M22: =I22-K22 -> 83670000 | N22: =M22/K22 -> 0.26719678
A23: 사무국 | B23: 0 | C23: =+B23/$B$6 -> 0 | D23: 2800000 | E23: =+D23/$D$6 -> 0.00027390938 | F23: =+B23-D23 -> -2800000 | G23: =+F23/D23 -> -1 | H23: 마두청소년수련관 | I23: =세출예산총괄표4!B24 -> 234884000 | J23: =I23/$I$6 -> 0.026961509 | K23: 274384000 | L23: =K23/$K$6 -> 0.026841553 | M23: =I23-K23 -> -39500000 | N23: =M23/K23 -> -0.14395883
A24: 마두청소년수련관 | B24: 0 | C24: =+B24/$B$6 -> 0 | D24: 29000000 | E24: =+D24/$D$6 -> 0.0028369186 | F24: =+B24-D24 -> -29000000 | G24: =+F24/D24 -> -1 | H24: 고양시청소년진로센터 | I24: =세출예산총괄표4!B25 -> 38310000 | J24: =I24/$I$6 -> 0.0043974702 | K24: 51208000 | L24: =K24/$K$6 -> 0.0050094111 | M24: =I24-K24 -> -12898000 | N24: =M24/K24 -> -0.25187471
A25: 고양시청소년진로센터 | B25: 0 | C25: =+B25/$B$6 -> 0 | D25: 286300000 | E25: =+D25/$D$6 -> 0.028007234 | F25: =+B25-D25 -> -286300000 | G25: =+F25/D25 -> -1 | H25: 성사청소년문화의집 | I25: =세출예산총괄표4!B26 -> 86150000 | J25: =I25/$I$6 -> 0.0098888557 | K25: 88010000 | L25: =K25/$K$6 -> 0.0086095585 | M25: =I25-K25 -> -1860000 | N25: =M25/K25 -> -0.021133962
A26: 성사청소년문화의집 | B26: 0 | C26: =+B26/$B$6 -> 0 | D26: 229944000 | E26: =+D26/$D$6 -> 0.022494221 | F26: =+B26-D26 -> -229944000 | G26: =+F26/D26 -> -1 | H26: 탄현청소년문화의집 | I26: =세출예산총괄표4!B27 -> 25630000 | J26: =I26/$I$6 -> 0.0029419776 | K26: 42544000 | L26: =K26/$K$6 -> 0.0041618573 | M26: =I26-K26 -> -16914000 | N26: =M26/K26 -> -0.39756487
A27: 탄현청소년문화의집 | B27: 0 | C27: =+B27/$B$6 -> 0 | D27: 2000000 | E27: =+D27/$D$6 -> 0.00019564956 | F27: =+B27-D27 -> -2000000 | G27: =+F27/D27 -> -1 | H27: 주교동청소년카페 | I27: =세출예산총괄표4!B28 -> 11334000 | J27: =I27/$I$6 -> 0.00130099 | K27: 14296000 | L27: =K27/$K$6 -> 0.001398503 | M27: =I27-K27 -> -2962000 | N27: =M27/K27 -> -0.20719082
A28: 토당청소년수련관 | B28: 0 | C28: =+B28/$B$6 -> 0 | D28: 235394000 | E28: =+D28/$D$6 -> 0.023027366 | F28: =+B28-D28 -> -235394000 | G28: =+F28/D28 -> -1 | H28: 일산서구청소년수련관 | I28: =세출예산총괄표4!B29 -> 209331000 | J28: =I28/$I$6 -> 0.02402837 | K28: 325265000 | L28: =K28/$K$6 -> 0.031818976 | M28: =I28-K28 -> -115934000 | N28: =M28/K28 -> -0.35642937
A29: 고양시청소년상담복지센터 | B29: 0 | C29: =+B29/$B$6 -> 0 | D29: 768503000 | E29: =+D29/$D$6 -> 0.075178635 | F29: =+B29-D29 -> -768503000 | G29: =+F29/D29 -> -1 | H29: 토당청소년수련관 | I29: =세출예산총괄표4!B30 -> 311110000 | J29: =I29/$I$6 -> 0.035711223 | K29: 240808000 | L29: =K29/$K$6 -> 0.023556989 | M29: =I29-K29 -> 70302000 | N29: =M29/K29 -> 0.29194213
A30: 교육청사업 | B30: =SUM(B31:B31) -> 0 | C30: =+B30/$B$6 -> 0 | D30: =SUM(D31:D31) -> 44000000 | E30: =+D30/$D$6 -> 0.0043042902 | F30: =SUM(F31:F31) -> -44000000 | G30: =+F30/D30 -> -1 | H30: 고양시청소년상담복지센터 | I30: =세출예산총괄표4!B31 -> 53181000 | J30: =I30/$I$6 -> 0.0061044601 | K30: 48841000 | L30: =K30/$K$6 -> 0.0047778599 | M30: =I30-K30 -> 4340000 | N30: =M30/K30 -> 0.088859769
A31: 고양시청소년진로센터 | B31: 0 | C31: =+B31/$B$6 -> 0 | D31: 44000000 | E31: =+D31/$D$6 -> 0.0043042902 | F31: =+B31-D31 -> -44000000 | G31: =+F31/D31 -> -1 | H31: 화정청소년카페 | I31: =세출예산총괄표4!B32 -> 22207000 | J31: =I31/$I$6 -> 0.0025490635 | K31: 19247200 | L31: =K31/$K$6 -> 0.001882853 | M31: =I31-K31 -> 2959800 | N31: =M31/K31 -> 0.15377821
A32: 기타보조금 | B32: =SUM(B33:B33) -> 0 | C32: =+B32/$B$6 -> 0 | D32: =SUM(D33:D33) -> 6000000 | E32: =+D32/$D$6 -> 0.00058694867 | F32: =SUM(F33:F33) -> -6000000 | G32: =+F32/D32 -> -1 | H32: 백마역청소년카페 | I32: =세출예산총괄표4!B33 -> 25580000 | J32: =I32/$I$6 -> 0.0029362383 | K32: 24535000 | L32: =K32/$K$6 -> 0.0024001309 | M32: =I32-K32 -> 1045000 | N32: =M32/K32 -> 0.042592215
A33: 토당청소년수련관 | B33: 0 | C33: =+B33/$B$6 -> 0 | D33: 6000000 | E33: =+D33/$D$6 -> 0.00058694867 | F33: =+B33-D33 -> -6000000 | G33: =+F33/D33 -> -1 | H33: 능곡역청소년카페 | I33: =세출예산총괄표4!B34 -> 22080000 | J33: =I33/$I$6 -> 0.0025344856 | K33: 19670000 | L33: =K33/$K$6 -> 0.0019242133 | M33: =I33-K33 -> 2410000 | N33: =M33/K33 -> 0.12252161
A34: 재단지원금 | B34: =SUM(B35:B38) -> 0 | C34: =+B34/$B$6 -> 0 | D34: =SUM(D35:D38) -> 65391000 | E34: =+D34/$D$6 -> 0.0063968601 | F34: =SUM(F35:F38) -> -65391000 | G34: =+F34/D34 -> -1 | H34: 목적사업비 | I34: =SUM(I35:I46) -> 1246418000 | J34: =I34/$I$6 -> 0.14307194 | K34: =SUM(K35:K46) -> 1376686000 | L34: =K34/$K$6 -> 0.134674 | M34: =I34-K34 -> -130268000 | N34: =M34/K34 -> -0.094624337
A35: 탄현청소년문화의집 | B35: 0 | C35: =+B35/$B$6 -> 0 | D35: 20720000 | E35: =+D35/$D$6 -> 0.0020269294 | F35: =+B35-D35 -> -20720000 | G35: =+F35/D35 -> -1 | H35: 사무국 | I35: =세출예산총괄표4!B36 -> 928000000 | J35: =I35/$I$6 -> 0.10652186 | K35: 996980000 | L35: =K35/$K$6 -> 0.097529345 | M35: =+I35-K35 -> -68980000 | N35: =+M35/K35 -> -0.069188951
A36: 주교동청소년카페 | B36: 0 | C36: =+B36/$B$6 -> 0 | D36: 37081000 | E36: =+D36/$D$6 -> 0.0036274406 | F36: =+B36-D36 -> -37081000 | G36: =+F36/D36 -> -1 | H36: 마두청소년수련관 | I36: =세출예산총괄표4!B37 -> 69004000 | J36: =I36/$I$6 -> 0.0079207266 | K36: 65000000 | L36: =K36/$K$6 -> 0.0063586104 | M36: =+I36-K36 -> 4004000 | N36: =+M36/K36 -> 0.0616
A37: 고양시청소년상담복지센터 | B37: 0 | C37: =+B37/$B$6 -> 0 | D37: 3510000 | E37: =+D37/$D$6 -> 0.00034336497 | F37: =+B37-D37 -> -3510000 | G37: =+F37/D37 -> -1 | H37: 고양시청소년진로센터 | I37: =세출예산총괄표4!B38 -> 0 | J37: =I37/$I$6 -> 0 | K37: 77520000 | L37: =K37/$K$6 -> 0.0075833766 | M37: =+I37-K37 -> -77520000 | N37: =+M37/K37 -> -1
A38: 백마역청소년카페 | B38: 0 | C38: =+B38/$B$6 -> 0 | D38: 4080000 | E38: =+D38/$D$6 -> 0.00039912509 | F38: =+B38-D38 -> -4080000 | G38: =+F38/D38 -> -1 | H38: 성사청소년문화의집 | I38: ='예산세출(성사)'!Q100 -> 60592000 | J38: =I38/$I$6 -> 0.0069551427 | K38: 52574000 | L38: =K38/$K$6 -> 0.0051430398 | M38: =+I38-K38 -> 8018000 | N38: =+M38/K38 -> 0.15250884
A39: 이자수익 | B39: =SUM(B40:B51) -> 2321000 | C39: =+B39/$B$6 -> 0.00026641943 | D39: =SUM(D40:D51) -> 2164000 | E39: =+D39/$D$6 -> 0.00021169282 | F39: =SUM(F40:F51) -> 157000 | G39: =+F39/D39 -> 0.072550832 | H39: 탄현청소년문화의집 | I39: =세출예산총괄표4!B40 -> 28600000 | J39: =I39/$I$6 -> 0.0032828935 | K39: 29400000 | L39: =K39/$K$6 -> 0.0028760484 | M39: =+I39-K39 -> -800000 | N39: =+M39/K39 -> -0.027210884
A40: 사무국 | B40: 900000 | C40: =+B40/$B$6 -> 0.00010330784 | D40: 720000 | E40: =+D40/$D$6 -> 7.043384e-05 | F40: =+B40-D40 -> 180000 | G40: =+F40/D40 -> 0.25 | H40: 주교동청소년카페 | I40: =세출예산총괄표4!B41 -> 4707000 | J40: =I40/$I$6 -> 0.00054029999 | K40: 4030000 | L40: =K40/$K$6 -> 0.00039423385 | M40: =+I40-K40 -> 677000 | N40: =+M40/K40 -> 0.16799007
...

Sheet 간지3(세입예산 사업내역서)

Sheet 예산세입(사무국)
A1: 2019년 고양시청소년재단 사무국 세입예산서(안)
A2: [일반회계] | R2: (단위:천원)
A3: 예산과목 | G3: 산출내역 | P3: 예산액 | Q3: 전년도 예산액 | R3: 증감 | S3: 증감률
A4: 장 | B4: 관 | C4: 항 | D4: 목 | E4: 세목 | F4: 세세목
A5: 고양시청소년재단사무국 | P5: =P6+P23 -> 3623469000 | Q5: =Q6+Q23 -> 2212741000 | R5: =+P5-Q5 -> 1410728000 | S5: =+R5/Q5 -> 0.63754773
B6: 600 사업수익 | P6: =SUM(P7) -> 3223469000 | Q6: =SUM(Q7) -> 1603520000 | R6: =+P6-Q6 -> 1619949000 | S6: =+R6/Q6 -> 1.0102456
C7: 620 영업외수익 | P7: =SUM(P8,P12,P19) -> 3223469000 | Q7: =SUM(Q8,Q12,Q19) -> 1603520000 | R7: =+P7-Q7 -> 1619949000 | S7: =+R7/Q7 -> 1.0102456
D8: 621 이자수익 | P8: =P9 -> 900000 | Q8: =Q9 -> 720000 | R8: =+P8-Q8 -> 180000 | S8: =+R8/Q8 -> 0.25
E9: 621-1 예금이자수익 | P9: =ROUNDUP(O10,-3) -> 900000 | Q9: 720000 | R9: =+P9-Q9 -> 180000 | S9: =+R9/Q9 -> 0.25
F10: ㅇ예금이자수익 | O10: =SUM(O11:O11) -> 900000 | P10: 900000 | Q10: 720000 | R10: =+P10-Q10 -> 180000 | S10: =+R10/Q10 -> 0.25
F11: ­ 예금이자 | G11: 900000 | H11: × | I11: 1 | N11: = | O11: =G11*I11 -> 900000
D12: 623 보조금수익 | P12: =P13 -> 0 | Q12: =Q13 -> 2800000 | R12: =+P12-Q12 -> -2800000 | S12: =+R12/Q12 -> -1
E13: 623-1 국도시비보조금 | P13: =ROUNDUP(O14+O16,-3) -> 0 | Q13: 2800000 | R13: =+P13-Q13 -> -2800000 | S13: =+R13/Q13 -> -1
D19: 625 출자출연금수익 | P19: =P20 -> 3222569000 | Q19: =Q20 -> 1600000000 | R19: =+P19-Q19 -> 1622569000 | S19: =+R19/Q19 -> 1.0141056
E20: 625-2 지자체출자출연금 | P20: =ROUNDUP(O21,-3) -> 3222569000 | Q20: =Q21 -> 1600000000 | R20: =+P20-Q20 -> 1622569000 | S20: =+R20/Q20 -> 1.0141056
F21: ㅇ고양시지원금 | O21: =SUM(O22:O22) -> 3222569000 | P21: =O21 -> 3222569000 | Q21: 1600000000 | R21: =+P21-Q21 -> 1622569000 | S21: =+R21/Q21 -> 1.0141056
F22: ­ 재단지원금 | G22: 3222569000 | H22: × | I22: 1 | N22: = | O22: =G22 -> 3222569000
B23: 100 자본적수입 | P23: =P24 -> 400000000 | Q23: =SUM(Q24) -> 609221000 | R23: =+P23-Q23 -> -209221000 | S23: =+R23/Q23 -> -0.34342382
C24: 170 자본잉여금수입 | P24: =P25 -> 400000000 | Q24: =Q25 -> 609221000 | R24: =+P24-Q24 -> -209221000 | S24: =+R24/Q24 -> -0.34342382
D25: 172 이월금 | P25: =SUM(P26) -> 400000000 | Q25: =Q26 -> 609221000 | R25: =+P25-Q25 -> -209221000 | S25: =+R25/Q25 -> -0.34342382
E26: 172-3 전년도이월사업비 | P26: =P27 -> 400000000 | Q26: =Q27 -> 609221000 | R26: =+P26-Q26 -> -209221000 | S26: =+R26/Q26 -> -0.34342382
F27: ㅇ전년도이월금 | O27: =SUM(O28:O28) -> 400000000 | P27: =O27 -> 400000000 | Q27: 609221000 | R27: =+P27-Q27 -> -209221000 | S27: =+R27/Q27 -> -0.34342382
F28: ­ 2018년사업비이월금 | G28: 400000000 | H28: × | I28: 1 | N28: = | O28: =G28*I28 -> 400000000
E322: 청소녀

Sheet 예산세입(마두)
A1: 2019년 마두청소년수련관 세입예산서(안)
A2: [일반회계] | R2: (단위:천원)
A3: 예산과목 | G3: 산출내역 | P3: 예산액 | Q3: 전년도 예산액 | R3: 증감 | S3: 증감률
A4: 장 | B4: 관 | C4: 항 | D4: 목 | E4: 세목 | F4: 세세목
A5: 마두청소년수련관 | P5: =P6+P90 -> 1143863000 | Q5: =Q6+Q90 -> 1644864000 | R5: =+P5-Q5 -> -501001000 | S5: =+R5/Q5 -> -0.30458506
B6: 600 사업수익 | P6: =SUM(P7,P70) -> 1093863000 | Q6: =SUM(Q7,Q70) -> 1542140000 | R6: =+P6-Q6 -> -448277000 | S6: =+R6/Q6 -> -0.29068502 | V6: 1137867000
C7: 610 영업수익 | P7: =SUM(P8,P57,P66) -> 774750000 | Q7: =SUM(Q8,Q57,Q66) -> 651940000 | R7: =+P7-Q7 -> 122810000 | S7: =+R7/Q7 -> 0.18837623
D8: 611 자체사업수익 | P8: =P9+P51 -> 715450000 | Q8: =Q9+Q51 -> 597440000 | R8: =+P8-Q8 -> 118010000 | S8: =+R8/Q8 -> 0.19752611 | V8: 1143363000
E9: 611-1 사업운영수익 | P9: =O10+O17+O26+O35+O48 -> 577800000 | Q9: =Q10+Q17+Q26+Q35+Q48 -> 455040000 | R9: =+P9-Q9 -> 122760000 | S9: =+R9/Q9 -> 0.26977848
F10: ㅇ평생교육프로그램 | O10: =SUM(O11:O16) -> 33600000 | P10: =O10 -> 33600000 | Q10: 35880000 | R10: =+P10-Q10 -> -2280000 | S10: =+R10/Q10 -> -0.063545151
F11: ­ 미술교실 | G11: 40000 | H11: × | I11: 10 | J11: × | K11: 1 | L11: × | M11: 12 | N11: = | O11: =G11*I11*K11*M11 -> 4800000 | V11: =V6-V8 -> -5496000
F12: ­ 손뜨개질 | G12: 30000 | H12: × | I12: 10 | J12: × | K12: 1 | L12: × | M12: 12 | N12: = | O12: =G12*I12*K12*M12 -> 3600000
F13: ­ 캘리그라피 | G13: 40000 | H13: × | I13: 10 | J13: × | K13: 1 | L13: × | M13: 12 | N13: = | O13: =G13*I13*K13*M13 -> 4800000
F14: ­ 기타교실 | G14: 40000 | H14: × | I14: 10 | J14: × | K14: 1 | L14: × | M14: 12 | N14: = | O14: =G14*I14*K14*M14 -> 4800000 | V14: =P5-V8 -> 500000
F15: ­ 중국어(원어민) | G15: 40000 | H15: × | I15: 10 | J15: × | K15: 2 | L15: × | M15: 12 | N15: = | O15: =G15*I15*K15*M15 -> 9600000
F16: ­ 성인영어(원어민) | G16: 50000 | H16: × | I16: 10 | J16: × | K16: 1 | L16: × | M16: 12 | N16: = | O16: =G16*I16*K16*M16 -> 6000000
F17: ㅇ생활체육프로그램 | O17: =SUM(O18:O25) -> 224700000 | P17: =O17 -> 224700000 | Q17: 167100000 | R17: =+P17-Q17 -> 57600000 | S17: =+R17/Q17 -> 0.34470377
F18: ­ 요가 | G18: 40000 | H18: × | I18: 20 | J18: × | K18: 4 | L18: × | M18: 12 | N18: = | O18: =G18*I18*K18*M18 -> 38400000
F19: ­ 필라테스 | G19: 40000 | H19: × | I19: 20 | J19: × | K19: 4 | L19: × | M19: 12 | N19: = | O19: =G19*I19*K19*M19 -> 38400000
F20: ­ 발레 | G20: 40000 | H20: × | I20: 20 | J20: × | K20: 3 | L20: × | M20: 12 | N20: = | O20: =G20*I20*K20*M20 -> 28800000
