Workbook
Name 은행코드: '[1]추산계좌(2분기)'!#REF!
Name 은행코드: '[1]추산계좌(2분기)'!#REF!
Name 은행코드: '[1]추산계좌(2분기)'!#REF!
Name 은행코드: '[1]추산계좌(2분기)'!#REF!
Name 은행코드: '[1]추산계좌(2분기)'!#REF!

Sheet 표지
F9: 2019년도 세입·세출예산서(안)

Sheet 목차
D1: 목 차
C3: 1 | D3: 예산총칙 | F3: 8
C5: 2 | D5: 2019년 세입·세출예산(안) | F5: 14
D7: ○ 2019년 세입예산규모 | F7: 15
D9: ○ 2019년 시설별 예산(안) 총괄표 | F9: 16
D11: ○ 2019년 세입예산(안) 총괄표 | F11: 17
D13: ○ 2019년 세출예산(안) 총괄표 | F13: 23
D15: ○ 2019년 세입·세출예산(안) 요약 총괄표 | F15: 30
D17: ○ 2019년 세입·세출예산(안) 세부 총괄표 | F17: 31
C19: 3 | D19: 세입예산 사업내역서 | F19: 36
C21: 4 | D21: 세출예산 사업내역서 | F21: 57
D23: ○ 사무국 | F23: 58
D25: ○ 마두청소년수련관 | F25: 66
D27: ○ 고양시청소년진로센터 | F27: 75
D29: ○ 성사청소년문화의집 | F29: 78
D31: ○ 탄현청소년문화의집 | F31: 86
D33: ○ 주교동청소년카페 | F33: 92
D35: ○ 일산서구청소년수련관 | F35: 95
D37: ○ 토당청소년수련관 | F37: 105
D39: ○ 고양시청소년상담복지센터 | F39: 115
D41: ○ 화정청소년카페 | F41: 121
D43: ○ 백마역청소년카페 | F43: 126
D45: ○ 능곡역청소년카페 | F45: 130

Sheet 간지1(예산총칙)

Sheet 예산총칙
B1: 1. 예산총칙
B3: 제1조(총칙) 2019년도 재단법인 고양시청소년재단의 본예산은 다음과 같이 정한다.
B5: 제2조(업무의 연간 예정량) 2019년도 업무의 예정량은 다음과 같다.
B6: 가. 청소년 주도적 활동 및 청소년공간 확대 - 청소년들의 자기주도적인 참여를 통해 공공선에 기여하고 사회적 가치를 실현하는 건강한 시민으로서의 역할 수행 - 자율적 배움과 소통이 가능한 지역사회 내 청소년 이용시설 확대와 인접도시를 연결하는 이용시설 확장
B11: 나. 평화특별시의 주체가 되는 글로컬 역량강화 - 국제협약 등 국제사회의 AGENDA를 일상생활 속에서 실천할 수 있는 환경을 조성하고, 그 과정 속에서 세계시민의 역량을 증가시킬 수 있는 글로컬 (Glocalization) 사업의 확대
B14: 다. 4차 산업혁명에 대응할 수 있는 진로사업 확대 - 4차 산업혁명 등 급변하는 사회 환경에 대응할 수 있는 진로‧직업 역량 지원 체계 구축을 통해 과학기술‧산업분야의 주역이 될 수 있는 창의적 융합인재 성장 지원
B17: 라. 청소년 인권이 존중받는 청소년친화도시 조성 - 청소년의 인권 및 권리의식 제고를 통해 청소년이 누려야 할 권리와 시민권을 보장하며, 청소년이 차별받지 않고 존중받는 청소년친화도시 구현
B20: 마. 청소년이 안전한 지원시스템 확대 - 지역사회 청소년에 대한 종합적 사회안전망을 비롯한 안전교육 및 위기대응, 안전관리 지도자 역량강화 등을 통한 청소년의 안전한 생활환경 조성
B23: 바. 지역사회 기반의 청소년 지원체계 강화 - 지역 협력체계 구축을 위한 협업과 자원공유, 데이터베이스를 통한 청소년과 관련된 정보와 시각공유의 확대
B26: 사. 교육문화 활동을 통한 네트워크 기반 조성 - 지역자원을 활용한 다양한 형태의 열린 학습을 확대하고, 배움의 즐거움을 알아갈 수 있는 소통, 상호교육을 통한 시민의 삶과 행복 증진
B29: 아. 혁신경영을 통한 윤리경영 및 사회적 책임 강화 - 임직원 반부패 및 청렴활동 참여를 통한 깨끗하고 투명한 조직풍토를 조성하여, 청소년 및 지역주민이 공감할 수 있는 사회적 책임과 가치의 향상
B32: 자. 고객중심 서비스를 통한 신뢰 및 공감 - 수요자 중심의 서비스 시스템 구축을 통한 청소년과 시민이 공감하는 시설별 맞춤형 서비스 개발
... B38: 수 입
B39: 제1관 재단사업수입 | D39: =+SUM(D40:D42) -> 8711827000 | E39: 천원
B40: 제1항 영업수입 | D40: =세입예산총괄표3!B57 -> 2344993000 | E40: 천원
B41: 제2항 영업외수익 | D41: =세입예산총괄표3!B8 -> 6366834000 | E41: 천원
B42: 제3항 특별이익 | D42: 0 | E42: 천원
B43: 지 출
B44: 제1관 재단사업비용 | D44: =+SUM(D45:D49) -> 8711827000 | E44: 천원
B45: 제1항 영업비용 | D45: =세입세출요약총괄표5!I7+세입세출요약총괄표5!I17-세입세출요약총괄표5!I16 -> 8711827000 | E45: 천원
B46: 제2항 영업외비용 | D46: 0 | E46: 천원
B47: 제3항 특별손실 | D47: 0 | E47: 천원
B48: 제4항 법인세등 | D48: 0 | E48: 천원
B49: 제5항 예 비 비 | D49: =세출예산총괄표4!B71 -> 0 | E49: 천원
B50: 제4조(자본적수입 및 지출) 자본적수입 및 지출의 예정액은 다음과 같이 정한다.
B52: 수 입
B53: 제1관 자본적수입 | D53: =+SUM(D54:D59) -> 585277000 | E53: 천원
B54: 제1항 투자자산 | D54: 0 | E54: 천원
B55: 제2항 고정자산매각수입 | D55: 0 | E55: 천원
B56: 제3항 고정부채수입 | D56: 0 | E56: 천원
B57: 제4항 자 본 금 | D57: 0 | E57: 천원
B58: 제5항 자본잉여금수입 | D58: 50067000 | E58: 천원
B59: 제6항 기타자본잉여금수입 | D59: =세입세출요약총괄표5!B15+세입세출요약총괄표5!B22 -> 535210000 | E59: 천원
B61: 지 출
B62: 제1관 자본적지출 | D62: =+SUM(D63:D69) -> 92327000 | E62: 천원
B63: 제1항 투자자산 | D63: 0 | E63: 천원
B64: 제2항 유형자산 | D64: =세입세출요약총괄표5!I14+세입세출요약총괄표5!I21 -> 42260000 | E64: 천원
B65: 제3항 무형자산 | D65: 0 | E65: 천원
B66: 제4항 유동부채상환금 | D66: 0 | E66: 천원
B67: 제5항 고정부채상환금 | D67: 0 | E67: 천원
B68: 제6항 기타 자본적지출 | D68: 50067000 | E68: 천원
B69: 제7항 예 비 비 | D69: =세입세출요약총괄표5!I16 -> 0 | E69: 천원
B73: 제5조(계속비) 계속비의 총액과 연할액은 다음과 같이 정한다.
B80: 제6조(채무부담행위) 채무부담행위를 할 수 있는 사항과 기간 및 한도액은 다음과 같이 정한다.
B87: 제7조(공사채 등) 해당사항 없음
B89: 제8조(일시차입금) 해당사항 없음
B91: 제9조(예산전용금지과목) 다음에 게기하는 과목의 경비는 이사회의 의결을 거치지 않고는
B92: 그 경비를 전용할 수 없다.
B93: (1) 인 건 비 | D93: =세입세출요약총괄표5!I8+세입세출요약총괄표5!I18 -> 3826014000 | E93: 천원
B94: (2) 업무추진비(타 비목으로부터의 전용금지) | D94: 32520000 | E94: 천원 | I94: 사무국 | J94: 6200000 | K94: 2680000 | L94: =SUM(J94:K94) -> 8880000
I97: 마두청소년수련관 | J97: 1200000 | K97: 2860000 | L97: =SUM(J97:K97) -> 4060000
B98: 제10조(대행사업 경비) | I98: 고양시청소년진로센터 | J98: 1200000 | K98: 1300000 | L98: =SUM(J98:K98) -> 2500000
I99: 성사청소년문화의집 | J99: 1200000 | K99: 1540000 | L99: =SUM(J99:K99) -> 2740000
I100: 탄현청소년문화의집 | J100: 1200000 | K100: 1200000 | L100: =SUM(J100:K100) -> 2400000
I101: 주교동청소년카페 | J101: 80000 | L101: =SUM(J101:K101) -> 80000
I102: 일산서구청소년수련관 | J102: 1200000 | K102: 3060000 | L102: =SUM(J102:K102) -> 4260000
I103: 토당청소년수련관 | J103: 1200000 | K103: 5200000 | L103: =SUM(J103:K103) -> 6400000
B104: 제11조(중요자산취득 및 처분) 중요자산의 취득 및 처분은 다음과 같이 한다. | I104: 고양시청소년상담복지센터 | J104: 1200000 | L104: =SUM(J104:K104) -> 1200000
I105: 화정청소년카페
I106: 백마역청소년카페
I107: 능곡역청소년카페
J110: =SUM(J94:J109) -> 14680000 | K110: =SUM(K94:K109) -> 17840000 | L110: =SUM(J110:K110) -> 32520000

Sheet 간지2(세입세출예산안)

Sheet 세입예산규모1
A1: 2019년 세입예산 규모
F3: [단위:천원]
A4: 구 분 | B4: 2019년예산액(A) | D4: 2018년예산액(B) | F4: 증감(A-B)
B5: 금액 | C5: 구성비 | D5: 금액 | E5: 구성비 | F5: 금액 | G5: 증감률
A6: 총계 | B6: =SUM(B7:B10) -> 8711827000 | C6: =SUM(C7:C10) -> 1 | D6: =ROUNDUP(SUM(D7:D10),-3) -> 10222359000 | E6: =SUM(E7:E10) -> 1 | F6: =B6-D6 -> -1510532000 | G6: =+F6/D6 -> -0.14776746 | J6: 5914513000
A7: 출연금 | B7: =세입예산총괄표3!B9+세입예산총괄표3!B17 -> 5914513000 | C7: =+B7/$B$6 -> 0.67890616 | D7: =세입예산총괄표3!D9+세입예산총괄표3!D17 -> 5999764000 | E7: =+D7/$D$6 -> 0.58692558 | F7: =B7-D7 -> -85251000 | G7: =+F7/D7 -> -0.014209059 | J7: =B7-J6 -> 0
A8: 사업수익금 | B8: 2262104000 | C8: =+B8/$B$6 -> 0.25965897 | D8: 3475150000 | E8: =+D8/$D$6 -> 0.33995578 | F8: =B8-D8 -> -1213046000 | G8: =+F8/D8 -> -0.34906292
A9: 재단지원금 | B9: 0 | C9: =+B9/$B$6 -> 0 | D9: =세입예산총괄표3!D35 -> 65391000 | E9: =+D9/$D$6 -> 0.0063968601 | F9: =B9-D9 -> -65391000 | G9: =+F9/D9 -> -1 | J9: 5878391000
A10: 이월금 | B10: =세입예산총괄표3!B55+세입예산총괄표3!B81 -> 535210000 | C10: =+B10/$B$6 -> 0.061434875 | D10: =세입예산총괄표3!D55+세입예산총괄표3!D81 -> 682054000 | E10: =+D10/$D$6 -> 0.066721781 | F10: =B10-D10 -> -146844000 | G10: =+F10/D10 -> -0.21529674

Sheet 시설별예산총괄표2
A1: 2019년 시설별 예산(안) 총괄표
J3: [단위:천원]
A4: 구 분 | B4: 2019년예산액(A) | F4: 2018년예산액(B) | J4: 증감액(A-B) | N4: 증감률
B5: 합계 | C5: 출연금 | D5: 보조금 | E5: 자부담 | F5: 합계 | G5: 출연금 | H5: 보조금 | I5: 자부담 | J5: 합계 | K5: =C5 -> 출연금 | L5: =D5 -> 보조금 | M5: =E5 -> 자부담 | N5: 합계 | O5: =K5 -> 출연금 | P5: =L5 -> 보조금 | Q5: =M5 -> 자부담
A6: 총 계 | B6: =SUM(B7:B18) -> 8711827000 | C6: =SUM(C7:C18) -> 5914513000 | D6: =SUM(D7:D18) -> 0 | E6: =SUM(E7:E18) -> 2797314000 | F6: =SUM(F7:F18) -> 10222359000 | G6: =SUM(G7:G18) -> 5999764000 | H6: =SUM(H7:H18) -> 1553941000 | I6: =SUM(I7:I18) -> 2668654000 | J6: =SUM(J7:J18) -> -1510532000 | K6: =C6-G6 -> -85251000 | L6: =D6-H6 -> -1553941000 | M6: =E6-I6 -> 128660000 | N6: =J6/F6 -> -0.14776746 | O6: =K6/G6 -> -0.014209059 | P6: =L6/H6 -> -1 | Q6: =M6/I6 -> 0.04821157
A7: 사무국 | B7: 3623469000 | C7: 3222569000 | D7: 0 | E7: =B7-C7 -> 400900000 | F7: =SUM(G7:I7) -> 2147350000 | G7: 1600000000 | H7: 2800000 | I7: 544550000 | J7: =SUM(K7:M7) -> 1476119000 | K7: =C7-G7 -> 1622569000 | L7: =D7-H7 -> -2800000 | M7: =E7-I7 -> -143650000 | N7: =J7/F7 -> 0.68741425 | O7: =K7/G7 -> 1.0141056 | P7: =L7/H7 -> -1 | Q7: =M7/I7 -> -0.26379579
A8: 마두청소년수련관 | B8: 1143863000 | C8: 318913000 | D8: 0 | E8: =B8-C8 -> 824950000 | F8: =SUM(G8:I8) -> 1644864000 | G8: 861000000 | H8: 29000000 | I8: 754864000 | J8: =SUM(K8:M8) -> -501001000 | K8: =C8-G8 -> -542087000 | L8: =D8-H8 -> -29000000 | M8: =E8-I8 -> 70086000 | N8: =J8/F8 -> -0.30458506 | O8: =K8/G8 -> -0.62960163 | P8: =L8/H8 -> -1 | Q8: =M8/I8 -> 0.092845864
A9: 고양시청소년진로센터 | B9: 61498000 | C9: 61258000 | D9: 0 | E9: =B9-C9 -> 240000 | F9: =SUM(G9:I9) -> 656844000 | G9: 324988000 | H9: 286300000 | I9: 45556000 | J9: =SUM(K9:M9) -> -595346000 | K9: =C9-G9 -> -263730000 | L9: =D9-H9 -> -286300000 | M9: =E9-I9 -> -45316000 | N9: =J9/F9 -> -0.90637351 | O9: =K9/G9 -> -0.81150689 | P9: =L9/H9 -> -1 | Q9: =M9/I9 -> -0.99473176
A10: 성사청소년문화의집 | B10: 215312000 | C10: 184082000 | D10: 0 | E10: =B10-C10 -> 31230000 | F10: =SUM(G10:I10) -> 587720000 | G10: 331348000 | H10: 229944000 | I10: 26428000 | J10: =SUM(K10:M10) -> -372408000 | K10: =C10-G10 -> -147266000 | L10: =D10-H10 -> -229944000 | M10: =E10-I10 -> 4802000 | N10: =J10/F10 -> -0.63364868 | O10: =K10/G10 -> -0.44444512 | P10: =L10/H10 -> -1 | Q10: =M10/I10 -> 0.18170123
A11: 탄현청소년문화의집 | B11: 214777000 | C11: 86947000 | D11: 0 | E11: =B11-C11 -> 127830000 | F11: =SUM(G11:I11) -> 358832000 | G11: 216088000 | H11: 2000000 | I11: 140744000 | J11: =SUM(K11:M11) -> -144055000 | K11: =C11-G11 -> -129141000 | L11: =D11-H11 -> -2000000 | M11: =E11-I11 -> -12914000 | N11: =J11/F11 -> -0.40145528 | O11: =K11/G11 -> -0.59763152 | P11: =L11/H11 -> -1 | Q11: =M11/I11 -> -0.091755244
A12: 주교동청소년카페 | B12: 16051000 | C12: 16041000 | D12: 0 | E12: =B12-C12 -> 10000 | F12: =SUM(G12:I12) -> 106242000 | G12: 65189000 | H12: 0 | I12: 41053000 | J12: =SUM(K12:M12) -> -90191000 | K12: =C12-G12 -> -49148000 | L12: =D12-H12 -> 0 | M12: =E12-I12 -> -41043000 | N12: =J12/F12 -> -0.84892039 | O12: =K12/G12 -> -0.75393088 | Q12: =M12/I12 -> -0.99975641
A13: 일산서구청소년수련관 | B13: 914627000 | C13: 423402000 | D13: 0 | E13: =B13-C13 -> 491225000 | F13: =SUM(G13:I13) -> 1345286000 | G13: 1200000000 | H13: 0 | I13: 145286000 | J13: =SUM(K13:M13) -> -430659000 | K13: =C13-G13 -> -776598000 | L13: =D13-H13 -> 0 | M13: =E13-I13 -> 345939000 | N13: =J13/F13 -> -0.32012449 | O13: =K13/G13 -> -0.647165 | Q13: =M13/I13 -> 2.3810897
A14: 토당청소년수련관 | B14: 1749582000 | C14: 931104000 | D14: 0 | E14: =B14-C14 -> 818478000 | F14: =SUM(G14:I14) -> 1947236000 | G14: 822500000 | H14: 235394000 | I14: 889342000 | J14: =SUM(K14:M14) -> -197654000 | K14: =C14-G14 -> 108604000 | L14: =D14-H14 -> -235394000 | M14: =E14-I14 -> -70864000 | N14: =J14/F14 -> -0.1015049 | O14: =K14/G14 -> 0.13204134 | P14: =L14/H14 -> -1 | Q14: =M14/I14 -> -0.079681382
A15: 고양시청소년상담복지센터 | B15: 424075000 | C15: 375948000 | D15: 0 | E15: =B15-C15 -> 48127000 | F15: =SUM(G15:I15) -> 1115590000 | G15: 323393000 | H15: 768503000 | I15: 23694000 | J15: =SUM(K15:M15) -> -691515000 | K15: =C15-G15 -> 52555000 | L15: =D15-H15 -> -768503000 | M15: =E15-I15 -> 24433000 | N15: =J15/F15 -> -0.61986482 | O15: =K15/G15 -> 0.16251125 | P15: =L15/H15 -> -1 | Q15: =M15/I15 -> 1.0311893
A16: 화정청소년카페 | B16: 155824000 | C16: 116324000 | D16: 0 | E16: =B16-C16 -> 39500000 | F16: =SUM(G16:I16) -> 153106000 | G16: 118473000 | H16: 0 | I16: 34633000 | J16: =SUM(K16:M16) -> 2718000 | K16: =C16-G16 -> -2149000 | L16: =D16-H16 -> 0 | M16: =E16-I16 -> 4867000 | N16: =J16/F16 -> 0.017752407 | O16: =K16/G16 -> -0.018139154 | Q16: =M16/I16 -> 0.14053071
A17: 백마역청소년카페 | B17: 101394000 | C17: 89380000 | D17: 0 | E17: =B17-C17 -> 12014000 | F17: =SUM(G17:I17) -> 89509000 | G17: 69415000 | H17: 0 | I17: 20094000 | J17: =SUM(K17:M17) -> 11885000 | K17: =C17-G17 -> 19965000 | L17: =D17-H17 -> 0 | M17: =E17-I17 -> -8080000 | N17: =J17/F17 -> 0.13277994 | O17: =K17/G17 -> 0.28761795 | Q17: =M17/I17 -> -0.40211008
A18: 능곡역청소년카페 | B18: 91355000 | C18: 88545000 | D18: 0 | E18: =B18-C18 -> 2810000 | F18: =SUM(G18:I18) -> 69780000 | G18: 67370000 | H18: 0 | I18: 2410000 | J18: =SUM(K18:M18) -> 21575000 | K18: =C18-G18 -> 21175000 | L18: =D18-H18 -> 0 | M18: =E18-I18 -> 400000 | N18: =J18/F18 -> 0.30918601 | O18: =K18/G18 -> 0.31430904 | Q18: =M18/I18 -> 0.1659751

Sheet 세입예산총괄표3
A1: 2019년 세입예산(안) 총괄표
F3: [단위:천원]
A4: 세 입
A5: 예산과목 | B5: 2019년예산액(A) | D5: 2018년예산액(B) | F5: 증 감(A-B)
B6: 금액 | C6: 구성비 | D6: 금액 | E6: 구성비 | F6: 금 액 | G6: 증감률
A7: 총 계 | B7: =SUM(B8,B57) -> 8711827000 | C7: =+C8+C57 -> 1 | D7: =SUM(D8,D57) -> 10222359000 | E7: =+E8+E57 -> 1 | F7: =B7-D7 -> -1510532000 | G7: =+F7/D7 -> -0.14776746 | I7: 8794791000
A8: 영업외수익 | B8: =B9+B17+B23+B31+B33+B40+B53+B55 -> 6366834000 | C8: =+B8/$B$7 -> 0.7308265 | D8: =D9+D17+D23+D31+D33+D40+D53+D55+D35 -> 8265090000 | E8: =+D8/$D$7 -> 0.80853059 | F8: =F9+F17+F23+F31+F33+F40+F53+F55 -> -1832865000 | G8: =+F8/D8 -> -0.22175984 | N8: =B9+B17 -> 5914513000
A9: 지자체출자출연금 | B9: =SUM(B10:B16) -> 4313212000 | C9: =+B9/$B$7 -> 0.49509844 | D9: =SUM(D10:D16) -> 4598613000 | E9: =+D9/$D$7 -> 0.4498583 | F9: =SUM(F10:F16) -> -285401000 | G9: =+F9/D9 -> -0.062062409
A10: 사무국 | B10: ='예산세입(사무국)'!P20 -> 3222569000 | C10: =+B10/$B$7 -> 0.36990737 | D10: 1600000000 | E10: =+D10/$D$7 -> 0.15651964 | F10: =+B10-D10 -> 1622569000 | G10: =+F10/D10 -> 1.0141056 | J10: 추경액 | K10: 기정액 | O10: =D9+D17 -> 5999764000
A11: 마두청소년수련관 | B11: ='예산세입(마두)'!P87 -> 318913000 | C11: =+B11/$B$7 -> 0.036606902 | D11: 861000000 | E11: =+D11/$D$7 -> 0.084227134 | F11: =+B11-D11 -> -542087000 | G11: =+F11/D11 -> -0.62960163 | I11: 사무국 | J11: =SUMIFS($B$10:$B$105,$A$10:$A$105,"사무국") -> 3623469000 | K11: =SUMIF($A$10:$A$105,"사무국",$D$10:$D$105) -> 2147350000 | L11: =J11-K11 -> 1476119000
A12: 고양시청소년진로센터 | B12: ='예산세입(진로)'!O29 -> 61258000 | C12: =+B12/$B$7 -> 0.0070315905 | D12: 324988000 | E12: =+D12/$D$7 -> 0.031791879 | F12: =+B12-D12 -> -263730000 | G12: =+F12/D12 -> -0.81150689 | I12: 마두청소년수련관 | J12: =SUMIFS($B$10:$B$105,$A$10:$A$105,"마두청소년수련관") -> 1143863000 | K12: =SUMIF($A$10:$A$105,"마두청소년수련관",$D$10:$D$105) -> 1644864000 | L12: =J12-K12 -> -501001000 | O12: =B11+B12+B13+B14+B15+B16 -> 1090643000
A13: 성사청소년문화의집 | B13: ='예산세입(성사)'!P32 -> 184082000 | C13: =+B13/$B$7 -> 0.021130126 | D13: 331348000 | E13: =+D13/$D$7 -> 0.032414045 | F13: =+B13-D13 -> -147266000 | G13: =+F13/D13 -> -0.44444512 | I13: 고양시청소년진로센터 | J13: =SUMIFS($B$10:$B$105,$A$10:$A$105,"고양시청소년진로센터") -> 61498000 | K13: =SUMIF($A$10:$A$105,"고양시청소년진로센터",$D$10:$D$105) -> 656844000 | L13: =J13-K13 -> -595346000
A14: 탄현청소년문화의집 | B14: ='예산세입(탄현)'!O48 -> 86947000 | C14: =+B14/$B$7 -> 0.0099803405 | D14: 216088000 | E14: =+D14/$D$7 -> 0.021138761 | F14: =+B14-D14 -> -129141000 | G14: =+F14/D14 -> -0.59763152 | I14: 성사청소년문화의집 | J14: =SUMIFS($B$10:$B$105,$A$10:$A$105,"성사청소년문화의집") -> 215312000 | K14: =SUMIF($A$10:$A$105,"성사청소년문화의집",$D$10:$D$105) -> 587720000 | L14: =J14-K14 -> -372408000 | O14: v
A15: 주교동청소년카페 | B15: ='예산세입(주교)'!O23 -> 16041000 | C15: =+B15/$B$7 -> 0.00184129 | D15: 65189000 | E15: =+D15/$D$7 -> 0.0063770995 | F15: =+B15-D15 -> -49148000 | G15: =+F15/D15 -> -0.75393088 | I15: 탄현청소년문화의집 | J15: =SUMIFS($B$10:$B$105,$A$10:$A$105,"탄현청소년문화의집") -> 214777000 | K15: =SUMIF($A$10:$A$105,"탄현청소년문화의집",$D$10:$D$105) -> 358832000 | L15: =J15-K15 -> -144055000
A16: 일산서구청소년수련관 | B16: ='예산세입(일산서구)'!P77 -> 423402000 | C16: =+B16/$B$7 -> 0.048600827 | D16: 1200000000 | E16: =+D16/$D$7 -> 0.11738973 | F16: =+B16-D16 -> -776598000 | G16: =+F16/D16 -> -0.647165 | I16: 주교동청소년카페 | J16: =SUMIFS($B$10:$B$105,$A$10:$A$105,"주교동청소년카페") -> 16051000 | K16: =SUMIF($A$10:$A$105,"주교동청소년카페",$D$10:$D$105) -> 106242000 | L16: =J16-K16 -> -90191000
A17: 보조금수익(출연금위탁교부) | B17: =SUM(B18:B22) -> 1601301000 | C17: =+B17/$B$7 -> 0.18380771 | D17: =SUM(D18:D22) -> 1401151000 | E17: =+D17/$D$7 -> 0.13706729 | F17: =SUM(F18:F22) -> 200150000 | G17: =+F17/D17 -> 0.14284685 | I17: 일산서구청소년수련관 | J17: =SUMIFS($B$10:$B$105,$A$10:$A$105,"일산서구청소년수련관") -> 914627000 | K17: =SUMIF($A$10:$A$105,"일산서구청소년수련관",$D$10:$D$105) -> 1345286000 | L17: =J17-K17 -> -430659000
A18: 토당청소년수련관 | B18: ='예산세입(토당)'!P82 -> 931104000 | C18: =+B18/$B$7 -> 0.10687816 | D18: 822500000 | E18: =+D18/$D$7 -> 0.08046088 | F18: =+B18-D18 -> 108604000 | G18: =+F18/D18 -> 0.13204134 | I18: 토당청소년수련관 | J18: =SUMIFS($B$10:$B$105,$A$10:$A$105,"토당청소년수련관") -> 1749582000 | K18: =SUMIF($A$10:$A$105,"토당청소년수련관",$D$10:$D$105) -> 1947236000 | L18: =J18-K18 -> -197654000
A19: 고양시청소년상담복지센터 | B19: ='예산세입(상담)'!O22 -> 375948000 | C19: =+B19/$B$7 -> 0.043153749 | D19: 323393000 | E19: =+D19/$D$7 -> 0.031635848 | F19: =+B19-D19 -> 52555000 | G19: =+F19/D19 -> 0.16251125 | I19: 고양시청소년상담복지센터 | J19: =SUMIFS($B$10:$B$105,$A$10:$A$105,"고양시청소년상담복지센터") -> 424075000 | K19: =SUMIF($A$10:$A$105,"고양시청소년상담복지센터",$D$10:$D$105) -> 1115590000 | L19: =J19-K19 -> -691515000
A20: 화정청소년카페 | B20: ='예산세입(화정)'!P29 -> 116324000 | C20: =+B20/$B$7 -> 0.013352423 | D20: 118473000 | E20: =+D20/$D$7 -> 0.011589595 | F20: =+B20-D20 -> -2149000 | G20: =+F20/D20 -> -0.018139154 | I20: 화정청소년카페 | J20: =SUMIFS($B$10:$B$105,$A$10:$A$105,"화정청소년카페") -> 155824000 | K20: =SUMIF($A$10:$A$105,"화정청소년카페",$D$10:$D$105) -> 153106000 | L20: =J20-K20 -> 2718000
A21: 백마역청소년카페 | B21: ='예산세입(백마)'!O20 -> 89380000 | C21: =+B21/$B$7 -> 0.010259616 | D21: 69415000 | E21: =+D21/$D$7 -> 0.006790507 | F21: =+B21-D21 -> 19965000 | G21: =+F21/D21 -> 0.28761795 | I21: 백마역청소년카페 | J21: =SUMIFS($B$10:$B$105,$A$10:$A$105,"백마역청소년카페") -> 101394000 | K21: =SUMIF($A$10:$A$105,"백마역청소년카페",$D$10:$D$105) -> 89509000 | L21: =J21-K21 -> 11885000
A22: 능곡역청소년카페 | B22: ='예산세입(능곡)'!P18 -> 88545000 | C22: =+B22/$B$7 -> 0.010163769 | D22: 67370000 | E22: =+D22/$D$7 -> 0.0065904553 | F22: =+B22-D22 -> 21175000 | G22: =+F22/D22 -> 0.31430904 | I22: 능곡역청소년카페 | J22: =SUMIFS($B$10:$B$105,$A$10:$A$105,"능곡역청소년카페") -> 91355000 | K22: =SUMIF($A$10:$A$105,"능곡역청소년카페",$D$10:$D$105) -> 69780000 | L22: =J22-K22 -> 21575000
A23: 국도시비보조금 | B23: =SUM(B24:B30) -> 0 | C23: =+B23/$B$7 -> 0 | D23: =SUM(D24:D30) -> 1553941000 | E23: =+D23/$D$7 -> 0.15201393 | F23: =SUM(F24:F30) -> -1553941000 | G23: =+F23/D23 -> -1 | J23: =SUM(J11:J22) -> 8711827000 | K23: =SUM(K11:K22) -> 10222359000
A24: 사무국 | B24: ='예산세입(사무국)'!P13 -> 0 | C24: =+B24/$B$7 -> 0 | D24: 2800000 | E24: =+D24/$D$7 -> 0.00027390938 | F24: =+B24-D24 -> -2800000 | G24: =+F24/D24 -> -1 | I24: =B23+B31+B33 -> 0 | J24: =C23+C31+C33 -> 0 | K24: =D23+D31+D33 -> 1603941000 | L24: =E23+E31+E33 -> 0.15690517
A25: 마두청소년수련관 | B25: ='예산세입(마두)'!P76 -> 0 | C25: =+B25/$B$7 -> 0 | D25: 29000000 | E25: =+D25/$D$7 -> 0.0028369186 | F25: =+B25-D25 -> -29000000 | G25: =+F25/D25 -> -1
A26: 고양시청소년진로센터 | B26: ='예산세입(진로)'!P13 -> 0 | C26: =+B26/$B$7 -> 0 | D26: 286300000 | E26: =+D26/$D$7 -> 0.028007234 | F26: =+B26-D26 -> -286300000 | G26: =+F26/D26 -> -1
A27: 성사청소년문화의집 | B27: ='예산세입(성사)'!P30 -> 0 | C27: =+B27/$B$7 -> 0 | D27: 229944000 | E27: =+D27/$D$7 -> 0.022494221 | F27: =+B27-D27 -> -229944000 | G27: =+F27/D27 -> -1 | I27: =D23+D31+D33+D35 -> 1669332000
A28: 탄현청소년문화의집 | B28: ='예산세입(탄현)'!P39 -> 0 | C28: =+B28/$B$7 -> 0 | D28: 2000000 | E28: =+D28/$D$7 -> 0.00019564956 | F28: =+B28-D28 -> -2000000 | G28: =+F28/D28 -> -1
A29: 토당청소년수련관 | B29: 0 | C29: =+B29/$B$7 -> 0 | D29: 235394000 | E29: =+D29/$D$7 -> 0.023027366 | F29: =+B29-D29 -> -235394000 | G29: =+F29/D29 -> -1
A30: 고양시청소년상담복지센터 | B30: 0 | C30: =+B30/$B$7 -> 0 | D30: 768503000 | E30: =+D30/$D$7 -> 0.075178635 | F30: =+B30-D30 -> -768503000 | G30: =+F30/D30 -> -1
A31: 교육청사업 | B31: =SUM(B32:B32) -> 0 | C31: =+B31/$B$7 -> 0 | D31: =SUM(D32:D32) -> 44000000 | E31: =+D31/$D$7 -> 0.0043042902 | F31: =SUM(F32:F32) -> -44000000 | G31: =+F31/D31 -> -1
A32: 고양시청소년진로센터 | B32: ='예산세입(진로)'!P19 -> 0 | C32: =+B32/$B$7 -> 0 | D32: ='예산세입(진로)'!Q19 -> 44000000 | E32: =+D32/$D$7 -> 0.0043042902 | F32: =+B32-D32 -> -44000000 | G32: =+F32/D32 -> -1
A33: 기타보조금 | B33: =SUM(B34:B34) -> 0 | C33: =+B33/$B$7 -> 0 | D33: =SUM(D34:D34) -> 6000000 | E33: =+D33/$D$7 -> 0.00058694867 | F33: =SUM(F34:F34) -> -6000000 | G33: =+F33/D33 -> -1
A34: 토당청소년수련관 | B34: ='예산세입(토당)'!P85 -> 0 | C34: =+B34/$B$7 -> 0 | D34: ='예산세입(토당)'!Q85 -> 6000000 | E34: =+D34/$D$7 -> 0.00058694867 | F34: =+B34-D34 -> -6000000 | G34: =+F34/D34 -> -1
A35: 재단지원금 | B35: =SUM(B36:B39) -> 0 | C35: =+B35/$B$7 -> 0 | D35: =SUM(D36:D39) -> 65391000 | E35: =+D35/$D$7 -> 0.0063968601 | F35: =SUM(F36:F39) -> -65391000 | G35: =+F35/D35 -> -1
A36: 탄현청소년문화의집 | B36: 0 | C36: =+B36/$B$7 -> 0 | D36: 20720000 | E36: =+D36/$D$7 -> 0.0020269294 | F36: =+B36-D36 -> -20720000 | G36: =+F36/D36 -> -1
A37: 주교동청소년카페 | B37: 0 | C37: =+B37/$B$7 -> 0 | D37: 37081000 | E37: =+D37/$D$7 -> 0.0036274406 | F37: =+B37-D37 -> -37081000 | G37: =+F37/D37 -> -1
A38: 고양시청소년상담복지센터 | B38: 0 | C38: =+B38/$B$7 -> 0 | D38: 3510000 | E38: =+D38/$D$7 -> 0.00034336497 | F38: =+B38-D38 -> -3510000 | G38: =+F38/D38 -> -1
A39: 백마역청소년카페 | B39: 0 | C39: =+B39/$B$7 -> 0 | D39: 4080000 | E39: =+D39/$D$7 -> 0.00039912509 | F39: =+B39-D39 -> -4080000 | G39: =+F39/D39 -> -1
A40: 이자수익 | B40: =SUM(B41:B52) -> 2321000 | C40: =+B40/$B$7 -> 0.00026641943 | D40: =SUM(D41:D52) -> 2164000 | E40: =+D40/$D$7 -> 0.00021169282 | F40: =SUM(F41:F52) -> 157000 | G40: =+F40/D40 -> 0.072550832
A41: 사무국 | B41: ='예산세입(사무국)'!P9 -> 900000 | C41: =+B41/$B$7 -> 0.00010330784 | D41: ='예산세입(사무국)'!Q9 -> 720000 | E41: =+D41/$D$7 -> 7.043384e-05 | F41: =+B41-D41 -> 180000 | G41: =+F41/D41 -> 0.25
A42: 마두청소년수련관 | B42: ='예산세입(마두)'!P72 -> 200000 | C42: =+B42/$B$7 -> 2.2957297e-05 | D42: ='예산세입(마두)'!Q72 -> 200000 | E42: =+D42/$D$7 -> 1.9564956e-05 | F42: =+B42-D42 -> 0 | G42: =+F42/D42 -> 0
A43: 고양시청소년진로센터 | B43: ='예산세입(진로)'!P9 -> 240000 | C43: =+B43/$B$7 -> 2.7548756e-05 | D43: ='예산세입(진로)'!Q9 -> 240000 | E43: =+D43/$D$7 -> 2.3477947e-05 | F43: =+B43-D43 -> 0 | G43: =+F43/D43 -> 0
A44: 성사청소년문화의집 | B44: ='예산세입(성사)'!P26 -> 100000 | C44: =+B44/$B$7 -> 1.1478649e-05 | D44: ='예산세입(성사)'!Q26 -> 100000 | E44: =+D44/$D$7 -> 9.7824778e-06 | F44: =+B44-D44 -> 0 | G44: =+F44/D44 -> 0
A45: 탄현청소년문화의집 | B45: ='예산세입(탄현)'!P35 -> 70000 | C45: =+B45/$B$7 -> 8.035054e-06 | D45: ='예산세입(탄현)'!Q35 -> 100000 | E45: =+D45/$D$7 -> 9.7824778e-06 | F45: =+B45-D45 -> -30000 | G45: =+F45/D45 -> -0.3
A46: 주교동청소년카페 | B46: ='예산세입(주교)'!P13 -> 10000 | C46: =+B46/$B$7 -> 1.1478649e-06 | D46: ='예산세입(주교)'!Q13 -> 10000 | E46: =+D46/$D$7 -> 9.7824778e-07 | F46: =+B46-D46 -> 0 | G46: =+F46/D46 -> 0
A47: 일산서구청소년수련관 | B47: ='예산세입(일산서구)'!P65 -> 233000 | C47: =+B47/$B$7 -> 2.6745251e-05 | D47: ='예산세입(일산서구)'!Q65 -> 233000 | E47: =+D47/$D$7 -> 2.2793173e-05 | F47: =+B47-D47 -> 0 | G47: =+F47/D47 -> 0
A48: 토당청소년수련관 | B48: ='예산세입(토당)'!P78 -> 500000 | C48: =+B48/$B$7 -> 5.7393243e-05 | D48: ='예산세입(토당)'!Q78 -> 500000 | E48: =+D48/$D$7 -> 4.8912389e-05 | F48: =+B48-D48 -> 0 | G48: =+F48/D48 -> 0
A49: 고양시청소년상담복지센터 | B49: ='예산세입(상담)'!P16 -> 24000 | C49: =+B49/$B$7 -> 2.7548756e-06 | D49: ='예산세입(상담)'!Q16 -> 24000 | E49: =+D49/$D$7 -> 2.3477947e-06 | F49: =+B49-D49 -> 0 | G49: =+F49/D49 -> 0
A50: 화정청소년카페 | B50: ='예산세입(화정)'!P25 -> 20000 | C50: =+B50/$B$7 -> 2.2957297e-06 | D50: ='예산세입(화정)'!Q25 -> 13000 | E50: =+D50/$D$7 -> 1.2717221e-06 | F50: =+B50-D50 -> 7000 | G50: =+F50/D50 -> 0.53846154
A51: 백마역청소년카페 | B51: ='예산세입(백마)'!P14 -> 14000 | C51: =+B51/$B$7 -> 1.6070108e-06 | D51: ='예산세입(백마)'!Q14 -> 14000 | E51: =+D51/$D$7 -> 1.3695469e-06 | F51: =+B51-D51 -> 0 | G51: =+F51/D51 -> 0
A52: 능곡역청소년카페 | B52: ='예산세입(능곡)'!P14 -> 10000 | C52: =+B52/$B$7 -> 1.1478649e-06 | D52: ='예산세입(능곡)'!Q14 -> 10000 | E52: =+D52/$D$7 -> 9.7824778e-07 | F52: =+B52-D52 -> 0 | G52: =+F52/D52 -> 0
A53: 법인전입금 | B53: =SUM(B54:B54) -> 50000000 | C53: =+B53/$B$7 -> 0.0057393243 | D53: =SUM(D54:D54) -> 50000000 | E53: =+D53/$D$7 -> 0.0048912389 | F53: =SUM(F54:F54) -> 0 | G53: =+F53/D53 -> 0
A54: 토당청소년수련관 | B54: ='예산세입(토당)'!P87 -> 50000000 | C54: =+B54/$B$7 -> 0.0057393243 | D54: ='예산세입(토당)'!Q87 -> 50000000 | E54: =+D54/$D$7 -> 0.0048912389 | F54: =+B54-D54 -> 0 | G54: =+F54/D54 -> 0
A55: 이월금 및 출자출연금 | B55: =SUM(B56:B56) -> 400000000 | C55: =+B55/$B$7 -> 0.045914594 | D55: =SUM(D56:D56) -> 543830000 | E55: =+D55/$D$7 -> 0.053200049 | F55: =SUM(F56:F56) -> -143830000 | G55: =+F55/D55 -> -0.26447603 | J55: =D56-#REF! -> #REF!
A56: 사무국 | B56: ='예산세입(사무국)'!P25 -> 400000000 | C56: =+B56/$B$7 -> 0.045914594 | D56: 543830000 | E56: =+D56/$D$7 -> 0.053200049 | F56: =+B56-D56 -> -143830000 | G56: =+F56/D56 -> -0.26447603 | I56: =B58+B67+B74 -> 2209783000 | J56: =C58+C67+C74 -> 0.25365322 | K56: =D58+D67+D74 -> 1819045000
A57: 영업수익 | B57: =B58+B67+B74+B81 -> 2344993000 | C57: =+B57/$B$7 -> 0.2691735 | D57: =D58+D67+D74+D81 -> 1957269000 | E57: =+D57/$D$7 -> 0.19146941 | F57: =B57-D57 -> 387724000 | G57: =+F57/D57 -> 0.19809439
A58: 자체사업수익 | B58: =SUM(B59:B66) -> 1912797000 | C58: =+B58/$B$7 -> 0.21956324 | D58: =SUM(D59:D66) -> 1567430000 | E58: =+D58/$D$7 -> 0.15333349 | F58: =SUM(F59:F66) -> 345367000 | G58: =+F58/D58 -> 0.22033966 | J58: 2019 | L58: 2018
A59: 마두청소년수련관 | B59: ='예산세입(마두)'!P8 -> 715450000 | C59: =+B59/$B$7 -> 0.082123991 | D59: ='예산세입(마두)'!Q8 -> 597440000 | E59: =+D59/$D$7 -> 0.058444435 | F59: =+B59-D59 -> 118010000 | G59: =+F59/D59 -> 0.19752611 | I59: 마두청소년수련관 | J59: =SUMIFS($B$58:$B$80,$A$58:$A$80,"마두청소년수련관") -> 774750000 | L59: =SUMIFS($D$58:$D$80,$A$58:$A$80,"마두청소년수련관") -> 651940000
A60: 성사청소년문화의집 | B60: ='예산세입(성사)'!P8 -> 18100000 | C60: =+B60/$B$7 -> 0.0020776354 | D60: ='예산세입(성사)'!Q8 -> 5250000 | E60: =+D60/$D$7 -> 0.00051358008 | F60: =+B60-D60 -> 12850000 | G60: =+F60/D60 -> 2.447619 | I60: 성사청소년문화의집 | J60: =SUMIFS($B$58:$B$80,$A$58:$A$80,"성사청소년문화의집") -> 20100000 | L60: =SUMIFS($D$58:$D$80,$A$58:$A$80,"성사청소년문화의집") -> 12690000
A61: 탄현청소년문화의집 | B61: ='예산세입(탄현)'!P8 -> 111120000 | C61: =+B61/$B$7 -> 0.012755074 | D61: ='예산세입(탄현)'!Q8 -> 100900000 | E61: =+D61/$D$7 -> 0.0098705201 | F61: =+B61-D61 -> 10220000 | G61: =+F61/D61 -> 0.1012884 | I61: 탄현청소년문화의집 | J61: =SUMIFS($B$58:$B$80,$A$58:$A$80,"탄현청소년문화의집") -> 112400000 | L61: =SUMIFS($D$58:$D$80,$A$58:$A$80,"탄현청소년문화의집") -> 101860000
A62: 주교동청소년카페 | B62: ='예산세입(주교)'!P8 -> 0 | C62: =+B62/$B$7 -> 0 | D62: ='예산세입(주교)'!Q8 -> 1480000 | E62: =+D62/$D$7 -> 0.00014478067 | F62: =+B62-D62 -> -1480000 | G62: =+F62/D62 -> -1 | I62: 주교동청소년카페 | J62: =SUMIFS($B$58:$B$80,$A$58:$A$80,"주교동청소년카페") -> 0 | L62: =SUMIFS($D$58:$D$80,$A$58:$A$80,"주교동청소년카페") -> 1480000
A63: 일산서구청소년수련관 | B63: ='예산세입(일산서구)'!P8 -> 376324000 | C63: =+B63/$B$7 -> 0.043196909 | D63: ='예산세입(일산서구)'!Q8 -> 104400000 | E63: =+D63/$D$7 -> 0.010212907 | F63: =+B63-D63 -> 271924000 | G63: =+F63/D63 -> 2.604636 | I63: 일산서구청소년수련관 | J63: =SUMIFS($B$58:$B$80,$A$58:$A$80,"일산서구청소년수련관") -> 466692000 | L63: =SUMIFS($D$58:$D$80,$A$58:$A$80,"일산서구청소년수련관") -> 145053000
A64: 토당청소년수련관 | B64: ='예산세입(토당)'!P8 -> 650000000 | C64: =+B64/$B$7 -> 0.074611215 | D64: ='예산세입(토당)'!Q8 -> 736180000 | E64: =+D64/$D$7 -> 0.072016645 | F64: =+B64-D64 -> -86180000 | G64: =+F64/D64 -> -0.11706376 | I64: 토당청소년수련관 | J64: =SUMIFS($B$58:$B$80,$A$58:$A$80,"토당청소년수련관") -> 741828000 | L64: =SUMIFS($D$58:$D$80,$A$58:$A$80,"토당청소년수련관") -> 832842000
A65: 고양시청소년상담복지센터 | B65: ='예산세입(상담)'!P8 -> 40483000 | C65: =+B65/$B$7 -> 0.0046469013 | D65: ='예산세입(상담)'!Q8 -> 20160000 | E65: =+D65/$D$7 -> 0.0019721475 | F65: =+B65-D65 -> 20323000 | G65: =+F65/D65 -> 1.0080853 | I65: 고양시청소년상담복지센터 | J65: =SUMIFS($B$58:$B$80,$A$58:$A$80,"고양시청소년상담복지센터") -> 40483000 | L65: =SUMIFS($D$58:$D$80,$A$58:$A$80,"고양시청소년상담복지센터") -> 20160000
A66: 화정청소년카페 | B66: ='예산세입(화정)'!P8 -> 1320000 | C66: =+B66/$B$7 -> 0.00015151816 | D66: ='예산세입(화정)'!Q8 -> 1620000 | E66: =+D66/$D$7 -> 0.00015847614 | F66: =+B66-D66 -> -300000 | G66: =+F66/D66 -> -0.18518519 | I66: 화정청소년카페 | J66: =SUMIFS($B$58:$B$80,$A$58:$A$80,"화정청소년카페") -> 39480000 | L66: =SUMIFS($D$58:$D$80,$A$58:$A$80,"화정청소년카페") -> 34620000
A67: 기타영업수익 | B67: =SUM(B68:B73) -> 28332000 | C67: =+B67/$B$7 -> 0.0032521307 | D67: =SUM(D68:D73) -> 42498000 | E67: =+D67/$D$7 -> 0.0041573574 | F67: =SUM(F68:F73) -> -14166000 | G67: =+F67/D67 -> -0.33333333
A68: 마두청소년수련관 | B68: ='예산세입(마두)'!P57 -> 3500000 | C68: =+B68/$B$7 -> 0.0004017527 | D68: ='예산세입(마두)'!Q57 -> 3500000 | E68: =+D68/$D$7 -> 0.00034238672 | F68: =+B68-D68 -> 0 | G68: =+F68/D68 -> 0 | L68: =L64+L65+L66 -> 887622000
A69: 성사청소년문화의집 | B69: ='예산세입(성사)'!P20 -> 2000000 | C69: =+B69/$B$7 -> 0.00022957297 | D69: ='예산세입(성사)'!Q20 -> 7440000 | E69: =+D69/$D$7 -> 0.00072781635 | F69: =+B69-D69 -> -5440000 | G69: =+F69/D69 -> -0.7311828
A70: 탄현청소년문화의집 | B70: ='예산세입(탄현)'!P29 -> 1280000 | C70: =+B70/$B$7 -> 0.0001469267 | D70: ='예산세입(탄현)'!Q29 -> 960000 | E70: =+D70/$D$7 -> 9.3911787e-05 | F70: =+B70-D70 -> 320000 | G70: =+F70/D70 -> 0.33333333 | J70: =D58+D67+D74 -> 1819045000
A71: 일산서구청소년수련관 | B71: ='예산세입(일산서구)'!P52 -> 1232000 | C71: =+B71/$B$7 -> 0.00014141695 | D71: ='예산세입(일산서구)'!Q52 -> 1800000 | E71: =+D71/$D$7 -> 0.0001760846 | F71: =+B71-D71 -> -568000 | G71: =+F71/D71 -> -0.31555556
A72: 토당청소년수련관 | B72: ='예산세입(토당)'!P63 -> 19960000 | C72: =+B72/$B$7 -> 0.0022911382 | D72: ='예산세입(토당)'!Q63 -> 28438000 | E72: =+D72/$D$7 -> 0.002781941 | F72: =+B72-D72 -> -8478000 | G72: =+F72/D72 -> -0.29812223
A73: 화정청소년카페 | B73: ='예산세입(화정)'!P15 -> 360000 | C73: =+B73/$B$7 -> 4.1323135e-05 | D73: ='예산세입(화정)'!Q15 -> 360000 | E73: =+D73/$D$7 -> 3.521692e-05 | F73: =+B73-D73 -> 0 | G73: =+F73/D73 -> 0
A74: 판매수익 | B74: =SUM(B75:B80) -> 268654000 | C74: =+B74/$B$7 -> 0.030837848 | D74: =SUM(D75:D80) -> 209117000 | E74: =+D74/$D$7 -> 0.020456824 | F74: =SUM(F75:F80) -> 59537000 | G74: =+F74/D74 -> 0.28470665
A75: 마두청소년수련관 | B75: ='예산세입(마두)'!P66 -> 55800000 | C75: =+B75/$B$7 -> 0.0064050859 | D75: ='예산세입(마두)'!Q66 -> 51000000 | E75: =+D75/$D$7 -> 0.0049890637 | F75: =+B75-D75 -> 4800000 | G75: =+F75/D75 -> 0.094117647
A76: 일산서구청소년수련관 | B76: ='예산세입(일산서구)'!P59 -> 89136000 | C76: =+B76/$B$7 -> 0.010231608 | D76: ='예산세입(일산서구)'!Q59 -> 38853000 | E76: =+D76/$B$7 -> 0.0044597993 | F76: =+B76-D76 -> 50283000 | G76: =+F76/D76 -> 1.2941858
A77: 토당청소년수련관 | B77: ='예산세입(토당)'!P68 -> 71868000 | C77: =+B77/$B$7 -> 0.0082494751 | D77: ='예산세입(토당)'!Q68 -> 68224000 | E77: =+D77/$D$7 -> 0.0066739977 | F77: =+B77-D77 -> 3644000 | G77: =+F77/D77 -> 0.053412289
A78: 화정청소년카페 | B78: ='예산세입(화정)'!P19 -> 37800000 | C78: =+B78/$B$7 -> 0.0043389291 | D78: ='예산세입(화정)'!Q19 -> 32640000 | E78: =+D78/$D$7 -> 0.0031930008 | F78: =+B78-D78 -> 5160000 | G78: =+F78/D78 -> 0.15808824
A79: 백마역청소년카페 | B79: ='예산세입(백마)'!P8 -> 11250000 | C79: =+B79/$B$7 -> 0.001291348 | D79: ='예산세입(백마)'!Q9 -> 16000000 | E79: =+D79/$D$7 -> 0.0015651964 | F79: =+B79-D79 -> -4750000 | G79: =+F79/D79 -> -0.296875
A80: 능곡역청소년카페 | B80: ='예산세입(능곡)'!P9 -> 2800000 | C80: =+B80/$B$7 -> 0.00032140216 | D80: ='예산세입(능곡)'!Q8 -> 2400000 | E80: =+D80/$D$7 -> 0.00023477947 | F80: =+B80-D80 -> 400000 | G80: =+F80/D80 -> 0.16666667
A81: 이월금 | B81: =SUM(B82:B90) -> 135210000 | C81: =+B81/$B$7 -> 0.015520281 | D81: =SUM(D82:D90) -> 138224000 | E81: =+D81/$D$7 -> 0.013521732 | F81: =SUM(F82:F86) -> -61834000 | G81: =+F81/D81 -> -0.44734634
A82: 마두청소년수련관 | B82: ='예산세입(마두)'!P93 -> 50000000 | C82: =+B82/$B$7 -> 0.0057393243 | D82: ='예산세입(마두)'!Q93 -> 102724000 | E82: =+D82/$D$7 -> 0.010048952 | F82: =+B82-D82 -> -52724000 | G82: =+F82/D82 -> -0.51325883
A83: 고양시청소년진로센터 | B83: ='예산세입(진로)'!P33 -> 0 | C83: =+B83/$B$7 -> 0 | D83: ='예산세입(진로)'!Q33 -> 1316000 | E83: =+D83/$D$7 -> 0.00012873741 | F83: =+B83-D83 -> -1316000 | G83: =+F83/D83 -> -1
A84: 성사청소년문화의집 | B84: ='예산세입(성사)'!P38 -> 11030000 | C84: =+B84/$B$7 -> 0.0012660949 | D84: ='예산세입(성사)'!Q38 -> 13638000 | E84: =+D84/$D$7 -> 0.0013341343 | F84: =+B84-D84 -> -2608000 | G84: =+F84/D84 -> -0.19123039 | I84: =B7-B40 -> 8709506000
A85: 탄현청소년문화의집 | B85: ='예산세입(탄현)'!P52 -> 15360000 | C85: =+B85/$B$7 -> 0.0017631204 | D85: ='예산세입(탄현)'!Q52 -> 18064000 | E85: =+D85/$D$7 -> 0.0017671068 | F85: =+B85-D85 -> -2704000 | G85: =+F85/D85 -> -0.14968999
A86: 주교동청소년카페 | B86: ='예산세입(주교)'!P27 -> 0 | C86: =+B86/$B$7 -> 0 | D86: ='예산세입(주교)'!Q27 -> 2482000 | E86: =+D86/$D$7 -> 0.0002428011 | F86: =+B86-D86 -> -2482000 | G86: =+F86/D86 -> -1
A87: 일산서구청소년수련관 | B87: ='예산세입(일산서구)'!P82 -> 24300000 | C87: =+B87/$B$7 -> 0.0027893116 | D87: 0 | E87: =+D87/$D$7 -> 0 | F87: =+B87-D87 -> 24300000
A88: 토당청소년수련관 | B88: ='예산세입(토당)'!P92 -> 26150000 | C88: =+B88/$B$7 -> 0.0030016666 | D88: 0 | E88: =+D88/$D$7 -> 0 | F88: =+B88-D88 -> 26150000
A89: 고양시청소년상담복지센터 | B89: ='예산세입(상담)'!P26 -> 7620000 | C89: =+B89/$B$7 -> 0.00087467302 | D89: ='예산세입(주교)'!Q28 -> 0 | E89: =+D89/$D$7 -> 0 | F89: =+B89-D89 -> 7620000
A90: 백마역청소년카페 | B90: ='예산세입(백마)'!P23 -> 750000 | C90: =+B90/$B$7 -> 8.6089864e-05 | D90: ='예산세입(주교)'!Q29 -> 0 | E90: =+D90/$D$7 -> 0 | F90: =+B90-D90 -> 750000
B92: =B81+B55 -> 535210000 | C92: =C81+C55 -> 0.061434875 | D92: =D81+D55 -> 682054000

Sheet 세출예산총괄표4
A1: 2019년 세출예산(안) 총괄표
F3: [단위:천원]
A4: 세 출
A5: 예산과목 | B5: 2019년예산액(A) | D5: 2018년예산액(B) | F5: 증 감(A-B)
B6: 금액 | C6: 구성비 | D6: 금액 | E6: 구성비 | F6: 금 액 | G6: 증감률
A7: 총 계 | B7: =SUM(B8,B73) -> 8711827000 | C7: =+C8+C73 -> 1 | D7: =SUM(D8,D73) -> 10222359000 | E7: =+E8+E73 -> 1 | F7: =B7-D7 -> -1510532000 | G7: =+F7/D7 -> -0.14776746 | J7: =B9+B74 -> 3826014000
A8: 사업비용 | B8: =SUM(B9,B22,B35,B48,B56,B58,B60,B69,B71) -> 6314513000 | C8: =+B8/B7 -> 0.72482075 | D8: =SUM(D9,D22,D35,D48,D56,D58,D60,D69,D71) -> 8034222000 | E8: =+D8/D7 -> 0.78594598 | F8: =SUM(F9,F22,F35,F48,F56,F58,F60,F69,F71) -> -1719709000 | G8: =+F8/D8 -> -0.21404798
A9: 인건비 | B9: =SUM(B10:B21) -> 3523140000 | C9: =+B9/$B$7 -> 0.40440886 | D9: =SUM(D10:D21) -> 3101397000 | E9: =+D9/$D$7 -> 0.30339347 | F9: =SUM(F10:F21) -> 421743000 | G9: =+F9/D9 -> 0.13598485 | K9: 추경액 | L9: 기정액
A10: 사무국 | B10: ='예산세출(사무국)'!Q8 -> 2200111000 | C10: =+B10/$B$7 -> 0.25254301 | D10: 569927000 | E10: =+D10/$D$7 -> 0.055752982 | F10: =+B10-D10 -> 1630184000 | G10: =+F10/D10 -> 2.8603383 | J10: 사무국 | K10: =SUMIFS($B$10:$B$137,$A$10:$A$137,"사무국") -> 3623469000 | L10: =SUMIF($A$10:$A$137,"사무국",$D$10:$D$137) -> 2147350000 | M10: 2147350000 | N10: =L10-M10 -> 0 | O10: 인건비 | P10: =B9 -> 3523140000 | Q10: =C9 -> 0.40440886 | R10: =D9 -> 3101397000 | S10: 5999764000
A11: 마두청소년수련관 | B11: ='예산세출(마두)'!Q8 -> 12925000 | C11: =+B11/$B$7 -> 0.0014836153 | D11: 518616000 | E11: =+D11/$D$7 -> 0.050733495 | F11: =+B11-D11 -> -505691000 | G11: =+F11/D11 -> -0.9750779 | J11: 마두청소년수련관 | K11: =SUMIFS($B$10:$B$137,$A$10:$A$137,"마두청소년수련관") -> 1143863000 | L11: =SUMIF($A$10:$A$137,"마두청소년수련관",$D$10:$D$137) -> 1644864000 | M11: 1644864000 | N11: =L11-M11 -> 0 | O11: 운영비 | P11: =B22 -> 1436607000 | Q11: =C22 -> 0.16490307 | R11: =D22 -> 1461948000
A12: 고양시청소년진로센터 | B12: ='예산세출(진로)'!Q8 -> 21248000 | C12: =+B12/$B$7 -> 0.0024389832 | D12: 191160000 | E12: =+D12/$D$7 -> 0.018700185 | F12: =+B12-D12 -> -169912000 | G12: =+F12/D12 -> -0.88884704 | J12: 고양시청소년진로센터 | K12: =SUMIFS($B$10:$B$137,$A$10:$A$137,"고양시청소년진로센터") -> 61498000 | L12: =SUMIF($A$10:$A$137,"고양시청소년진로센터",$D$10:$D$137) -> 656844000 | M12: 656844000 | N12: =L12-M12 -> 0 | O12: 자산취득비 | P12: =B60 -> 16900000 | Q12: =C60 -> 0.0019398916 | R12: =D60 -> 378802000
A13: 성사청소년문화의집 | B13: ='예산세출(성사)'!Q8 -> 37340000 | C13: =+B13/$B$7 -> 0.0042861274 | D13: 183764000 | E13: =+D13/$D$7 -> 0.017976673 | F13: =+B13-D13 -> -146424000 | G13: =+F13/D13 -> -0.7968046 | J13: 성사청소년문화의집 | K13: =SUMIFS($B$10:$B$137,$A$10:$A$137,"성사청소년문화의집") -> 215312000 | L13: =SUMIF($A$10:$A$137,"성사청소년문화의집",$D$10:$D$137) -> 587720000 | M13: 587720000 | N13: =L13-M13 -> 0 | O13: 성과급 | P13: =B69 -> 91448000 | Q13: =C69 -> 0.010496994 | R13: =D69 -> 91448000
A14: 탄현청소년문화의집 | B14: ='예산세출(탄현)'!Q8 -> 32717000 | C14: =+B14/$B$7 -> 0.0037554694 | D14: 144144000 | E14: =+D14/$D$7 -> 0.014100855 | F14: =+B14-D14 -> -111427000 | G14: =+F14/D14 -> -0.77302559 | J14: 탄현청소년문화의집 | K14: =SUMIFS($B$10:$B$137,$A$10:$A$137,"탄현청소년문화의집") -> 214777000 | L14: =SUMIF($A$10:$A$137,"탄현청소년문화의집",$D$10:$D$137) -> 358832000 | M14: 358832000 | N14: =L14-M14 -> 0 | O14: 예비비 | P14: =B71 -> 0 | Q14: =C71 -> 0 | R14: =D71 -> 20000000
A15: 주교동청소년카페 | B15: ='예산세출(주교)'!Q8 -> 0 | C15: =+B15/$B$7 -> 0 | D15: 46863000 | E15: =+D15/$D$7 -> 0.0045843626 | F15: =+B15-D15 -> -46863000 | G15: =+F15/D15 -> -1 | J15: 주교동청소년카페 | K15: =SUMIFS($B$10:$B$137,$A$10:$A$137,"주교동청소년카페") -> 16051000 | L15: =SUMIF($A$10:$A$137,"주교동청소년카페",$D$10:$D$137) -> 106242000 | M15: 106242000 | N15: =L15-M15 -> 0 | O15: 사업비 | P15: =B35 -> 1246418000 | Q15: =C35 -> 0.14307194 | R15: =D35 -> 1376686000 | S15: =R15-R18 -> 946169000
A16: 일산서구청소년수련관 | B16: ='예산세출(일산서구)'!Q8 -> 130434000 | C16: =+B16/$B$7 -> 0.01497206 | D16: 500000000 | E16: =+D16/$D$7 -> 0.048912389 | F16: =+B16-D16 -> -369566000 | G16: =+F16/D16 -> -0.739132 | J16: 일산서구청소년수련관 | K16: =SUMIFS($B$10:$B$137,$A$10:$A$137,"일산서구청소년수련관") -> 914627000 | L16: =SUMIF($A$10:$A$137,"일산서구청소년수련관",$D$10:$D$137) -> 1345286000 | M16: 1345286000 | N16: =L16-M16 -> 0 | P16: =SUM(P10:P15) -> 6314513000 | R16: =SUM(R10:R15) -> 6430281000
A17: 토당청소년수련관 | B17: ='예산세출(토당)'!Q8 -> 612394000 | C17: =+B17/$B$7 -> 0.070294555 | D17: 576692000 | E17: =+D17/$D$7 -> 0.056414767 | F17: =+B17-D17 -> 35702000 | G17: =+F17/D17 -> 0.061908263 | J17: 토당청소년수련관 | K17: =SUMIFS($B$10:$B$137,$A$10:$A$137,"토당청소년수련관") -> 1749582000 | L17: =SUMIF($A$10:$A$137,"토당청소년수련관",$D$10:$D$137) -> 1947236000 | M17: 1947236000 | N17: =L17-M17 -> 0
A18: 고양시청소년상담복지센터 | B18: ='예산세출(상담)'!Q8 -> 309399000 | C18: =+B18/$B$7 -> 0.035514824 | D18: 224951000 | E18: =+D18/$D$7 -> 0.022005782 | F18: =+B18-D18 -> 84448000 | G18: =+F18/D18 -> 0.3754062 | J18: 고양시청소년상담복지센터 | K18: =SUMIFS($B$10:$B$137,$A$10:$A$137,"고양시청소년상담복지센터") -> 424075000 | L18: =SUMIF($A$10:$A$137,"고양시청소년상담복지센터",$D$10:$D$137) -> 1115590000 | M18: 1115590000 | N18: =L18-M18 -> 0 | P18: 5934238000 | R18: =R16-S10 -> 430517000
A19: 화정청소년카페 | B19: ='예산세출(화정)'!Q8 -> 62617000 | C19: =+B19/$B$7 -> 0.0071875853 | D19: ='예산세출(화정)'!R8 -> 63200000 | E19: =+D19/$D$7 -> 0.006182526 | F19: =+B19-D19 -> -583000 | G19: =+F19/D19 -> -0.0092246835 | J19: 화정청소년카페 | K19: =SUMIFS($B$10:$B$137,$A$10:$A$137,"화정청소년카페") -> 155824000 | L19: =SUMIF($A$10:$A$137,"화정청소년카페",$D$10:$D$137) -> 153106000 | M19: 153106000 | N19: =L19-M19 -> 0
A20: 백마역청소년카페 | B20: ='예산세출(백마)'!Q8 -> 57190000 | C20: =+B20/$B$7 -> 0.0065646391 | D20: 44880000 | E20: =+D20/$D$7 -> 0.004390376 | F20: =+B20-D20 -> 12310000 | G20: =+F20/D20 -> 0.27428699 | J20: 백마역청소년카페 | K20: =SUMIFS($B$10:$B$137,$A$10:$A$137,"백마역청소년카페") -> 101394000 | L20: =SUMIF($A$10:$A$137,"백마역청소년카페",$D$10:$D$137) -> 89509000 | M20: 89509000 | N20: =L20-M20 -> 0 | P20: =P16-P18 -> 380275000
A21: 능곡역청소년카페 | B21: ='예산세출(능곡)'!Q8 -> 46765000 | C21: =+B21/$B$7 -> 0.00536799 | D21: ='예산세출(능곡)'!R8 -> 37200000 | E21: =+D21/$D$7 -> 0.0036390817 | F21: =+B21-D21 -> 9565000 | G21: =+F21/D21 -> 0.25712366 | J21: 능곡역청소년카페 | K21: =SUMIFS($B$10:$B$137,$A$10:$A$137,"능곡역청소년카페") -> 91355000 | L21: =SUMIF($A$10:$A$137,"능곡역청소년카페",$D$10:$D$137) -> 69780000 | M21: 69780000 | N21: =L21-M21 -> 0
A22: 경비 | B22: =SUM(B23:B34) -> 1436607000 | C22: =B22/$B$7 -> 0.16490307 | D22: =SUM(D23:D34) -> 1461948000 | E22: =+D22/$D$7 -> 0.14301474 | F22: =SUM(F23:F34) -> -25341000 | G22: =+F22/D22 -> -0.017333722 | K22: =SUM(K10:K21) -> 8711827000 | L22: =SUM(L10:L21) -> 10222359000
A23: 사무국 | B23: ='예산세출(사무국)'!Q70 -> 396810000 | C23: =+B23/$B$7 -> 0.045548425 | D23: 313140000 | E23: =+D23/$D$7 -> 0.030632851 | F23: =+B23-D23 -> 83670000 | G23: =+F23/D23 -> 0.26719678
A24: 마두청소년수련관 | B24: ='예산세출(마두)'!Q31 -> 234884000 | C24: =+B24/$B$7 -> 0.026961509 | D24: 274384000 | E24: =+D24/$D$7 -> 0.026841554 | F24: =+B24-D24 -> -39500000 | G24: =+F24/D24 -> -0.14395883
A25: 고양시청소년진로센터 | B25: ='예산세출(진로)'!Q17 -> 38310000 | C25: =+B25/$B$7 -> 0.0043974702 | D25: 51208000 | E25: =+D25/$D$7 -> 0.0050094112 | F25: =+B25-D25 -> -12898000 | G25: =+F25/D25 -> -0.25187471 | I25: 인건비 | J25: =B9 -> 3523140000 | M25: =SUM(J25:L25) -> 3523140000
A26: 성사청소년문화의집 | B26: ='예산세출(성사)'!Q24 -> 86150000 | C26: =+B26/$B$7 -> 0.0098888557 | D26: 88010000 | E26: =+D26/$D$7 -> 0.0086095587 | F26: =+B26-D26 -> -1860000 | G26: =+F26/D26 -> -0.021133962 | I26: 경비 | J26: =B22 -> 1436607000 | K26: =B60 -> 16900000 | L26: =B69 -> 91448000 | M26: =SUM(J26:L26) -> 1544955000
A27: 탄현청소년문화의집 | B27: ='예산세출(탄현)'!Q23 -> 25630000 | C27: =+B27/$B$7 -> 0.0029419776 | D27: 42544000 | E27: =+D27/$D$7 -> 0.0041618574 | F27: =+B27-D27 -> -16914000 | G27: =+F27/D27 -> -0.39756487 | I27: 목적사업비 | J27: =B35-400000000 -> 846418000 | M27: =SUM(J27:L27) -> 846418000
A28: 주교동청소년카페 | B28: ='예산세출(주교)'!Q13 -> 11334000 | C28: =+B28/$B$7 -> 0.00130099 | D28: 14296000 | E28: =+D28/$D$7 -> 0.001398503 | F28: =+B28-D28 -> -2962000 | G28: =+F28/D28 -> -0.20719082
A29: 일산서구청소년수련관 | B29: ='예산세출(일산서구)'!Q19 -> 209331000 | C29: =+B29/$B$7 -> 0.02402837 | D29: 325265000 | E29: =+D29/$D$7 -> 0.031818976 | F29: =+B29-D29 -> -115934000 | G29: =+F29/D29 -> -0.35642937 | J29: =SUM(J25:J28) -> 5806165000 | K29: =SUM(K25:K28) -> 16900000 | L29: =SUM(L25:L28) -> 91448000 | M29: =SUM(J29:L29) -> 5914513000
A30: 토당청소년수련관 | B30: ='예산세출(토당)'!Q59 -> 311110000 | C30: =+B30/$B$7 -> 0.035711223 | D30: 240808000 | E30: =+D30/$D$7 -> 0.023556989 | F30: =+B30-D30 -> 70302000 | G30: =+F30/D30 -> 0.29194213
A31: 고양시청소년상담복지센터 | B31: ='예산세출(상담)'!Q85 -> 53181000 | C31: =+B31/$B$7 -> 0.0061044601 | D31: 48841000 | E31: =+D31/$D$7 -> 0.00477786 | F31: =+B31-D31 -> 4340000 | G31: =+F31/D31 -> 0.088859769
A32: 화정청소년카페 | B32: ='예산세출(화정)'!Q30 -> 22207000 | C32: =+B32/$B$7 -> 0.0025490635 | D32: ='예산세출(화정)'!R30 -> 19247000 | E32: =+D32/$D$7 -> 0.0018828335 | F32: =+B32-D32 -> 2960000 | G32: =+F32/D32 -> 0.1537902
A33: 백마역청소년카페 | B33: ='예산세출(백마)'!Q25 -> 25580000 | C33: =+B33/$B$7 -> 0.0029362383 | D33: 24535000 | E33: =+D33/$D$7 -> 0.0024001309 | F33: =+B33-D33 -> 1045000 | G33: =+F33/D33 -> 0.042592215
A34: 능곡역청소년카페 | B34: ='예산세출(능곡)'!Q22 -> 22080000 | C34: =+B34/$B$7 -> 0.0025344856 | D34: ='예산세출(능곡)'!R22 -> 19670000 | E34: =+D34/$D$7 -> 0.0019242134 | F34: =+B34-D34 -> 2410000 | G34: =+F34/D34 -> 0.12252161
A35: 목적사업비 | B35: =SUM(B36:B47) -> 1246418000 | C35: =+B35/$B$7 -> 0.14307194 | D35: =SUM(D36:D47) -> 1376686000 | E35: =+D35/$D$7 -> 0.134674 | F35: =SUM(F36:F47) -> -130268000 | G35: =+F35/D35 -> -0.094624337
A36: 사무국 | B36: ='예산세출(사무국)'!Q214 -> 928000000 | C36: =+B36/$B$7 -> 0.10652186 | D36: ='예산세출(사무국)'!R214 -> 996980000 | E36: =+D36/$D$7 -> 0.097529347 | F36: =+B36-D36 -> -68980000 | G36: =+F36/D36 -> -0.069188951
A37: 마두청소년수련관 | B37: ='예산세출(마두)'!Q133 -> 69004000 | C37: =+B37/$B$7 -> 0.0079207266 | D37: ='예산세출(마두)'!R133 -> 65000000 | E37: =+D37/$D$7 -> 0.0063586106 | F37: =+B37-D37 -> 4004000 | G37: =+F37/D37 -> 0.0616
A38: 고양시청소년진로센터 | B38: ='예산세출(진로)'!Q97 -> 0 | C38: =+B38/$B$7 -> 0 | D38: ='예산세출(진로)'!R97 -> 77520000 | E38: =+D38/$D$7 -> 0.0075833768 | F38: =+B38-D38 -> -77520000 | G38: =+F38/D38 -> -1
A39: 성사청소년문화의집 | B39: ='예산세출(성사)'!Q100 -> 60592000 | C39: =+B39/$B$7 -> 0.0069551427 | D39: ='예산세출(성사)'!R100 -> 52574000 | E39: =+D39/$D$7 -> 0.0051430399 | F39: =+B39-D39 -> 8018000 | G39: =+F39/D39 -> 0.15250884
A40: 탄현청소년문화의집 | B40: ='예산세출(탄현)'!Q54 -> 28600000 | C40: =+B40/$B$7 -> 0.0032828935 | D40: ='예산세출(탄현)'!R54 -> 29400000 | E40: =+D40/$D$7 -> 0.0028760485 | F40: =+B40-D40 -> -800000 | G40: =+F40/D40 -> -0.027210884 | J40: =N32+N33+N34 -> 0
A41: 주교동청소년카페 | B41: ='예산세출(주교)'!Q61 -> 4707000 | C41: =+B41/$B$7 -> 0.00054029999 | D41: ='예산세출(주교)'!R61 -> 4030000 | E41: =+D41/$D$7 -> 0.00039423386 | F41: =+B41-D41 -> 677000 | G41: =+F41/D41 -> 0.16799007
A42: 일산서구청소년수련관 | B42: ='예산세출(일산서구)'!Q105 -> 80637000 | C42: =+B42/$B$7 -> 0.0092560378 | D42: ='예산세출(일산서구)'!R105 -> 53855000 | E42: =+D42/$D$7 -> 0.0052683534 | F42: =+B42-D42 -> 26782000 | G42: =+F42/D42 -> 0.4972983
A43: 토당청소년수련관 | B43: ='예산세출(토당)'!Q90 -> 7600000 | C43: =+B43/$B$7 -> 0.00087237729 | D43: ='예산세출(토당)'!R90 -> 5000000 | E43: =+D43/$D$7 -> 0.00048912389 | F43: =+B43-D43 -> 2600000 | G43: =+F43/D43 -> 0.52
A44: 고양시청소년상담복지센터 | B44: ='예산세출(상담)'!Q135 -> 12168000 | C44: =+B44/$B$7 -> 0.001396722 | D44: ='예산세출(상담)'!R135 -> 49601000 | E44: =+D44/$D$7 -> 0.0048522068 | F44: =+B44-D44 -> -37433000 | G44: =+F44/D44 -> -0.75468237
A45: 화정청소년카페 | B45: ='예산세출(화정)'!Q84 -> 30000000 | C45: =+B45/$B$7 -> 0.0034435946 | D45: ='예산세출(화정)'!R84 -> 32226000 | E45: =+D45/$D$7 -> 0.0031525013 | F45: =+B45-D45 -> -2226000 | G45: =+F45/D45 -> -0.06907466
A46: 백마역청소년카페 | B46: ='예산세출(백마)'!Q79 -> 6610000 | C46: =+B46/$B$7 -> 0.00075873867 | D46: 0 | E46: =+D46/$D$7 -> 0 | F46: =+B46-D46 -> 6610000
A47: 능곡역청소년카페 | B47: ='예산세출(능곡)'!Q68 -> 18500000 | C47: =+B47/$B$7 -> 0.00212355 | D47: ='예산세출(능곡)'!R68 -> 10500000 | E47: =+D47/$D$7 -> 0.0010271602 | F47: =+B47-D47 -> 8000000 | G47: =+F47/D47 -> 0.76190476
A48: 국도시비보조금사업비 | B48: =SUM(B49:B55) -> 0 | C48: =+B48/$B$7 -> 0 | D48: =SUM(D49:D55) -> 1553941000 | E48: =+D48/$D$7 -> 0.15201393 | F48: =SUM(F49:F55) -> -1553941000 | G48: =+F48/D48 -> -1
A49: 사무국 | B49: ='예산세출(사무국)'!Q208 -> 0 | C49: =+B49/$B$7 -> 0 | D49: ='예산세출(사무국)'!R208 -> 2800000 | E49: =+D49/$D$7 -> 0.00027390938 | F49: =+B49-D49 -> -2800000 | G49: =+F49/D49 -> -1
A50: 마두청소년수련관 | B50: ='예산세출(마두)'!Q122 -> 0 | C50: =+B50/$B$7 -> 0 | D50: ='예산세출(마두)'!R123 -> 29000000 | E50: =+D50/$D$7 -> 0.0028369186 | F50: =+B50-D50 -> -29000000 | G50: =+F50/D50 -> -1
A51: 고양시청소년진로센터 | B51: ='예산세출(진로)'!Q79 -> 0 | C51: =+B51/$B$7 -> 0 | D51: ='예산세출(진로)'!R79 -> 286300000 | E51: =+D51/$D$7 -> 0.028007234 | F51: =+B51-D51 -> -286300000 | G51: =+F51/D51 -> -1
A52: 성사청소년문화의집 | B52: ='예산세출(성사)'!Q99 -> 0 | C52: =+B52/$B$7 -> 0 | D52: ='예산세출(성사)'!R99 -> 229944000 | E52: =+D52/$D$7 -> 0.022494221 | F52: =+B52-D52 -> -229944000 | G52: =+F52/D52 -> -1
A53: 탄현청소년문화의집 | B53: ='예산세출(탄현)'!Q53 -> 0 | C53: =+B53/$B$7 -> 0 | D53: ='예산세출(탄현)'!R53 -> 2000000 | E53: =+D53/$D$7 -> 0.00019564956 | F53: =+B53-D53 -> -2000000 | G53: =+F53/D53 -> -1
A54: 토당청소년수련관 | B54: ='예산세출(토당)'!Q87 -> 0 | C54: =+B54/$B$7 -> 0 | D54: ='예산세출(토당)'!R87 -> 235394000 | E54: =+D54/$D$7 -> 0.023027366 | F54: =+B54-D54 -> -235394000 | G54: =+F54/D54 -> -1
A55: 고양시청소년상담복지센터 | B55: ='예산세출(상담)'!Q133 -> 0 | C55: =+B55/$B$7 -> 0 | D55: ='예산세출(상담)'!R134 -> 768503000 | E55: =+D55/$D$7 -> 0.075178635 | F55: =+B55-D55 -> -768503000 | G55: =+F55/D55 -> -1
A56: 교육청사업비 | B56: =SUM(B57:B57) -> 0 | C56: =+B56/$B$7 -> 0 | D56: =SUM(D57:D57) -> 44000000 | E56: =+D56/$D$7 -> 0.0043042902 | F56: =SUM(F57:F57) -> -44000000 | G56: =+F56/D56 -> -1
A57: 고양시청소년진로센터 | B57: 0 | C57: =+B57/$B$7 -> 0 | D57: ='예산세입(진로)'!Q19 -> 44000000 | E57: =+D57/$D$7 -> 0.0043042902 | F57: =+B57-D57 -> -44000000 | G57: =+F57/D57 -> -1
A58: 기타보조금사업비 | B58: =SUM(B59:B59) -> 0 | C58: =+B58/$B$7 -> 0 | D58: =SUM(D59:D59) -> 6000000 | E58: =+D58/$D$7 -> 0.00058694867 | F58: =SUM(F59:F59) -> -6000000 | G58: =+F58/D58 -> -1
A59: 토당청소년수련관 | B59: 0 | C59: =+B59/$B$7 -> 0 | D59: ='예산세출(토당)'!R89 -> 6000000 | E59: =+D59/$D$7 -> 0.00058694867 | F59: =+B59-D59 -> -6000000 | G59: =+F59/D59 -> -1
A60: 자산취득비 | B60: =SUM(B61:B68) -> 16900000 | C60: =+B60/$B$7 -> 0.0019398916 | D60: =SUM(D61:D68) -> 378802000 | E60: =+D60/$D$7 -> 0.037056222 | F60: =SUM(F61:F68) -> -361902000 | G60: =+F60/D60 -> -0.95538566
A61: 사무국 | B61: ='예산세출(사무국)'!Q195 -> 6200000 | C61: =+B61/$B$7 -> 0.00071167621 | D61: ='예산세출(사무국)'!R195 -> 39022000 | E61: =+D61/$D$7 -> 0.0038173185 | F61: =+B61-D61 -> -32822000 | G61: =+F61/D61 -> -0.84111527
A62: 마두청소년수련관 | B62: ='예산세출(마두)'!Q116 -> 2100000 | C62: =+B62/$B$7 -> 0.00024105162 | D62: ='예산세출(마두)'!R116 -> 3000000 | E62: =+D62/$D$7 -> 0.00029347433 | F62: =+B62-D62 -> -900000 | G62: =+F62/D62 -> -0.3
A63: 고양시청소년진로센터 | B63: ='예산세출(진로)'!Q73 -> 1700000 | C63: =+B63/$B$7 -> 0.00019513702 | D63: ='예산세출(진로)'!R73 -> 5100000 | E63: =+D63/$D$7 -> 0.00049890637 | F63: =+B63-D63 -> -3400000 | G63: =+F63/D63 -> -0.66666667
A64: 성사청소년문화의집 | B64: ='예산세출(성사)'!Q95 -> 0 | C64: =+B64/$B$7 -> 0 | D64: ='예산세출(성사)'!R95 -> 7000000 | E64: =+D64/$D$7 -> 0.00068477345 | F64: =+B64-D64 -> -7000000 | G64: =+F64/D64 -> -1
A65: 일산서구청소년수련관 | B65: ='예산세출(일산서구)'!Q99 -> 3000000 | C65: =+B65/$B$7 -> 0.00034435946 | D65: ='예산세출(일산서구)'!R99 -> 320880000 | E65: =+D65/$D$7 -> 0.031390015 | F65: =+B65-D65 -> -317880000 | G65: =+F65/D65 -> -0.99065071
A66: 고양시청소년상담복지센터 | B66: ='예산세출(상담)'!Q128 -> 1200000 | C66: =+B66/$B$7 -> 0.00013774378 | D66: 0 | E66: =+D66/$D$7 -> 0 | F66: =+B66-D66 -> 1200000
A67: 화정청소년카페 | B67: ='예산세출(화정)'!Q79 -> 1500000 | C67: =+B67/$B$7 -> 0.00017217973 | D67: ='예산세출(화정)'!R79 -> 3800000 | E67: =+D67/$D$7 -> 0.00037173416 | F67: =+B67-D67 -> -2300000 | G67: =+F67/D67 -> -0.60526316
A68: 능곡역청소년카페 | B68: ='예산세출(능곡)'!Q63 -> 1200000 | C68: =+B68/$B$7 -> 0.00013774378 | D68: 0 | E68: =+D68/$D$7 -> 0 | F68: =+B68-D68 -> 1200000
A69: 성과급 | B69: =SUM(B70:B70) -> 91448000 | C69: =+B69/$B$7 -> 0.010496994 | D69: =SUM(D70:D70) -> 91448000 | E69: =+D69/$D$7 -> 0.0089458803 | F69: =B69-D69 -> 0 | G69: =+F69/D69 -> 0
A70: 사무국 | B70: ='예산세출(사무국)'!Q201 -> 91448000 | C70: =+B70/$B$7 -> 0.010496994 | D70: ='예산세출(사무국)'!R201 -> 91448000 | E70: =+D70/$D$7 -> 0.0089458803 | F70: =+B70-D70 -> 0 | G70: =+F70/D70 -> 0
A71: 예비비 | B71: =SUM(B72:B72) -> 0 | C71: =+B71/$B$7 -> 0 | D71: =SUM(D72:D72) -> 20000000 | E71: =+D71/$D$7 -> 0.0019564956 | F71: =B71-D71 -> -20000000 | G71: =+F71/D71 -> -1
A72: 사무국 | B72: ='예산세출(사무국)'!Q316 -> 0 | C72: =+B72/$B$7 -> 0 | D72: ='예산세출(사무국)'!R318 -> 20000000 | E72: =+D72/$D$7 -> 0.0019564956 | F72: =+B72-D72 -> -20000000 | G72: =+F72/D72 -> -1
A73: 자체사업비용 | B73: =SUM(B74,B81,B100,B119,B132,B110,B93,B117) -> 2397314000 | C73: =+B73/$B$7 -> 0.27517925 | D73: =SUM(D74,D81,D100,D119,D132,D110,D93) -> 2188137000 | E73: =+D73/$D$7 -> 0.21405402 | F73: =SUM(F74,F81,F100,F119,F132,F110) -> 168344000 | G73: =+F73/D73 -> 0.076934854
A74: 자체사업인건비 | B74: =SUM(B75:B80) -> 302874000 | C74: =+B74/$B$7 -> 0.034765842 | D74: =SUM(D75:D80) -> 265752000 | E74: =+D74/$D$7 -> 0.02599713 | F74: =SUM(F75:F80) -> 37122000 | G74: =+F74/D74 -> 0.13968663
A75: 마두청소년수련관 | B75: ='예산세출(마두)'!Q206 -> 187960000 | C75: =+B75/$B$7 -> 0.021575268 | D75: ='예산세출(마두)'!R206 -> 171310000 | E75: =+D75/$D$7 -> 0.016758363 | F75: =+B75-D75 -> 16650000 | G75: =+F75/D75 -> 0.097192225
A76: 일산서구청소년수련관 | B76: ='예산세출(일산서구)'!Q252 -> 47711000 | C76: =+B76/$B$7 -> 0.005476578 | D76: ='예산세출(일산서구)'!R252 -> 34140000 | E76: =+D76/$D$7 -> 0.0033397379 | F76: =+B76-D76 -> 13571000 | G76: =+F76/D76 -> 0.39751025
A77: 토당청소년수련관 | B77: ='예산세출(토당)'!Q106 -> 35699000 | C77: =+B77/$B$7 -> 0.0040977627 | D77: ='예산세출(토당)'!R106 -> 34302000 | E77: =+D77/$D$7 -> 0.0033555855 | F77: =+B77-D77 -> 1397000 | G77: =+F77/D77 -> 0.040726488
A78: 고양시청소년상담복지센터 | B78: ='예산세출(상담)'!Q164 -> 9664000 | C78: =+B78/$B$7 -> 0.0011092966 | D78: 0 | E78: =+D78/$D$7 -> 0 | F78: =+B78-D78 -> 9664000
A79: 화정청소년카페 | B79: ='예산세출(화정)'!Q142 -> 18240000 | C79: =+B79/$B$7 -> 0.0020937055 | D79: ='예산세출(화정)'!R142 -> 18000000 | E79: =+D79/$D$7 -> 0.001760846 | F79: =+B79-D79 -> 240000 | G79: =+F79/D79 -> 0.013333333
A80: 백마역청소년카페 | B80: ='예산세출(백마)'!Q106 -> 3600000 | C80: =+B80/$B$7 -> 0.00041323135 | D80: 8000000 | E80: =+D80/$D$7 -> 0.00078259822 | F80: =+B80-D80 -> -4400000 | G80: =+F80/D80 -> -0.55
A81: 자체사업경비 | B81: =SUM(B82:B92) -> 326823000 | C81: =+B81/$B$7 -> 0.037514863 | D81: =SUM(D82:D92) -> 326603000 | E81: =+D81/$D$7 -> 0.031949866 | F81: =SUM(F82:F92) -> 220000 | G81: =+F81/D81 -> 0.00067360067
A82: 마두청소년수련관 | B82: ='예산세출(마두)'!Q217 -> 67498000 | C82: =+B82/$B$7 -> 0.0077478582 | D82: ='예산세출(마두)'!R217 -> 77437000 | E82: =+D82/$D$7 -> 0.0075752573 | F82: =+B82-D82 -> -9939000 | G82: =+F82/D82 -> -0.1283495
A83: 고양시청소년진로센터 | B83: 0 | C83: =+B83/$B$7 -> 0 | D83: ='예산세출(진로)'!R103 -> 1316000 | E83: =+D83/$D$7 -> 0.00012873741 | F83: =+B83-D83 -> -1316000 | G83: =+F83/D83 -> -1
A84: 성사청소년문화의집 | B84: ='예산세출(성사)'!Q241 -> 5802000 | C84: =+B84/$B$7 -> 0.00066599119 | D84: 16790000 | E84: =+D84/$D$7 -> 0.001642478 | F84: =+B84-D84 -> -10988000 | G84: =+F84/D84 -> -0.65443716
A85: 탄현청소년문화의집 | B85: ='예산세출(탄현)'!Q103 -> 30496000 | C85: =+B85/$B$7 -> 0.0035005286 | D85: ='예산세출(탄현)'!R103 -> 34760000 | E85: =+D85/$D$7 -> 0.0034003893 | F85: =+B85-D85 -> -4264000 | G85: =+F85/D85 -> -0.12266974
A86: 주교동청소년카페 | B86: 0 | C86: =+B86/$B$7 -> 0 | D86: ='예산세출(주교)'!R77 -> 1560000 | E86: =+D86/$D$7 -> 0.00015260665 | F86: =+B86-D86 -> -1560000 | G86: =+F86/D86 -> -1
A87: 일산서구청소년수련관 | B87: ='예산세출(일산서구)'!Q262 -> 66588000 | C87: =+B87/$B$7 -> 0.0076434025 | D87: ='예산세출(일산서구)'!R262 -> 15256000 | E87: =+D87/$D$7 -> 0.0014924148 | F87: =+B87-D87 -> 51332000 | G87: =+F87/D87 -> 3.364709
A88: 토당청소년수련관 | B88: ='예산세출(토당)'!Q120 -> 153664000 | C88: =+B88/$B$7 -> 0.01763855 | D88: ='예산세출(토당)'!R120 -> 167944000 | E88: =+D88/$D$7 -> 0.016429085 | F88: =+B88-D88 -> -14280000 | G88: =+F88/D88 -> -0.085028343
A89: 고양시청소년상담복지센터 | B89: ='예산세출(상담)'!Q174 -> 719000 | C89: =+B89/$B$7 -> 8.2531483e-05 | D89: 0 | E89: =+D89/$D$7 -> 0 | F89: =+B89-D89 -> 719000
A90: 화정청소년카페 | B90: ='예산세출(화정)'!Q148 -> 2040000 | C90: =+B90/$B$7 -> 0.00023416443 | D90: ='예산세출(화정)'!R148 -> 2220000 | E90: =+D90/$D$7 -> 0.00021717101 | F90: =+B90-D90 -> -180000 | G90: =+F90/D90 -> -0.081081081
A91: 백마역청소년카페 | B91: 0 | C91: =+B91/$B$7 -> 0 | D91: 8000000 | E91: =+D91/$D$7 -> 0.00078259822 | F91: =+B91-D91 -> -8000000 | G91: =+F91/D91 -> -1
A92: 능곡역청소년카페 | B92: ='예산세출(능곡)'!Q93 -> 16000 | C92: =+B92/$B$7 -> 1.8365838e-06 | D92: ='예산세출(능곡)'!R93 -> 1320000 | E92: =+D92/$D$7 -> 0.00012912871 | F92: =+B92-D92 -> -1304000 | G92: =+F92/D92 -> -0.98787879
A93: 자체사업자산취득비 | B93: =SUM(B94:B99) -> 25360000 | C93: =+B93/$B$7 -> 0.0029109853 | D93: =SUM(D94:D99) -> 34527000 | E93: =+D93/$D$7 -> 0.0033775961 | F93: =SUM(F94:F99) -> -9167000 | G93: =+F93/D93 -> -0.26550236 | J93: 8799228000
A94: 마두청소년수련관 | B94: ='예산세출(마두)'!Q263 -> 5000000 | C94: =+B94/$B$7 -> 0.00057393243 | D94: ='예산세출(마두)'!R263 -> 3200000 | E94: =+D94/$D$7 -> 0.00031303929 | F94: =+B94-D94 -> 1800000 | G94: =+F94/D94 -> 0.5625 | J94: =B119 -> 2321000
A95: 성사청소년문화의집 | B95: ='예산세출(성사)'!Q261 -> 5000000 | D95: 0 | F95: =+B95-D95 -> 5000000
A96: 탄현청소년문화의집 | B96: ='예산세출(탄현)'!Q161 -> 1700000 | C96: =+B96/$B$7 -> 0.00019513702 | D96: ='예산세출(탄현)'!R161 -> 2200000 | E96: =+D96/$D$7 -> 0.00021521451 | F96: =+B96-D96 -> -500000 | G96: =+F96/D96 -> -0.22727273 | J96: =B132+B71 -> 85166000
A97: 주교동청소년카페 | B97: 0 | C97: =+B97/$B$7 -> 0 | D97: ='예산세출(주교)'!R80 -> 2402000 | E97: =+D97/$D$7 -> 0.00023497512 | F97: =+B97-D97 -> -2402000 | G97: =+F97/D97 -> -1 | J97: =J93-J94-J96 -> 8711741000
A98: 일산서구청소년수련관 | B98: ='예산세출(일산서구)'!Q312 -> 8700000 | C98: =+B98/$B$7 -> 0.00099864242 | D98: ='예산세출(일산서구)'!R312 -> 7925000 | E98: =+D98/$D$7 -> 0.00077526137 | F98: =+B98-D98 -> 775000 | G98: =+F98/D98 -> 0.097791798
A99: 토당청소년수련관 | B99: ='예산세출(토당)'!Q206 -> 4960000 | C99: =+B99/$B$7 -> 0.00056934097 | D99: ='예산세출(토당)'!R206 -> 18800000 | E99: =+D99/$D$7 -> 0.0018391058 | F99: =+B99-D99 -> -13840000 | G99: =+F99/D99 -> -0.73617021
A100: 자체사업비 | B100: =SUM(B101:B109) -> 1604770000 | C100: =+B100/$B$7 -> 0.18420591 | D100: =SUM(D101:D109) -> 1270144000 | E100: =+D100/$D$7 -> 0.12425155 | F100: =SUM(F101:F109) -> 334626000 | G100: =+F100/D100 -> 0.26345517
A101: 마두청소년수련관 | B101: ='예산세출(마두)'!Q268 -> 497876000 | C101: =+B101/$B$7 -> 0.057149436 | D101: 432950000 | E101: =+D101/$D$7 -> 0.042353238 | F101: =+B101-D101 -> 64926000 | G101: =+F101/D101 -> 0.14996189
...

Sheet 세입세출요약총괄표5
A1: 2019년 세입·세출예산(안) 요약 총괄표
M2: [단위:천원]
A3: 세 입 | H3: 세 출
A4: 예산과목 | B4: 2019년예산액(A) | D4: 2018년예산액(B) | F4: 증 감(A-B) | H4: =A4 -> 예산과목 | I4: =B4 -> 2019년예산액(A) | K4: =D4 -> 2018년예산액(B) | M4: 증 감(A-B)
B5: 금 액 | C5: 구성비 | D5: 금 액 | E5: 구성비 | F5: 금 액 | G5: 증감률 | I5: 금 액 | J5: 구성비 | K5: 금 액 | L5: 구성비 | M5: 금 액 | N5: 증감률
A6: 총 계 | B6: =SUM(B7,B17) -> 8711827000 | C6: =+C7+C17 -> 1 | D6: =SUM(D7,D17) -> 10222359000 | E6: =+E7+E17 -> 1 | F6: =+B6-D6 -> -1510532000 | G6: =+F6/D6 -> -0.14776746 | H6: =A6 -> 총 계 | I6: =SUM(I7,I17) -> 8711827000 | J6: =+J7+J17 -> 1 | K6: =SUM(K7,K17) -> 10222359000 | L6: =+L7+L17 -> 1 | M6: =+I6-K6 -> -1510532000 | N6: =+M6/K6 -> -0.14776746
A7: 영업외수익 | B7: =SUM(B8:B16) -> 6366834000 | C7: =+B7/$B$6 -> 0.7308265 | D7: =SUM(D8:D16) -> 8199699000 | E7: =+D7/$D$6 -> 0.80213373 | F7: =+B7-D7 -> -1832865000 | G7: =+F7/D7 -> -0.22352833 | H7: 사업비용 | I7: =SUM(I8:I16) -> 6314513000 | J7: =+I7/I6 -> 0.72482075 | K7: =SUM(K8:K16) -> 8034222000 | L7: =+K7/K6 -> 0.78594598 | M7: =+I7-K7 -> -1719709000 | N7: =+M7/K7 -> -0.21404798
A8: =세입예산총괄표3!A9 -> 지자체출자출연금 | B8: =세입예산총괄표3!B9 -> 4313212000 | C8: =+B8/$B$6 -> 0.49509844 | D8: =세입예산총괄표3!D9 -> 4598613000 | E8: =+D8/$D$6 -> 0.4498583 | F8: =+B8-D8 -> -285401000 | G8: =+F8/D8 -> -0.062062409 | H8: =세출예산총괄표4!A9 -> 인건비 | I8: =세출예산총괄표4!B9 -> 3523140000 | J8: =+I8/$I$6 -> 0.40440886 | K8: =세출예산총괄표4!D9 -> 3101397000 | L8: =+K8/$K$6 -> 0.30339347 | M8: =+I8-K8 -> 421743000 | N8: =+M8/K8 -> 0.13598485
A9: =세입예산총괄표3!A17 -> 보조금수익(출연금위탁교부) | B9: =세입예산총괄표3!B17 -> 1601301000 | C9: =+B9/$B$6 -> 0.18380771 | D9: =세입예산총괄표3!D17 -> 1401151000 | E9: =+D9/$D$6 -> 0.13706729 | F9: =+B9-D9 -> 200150000 | G9: =+F9/D9 -> 0.14284685 | H9: =세출예산총괄표4!A22 -> 경비 | I9: =세출예산총괄표4!B22 -> 1436607000 | J9: =+I9/$I$6 -> 0.16490307 | K9: =세출예산총괄표4!D22 -> 1461948000 | L9: =+K9/$K$6 -> 0.14301474 | M9: =+I9-K9 -> -25341000 | N9: =+M9/K9 -> -0.017333722
A10: =세입예산총괄표3!A23 -> 국도시비보조금 | B10: =세입예산총괄표3!B23 -> 0 | C10: =+B10/$B$6 -> 0 | D10: =세입예산총괄표3!D23 -> 1553941000 | E10: =+D10/$D$6 -> 0.15201393 | F10: =+B10-D10 -> -1553941000 | G10: =+F10/D10 -> -1 | H10: =세출예산총괄표4!A35 -> 목적사업비 | I10: =세출예산총괄표4!B35 -> 1246418000 | J10: =+I10/$I$6 -> 0.14307194 | K10: =세출예산총괄표4!D35 -> 1376686000 | L10: =+K10/$K$6 -> 0.134674 | M10: =+I10-K10 -> -130268000 | N10: =+M10/K10 -> -0.094624337 | P10: 846418000 | Q10: =B15 -> 400000000 | R10: 946168600 | S10: =D15 -> 543830000
A11: =세입예산총괄표3!A31 -> 교육청사업 | B11: =세입예산총괄표3!B31 -> 0 | C11: =+B11/$B$6 -> 0 | D11: =세입예산총괄표3!D31 -> 44000000 | E11: =+D11/$D$6 -> 0.0043042902 | F11: =+B11-D11 -> -44000000 | G11: =+F11/D11 -> -1 | H11: =세출예산총괄표4!A48 -> 국도시비보조금사업비 | I11: =세출예산총괄표4!B48 -> 0 | J11: =+I11/$I$6 -> 0 | K11: =세출예산총괄표4!D48 -> 1553941000 | L11: =+K11/$K$6 -> 0.15201393 | M11: =+I11-K11 -> -1553941000 | N11: =+M11/K11 -> -1 | P11: 1604770000 | R11: 1278144000
A12: =세입예산총괄표3!A33 -> 기타보조금 | B12: =세입예산총괄표3!B33 -> 0 | C12: =+B12/$B$6 -> 0 | D12: =세입예산총괄표3!D33 -> 6000000 | E12: =+D12/$D$6 -> 0.00058694867 | F12: =+B12-D12 -> -6000000 | G12: =+F12/D12 -> -1 | H12: =세출예산총괄표4!A56 -> 교육청사업비 | I12: =세출예산총괄표4!B56 -> 0 | J12: =+I12/$I$6 -> 0 | K12: =세출예산총괄표4!D56 -> 44000000 | L12: =+K12/$K$6 -> 0.0043042902 | M12: =+I12-K12 -> -44000000 | N12: =+M12/K12 -> -1 | P12: =P10+Q10 -> 1246418000 | R12: 1278144000
A13: =세입예산총괄표3!A40 -> 이자수익 | B13: =세입예산총괄표3!B40 -> 2321000 | C13: =+B13/$B$6 -> 0.00026641943 | D13: =세입예산총괄표3!D40 -> 2164000 | E13: =+D13/$D$6 -> 0.00021169282 | F13: =+B13-D13 -> 157000 | G13: =+F13/D13 -> 0.072550832 | H13: =세출예산총괄표4!A58 -> 기타보조금사업비 | I13: =세출예산총괄표4!B58 -> 0 | J13: =+I13/$I$6 -> 0 | K13: =세출예산총괄표4!D58 -> 6000000 | L13: =+K13/$K$6 -> 0.00058694867 | M13: =+I13-K13 -> -6000000 | N13: =+M13/K13 -> -1 | R13: =K20-R12 -> -8000000
A14: =세입예산총괄표3!A53 -> 법인전입금 | B14: =세입예산총괄표3!B53 -> 50000000 | C14: =+B14/$B$6 -> 0.0057393243 | D14: =세입예산총괄표3!D53 -> 50000000 | E14: =+D14/$D$6 -> 0.0048912389 | F14: =+B14-D14 -> 0 | G14: =+F14/D14 -> 0 | H14: =세출예산총괄표4!A60 -> 자산취득비 | I14: =세출예산총괄표4!B60 -> 16900000 | J14: =+I14/$I$6 -> 0.0019398916 | K14: =세출예산총괄표4!D60 -> 378802000 | L14: =+K14/$K$6 -> 0.037056222 | M14: =+I14-K14 -> -361902000 | N14: =+M14/K14 -> -0.95538566 | R14: 1270144000
A15: =세입예산총괄표3!A55 -> 이월금 및 출자출연금 | B15: =세입예산총괄표3!B55 -> 400000000 | C15: =+B15/$B$6 -> 0.045914594 | D15: =세입예산총괄표3!D55 -> 543830000 | E15: =+D15/$D$6 -> 0.053200049 | F15: =+B15-D15 -> -143830000 | G15: =+F15/D15 -> -0.26447603 | H15: =세출예산총괄표4!A69 -> 성과급 | I15: =세출예산총괄표4!B69 -> 91448000 | J15: =+I15/$I$6 -> 0.010496994 | K15: =세출예산총괄표4!D69 -> 91448000 | L15: =+K15/$K$6 -> 0.0089458803 | M15: =+I15-K15 -> 0 | N15: =+M15/K15 -> 0
H16: =세출예산총괄표4!A71 -> 예비비 | I16: =세출예산총괄표4!B71 -> 0 | J16: =+I16/$I$6 -> 0 | K16: =세출예산총괄표4!D71 -> 20000000 | L16: =+K16/$K$6 -> 0.0019564956 | M16: =+I16-K16 -> -20000000 | N16: =+M16/K16 -> -1
A17: 영업수익(수익) | B17: =SUM(B18:B25) -> 2344993000 | C17: =+B17/$B$6 -> 0.2691735 | D17: =SUM(D18:D25) -> 2022660000 | E17: =+D17/$D$6 -> 0.19786627 | F17: =+B17-D17 -> 322333000 | G17: =+F17/D17 -> 0.15936094 | H17: 사업비용(수익) | I17: =SUM(I18:I25) -> 2397314000 | J17: =+I17/$I$6 -> 0.27517925 | K17: =SUM(K18:K25) -> 2188137000 | L17: =+K17/$K$6 -> 0.21405402 | M17: =+I17-K17 -> 209177000 | N17: =+M17/K17 -> 0.095595934
A18: =세입예산총괄표3!A58 -> 자체사업수익 | B18: =세입예산총괄표3!B58 -> 1912797000 | C18: =+B18/$B$6 -> 0.21956324 | D18: =세입예산총괄표3!D58 -> 1567430000 | E18: =+D18/$D$6 -> 0.15333349 | F18: =+B18-D18 -> 345367000 | G18: =+F18/D18 -> 0.22033966 | H18: =세출예산총괄표4!A74 -> 자체사업인건비 | I18: =세출예산총괄표4!B74 -> 302874000 | J18: =+I18/$I$6 -> 0.034765842 | K18: =세출예산총괄표4!D74 -> 265752000 | L18: =+K18/$K$6 -> 0.02599713 | M18: =+I18-K18 -> 37122000 | N18: =+M18/K18 -> 0.13968663
A19: =세입예산총괄표3!A67 -> 기타영업수익 | B19: =세입예산총괄표3!B67 -> 28332000 | C19: =+B19/$B$6 -> 0.0032521307 | D19: =세입예산총괄표3!D67 -> 42498000 | E19: =+D19/$D$6 -> 0.0041573574 | F19: =+B19-D19 -> -14166000 | G19: =+F19/D19 -> -0.33333333 | H19: =세출예산총괄표4!A81 -> 자체사업경비 | I19: =세출예산총괄표4!B81 -> 326823000 | J19: =+I19/$I$6 -> 0.037514863 | K19: =세출예산총괄표4!D81 -> 326603000 | L19: =+K19/$K$6 -> 0.031949866 | M19: =+I19-K19 -> 220000 | N19: =+M19/K19 -> 0.00067360067
A20: =세입예산총괄표3!A74 -> 판매수익 | B20: =세입예산총괄표3!B74 -> 268654000 | C20: =+B20/$B$6 -> 0.030837848 | D20: =세입예산총괄표3!D74 -> 209117000 | E20: =+D20/$D$6 -> 0.020456824 | F20: =+B20-D20 -> 59537000 | G20: =+F20/D20 -> 0.28470665 | H20: =세출예산총괄표4!A100 -> 자체사업비 | I20: =세출예산총괄표4!B100 -> 1604770000 | J20: =+I20/$I$6 -> 0.18420591 | K20: =세출예산총괄표4!D100 -> 1270144000 | L20: =+K20/$K$6 -> 0.12425155 | M20: =+I20-K20 -> 334626000 | N20: =+M20/K20 -> 0.26345517
A21: =세입예산총괄표3!A35 -> 재단지원금 | B21: =세입예산총괄표3!B35 -> 0 | C21: =+B21/$B$6 -> 0 | D21: =세입예산총괄표3!D35 -> 65391000 | E21: =+D21/$D$6 -> 0.0063968601 | F21: =+B21-D21 -> -65391000 | G21: =+F21/D21 -> -1 | H21: =세출예산총괄표4!A93 -> 자체사업자산취득비 | I21: =세출예산총괄표4!B93 -> 25360000 | J21: =+I21/$I$6 -> 0.0029109853 | K21: =세출예산총괄표4!D93 -> 34527000 | L21: =+K21/$K$6 -> 0.0033775961 | M21: =+I21-K21 -> -9167000 | N21: =+M21/K21 -> -0.26550236
A22: =세입예산총괄표3!A81 -> 이월금 | B22: =세입예산총괄표3!B81 -> 135210000 | C22: =+B22/$B$6 -> 0.015520281 | D22: =세입예산총괄표3!D81 -> 138224000 | E22: =+D22/$D$6 -> 0.013521732 | F22: =+B22-D22 -> -3014000 | G22: =+F22/D22 -> -0.021805186 | H22: 재단지원금 | I22: =세출예산총괄표4!B110 -> 0 | J22: =+I22/$I$6 -> 0 | K22: =세출예산총괄표4!D110 -> 65391000 | L22: =+K22/$K$6 -> 0.0063968601 | M22: =+I22-K22 -> -65391000 | N22: =+M22/K22 -> -1
H23: =세출예산총괄표4!A117 -> 법인전입금 | I23: =세출예산총괄표4!B117 -> 50000000 | J23: =+I23/$I$6 -> 0.0057393243 | K23: =세출예산총괄표4!D117 -> 0 | L23: =+K23/$K$6 -> 0 | M23: =+I23-K23 -> 50000000
H24: =세출예산총괄표4!A119 -> 이자반환금(과년도) | I24: =세출예산총괄표4!B119 -> 2321000 | J24: =+I24/$I$6 -> 0.00026641943 | K24: =세출예산총괄표4!D119 -> 2164000 | L24: =+K24/$K$6 -> 0.00021169282 | M24: =+I24-K24 -> 157000 | N24: =+M24/K24 -> 0.072550832
H25: =세출예산총괄표4!A132 -> 예비비(차기년도이월금) | I25: =세출예산총괄표4!B132 -> 85166000 | J25: =+I25/$I$6 -> 0.0097759058 | K25: =세출예산총괄표4!D132 -> 223556000 | L25: =+K25/$K$6 -> 0.021869316 | M25: =+I25-K25 -> -138390000 | N25: =+M25/K25 -> -0.61903952

Sheet 세입세출세부총괄표6
A1: 2019년 세입·세출예산(안) 세부 총괄표
M2: [단위:천원]
A3: 세 입 | H3: 세 출
A4: 예산과목 | B4: 2019년예산액(A) | D4: 2018년예산액(B) | F4: 증 감(A-B) | H4: =A4 -> 예산과목 | I4: =B4 -> 2019년예산액(A) | K4: =D4 -> 2018년예산액(B) | M4: 증 감(A-B)
B5: 금 액 | C5: 구성비 | D5: 금 액 | E5: 구성비 | F5: 금 액 | G5: 증감률 | I5: 금 액 | J5: 구성비 | K5: 금 액 | L5: 구성비 | M5: 금 액 | N5: 증감률
A6: 합 계 | B6: =B7+B72 -> 8711827000 | C6: =C7+C72 -> 1 | D6: =D7+D72 -> 10222359000 | E6: =E7+E72 -> 1 | F6: =B6-D6 -> -1510532000 | G6: =F6/D6 -> -0.14776746 | H6: =A6 -> 합 계 | I6: =I7+I72 -> 8711827000 | J6: =J7+J72 -> 1 | K6: =K7+K72 -> 10222359200 | L6: =L7+L72 -> 1 | M6: =I6-K6 -> -1510532200 | N6: =M6/K6 -> -0.14776747 | T6: =I6-P6 -> 8711827000
A7: 영업외수익 | B7: =SUM(B8,B16,B22,B30,B32,B34,B39,B52,B54) -> 6366834000 | C7: =B7/$B$6 -> 0.7308265 | D7: =SUM(D8,D16,D22,D30,D32,D34,D39,D52,D54) -> 8265090000 | E7: =D7/$D$6 -> 0.80853059 | F7: =F8+F16+F22+F30+F33+F44+F57+F59+F61+F37 -> -1692732000 | G7: =F7/D7 -> -0.20480503 | H7: 사업비용 | I7: =SUM(I8,I21,I34,I47,I55,I57,I59,I68,I70) -> 6314513000 | J7: =I7/$I$6 -> 0.72482075 | K7: =SUM(K8,K21,K34,K47,K55,K57,K59,K68,K70) -> 8034222200 | L7: =K7/$K$6 -> 0.78594599 | M7: =SUM(M8,M21,M34,M47,M55,M57,M59,M68,M70) -> -1719709200 | N7: =M7/K7 -> -0.214048
A8: 지자체출자출연금 | B8: =SUM(B9:B15) -> 4313212000 | C8: =+B8/$B$6 -> 0.49509844 | D8: =SUM(D9:D15) -> 4598613000 | E8: =+D8/$D$6 -> 0.4498583 | F8: =SUM(F9:F15) -> -285401000 | G8: =+F8/D8 -> -0.062062409 | H8: 인건비 | I8: =SUM(I9:I20) -> 3523140000 | J8: =I8/$I$6 -> 0.40440886 | K8: =SUM(K9:K20) -> 3101397000 | L8: =K8/$K$6 -> 0.30339347 | M8: =I8-K8 -> 421743000 | N8: =M8/K8 -> 0.13598485 | Q8: 2019년 | R8: 2018년
A9: 사무국 | B9: =세입예산총괄표3!B10 -> 3222569000 | C9: =+B9/$B$6 -> 0.36990737 | D9: 1600000000 | E9: =+D9/$D$6 -> 0.15651964 | F9: =+B9-D9 -> 1622569000 | G9: =+F9/D9 -> 1.0141056 | H9: 사무국 | I9: ='예산세출(사무국)'!Q8 -> 2200111000 | J9: =I9/$I$6 -> 0.25254301 | K9: 569927000 | L9: =K9/$K$6 -> 0.055752981 | M9: =I9-K9 -> 1630184000 | N9: =M9/K9 -> 2.8603383 | P9: 사무국 | Q9: =SUMIFS($B$9:$B$10000,$A$9:$A$10000,"사무국") -> 3623469000 | R9: =SUMIF($A$9:$A$10000,"사무국",$D$9:$D$10000) -> 2147350000 | S9: =Q9-R9 -> 1476119000 | U9: 사무국 | V9: =SUMIFS($I$8:$I$136,$H$8:$H$136,"사무국") -> 3623469000 | W9: =SUMIFS($K$8:$K$136,$H$8:$H$136,"사무국") -> 2147350000
A10: 마두청소년수련관 | B10: =세입예산총괄표3!B11 -> 318913000 | C10: =+B10/$B$6 -> 0.036606902 | D10: 861000000 | E10: =+D10/$D$6 -> 0.084227134 | F10: =+B10-D10 -> -542087000 | G10: =+F10/D10 -> -0.62960163 | H10: 마두청소년수련관 | I10: =세출예산총괄표4!B11 -> 12925000 | J10: =I10/$I$6 -> 0.0014836153 | K10: 518616000 | L10: =K10/$K$6 -> 0.050733494 | M10: =I10-K10 -> -505691000 | N10: =M10/K10 -> -0.9750779 | P10: 마두청소년수련관 | Q10: =SUMIFS($B$9:$B$10000,$A$9:$A$10000,"마두청소년수련관") -> 1143863000 | R10: =SUMIF($A$9:$A$10000,"마두청소년수련관",$D$9:$D$10000) -> 1644864000 | S10: =Q10-R10 -> -501001000 | U10: 마두청소년수련관 | V10: =SUMIFS($I$8:$I$136,$H$8:$H$136,"마두청소년수련관") -> 1143863000 | W10: =SUMIFS($K$8:$K$136,$H$8:$H$136,"마두청소년수련관") -> 1644864000
A11: 고양시청소년진로센터 | B11: =세입예산총괄표3!B12 -> 61258000 | C11: =+B11/$B$6 -> 0.0070315905 | D11: 324988000 | E11: =+D11/$D$6 -> 0.031791879 | F11: =+B11-D11 -> -263730000 | G11: =+F11/D11 -> -0.81150689 | H11: 고양시청소년진로센터 | I11: =세출예산총괄표4!B12 -> 21248000 | J11: =I11/$I$6 -> 0.0024389832 | K11: 191160000 | L11: =K11/$K$6 -> 0.018700184 | M11: =I11-K11 -> -169912000 | N11: =M11/K11 -> -0.88884704 | P11: 고양시청소년진로센터 | Q11: =SUMIFS($B$9:$B$10000,$A$9:$A$10000,"고양시청소년진로센터") -> 61498000 | R11: =SUMIF($A$9:$A$10000,"고양시청소년진로센터",$D$9:$D$10000) -> 656844000 | S11: =Q11-R11 -> -595346000 | U11: 고양시청소년진로센터 | V11: =SUMIFS($I$8:$I$136,$H$8:$H$136,"고양시청소년진로센터") -> 61498000 | W11: =SUMIFS($K$8:$K$136,$H$8:$H$136,"고양시청소년진로센터") -> 656844000
A12: 성사청소년문화의집 | B12: =세입예산총괄표3!B13 -> 184082000 | C12: =+B12/$B$6 -> 0.021130126 | D12: 331348000 | E12: =+D12/$D$6 -> 0.032414045 | F12: =+B12-D12 -> -147266000 | G12: =+F12/D12 -> -0.44444512 | H12: 성사청소년문화의집 | I12: =세출예산총괄표4!B13 -> 37340000 | J12: =I12/$I$6 -> 0.0042861274 | K12: 183764000 | L12: =K12/$K$6 -> 0.017976672 | M12: =I12-K12 -> -146424000 | N12: =M12/K12 -> -0.7968046 | P12: 성사청소년문화의집 | Q12: =SUMIFS($B$9:$B$10000,$A$9:$A$10000,"성사청소년문화의집") -> 215312000 | R12: =SUMIF($A$9:$A$10000,"성사청소년문화의집",$D$9:$D$10000) -> 587720000 | S12: =Q12-R12 -> -372408000 | U12: 성사청소년문화의집 | V12: =SUMIFS($I$8:$I$136,$H$8:$H$136,"성사청소년문화의집") -> 215312000 | W12: =SUMIFS($K$8:$K$136,$H$8:$H$136,"성사청소년문화의집") -> 587720000
A13: 탄현청소년문화의집 | B13: =세입예산총괄표3!B14 -> 86947000 | C13: =+B13/$B$6 -> 0.0099803405 | D13: 216088000 | E13: =+D13/$D$6 -> 0.021138761 | F13: =+B13-D13 -> -129141000 | G13: =+F13/D13 -> -0.59763152 | H13: 탄현청소년문화의집 | I13: =세출예산총괄표4!B14 -> 32717000 | J13: =I13/$I$6 -> 0.0037554694 | K13: 144144000 | L13: =K13/$K$6 -> 0.014100855 | M13: =I13-K13 -> -111427000 | N13: =M13/K13 -> -0.77302559 | P13: 탄현청소년문화의집 | Q13: =SUMIFS($B$9:$B$10000,$A$9:$A$10000,"탄현청소년문화의집") -> 214777000 | R13: =SUMIF($A$9:$A$10000,"탄현청소년문화의집",$D$9:$D$10000) -> 358832000 | S13: =Q13-R13 -> -144055000 | U13: 탄현청소년문화의집 | V13: =SUMIFS($I$8:$I$136,$H$8:$H$136,"탄현청소년문화의집") -> 214777000 | W13: =SUMIFS($K$8:$K$136,$H$8:$H$136,"탄현청소년문화의집") -> 358832000
A14: 주교동청소년카페 | B14: =세입예산총괄표3!B15 -> 16041000 | C14: =+B14/$B$6 -> 0.00184129 | D14: 65189000 | E14: =+D14/$D$6 -> 0.0063770995 | F14: =+B14-D14 -> -49148000 | G14: =+F14/D14 -> -0.75393088 | H14: 주교동청소년카페 | I14: =세출예산총괄표4!B15 -> 0 | J14: =I14/$I$6 -> 0 | K14: 46863000 | L14: =K14/$K$6 -> 0.0045843625 | M14: =I14-K14 -> -46863000 | N14: =M14/K14 -> -1 | P14: 주교동청소년카페 | Q14: =SUMIFS($B$9:$B$10000,$A$9:$A$10000,"주교동청소년카페") -> 16051000 | R14: =SUMIF($A$9:$A$10000,"주교동청소년카페",$D$9:$D$10000) -> 106242000 | S14: =Q14-R14 -> -90191000 | U14: 주교동청소년카페 | V14: =SUMIFS($I$8:$I$136,$H$8:$H$136,"주교동청소년카페") -> 16051000 | W14: =SUMIFS($K$8:$K$136,$H$8:$H$136,"주교동청소년카페") -> 106242000
A15: 일산서구청소년수련관 | B15: =세입예산총괄표3!B16 -> 423402000 | C15: =+B15/$B$6 -> 0.048600827 | D15: 1200000000 | E15: =+D15/$D$6 -> 0.11738973 | F15: =+B15-D15 -> -776598000 | G15: =+F15/D15 -> -0.647165 | H15: 일산서구청소년수련관 | I15: =세출예산총괄표4!B16 -> 130434000 | J15: =I15/$I$6 -> 0.01497206 | K15: 500000000 | L15: =K15/$K$6 -> 0.048912388 | M15: =I15-K15 -> -369566000 | N15: =M15/K15 -> -0.739132 | P15: 일산서구청소년수련관 | Q15: =SUMIFS($B$9:$B$10000,$A$9:$A$10000,"일산서구청소년수련관") -> 914627000 | R15: =SUMIF($A$9:$A$10000,"일산서구청소년수련관",$D$9:$D$10000) -> 1345286000 | S15: =Q15-R15 -> -430659000 | U15: 일산서구청소년수련관 | V15: =SUMIFS($I$8:$I$136,$H$8:$H$136,"일산서구청소년수련관") -> 914627000 | W15: =SUMIFS($K$8:$K$136,$H$8:$H$136,"일산서구청소년수련관") -> 1345286000
A16: 보조금수익(출연금위탁교부) | B16: =SUM(B17:B21) -> 1601301000 | C16: =+B16/$B$6 -> 0.18380771 | D16: =SUM(D17:D21) -> 1401151000 | E16: =+D16/$D$6 -> 0.13706729 | F16: =SUM(F17:F21) -> 200150000 | G16: =+F16/D16 -> 0.14284685 | H16: 토당청소년수련관 | I16: =세출예산총괄표4!B17 -> 612394000 | J16: =I16/$I$6 -> 0.070294555 | K16: 576692000 | L16: =K16/$K$6 -> 0.056414766 | M16: =I16-K16 -> 35702000 | N16: =M16/K16 -> 0.061908263 | P16: 토당청소년수련관 | Q16: =SUMIFS($B$9:$B$10000,$A$9:$A$10000,"토당청소년수련관") -> 1749582000 | R16: =SUMIF($A$9:$A$10000,"토당청소년수련관",$D$9:$D$10000) -> 1947236000 | S16: =Q16-R16 -> -197654000 | U16: 토당청소년수련관 | V16: =SUMIFS($I$8:$I$136,$H$8:$H$136,"토당청소년수련관") -> 1749582000 | W16: =SUMIFS($K$8:$K$136,$H$8:$H$136,"토당청소년수련관") -> 1947236000
A17: 토당청소년수련관 | B17: =세입예산총괄표3!B18 -> 931104000 | C17: =+B17/$B$6 -> 0.10687816 | D17: 822500000 | E17: =+D17/$D$6 -> 0.08046088 | F17: =+B17-D17 -> 108604000 | G17: =+F17/D17 -> 0.13204134 | H17: 고양시청소년상담복지센터 | I17: =세출예산총괄표4!B18 -> 309399000 | J17: =I17/$I$6 -> 0.035514824 | K17: 224951000 | L17: =K17/$K$6 -> 0.022005781 | M17: =I17-K17 -> 84448000 | N17: =M17/K17 -> 0.3754062 | P17: 고양시청소년상담복지센터 | Q17: =SUMIFS($B$9:$B$10000,$A$9:$A$10000,"고양시청소년상담복지센터") -> 424075000 | R17: =SUMIF($A$9:$A$10000,"고양시청소년상담복지센터",$D$9:$D$10000) -> 1115590000 | S17: =Q17-R17 -> -691515000 | U17: 고양시청소년상담복지센터 | V17: =SUMIFS($I$8:$I$136,$H$8:$H$136,"고양시청소년상담복지센터") -> 424075000 | W17: =SUMIFS($K$8:$K$136,$H$8:$H$136,"고양시청소년상담복지센터") -> 1115590000
A18: 고양시청소년상담복지센터 | B18: =세입예산총괄표3!B19 -> 375948000 | C18: =+B18/$B$6 -> 0.043153749 | D18: 323393000 | E18: =+D18/$D$6 -> 0.031635848 | F18: =+B18-D18 -> 52555000 | G18: =+F18/D18 -> 0.16251125 | H18: 화정청소년카페 | I18: =세출예산총괄표4!B19 -> 62617000 | J18: =I18/$I$6 -> 0.0071875853 | K18: 63200000 | L18: =K18/$K$6 -> 0.0061825258 | M18: =I18-K18 -> -583000 | N18: =M18/K18 -> -0.0092246835 | P18: 화정청소년카페 | Q18: =SUMIFS($B$9:$B$10000,$A$9:$A$10000,"화정청소년카페") -> 155824000 | R18: =SUMIF($A$9:$A$10000,"화정청소년카페",$D$9:$D$10000) -> 153106000 | S18: =Q18-R18 -> 2718000 | U18: 화정청소년카페 | V18: =SUMIFS($I$8:$I$136,$H$8:$H$136,"화정청소년카페") -> 155824000 | W18: =SUMIFS($K$8:$K$136,$H$8:$H$136,"화정청소년카페") -> 153106200
A19: 화정청소년카페 | B19: =세입예산총괄표3!B20 -> 116324000 | C19: =+B19/$B$6 -> 0.013352423 | D19: 118473000 | E19: =+D19/$D$6 -> 0.011589595 | F19: =+B19-D19 -> -2149000 | G19: =+F19/D19 -> -0.018139154 | H19: 백마역청소년카페 | I19: =세출예산총괄표4!B20 -> 57190000 | J19: =I19/$I$6 -> 0.0065646391 | K19: 44880000 | L19: =K19/$K$6 -> 0.004390376 | M19: =I19-K19 -> 12310000 | N19: =M19/K19 -> 0.27428699 | P19: 백마역청소년카페 | Q19: =SUMIFS($B$9:$B$10000,$A$9:$A$10000,"백마역청소년카페") -> 101394000 | R19: =SUMIF($A$9:$A$10000,"백마역청소년카페",$D$9:$D$10000) -> 89509000 | S19: =Q19-R19 -> 11885000 | U19: 백마역청소년카페 | V19: =SUMIFS($I$8:$I$136,$H$8:$H$136,"백마역청소년카페") -> 101394000 | W19: =SUMIFS($K$8:$K$136,$H$8:$H$136,"백마역청소년카페") -> 89509000
A20: 백마역청소년카페 | B20: =세입예산총괄표3!B21 -> 89380000 | C20: =+B20/$B$6 -> 0.010259616 | D20: 69415000 | E20: =+D20/$D$6 -> 0.006790507 | F20: =+B20-D20 -> 19965000 | G20: =+F20/D20 -> 0.28761795 | H20: 능곡역청소년카페 | I20: =세출예산총괄표4!B21 -> 46765000 | J20: =I20/$I$6 -> 0.00536799 | K20: 37200000 | L20: =K20/$K$6 -> 0.0036390817 | M20: =I20-K20 -> 9565000 | N20: =M20/K20 -> 0.25712366 | P20: 능곡역청소년카페 | Q20: =SUMIFS($B$9:$B$10000,$A$9:$A$10000,"능곡역청소년카페") -> 91355000 | R20: =SUMIF($A$9:$A$10000,"능곡역청소년카페",$D$9:$D$10000) -> 69780000 | S20: =Q20-R20 -> 21575000 | U20: 능곡역청소년카페 | V20: =SUMIFS($I$8:$I$136,$H$8:$H$136,"능곡역청소년카페") -> 91355000 | W20: =SUMIFS($K$8:$K$136,$H$8:$H$136,"능곡역청소년카페") -> 69780000
A21: 능곡역청소년카페 | B21: =세입예산총괄표3!B22 -> 88545000 | C21: =+B21/$B$6 -> 0.010163769 | D21: 67370000 | E21: =+D21/$D$6 -> 0.0065904553 | F21: =+B21-D21 -> 21175000 | G21: =+F21/D21 -> 0.31430904 | H21: 경비 | I21: =SUM(I22:I33) -> 1436607000 | J21: =I21/$I$6 -> 0.16490307 | K21: =SUM(K22:K33) -> 1461948200 | L21: =K21/$K$6 -> 0.14301476 | M21: =SUM(M22:M33) -> -25341200 | N21: =M21/K21 -> -0.017333856 | Q21: =SUM(Q9:Q20) -> 8711827000 | R21: =SUM(R9:R20) -> 10222359000 | V21: =SUM(V9:V20) -> 8711827000 | W21: =SUM(W9:W20) -> 10222359200
A22: 국도시비보조금 | B22: =SUM(B23:B29) -> 0 | C22: =+B22/$B$6 -> 0 | D22: =SUM(D23:D29) -> 1553941000 | E22: =+D22/$D$6 -> 0.15201393 | F22: =SUM(F23:F29) -> -1553941000 | G22: =+F22/D22 -> -1 | H22: 사무국 | I22: =세출예산총괄표4!B23 -> 396810000 | J22: =I22/$I$6 -> 0.045548425 | K22: 313140000 | L22: =K22/$K$6 -> 0.03063285 | M22: =I22-K22 -> 83670000 | N22: =M22/K22 -> 0.26719678
A23: 사무국 | B23: 0 | C23: =+B23/$B$6 -> 0 | D23: 2800000 | E23: =+D23/$D$6 -> 0.00027390938 | F23: =+B23-D23 -> -2800000 | G23: =+F23/D23 -> -1 | H23: 마두청소년수련관 | I23: =세출예산총괄표4!B24 -> 234884000 | J23: =I23/$I$6 -> 0.026961509 | K23: 274384000 | L23: =K23/$K$6 -> 0.026841553 | M23: =I23-K23 -> -39500000 | N23: =M23/K23 -> -0.14395883
A24: 마두청소년수련관 | B24: 0 | C24: =+B24/$B$6 -> 0 | D24: 29000000 | E24: =+D24/$D$6 -> 0.0028369186 | F24: =+B24-D24 -> -29000000 | G24: =+F24/D24 -> -1 | H24: 고양시청소년진로센터 | I24: =세출예산총괄표4!B25 -> 38310000 | J24: =I24/$I$6 -> 0.0043974702 | K24: 51208000 | L24: =K24/$K$6 -> 0.0050094111 | M24: =I24-K24 -> -12898000 | N24: =M24/K24 -> -0.25187471
A25: 고양시청소년진로센터 | B25: 0 | C25: =+B25/$B$6 -> 0 | D25: 286300000 | E25: =+D25/$D$6 -> 0.028007234 | F25: =+B25-D25 -> -286300000 | G25: =+F25/D25 -> -1 | H25: 성사청소년문화의집 | I25: =세출예산총괄표4!B26 -> 86150000 | J25: =I25/$I$6 -> 0.0098888557 | K25: 88010000 | L25: =K25/$K$6 -> 0.0086095585 | M25: =I25-K25 -> -1860000 | N25: =M25/K25 -> -0.021133962
A26: 성사청소년문화의집 | B26: 0 | C26: =+B26/$B$6 -> 0 | D26: 229944000 | E26: =+D26/$D$6 -> 0.022494221 | F26: =+B26-D26 -> -229944000 | G26: =+F26/D26 -> -1 | H26: 탄현청소년문화의집 | I26: =세출예산총괄표4!B27 -> 25630000 | J26: =I26/$I$6 -> 0.0029419776 | K26: 42544000 | L26: =K26/$K$6 -> 0.0041618573 | M26: =I26-K26 -> -16914000 | N26: =M26/K26 -> -0.39756487
A27: 탄현청소년문화의집 | B27: 0 | C27: =+B27/$B$6 -> 0 | D27: 2000000 | E27: =+D27/$D$6 -> 0.00019564956 | F27: =+B27-D27 -> -2000000 | G27: =+F27/D27 -> -1 | H27: 주교동청소년카페 | I27: =세출예산총괄표4!B28 -> 11334000 | J27: =I27/$I$6 -> 0.00130099 | K27: 14296000 | L27: =K27/$K$6 -> 0.001398503 | M27: =I27-K27 -> -2962000 | N27: =M27/K27 -> -0.20719082
A28: 토당청소년수련관 | B28: 0 | C28: =+B28/$B$6 -> 0 | D28: 235394000 | E28: =+D28/$D$6 -> 0.023027366 | F28: =+B28-D28 -> -235394000 | G28: =+F28/D28 -> -1 | H28: 일산서구청소년수련관 | I28: =세출예산총괄표4!B29 -> 209331000 | J28: =I28/$I$6 -> 0.02402837 | K28: 325265000 | L28: =K28/$K$6 -> 0.031818976 | M28: =I28-K28 -> -115934000 | N28: =M28/K28 -> -0.35642937
A29: 고양시청소년상담복지센터 | B29: 0 | C29: =+B29/$B$6 -> 0 | D29: 768503000 | E29: =+D29/$D$6 -> 0.075178635 | F29: =+B29-D29 -> -768503000 | G29: =+F29/D29 -> -1 | H29: 토당청소년수련관 | I29: =세출예산총괄표4!B30 -> 311110000 | J29: =I29/$I$6 -> 0.035711223 | K29: 240808000 | L29: =K29/$K$6 -> 0.023556989 | M29: =I29-K29 -> 70302000 | N29: =M29/K29 -> 0.29194213
A30: 교육청사업 | B30: =SUM(B31:B31) -> 0 | C30: =+B30/$B$6 -> 0 | D30: =SUM(D31:D31) -> 44000000 | E30: =+D30/$D$6 -> 0.0043042902 | F30: =SUM(F31:F31) -> -44000000 | G30: =+F30/D30 -> -1 | H30: 고양시청소년상담복지센터 | I30: =세출예산총괄표4!B31 -> 53181000 | J30: =I30/$I$6 -> 0.0061044601 | K30: 48841000 | L30: =K30/$K$6 -> 0.0047778599 | M30: =I30-K30 -> 4340000 | N30: =M30/K30 -> 0.088859769
A31: 고양시청소년진로센터 | B31: 0 | C31: =+B31/$B$6 -> 0 | D31: 44000000 | E31: =+D31/$D$6 -> 0.0043042902 | F31: =+B31-D31 -> -44000000 | G31: =+F31/D31 -> -1 | H31: 화정청소년카페 | I31: =세출예산총괄표4!B32 -> 22207000 | J31: =I31/$I$6 -> 0.0025490635 | K31: 19247200 | L31: =K31/$K$6 -> 0.001882853 | M31: =I31-K31 -> 2959800 | N31: =M31/K31 -> 0.15377821
A32: 기타보조금 | B32: =SUM(B33:B33) -> 0 | C32: =+B32/$B$6 -> 0 | D32: =SUM(D33:D33) -> 6000000 | E32: =+D32/$D$6 -> 0.00058694867 | F32: =SUM(F33:F33) -> -6000000 | G32: =+F32/D32 -> -1 | H32: 백마역청소년카페 | I32: =세출예산총괄표4!B33 -> 25580000 | J32: =I32/$I$6 -> 0.0029362383 | K32: 24535000 | L32: =K32/$K$6 -> 0.0024001309 | M32: =I32-K32 -> 1045000 | N32: =M32/K32 -> 0.042592215
A33: 토당청소년수련관 | B33: 0 | C33: =+B33/$B$6 -> 0 | D33: 6000000 | E33: =+D33/$D$6 -> 0.00058694867 | F33: =+B33-D33 -> -6000000 | G33: =+F33/D33 -> -1 | H33: 능곡역청소년카페 | I33: =세출예산총괄표4!B34 -> 22080000 | J33: =I33/$I$6 -> 0.0025344856 | K33: 19670000 | L33: =K33/$K$6 -> 0.0019242133 | M33: =I33-K33 -> 2410000 | N33: =M33/K33 -> 0.12252161
A34: 재단지원금 | B34: =SUM(B35:B38) -> 0 | C34: =+B34/$B$6 -> 0 | D34: =SUM(D35:D38) -> 65391000 | E34: =+D34/$D$6 -> 0.0063968601 | F34: =SUM(F35:F38) -> -65391000 | G34: =+F34/D34 -> -1 | H34: 목적사업비 | I34: =SUM(I35:I46) -> 1246418000 | J34: =I34/$I$6 -> 0.14307194 | K34: =SUM(K35:K46) -> 1376686000 | L34: =K34/$K$6 -> 0.134674 | M34: =I34-K34 -> -130268000 | N34: =M34/K34 -> -0.094624337
A35: 탄현청소년문화의집 | B35: 0 | C35: =+B35/$B$6 -> 0 | D35: 20720000 | E35: =+D35/$D$6 -> 0.0020269294 | F35: =+B35-D35 -> -20720000 | G35: =+F35/D35 -> -1 | H35: 사무국 | I35: =세출예산총괄표4!B36 -> 928000000 | J35: =I35/$I$6 -> 0.10652186 | K35: 996980000 | L35: =K35/$K$6 -> 0.097529345 | M35: =+I35-K35 -> -68980000 | N35: =+M35/K35 -> -0.069188951
A36: 주교동청소년카페 | B36: 0 | C36: =+B36/$B$6 -> 0 | D36: 37081000 | E36: =+D36/$D$6 -> 0.0036274406 | F36: =+B36-D36 -> -37081000 | G36: =+F36/D36 -> -1 | H36: 마두청소년수련관 | I36: =세출예산총괄표4!B37 -> 69004000 | J36: =I36/$I$6 -> 0.0079207266 | K36: 65000000 | L36: =K36/$K$6 -> 0.0063586104 | M36: =+I36-K36 -> 4004000 | N36: =+M36/K36 -> 0.0616
A37: 고양시청소년상담복지센터 | B37: 0 | C37: =+B37/$B$6 -> 0 | D37: 3510000 | E37: =+D37/$D$6 -> 0.00034336497 | F37: =+B37-D37 -> -3510000 | G37: =+F37/D37 -> -1 | H37: 고양시청소년진로센터 | I37: =세출예산총괄표4!B38 -> 0 | J37: =I37/$I$6 -> 0 | K37: 77520000 | L37: =K37/$K$6 -> 0.0075833766 | M37: =+I37-K37 -> -77520000 | N37: =+M37/K37 -> -1
A38: 백마역청소년카페 | B38: 0 | C38: =+B38/$B$6 -> 0 | D38: 4080000 | E38: =+D38/$D$6 -> 0.00039912509 | F38: =+B38-D38 -> -4080000 | G38: =+F38/D38 -> -1 | H38: 성사청소년문화의집 | I38: ='예산세출(성사)'!Q100 -> 60592000 | J38: =I38/$I$6 -> 0.0069551427 | K38: 52574000 | L38: =K38/$K$6 -> 0.0051430398 | M38: =+I38-K38 -> 8018000 | N38: =+M38/K38 -> 0.15250884
A39: 이자수익 | B39: =SUM(B40:B51) -> 2321000 | C39: =+B39/$B$6 -> 0.00026641943 | D39: =SUM(D40:D51) -> 2164000 | E39: =+D39/$D$6 -> 0.00021169282 | F39: =SUM(F40:F51) -> 157000 | G39: =+F39/D39 -> 0.072550832 | H39: 탄현청소년문화의집 | I39: =세출예산총괄표4!B40 -> 28600000 | J39: =I39/$I$6 -> 0.0032828935 | K39: 29400000 | L39: =K39/$K$6 -> 0.0028760484 | M39: =+I39-K39 -> -800000 | N39: =+M39/K39 -> -0.027210884
A40: 사무국 | B40: 900000 | C40: =+B40/$B$6 -> 0.00010330784 | D40: 720000 | E40: =+D40/$D$6 -> 7.043384e-05 | F40: =+B40-D40 -> 180000 | G40: =+F40/D40 -> 0.25 | H40: 주교동청소년카페 | I40: =세출예산총괄표4!B41 -> 4707000 | J40: =I40/$I$6 -> 0.00054029999 | K40: 4030000 | L40: =K40/$K$6 -> 0.00039423385 | M40: =+I40-K40 -> 677000 | N40: =+M40/K40 -> 0.16799007
A41: 마두청소년수련관 | B41: 200000 | C41: =+B41/$B$6 -> 2.2957297e-05 | D41: 200000 | E41: =+D41/$D$6 -> 1.9564956e-05 | F41: =+B41-D41 -> 0 | G41: =+F41/D41 -> 0 | H41: 일산서구청소년수련관 | I41: =세출예산총괄표4!B42 -> 80637000 | J41: =I41/$I$6 -> 0.0092560378 | K41: 53855000 | L41: =K41/$K$6 -> 0.0052683533 | M41: =+I41-K41 -> 26782000 | N41: =+M41/K41 -> 0.4972983
A42: 고양시청소년진로센터 | B42: 240000 | C42: =+B42/$B$6 -> 2.7548756e-05 | D42: 240000 | E42: =+D42/$D$6 -> 2.3477947e-05 | F42: =+B42-D42 -> 0 | G42: =+F42/D42 -> 0 | H42: 토당청소년수련관 | I42: =세출예산총괄표4!B43 -> 7600000 | J42: =I42/$I$6 -> 0.00087237729 | K42: 5000000 | L42: =K42/$K$6 -> 0.00048912388 | M42: =+I42-K42 -> 2600000 | N42: =+M42/K42 -> 0.52
A43: 성사청소년문화의집 | B43: 100000 | C43: =+B43/$B$6 -> 1.1478649e-05 | D43: 100000 | E43: =+D43/$D$6 -> 9.7824778e-06 | F43: =+B43-D43 -> 0 | G43: =+F43/D43 -> 0 | H43: 고양시청소년상담복지센터 | I43: =세출예산총괄표4!B44 -> 12168000 | J43: =I43/$I$6 -> 0.001396722 | K43: 49601000 | L43: =K43/$K$6 -> 0.0048522067 | M43: =+I43-K43 -> -37433000 | N43: =+M43/K43 -> -0.75468237
A44: 탄현청소년문화의집 | B44: 70000 | C44: =+B44/$B$6 -> 8.035054e-06 | D44: 100000 | E44: =+D44/$D$6 -> 9.7824778e-06 | F44: =+B44-D44 -> -30000 | G44: =+F44/D44 -> -0.3 | H44: 화정청소년카페 | I44: =세출예산총괄표4!B45 -> 30000000 | J44: =I44/$I$6 -> 0.0034435946 | K44: 32226000 | L44: =K44/$K$6 -> 0.0031525012 | M44: =+I44-K44 -> -2226000 | N44: =+M44/K44 -> -0.06907466
A45: 주교동청소년카페 | B45: 10000 | C45: =+B45/$B$6 -> 1.1478649e-06 | D45: 10000 | E45: =+D45/$D$6 -> 9.7824778e-07 | F45: =+B45-D45 -> 0 | G45: =+F45/D45 -> 0 | H45: 백마역청소년카페 | I45: =세출예산총괄표4!B46 -> 6610000 | J45: =I45/$I$6 -> 0.00075873867 | K45: 0 | L45: =K45/$K$6 -> 0 | M45: =+I45-K45 -> 6610000
A46: 일산서구청소년수련관 | B46: 233000 | C46: =+B46/$B$6 -> 2.6745251e-05 | D46: 233000 | E46: =+D46/$D$6 -> 2.2793173e-05 | F46: =+B46-D46 -> 0 | G46: =+F46/D46 -> 0 | H46: 능곡역청소년카페 | I46: =세출예산총괄표4!B47 -> 18500000 | J46: =+I46/$B$6 -> 0.00212355 | K46: 10500000 | L46: =K46/$K$6 -> 0.0010271601 | M46: =+I46-K46 -> 8000000 | N46: =+M46/K46 -> 0.76190476
A47: 토당청소년수련관 | B47: 500000 | C47: =+B47/$B$6 -> 5.7393243e-05 | D47: 500000 | E47: =+D47/$D$6 -> 4.8912389e-05 | F47: =+B47-D47 -> 0 | G47: =+F47/D47 -> 0 | H47: 국도시비보조금사업비 | I47: =SUM(I48:I54) -> 0 | J47: =I47/$I$6 -> 0 | K47: =SUM(K48:K54) -> 1553941000 | L47: =K47/$K$6 -> 0.15201393 | M47: =SUM(M48:M54) -> -1553941000 | N47: =+M47/K47 -> -1
A48: 고양시청소년상담복지센터 | B48: 24000 | C48: =+B48/$B$6 -> 2.7548756e-06 | D48: 24000 | E48: =+D48/$D$6 -> 2.3477947e-06 | F48: =+B48-D48 -> 0 | G48: =+F48/D48 -> 0 | H48: 사무국 | I48: 0 | J48: =I48/$I$6 -> 0 | K48: 2800000 | L48: =K48/$K$6 -> 0.00027390937 | M48: =+I48-K48 -> -2800000 | N48: =+M48/K48 -> -1
A49: 화정청소년카페 | B49: 20000 | C49: =+B49/$B$6 -> 2.2957297e-06 | D49: 13000 | E49: =+D49/$D$6 -> 1.2717221e-06 | F49: =+B49-D49 -> 7000 | G49: =+F49/D49 -> 0.53846154 | H49: 마두청소년수련관 | I49: 0 | J49: =I49/$I$6 -> 0 | K49: 29000000 | L49: =K49/$K$6 -> 0.0028369185 | M49: =+I49-K49 -> -29000000 | N49: =+M49/K49 -> -1
A50: 백마역청소년카페 | B50: 14000 | C50: =+B50/$B$6 -> 1.6070108e-06 | D50: 14000 | E50: =+D50/$D$6 -> 1.3695469e-06 | F50: =+B50-D50 -> 0 | G50: =+F50/D50 -> 0 | H50: 고양시청소년진로센터 | I50: 0 | J50: =I50/$I$6 -> 0 | K50: 286300000 | L50: =K50/$K$6 -> 0.028007233 | M50: =+I50-K50 -> -286300000 | N50: =+M50/K50 -> -1
A51: 능곡역청소년카페 | B51: 10000 | C51: =+B51/$B$6 -> 1.1478649e-06 | D51: 10000 | E51: =+D51/$D$6 -> 9.7824778e-07 | F51: =+B51-D51 -> 0 | G51: =+F51/D51 -> 0 | H51: 성사청소년문화의집 | I51: 0 | J51: =I51/$I$6 -> 0 | K51: 229944000 | L51: =K51/$K$6 -> 0.02249422 | M51: =+I51-K51 -> -229944000 | N51: =+M51/K51 -> -1
A52: 법인전입금 | B52: =SUM(B53:B53) -> 50000000 | C52: =+B52/$B$6 -> 0.0057393243 | D52: =SUM(D53:D53) -> 50000000 | E52: =+D52/$D$6 -> 0.0048912389 | F52: =SUM(F53:F53) -> 0 | G52: =+F52/D52 -> 0 | H52: 탄현청소년문화의집 | I52: 0 | J52: =I52/$I$6 -> 0 | K52: 2000000 | L52: =K52/$K$6 -> 0.00019564955 | M52: =+I52-K52 -> -2000000 | N52: =+M52/K52 -> -1
A53: 토당청소년수련관 | B53: 50000000 | C53: =+B53/$B$6 -> 0.0057393243 | D53: 50000000 | E53: =+D53/$D$6 -> 0.0048912389 | F53: =+B53-D53 -> 0 | G53: =+F53/D53 -> 0 | H53: 토당청소년수련관 | I53: 0 | J53: =I53/$I$6 -> 0 | K53: 235394000 | L53: =K53/$K$6 -> 0.023027365 | M53: =+I53-K53 -> -235394000 | N53: =+M53/K53 -> -1
A54: 이월금 및 출자출연금 | B54: =SUM(B55:B55) -> 400000000 | C54: =+B54/$B$6 -> 0.045914594 | D54: =SUM(D55:D55) -> 543830000 | E54: =+D54/$D$6 -> 0.053200049 | F54: =SUM(F55:F55) -> -143830000 | G54: =+F54/D54 -> -0.26447603 | H54: 고양시청소년상담복지센터 | I54: 0 | J54: =I54/$I$6 -> 0 | K54: 768503000 | L54: =K54/$K$6 -> 0.075178634 | M54: =+I54-K54 -> -768503000 | N54: =+M54/K54 -> -1
A55: 사무국 | B55: =세입예산총괄표3!B56 -> 400000000 | C55: =+B55/$B$6 -> 0.045914594 | D55: =세입예산총괄표3!D56 -> 543830000 | E55: =+D55/$D$6 -> 0.053200049 | F55: =+B55-D55 -> -143830000 | G55: =+F55/D55 -> -0.26447603 | H55: 교육청사업비 | I55: =SUM(I56:I56) -> 0 | J55: =I55/$I$6 -> 0 | K55: =SUM(K56:K56) -> 44000000 | L55: =K55/$K$6 -> 0.0043042901 | M55: =SUM(M56:M56) -> -44000000 | N55: =+M55/K55 -> -1
H56: 고양시청소년진로센터 | I56: 0 | J56: =I56/$I$6 -> 0 | K56: 44000000 | L56: =K56/$K$6 -> 0.0043042901 | M56: =+I56-K56 -> -44000000 | N56: =+M56/K56 -> -1
H57: 기타보조금사업비 | I57: =SUM(I58:I58) -> 0 | J57: =I57/$I$6 -> 0 | K57: =SUM(K58:K58) -> 6000000 | L57: =K57/$K$6 -> 0.00058694866 | M57: =SUM(M58:M58) -> -6000000 | N57: =+M57/K57 -> -1
H58: 토당청소년수련관 | I58: 0 | J58: =I58/$I$6 -> 0 | K58: 6000000 | L58: =K58/$K$6 -> 0.00058694866 | M58: =+I58-K58 -> -6000000 | N58: =+M58/K58 -> -1
H59: 자산취득비 | I59: =SUM(I60:I67) -> 16900000 | J59: =I59/$I$6 -> 0.0019398916 | K59: =SUM(K60:K67) -> 378802000 | L59: =K59/$K$6 -> 0.037056221 | M59: =SUM(M60:M67) -> -361902000 | N59: =+M59/K59 -> -0.95538566
H60: 사무국 | I60: =세출예산총괄표4!B61 -> 6200000 | J60: =I60/$I$6 -> 0.00071167621 | K60: 39022000 | L60: =K60/$K$6 -> 0.0038173184 | M60: =+I60-K60 -> -32822000 | N60: =+M60/K60 -> -0.84111527
H61: 마두청소년수련관 | I61: =세출예산총괄표4!B62 -> 2100000 | J61: =I61/$I$6 -> 0.00024105162 | K61: 3000000 | L61: =K61/$K$6 -> 0.00029347433 | M61: =+I61-K61 -> -900000 | N61: =+M61/K61 -> -0.3
H62: 고양시청소년진로센터 | I62: =세출예산총괄표4!B63 -> 1700000 | J62: =I62/$I$6 -> 0.00019513702 | K62: 5100000 | L62: =K62/$K$6 -> 0.00049890636 | M62: =+I62-K62 -> -3400000 | N62: =+M62/K62 -> -0.66666667
H63: 성사청소년문화의집 | I63: =세출예산총괄표4!B64 -> 0 | J63: =I63/$I$6 -> 0 | K63: 7000000 | L63: =K63/$K$6 -> 0.00068477343 | M63: =+I63-K63 -> -7000000 | N63: =+M63/K63 -> -1
H64: 일산서구청소년수련관 | I64: =세출예산총괄표4!B65 -> 3000000 | J64: =I64/$I$6 -> 0.00034435946 | K64: 320880000 | L64: =K64/$K$6 -> 0.031390014 | M64: =+I64-K64 -> -317880000 | N64: =+M64/K64 -> -0.99065071
H65: 고양시청소년상담복지센터 | I65: =세출예산총괄표4!B66 -> 1200000 | J65: =I65/$I$6 -> 0.00013774378 | K65: 0 | L65: =K65/$K$6 -> 0 | M65: =+I65-K65 -> 1200000
H66: 화정청소년카페 | I66: =세출예산총괄표4!B67 -> 1500000 | J66: =I66/$I$6 -> 0.00017217973 | K66: 3800000 | L66: =K66/$K$6 -> 0.00037173415 | M66: =+I66-K66 -> -2300000 | N66: =+M66/K66 -> -0.60526316
H67: 능곡역청소년카페 | I67: =세출예산총괄표4!B68 -> 1200000 | J67: =I67/$I$6 -> 0.00013774378 | K67: 0 | L67: =K67/$K$6 -> 0 | M67: =+I67-K67 -> 1200000
H68: 성과급 | I68: =SUM(I69:I69) -> 91448000 | J68: =I68/$I$6 -> 0.010496994 | K68: =SUM(K69:K69) -> 91448000 | L68: =K68/$K$6 -> 0.0089458801 | M68: =I68-K68 -> 0 | N68: =+M68/K68 -> 0
H69: 사무국 | I69: =세출예산총괄표4!B70 -> 91448000 | J69: =I69/$I$6 -> 0.010496994 | K69: 91448000 | L69: =K69/$K$6 -> 0.0089458801 | M69: =+I69-K69 -> 0 | N69: =+M69/K69 -> 0
H70: 예비비 | I70: =SUM(I71:I71) -> 0 | J70: =I70/$I$6 -> 0 | K70: =SUM(K71:K71) -> 20000000 | L70: =K70/$K$6 -> 0.0019564955 | M70: =I70-K70 -> -20000000 | N70: =+M70/K70 -> -1
H71: 사무국 | I71: =세출예산총괄표4!B72 -> 0 | J71: =I71/$I$6 -> 0 | K71: 20000000 | L71: =K71/$K$6 -> 0.0019564955 | M71: =+I71-K71 -> -20000000 | N71: =+M71/K71 -> -1
A72: 영업수익 | B72: =B73+B82+B89 -> 2344993000 | C72: =B72/$B$6 -> 0.2691735 | D72: =D73+D82+D89 -> 1957269000 | E72: =D72/$D$6 -> 0.19146941 | F72: =B72-D72 -> 387724000 | G72: =F72/D72 -> 0.19809439 | H72: 자체사업비용 | I72: =SUM(I73,I80,I92,I99,I109,I116,I118,I131) -> 2397314000 | J72: =I72/$I$6 -> 0.27517925 | K72: =SUM(K73,K80,K92,K99,K109,K116,K118,K131) -> 2188137000 | L72: =K72/$K$6 -> 0.21405401 | M72: =SUM(M73,M80,M92,M99,M109,M116,M118,M131) -> 209177000 | N72: =+M72/K72 -> 0.095595934
A73: 자체사업수익 | B73: =SUM(B74:B81) -> 1912797000 | C73: =B73/$B$6 -> 0.21956324 | D73: =SUM(D74:D81) -> 1567430000 | E73: =D73/$D$6 -> 0.15333349 | F73: =B73-D73 -> 345367000 | G73: =F73/D73 -> 0.22033966 | H73: 자체사업인건비 | I73: =SUM(I74:I79) -> 302874000 | J73: =I73/$I$6 -> 0.034765842 | K73: =SUM(K74:K79) -> 265752000 | L73: =K73/$K$6 -> 0.02599713 | M73: =SUM(M74:M79) -> 37122000 | N73: =+M73/K73 -> 0.13968663
A74: 마두청소년수련관 | B74: =세입예산총괄표3!B59 -> 715450000 | C74: =B74/$B$6 -> 0.082123991 | D74: 597440000 | E74: =D74/$D$6 -> 0.058444435 | F74: =B74-D74 -> 118010000 | G74: =F74/D74 -> 0.19752611 | H74: 마두청소년수련관 | I74: =세출예산총괄표4!B75 -> 187960000 | J74: =I74/$I$6 -> 0.021575268 | K74: 171310000 | L74: =K74/$K$6 -> 0.016758362 | M74: =+I74-K74 -> 16650000 | N74: =+M74/K74 -> 0.097192225
A75: 성사청소년문화의집 | B75: =세입예산총괄표3!B60 -> 18100000 | C75: =B75/$B$6 -> 0.0020776354 | D75: 5250000 | E75: =D75/$D$6 -> 0.00051358008 | F75: =B75-D75 -> 12850000 | G75: =F75/D75 -> 2.447619 | H75: 일산서구청소년수련관 | I75: =세출예산총괄표4!B76 -> 47711000 | J75: =I75/$I$6 -> 0.005476578 | K75: 34140000 | L75: =K75/$K$6 -> 0.0033397379 | M75: =+I75-K75 -> 13571000 | N75: =+M75/K75 -> 0.39751025
A76: 탄현청소년문화의집 | B76: ='예산세입(탄현)'!P8 -> 111120000 | C76: =B76/$B$6 -> 0.012755074 | D76: 100900000 | E76: =D76/$D$6 -> 0.0098705201 | F76: =B76-D76 -> 10220000 | G76: =F76/D76 -> 0.1012884 | H76: 토당청소년수련관 | I76: =세출예산총괄표4!B77 -> 35699000 | J76: =I76/$I$6 -> 0.0040977627 | K76: 34302000 | L76: =K76/$K$6 -> 0.0033555855 | M76: =+I76-K76 -> 1397000 | N76: =+M76/K76 -> 0.040726488
A77: 주교동청소년카페 | B77: 0 | C77: =B77/$B$6 -> 0 | D77: 1480000 | E77: =D77/$D$6 -> 0.00014478067 | F77: =B77-D77 -> -1480000 | G77: =F77/D77 -> -1 | H77: 고양시청소년상담복지센터 | I77: =세출예산총괄표4!B78 -> 9664000 | J77: =I77/$I$6 -> 0.0011092966 | K77: 0 | L77: =K77/$K$6 -> 0 | M77: =+I77-K77 -> 9664000
A78: 일산서구청소년수련관 | B78: =세입예산총괄표3!B63 -> 376324000 | C78: =B78/$B$6 -> 0.043196909 | D78: 104400000 | E78: =D78/$D$6 -> 0.010212907 | F78: =B78-D78 -> 271924000 | G78: =F78/D78 -> 2.604636 | H78: 화정청소년카페 | I78: =세출예산총괄표4!B79 -> 18240000 | J78: =I78/$I$6 -> 0.0020937055 | K78: 18000000 | L78: =K78/$K$6 -> 0.001760846 | M78: =+I78-K78 -> 240000 | N78: =+M78/K78 -> 0.013333333
A79: 토당청소년수련관 | B79: =세입예산총괄표3!B64 -> 650000000 | C79: =B79/$B$6 -> 0.074611215 | D79: 736180000 | E79: =D79/$D$6 -> 0.072016645 | F79: =B79-D79 -> -86180000 | G79: =F79/D79 -> -0.11706376 | H79: 백마역청소년카페 | I79: =세출예산총괄표4!B80 -> 3600000 | J79: =I79/$I$6 -> 0.00041323135 | K79: 8000000 | L79: =K79/$K$6 -> 0.00078259821 | M79: =+I79-K79 -> -4400000 | N79: =+M79/K79 -> -0.55
A80: 고양시청소년상담복지센터 | B80: =세입예산총괄표3!B65 -> 40483000 | C80: =B80/$B$6 -> 0.0046469013 | D80: 20160000 | E80: =D80/$D$6 -> 0.0019721475 | F80: =B80-D80 -> 20323000 | G80: =F80/D80 -> 1.0080853 | H80: 자체사업경비 | I80: =SUM(I81:I91) -> 326823000 | J80: =I80/$I$6 -> 0.037514863 | K80: =SUM(K81:K91) -> 342083000 | L80: =K80/$K$6 -> 0.033464193 | M80: =SUM(M81:M91) -> -15260000 | N80: =+M80/K80 -> -0.044609057
A81: 화정청소년카페 | B81: =세입예산총괄표3!B66 -> 1320000 | C81: =B81/$B$6 -> 0.00015151816 | D81: 1620000 | E81: =D81/$D$6 -> 0.00015847614 | F81: =B81-D81 -> -300000 | G81: =F81/D81 -> -0.18518519 | H81: 마두청소년수련관 | I81: =세출예산총괄표4!B82 -> 67498000 | J81: =I81/$I$6 -> 0.0077478582 | K81: 77437000 | L81: =K81/$K$6 -> 0.0075752572 | M81: =+I81-K81 -> -9939000 | N81: =+M81/K81 -> -0.1283495
A82: 기타영업수익 | B82: =SUM(B83:B88) -> 28332000 | C82: =B82/$B$6 -> 0.0032521307 | D82: =SUM(D83:D88) -> 42498000 | E82: =D82/$D$6 -> 0.0041573574 | F82: =B82-D82 -> -14166000 | G82: =F82/D82 -> -0.33333333 | H82: 고양시청소년진로센터 | I82: =세출예산총괄표4!B83 -> 0 | J82: =I82/$I$6 -> 0 | K82: 1316000 | L82: =K82/$K$6 -> 0.00012873741 | M82: =+I82-K82 -> -1316000 | N82: =+M82/K82 -> -1
A83: 마두청소년수련관 | B83: =세입예산총괄표3!B68 -> 3500000 | C83: =B83/$B$6 -> 0.0004017527 | D83: 3500000 | E83: =D83/$D$6 -> 0.00034238672 | F83: =B83-D83 -> 0 | G83: =F83/D83 -> 0 | H83: 성사청소년문화의집 | I83: =세출예산총괄표4!B84 -> 5802000 | J83: =I83/$I$6 -> 0.00066599119 | K83: 16790000 | L83: =K83/$K$6 -> 0.001642478 | M83: =+I83-K83 -> -10988000 | N83: =+M83/K83 -> -0.65443716
A84: 성사청소년문화의집 | B84: =세입예산총괄표3!B69 -> 2000000 | C84: =B84/$B$6 -> 0.00022957297 | D84: 7440000 | E84: =D84/$D$6 -> 0.00072781635 | F84: =B84-D84 -> -5440000 | G84: =F84/D84 -> -0.7311828 | H84: 탄현청소년문화의집 | I84: =세출예산총괄표4!B85 -> 30496000 | J84: =I84/$I$6 -> 0.0035005286 | K84: 34760000 | L84: =K84/$K$6 -> 0.0034003892 | M84: =+I84-K84 -> -4264000 | N84: =+M84/K84 -> -0.12266974
A85: 탄현청소년문화의집 | B85: =세입예산총괄표3!B70 -> 1280000 | C85: =B85/$B$6 -> 0.0001469267 | D85: 960000 | E85: =D85/$D$6 -> 9.3911787e-05 | F85: =B85-D85 -> 320000 | G85: =F85/D85 -> 0.33333333 | H85: 주교동청소년카페 | I85: =세출예산총괄표4!B86 -> 0 | J85: =I85/$I$6 -> 0 | K85: 1560000 | L85: =K85/$K$6 -> 0.00015260665 | M85: =+I85-K85 -> -1560000 | N85: =+M85/K85 -> -1
A86: 일산서구청소년수련관 | B86: =세입예산총괄표3!B71 -> 1232000 | C86: =B86/$B$6 -> 0.00014141695 | D86: 1800000 | E86: =D86/$D$6 -> 0.0001760846 | F86: =B86-D86 -> -568000 | G86: =F86/D86 -> -0.31555556 | H86: 일산서구청소년수련관 | I86: =세출예산총괄표4!B87 -> 66588000 | J86: =I86/$I$6 -> 0.0076434025 | K86: 15256000 | L86: =K86/$K$6 -> 0.0014924148 | M86: =+I86-K86 -> 51332000 | N86: =+M86/K86 -> 3.364709
A87: 토당청소년수련관 | B87: =세입예산총괄표3!B72 -> 19960000 | C87: =B87/$B$6 -> 0.0022911382 | D87: 28438000 | E87: =D87/$D$6 -> 0.002781941 | F87: =B87-D87 -> -8478000 | G87: =F87/D87 -> -0.29812223 | H87: 토당청소년수련관 | I87: =세출예산총괄표4!B88 -> 153664000 | J87: =I87/$I$6 -> 0.01763855 | K87: 167944000 | L87: =K87/$K$6 -> 0.016429084 | M87: =+I87-K87 -> -14280000 | N87: =+M87/K87 -> -0.085028343
A88: 화정청소년카페 | B88: =세입예산총괄표3!B73 -> 360000 | C88: =B88/$B$6 -> 4.1323135e-05 | D88: 360000 | E88: =D88/$D$6 -> 3.521692e-05 | F88: =B88-D88 -> 0 | G88: =F88/D88 -> 0 | H88: 고양시청소년상담복지센터 | I88: =세출예산총괄표4!B89 -> 719000 | J88: =I88/$I$6 -> 8.2531483e-05 | K88: 0 | L88: =K88/$K$6 -> 0 | M88: =+I88-K88 -> 719000
A89: 판매수익 | B89: =SUM(B90:B96) -> 403864000 | C89: =B89/$B$6 -> 0.046358129 | D89: =SUM(D90:D96) -> 347341000 | E89: =D89/$D$6 -> 0.033978556 | F89: =B89-D89 -> 56523000 | G89: =F89/D89 -> 0.16273057 | H89: 화정청소년카페 | I89: =세출예산총괄표4!B90 -> 2040000 | J89: =I89/$I$6 -> 0.00023416443 | K89: 16620000 | L89: =K89/$K$6 -> 0.0016258478 | M89: =+I89-K89 -> -14580000 | N89: =+M89/K89 -> -0.87725632
A90: 마두청소년수련관 | B90: =세입예산총괄표3!B75 -> 55800000 | C90: =B90/$B$6 -> 0.0064050859 | D90: 51000000 | E90: =D90/$D$6 -> 0.0049890637 | F90: =B90-D90 -> 4800000 | G90: =F90/D90 -> 0.094117647 | H90: 백마역청소년카페 | I90: =세출예산총괄표4!B91 -> 0 | J90: =I90/$I$6 -> 0 | K90: 8000000 | L90: =K90/$K$6 -> 0.00078259821 | M90: =+I90-K90 -> -8000000 | N90: =+M90/K90 -> -1
A91: 일산서구청소년수련관 | B91: =세입예산총괄표3!B76 -> 89136000 | C91: =B91/$B$6 -> 0.010231608 | D91: 38853000 | E91: =D91/$D$6 -> 0.0038007861 | F91: =B91-D91 -> 50283000 | G91: =F91/D91 -> 1.2941858 | H91: 능곡역청소년카페 | I91: =세출예산총괄표4!B92 -> 16000 | J91: =I91/$I$6 -> 1.8365838e-06 | K91: 2400000 | L91: =K91/$K$6 -> 0.00023477946 | M91: =+I91-K91 -> -2384000 | N91: =+M91/K91 -> -0.99333333
A92: 토당청소년수련관 | B92: =세입예산총괄표3!B77 -> 71868000 | C92: =B92/$B$6 -> 0.0082494751 | D92: 68224000 | E92: =D92/$D$6 -> 0.0066739977 | F92: =B92-D92 -> 3644000 | G92: =F92/D92 -> 0.053412289 | H92: 자체사업자산취득비 | I92: =SUM(I93:I98) -> 25360000 | J92: =I92/$I$6 -> 0.0029109853 | K92: =SUM(K93:K98) -> 34527000 | L92: =K92/$K$6 -> 0.003377596 | M92: =SUM(M93:M98) -> -9167000 | N92: =+M92/K92 -> -0.26550236
A93: 화정청소년카페 | B93: =세입예산총괄표3!B78 -> 37800000 | C93: =B93/$B$6 -> 0.0043389291 | D93: 32640000 | E93: =D93/$D$6 -> 0.0031930008 | F93: =B93-D93 -> 5160000 | G93: =F93/D93 -> 0.15808824 | H93: 마두청소년수련관 | I93: =세출예산총괄표4!B94 -> 5000000 | J93: =I93/$I$6 -> 0.00057393243 | K93: 3200000 | L93: =K93/$K$6 -> 0.00031303928 | M93: =+I93-K93 -> 1800000 | N93: =+M93/K93 -> 0.5625
A94: 백마역청소년카페 | B94: =세입예산총괄표3!B79 -> 11250000 | C94: =B94/$B$6 -> 0.001291348 | D94: =세입예산총괄표3!D79 -> 16000000 | E94: =D94/$D$6 -> 0.0015651964 | F94: =B94-D94 -> -4750000 | G94: =F94/D94 -> -0.296875 | H94: 성사청소년문화의집 | I94: =세출예산총괄표4!B95 -> 5000000 | J94: =I94/$I$6 -> 0.00057393243 | K94: 0 | L94: =K94/$K$6 -> 0 | M94: =+I94-K94 -> 5000000
A95: 능곡역청소년카페 | B95: =세입예산총괄표3!B80 -> 2800000 | C95: =B95/$B$6 -> 0.00032140216 | D95: =세입예산총괄표3!D80 -> 2400000 | E95: =D95/$D$6 -> 0.00023477947 | F95: =B95-D95 -> 400000 | G95: =F95/D95 -> 0.16666667 | H95: 탄현청소년문화의집 | I95: =세출예산총괄표4!B96 -> 1700000 | J95: =I95/$I$6 -> 0.00019513702 | K95: 2200000 | L95: =K95/$K$6 -> 0.00021521451 | M95: =+I95-K95 -> -500000 | N95: =+M95/K95 -> -0.22727273
A96: 이월금 | B96: =SUM(B97:B105) -> 135210000 | C96: =B96/$B$6 -> 0.015520281 | D96: =SUM(D97:D105) -> 138224000 | E96: =D96/$D$6 -> 0.013521732 | F96: =SUM(F97:F105) -> -3014000 | G96: =F96/D96 -> -0.021805186 | H96: 주교동청소년카페 | I96: =세출예산총괄표4!B97 -> 0 | J96: =I96/$I$6 -> 0 | K96: 2402000 | L96: =K96/$K$6 -> 0.00023497511 | M96: =+I96-K96 -> -2402000 | N96: =+M96/K96 -> -1
A97: 마두청소년수련관 | B97: =세입예산총괄표3!B82 -> 50000000 | C97: =B97/$B$6 -> 0.0057393243 | D97: =세입예산총괄표3!D82 -> 102724000 | E97: =D97/$D$6 -> 0.010048952 | F97: =B97-D97 -> -52724000 | G97: =F97/D97 -> -0.51325883 | H97: 일산서구청소년수련관 | I97: =세출예산총괄표4!B98 -> 8700000 | J97: =I97/$I$6 -> 0.00099864242 | K97: 7925000 | L97: =K97/$K$6 -> 0.00077526135 | M97: =+I97-K97 -> 775000 | N97: =+M97/K97 -> 0.097791798
A98: 고양시청소년진로센터 | B98: =세입예산총괄표3!B83 -> 0 | C98: =B98/$B$6 -> 0 | D98: =세입예산총괄표3!D83 -> 1316000 | E98: =D98/$D$6 -> 0.00012873741 | F98: =B98-D98 -> -1316000 | G98: =F98/D98 -> -1 | H98: 토당청소년수련관 | I98: =세출예산총괄표4!B99 -> 4960000 | J98: =I98/$I$6 -> 0.00056934097 | K98: 18800000 | L98: =K98/$K$6 -> 0.0018391058 | M98: =+I98-K98 -> -13840000 | N98: =+M98/K98 -> -0.73617021
A99: 성사청소년문화의집 | B99: =세입예산총괄표3!B84 -> 11030000 | C99: =B99/$B$6 -> 0.0012660949 | D99: =세입예산총괄표3!D84 -> 13638000 | E99: =D99/$D$6 -> 0.0013341343 | F99: =B99-D99 -> -2608000 | G99: =F99/D99 -> -0.19123039 | H99: 자체사업비 | I99: =SUM(I100:I108) -> 1604770000 | J99: =I99/$I$6 -> 0.18420591 | K99: =SUM(K100:K108) -> 1254664000 | L99: =K99/$K$6 -> 0.12273722 | M99: =SUM(M100:M108) -> 350106000 | N99: =+M99/K99 -> 0.27904363
A100: 탄현청소년문화의집 | B100: =세입예산총괄표3!B85 -> 15360000 | C100: =B100/$B$6 -> 0.0017631204 | D100: =세입예산총괄표3!D85 -> 18064000 | E100: =D100/$D$6 -> 0.0017671068 | F100: =B100-D100 -> -2704000 | G100: =F100/D100 -> -0.14968999 | H100: 마두청소년수련관 | I100: =세출예산총괄표4!B101 -> 497876000 | J100: =I100/$I$6 -> 0.057149436 | K100: 432950000 | L100: =K100/$K$6 -> 0.042353237 | M100: =+I100-K100 -> 64926000 | N100: =+M100/K100 -> 0.14996189
...

Sheet 간지3(세입예산 사업내역서)

Sheet 예산세입(사무국)
A1: 2019년 고양시청소년재단 사무국 세입예산서(안)
A2: [일반회계] | R2: (단위:천원)
A3: 예산과목 | G3: 산출내역 | P3: 예산액 | Q3: 전년도 예산액 | R3: 증감 | S3: 증감률
A4: 장 | B4: 관 | C4: 항 | D4: 목 | E4: 세목 | F4: 세세목
A5: 고양시청소년재단사무국 | P5: =P6+P23 -> 3623469000 | Q5: =Q6+Q23 -> 2212741000 | R5: =+P5-Q5 -> 1410728000 | S5: =+R5/Q5 -> 0.63754773
B6: 600 사업수익 | P6: =SUM(P7) -> 3223469000 | Q6: =SUM(Q7) -> 1603520000 | R6: =+P6-Q6 -> 1619949000 | S6: =+R6/Q6 -> 1.0102456
C7: 620 영업외수익 | P7: =SUM(P8,P12,P19) -> 3223469000 | Q7: =SUM(Q8,Q12,Q19) -> 1603520000 | R7: =+P7-Q7 -> 1619949000 | S7: =+R7/Q7 -> 1.0102456
D8: 621 이자수익 | P8: =P9 -> 900000 | Q8: =Q9 -> 720000 | R8: =+P8-Q8 -> 180000 | S8: =+R8/Q8 -> 0.25
E9: 621-1 예금이자수익 | P9: =ROUNDUP(O10,-3) -> 900000 | Q9: 720000 | R9: =+P9-Q9 -> 180000 | S9: =+R9/Q9 -> 0.25
F10: ㅇ예금이자수익 | O10: =SUM(O11:O11) -> 900000 | P10: 900000 | Q10: 720000 | R10: =+P10-Q10 -> 180000 | S10: =+R10/Q10 -> 0.25
F11: ­ 예금이자 | G11: 900000 | H11: × | I11: 1 | N11: = | O11: =G11*I11 -> 900000
D12: 623 보조금수익 | P12: =P13 -> 0 | Q12: =Q13 -> 2800000 | R12: =+P12-Q12 -> -2800000 | S12: =+R12/Q12 -> -1
E13: 623-1 국도시비보조금 | P13: =ROUNDUP(O14+O16,-3) -> 0 | Q13: 2800000 | R13: =+P13-Q13 -> -2800000 | S13: =+R13/Q13 -> -1
D19: 625 출자출연금수익 | P19: =P20 -> 3222569000 | Q19: =Q20 -> 1600000000 | R19: =+P19-Q19 -> 1622569000 | S19: =+R19/Q19 -> 1.0141056
E20: 625-2 지자체출자출연금 | P20: =ROUNDUP(O21,-3) -> 3222569000 | Q20: =Q21 -> 1600000000 | R20: =+P20-Q20 -> 1622569000 | S20: =+R20/Q20 -> 1.0141056
F21: ㅇ고양시지원금 | O21: =SUM(O22:O22) -> 3222569000 | P21: =O21 -> 3222569000 | Q21: 1600000000 | R21: =+P21-Q21 -> 1622569000 | S21: =+R21/Q21 -> 1.0141056
F22: ­ 재단지원금 | G22: 3222569000 | H22: × | I22: 1 | N22: = | O22: =G22 -> 3222569000
B23: 100 자본적수입 | P23: =P24 -> 400000000 | Q23: =SUM(Q24) -> 609221000 | R23: =+P23-Q23 -> -209221000 | S23: =+R23/Q23 -> -0.34342382
C24: 170 자본잉여금수입 | P24: =P25 -> 400000000 | Q24: =Q25 -> 609221000 | R24: =+P24-Q24 -> -209221000 | S24: =+R24/Q24 -> -0.34342382
D25: 172 이월금 | P25: =SUM(P26) -> 400000000 | Q25: =Q26 -> 609221000 | R25: =+P25-Q25 -> -209221000 | S25: =+R25/Q25 -> -0.34342382
E26: 172-3 전년도이월사업비 | P26: =P27 -> 400000000 | Q26: =Q27 -> 609221000 | R26: =+P26-Q26 -> -209221000 | S26: =+R26/Q26 -> -0.34342382
F27: ㅇ전년도이월금 | O27: =SUM(O28:O28) -> 400000000 | P27: =O27 -> 400000000 | Q27: 609221000 | R27: =+P27-Q27 -> -209221000 | S27: =+R27/Q27 -> -0.34342382
F28: ­ 2018년사업비이월금 | G28: 400000000 | H28: × | I28: 1 | N28: = | O28: =G28*I28 -> 400000000
E322: 청소녀

Sheet 예산세입(마두)
A1: 2019년 마두청소년수련관 세입예산서(안)
A2: [일반회계] | R2: (단위:천원)
A3: 예산과목 | G3: 산출내역 | P3: 예산액 | Q3: 전년도 예산액 | R3: 증감 | S3: 증감률
A4: 장 | B4: 관 | C4: 항 | D4: 목 | E4: 세목 | F4: 세세목
A5: 마두청소년수련관 | P5: =P6+P90 -> 1143863000 | Q5: =Q6+Q90 -> 1644864000 | R5: =+P5-Q5 -> -501001000 | S5: =+R5/Q5 -> -0.30458506
B6: 600 사업수익 | P6: =SUM(P7,P70) -> 1093863000 | Q6: =SUM(Q7,Q70) -> 1542140000 | R6: =+P6-Q6 -> -448277000 | S6: =+R6/Q6 -> -0.29068502 | V6: 1137867000
C7: 610 영업수익 | P7: =SUM(P8,P57,P66) -> 774750000 | Q7: =SUM(Q8,Q57,Q66) -> 651940000 | R7: =+P7-Q7 -> 122810000 | S7: =+R7/Q7 -> 0.18837623
D8: 611 자체사업수익 | P8: =P9+P51 -> 715450000 | Q8: =Q9+Q51 -> 597440000 | R8: =+P8-Q8 -> 118010000 | S8: =+R8/Q8 -> 0.19752611 | V8: 1143363000
E9: 611-1 사업운영수익 | P9: =O10+O17+O26+O35+O48 -> 577800000 | Q9: =Q10+Q17+Q26+Q35+Q48 -> 455040000 | R9: =+P9-Q9 -> 122760000 | S9: =+R9/Q9 -> 0.26977848
F10: ㅇ평생교육프로그램 | O10: =SUM(O11:O16) -> 33600000 | P10: =O10 -> 33600000 | Q10: 35880000 | R10: =+P10-Q10 -> -2280000 | S10: =+R10/Q10 -> -0.063545151
F11: ­ 미술교실 | G11: 40000 | H11: × | I11: 10 | J11: × | K11: 1 | L11: × | M11: 12 | N11: = | O11: =G11*I11*K11*M11 -> 4800000 | V11: =V6-V8 -> -5496000
F12: ­ 손뜨개질 | G12: 30000 | H12: × | I12: 10 | J12: × | K12: 1 | L12: × | M12: 12 | N12: = | O12: =G12*I12*K12*M12 -> 3600000
F13: ­ 캘리그라피 | G13: 40000 | H13: × | I13: 10 | J13: × | K13: 1 | L13: × | M13: 12 | N13: = | O13: =G13*I13*K13*M13 -> 4800000
F14: ­ 기타교실 | G14: 40000 | H14: × | I14: 10 | J14: × | K14: 1 | L14: × | M14: 12 | N14: = | O14: =G14*I14*K14*M14 -> 4800000 | V14: =P5-V8 -> 500000
F15: ­ 중국어(원어민) | G15: 40000 | H15: × | I15: 10 | J15: × | K15: 2 | L15: × | M15: 12 | N15: = | O15: =G15*I15*K15*M15 -> 9600000
F16: ­ 성인영어(원어민) | G16: 50000 | H16: × | I16: 10 | J16: × | K16: 1 | L16: × | M16: 12 | N16: = | O16: =G16*I16*K16*M16 -> 6000000
F17: ㅇ생활체육프로그램 | O17: =SUM(O18:O25) -> 224700000 | P17: =O17 -> 224700000 | Q17: 167100000 | R17: =+P17-Q17 -> 57600000 | S17: =+R17/Q17 -> 0.34470377
F18: ­ 요가 | G18: 40000 | H18: × | I18: 20 | J18: × | K18: 4 | L18: × | M18: 12 | N18: = | O18: =G18*I18*K18*M18 -> 38400000
F19: ­ 필라테스 | G19: 40000 | H19: × | I19: 20 | J19: × | K19: 4 | L19: × | M19: 12 | N19: = | O19: =G19*I19*K19*M19 -> 38400000
F20: ­ 발레 | G20: 40000 | H20: × | I20: 20 | J20: × | K20: 3 | L20: × | M20: 12 | N20: = | O20: =G20*I20*K20*M20 -> 28800000
F21: ­ 발레핏 | G21: 40000 | H21: × | I21: 20 | J21: × | K21: 3 | L21: × | M21: 12 | N21: = | O21: =G21*I21*K21*M21 -> 28800000
F22: ­ 라인댄스 | G22: 30000 | H22: × | I22: 15 | J22: × | K22: 2 | L22: × | M22: 12 | N22: = | O22: =G22*I22*K22*M22 -> 10800000
F23: ­ 줌바댄스 | G23: 40000 | H23: × | I23: 20 | J23: × | K23: 2 | L23: × | M23: 12 | N23: = | O23: =G23*I23*K23*M23 -> 19200000
F24: ­ 클라이밍 | G24: 45000 | H24: × | I24: 15 | J24: × | K24: 3 | L24: × | M24: 12 | N24: = | O24: =G24*I24*K24*M24 -> 24300000
F25: ­ 휘트니스 | G25: 30000 | H25: × | I25: 100 | J25: × | K25: 1 | L25: × | M25: 12 | N25: = | O25: =G25*I25*K25*M25 -> 36000000
F26: ㅇ평생교육프로그램(청소년) | O26: =SUM(O27:O34) -> 69000000 | P26: =O26 -> 69000000 | Q26: 35880000 | R26: =+P26-Q26 -> 33120000 | S26: =+R26/Q26 -> 0.92307692
F27: ­ 미술교실 | G27: 40000 | H27: × | I27: 10 | J27: × | K27: 2 | L27: × | M27: 12 | N27: = | O27: =G27*I27*K27*M27 -> 9600000
F28: ­ 캘리그라피 | G28: 30000 | H28: × | I28: 10 | J28: × | K28: 1 | L28: × | M28: 12 | N28: = | O28: =G28*I28*K28*M28 -> 3600000
F29: ­ 기타교실 | G29: 30000 | H29: × | I29: 10 | J29: × | K29: 1 | L29: × | M29: 12 | N29: = | O29: =G29*I29*K29*M29 -> 3600000
F30: ­ 청소년영어(원어민) | G30: 45000 | H30: × | I30: 10 | J30: × | K30: 2 | L30: × | M30: 12 | N30: = | O30: =G30*I30*K30*M30 -> 10800000
F31: ­ 코딩교육 | G31: 40000 | H31: × | I31: 10 | J31: × | K31: 1 | L31: × | M31: 12 | N31: = | O31: =G31*I31*K31*M31 -> 4800000
F32: ­ 과학실험 | G32: 35000 | H32: × | I32: 15 | J32: × | K32: 2 | L32: × | M32: 12 | N32: = | O32: =G32*I32*K32*M32 -> 12600000
F33: ­ 독서논술 | G33: 40000 | H33: × | I33: 10 | J33: × | K33: 3 | L33: × | M33: 12 | N33: = | O33: =G33*I33*K33*M33 -> 14400000
F34: ­ 중등논술 | G34: 40000 | H34: × | I34: 10 | J34: × | K34: 2 | L34: × | M34: 12 | N34: = | O34: =G34*I34*K34*M34 -> 9600000
F35: ㅇ생활체육프로그램(청소년) | O35: =SUM(O36:O47) -> 244500000 | P35: =O35 -> 244500000 | Q35: 216180000 | R35: =+P35-Q35 -> 28320000 | S35: =+R35/Q35 -> 0.13100194
F36: ­ 요가&필라테스 | G36: 30000 | H36: × | I36: 20 | J36: × | K36: 4 | L36: × | M36: 12 | N36: = | O36: =G36*I36*K36*M36 -> 28800000
F37: ­ 발레 | G37: 40000 | H37: × | I37: 20 | J37: × | K37: 3 | L37: × | M37: 12 | N37: = | O37: =G37*I37*K37*M37 -> 28800000
F38: ­ 방송댄스(주중) | G38: 30000 | H38: × | I38: 15 | J38: × | K38: 4 | L38: × | M38: 12 | N38: = | O38: =G38*I38*K38*M38 -> 21600000
F39: ­ 방송댄스(주말) | G39: 35000 | H39: × | I39: 15 | J39: × | K39: 2 | L39: × | M39: 12 | N39: = | O39: =G39*I39*K39*M39 -> 12600000
F40: ­ 음악줄넘기(주중) | G40: 40000 | H40: × | I40: 15 | J40: × | K40: 2 | L40: × | M40: 12 | N40: = | O40: =G40*I40*K40*M40 -> 14400000
F41: ­ 음악줄넘기(주말) | G41: 30000 | H41: × | I41: 15 | J41: × | K41: 2 | L41: × | M41: 12 | N41: = | O41: =G41*I41*K41*M41 -> 10800000
F42: ­ 농구교실(주중) | G42: 40000 | H42: × | I42: 15 | J42: × | K42: 4 | L42: × | M42: 12 | N42: = | O42: =G42*I42*K42*M42 -> 28800000
F43: ­ 농구교실(주말) | G43: 30000 | H43: × | I43: 15 | J43: × | K43: 3 | L43: × | M43: 12 | N43: = | O43: =G43*I43*K43*M43 -> 16200000
F44: ­ 클라이밍(주중) | G44: 35000 | H44: × | I44: 15 | J44: × | K44: 3 | L44: × | M44: 12 | N44: = | O44: =G44*I44*K44*M44 -> 18900000
F45: ­ 클라이밍(주말) | G45: 30000 | H45: × | I45: 15 | J45: × | K45: 6 | L45: × | M45: 12 | N45: = | O45: =G45*I45*K45*M45 -> 32400000
F46: ­ 그룹트레이닝 | G46: 30000 | H46: × | I46: 10 | J46: × | K46: 2 | L46: × | M46: 12 | N46: = | O46: =G46*I46*K46*M46 -> 7200000
F47: ­ 휘트니스 | G47: 20000 | H47: × | I47: 100 | J47: × | K47: 1 | L47: × | M47: 12 | N47: = | O47: =G47*I47*K47*M47 -> 24000000
F48: ㅇ방학특강(청소년) | O48: =SUM(O49:O50) -> 6000000 | P48: =O48 -> 6000000 | Q48: 0 | R48: =+P48-Q48 -> 6000000
F49: ­ 여름방학프로그램 | G49: 40000 | H49: × | I49: 15 | J49: × | K49: 5 | L49: × | M49: 1 | N49: = | O49: =G49*I49*K49*M49 -> 3000000
F50: ­ 겨울방학프로그램 | G50: 40000 | H50: × | I50: 15 | J50: × | K50: 5 | L50: × | M50: 1 | N50: = | O50: =G50*I50*K50*M50 -> 3000000
E51: 611-2 참가금수익 | P51: =O52+O53+O54 -> 137650000 | Q51: =SUM(Q52:Q56) -> 142400000 | R51: =+P51-Q51 -> -4750000 | S51: =+R51/Q51 -> -0.033356742
F52: ㅇ학교연계참가비 | G52: 2500000 | H52: × | I52: 4 | N52: = | O52: =+I52*G52 -> 10000000 | P52: =O52 -> 10000000 | Q52: 10000000 | R52: =+P52-Q52 -> 0 | S52: =+R52/Q52 -> 0
F53: ㅇ청소년국제교류캠프 | G53: 4000000 | H53: × | I53: 30 | N53: = | O53: =+I53*G53 -> 120000000 | P53: =O53 -> 120000000 | Q53: 120000000 | R53: =+P53-Q53 -> 0 | S53: =+R53/Q53 -> 0 | V53: -456000
F54: ㅇ국가간청소년교류 MDTelecom | G54: 450000 | H54: × | I54: 17 | N54: = | O54: =+I54*G54 -> 7650000 | P54: =O54 -> 7650000 | Q54: 10000000 | R54: =+P54-Q54 -> -2350000 | S54: =+R54/Q54 -> -0.235
F55: ㅇ고양형평화통일사업 | P55: 0 | Q55: 900000 | R55: =+P55-Q55 -> -900000 | S55: =+R55/Q55 -> -1
F56: ㅇ청소년문화캠프 | P56: 0 | Q56: 1500000 | R56: =+P56-Q56 -> -1500000 | S56: =+R56/Q56 -> -1
D57: 617 기타영업수익 | P57: =P58+P61 -> 3500000 | Q57: =Q58+Q61 -> 3500000 | R57: =+P57-Q57 -> 0 | S57: =+R57/Q57 -> 0
E58: 617-1 시설사용료수익 | P58: =ROUNDUP(O59,-3) -> 3000000 | Q58: 2400000 | R58: =+P58-Q58 -> 600000 | S58: =+R58/Q58 -> 0.25 | V58: =O68-V53 -> 56256000
F59: ㅇ대관수입 | O59: =SUM(O60:O60) -> 3000000 | P59: =P58 -> 3000000 | Q59: =Q58 -> 2400000 | R59: =+P59-Q59 -> 600000 | S59: =+R59/Q59 -> 0.25
F60: ­ 대관사용료 | G60: 300000 | H60: × | I60: 10 | N60: = | O60: =G60*I60 -> 3000000
E61: 617-3 기타수수료수입 | P61: =P62+P64 -> 500000 | Q61: =Q62+Q64 -> 1100000 | R61: =+P61-Q61 -> -600000 | S61: =+R61/Q61 -> -0.54545455
F62: ㅇ부가가치세환급 | O62: =SUM(O63:O63) -> 400000 | P62: 400000 | Q62: 1000000 | R62: =+P62-Q62 -> -600000 | S62: =+R62/Q62 -> -0.6 | V62: =V58/12/25/80 -> 2344
F63: ­ 부가세환급 | G63: 200000 | H63: × | I63: 2 | N63: = | O63: =SUM(G63*I63) -> 400000
F64: ㅇ기타수입 | O64: =SUM(O65:O65) -> 100000 | P64: 100000 | Q64: 100000 | R64: =+P64-Q64 -> 0 | S64: =+R64/Q64 -> 0
F65: ­ 기타수입 | G65: 100000 | H65: × | I65: 1 | N65: = | O65: =SUM(G65*I65) -> 100000
D66: 618 판매수익 | P66: =P67 -> 55800000 | Q66: =Q67 -> 51000000 | R66: =+P66-Q66 -> 4800000 | S66: =+R66/Q66 -> 0.094117647
E67: 618-1 상품판매수익 | P67: =ROUNDUP(O68,-3) -> 55800000 | Q67: 51000000 | R67: =+P67-Q67 -> 4800000 | S67: =+R67/Q67 -> 0.094117647
F68: ㅇ청소년 카페 운영 | O68: =SUM(O69:O69) -> 55800000 | P68: =O68 -> 55800000 | Q68: =Q67 -> 51000000 | R68: =+P68-Q68 -> 4800000 | S68: =+R68/Q68 -> 0.094117647
F69: ­ 판매수입 | G69: 2325 | H69: × | I69: 80 | J69: × | K69: 25 | L69: × | M69: 12 | N69: = | O69: =G69*I69*K69*M69 -> 55800000
C70: 620 영업외수익 | P70: =SUM(P71,P86,P75) -> 319113000 | Q70: =SUM(Q71,Q75,Q86) -> 890200000 | R70: =+P70-Q70 -> -571087000 | S70: =+R70/Q70 -> -0.64152662
D71: 621 이자수익 | P71: =P72 -> 200000 | Q71: =+Q72 -> 200000 | R71: =+P71-Q71 -> 0 | S71: =+R71/Q71 -> 0
E72: 621-1 예금이자수익 | P72: =ROUNDUP(O73,-3) -> 200000 | Q72: =Q73 -> 200000 | R72: =+P72-Q72 -> 0 | S72: =+R72/Q72 -> 0
F73: ㅇ예금이자수익 | O73: =SUM(O74:O74) -> 200000 | P73: 200000 | Q73: 200000 | R73: =+P73-Q73 -> 0 | S73: =+R73/Q73 -> 0
F74: ­ 예금이자 | G74: 200000 | H74: × | I74: 1 | N74: = | O74: =G74*I74 -> 200000
D75: 623 보조금수익 | P75: =SUM(P76:P85) -> 0 | Q75: =SUM(Q76,Q85) -> 29000000 | R75: =+P75-Q75 -> -29000000 | S75: =+R75/Q75 -> -1
E76: 623-1 국도시비보조금 | P76: 0 | Q76: 29000000 | R76: =+P76-Q76 -> -29000000 | S76: =+R76/Q76 -> -1
E85: 623-1 경기도교육청 | P85: 0 | Q85: 0 | R85: =+P85-Q85 -> 0
D86: 625 출자출연금수익 | P86: =P87 -> 318913000 | Q86: =+Q87 -> 861000000 | R86: =+P86-Q86 -> -542087000 | S86: =+R86/Q86 -> -0.62960163
E87: 625-2 지자체출자출연금 | P87: =P88 -> 318913000 | Q87: =Q88 -> 861000000 | R87: =+P87-Q87 -> -542087000 | S87: =+R87/Q87 -> -0.62960163
F88: ㅇ고양시지원금 | O88: =SUM(O89:O89) -> 318913000 | P88: =O88 -> 318913000 | Q88: 861000000 | R88: =+P88-Q88 -> -542087000 | S88: =+R88/Q88 -> -0.62960163
F89: ­ 마두지원금 | G89: 318913000 | H89: × | I89: 1 | N89: = | O89: =G89 -> 318913000
B90: 100 자본적수입 | P90: =P91 -> 50000000 | Q90: =+Q91 -> 102724000 | R90: =+P90-Q90 -> -52724000 | S90: =+R90/Q90 -> -0.51325883
C91: 170 자본잉여금수입 | P91: =P92 -> 50000000 | Q91: =+Q92 -> 102724000 | R91: =+P91-Q91 -> -52724000 | S91: =+R91/Q91 -> -0.51325883
D92: 172 이월금 | P92: =SUM(P93) -> 50000000 | Q92: =+Q93 -> 102724000 | R92: =+P92-Q92 -> -52724000 | S92: =+R92/Q92 -> -0.51325883
E93: 172-3 전년도이월사업비 | P93: =O94 -> 50000000 | Q93: 102724000 | R93: =+P93-Q93 -> -52724000 | S93: =+R93/Q93 -> -0.51325883
F94: ㅇ전년도이월금 | O94: =SUM(O95) -> 50000000 | P94: =P93 -> 50000000 | Q94: =Q93 -> 102724000 | R94: =+P94-Q94 -> -52724000 | S94: =+R94/Q94 -> -0.51325883
F95: ­ 2018년도사업비이월금 | G95: 50000000 | H95: × | I95: 1 | N95: = | O95: =G95*I95 -> 50000000

Sheet 예산세입(진로)
A1: 2019년 고양시청소년진로센터 세입예산서(안)
A2: [일반회계] | R2: (단위:천원)
A3: 예산과목 | G3: 산출내역 | P3: 예산액 | Q3: 전년도 예산액 | R3: 증감 | S3: 증감률
A4: 장 | B4: 관 | C4: 항 | D4: 목 | E4: 세목 | F4: 세세목
A5: 고양시청소년진로센터 | P5: =P6+P30 -> 61498000 | Q5: =Q6+Q30 -> 656844000 | R5: =+P5-Q5 -> -595346000 | S5: =+R5/Q5 -> -0.90637351
B6: 600 사업수익 | P6: =P7 -> 61498000 | Q6: =Q7 -> 655528000 | R6: =+P6-Q6 -> -594030000 | S6: =+R6/Q6 -> -0.90618555 | T6: 61498000
C7: 620 영업외수익 | P7: =SUM(P8,P26,P12) -> 61498000 | Q7: =SUM(Q8,Q26,Q12) -> 655528000 | R7: =+P7-Q7 -> -594030000 | S7: =+R7/Q7 -> -0.90618555
D8: 621 이자수익 | P8: =P9 -> 240000 | Q8: =Q9 -> 240000 | R8: =+P8-Q8 -> 0 | S8: =+R8/Q8 -> 0 | T8: =P5-T6 -> 0
E9: 621-1 예금이자수익 | P9: =ROUNDUP(O10,-3) -> 240000 | Q9: 240000 | R9: =+P9-Q9 -> 0 | S9: =+R9/Q9 -> 0
F10: ㅇ예금이자수익 | O10: =SUM(O11:O11) -> 240000 | P10: =O10 -> 240000 | Q10: =Q9 -> 240000 | R10: =+P10-Q10 -> 0 | S10: =+R10/Q10 -> 0 | T10: =G29-T8 -> 61258000
F11: ­ 예금이자 | G11: 240000 | H11: × | I11: 1 | N11: = | O11: =G11*I11 -> 240000
D12: 623 보조금수익 | P12: =P13+P19 -> 0 | Q12: =Q13+Q19 -> 330300000 | R12: =+P12-Q12 -> -330300000 | S12: =+R12/Q12 -> -1
E13: 623-1 국도시비보조금 | P13: =ROUNDUP(O14+O16,-3) -> 0 | Q13: 286300000 | R13: =+P13-Q13 -> -286300000 | S13: =+R13/Q13 -> -1
E19: 623-1 경기도교육청 | P19: =ROUNDUP(O20+O22+O24,-3) -> 0 | Q19: 44000000 | R19: =+P19-Q19 -> -44000000 | S19: =+R19/Q19 -> -1
D26: 625 출자출연금수익 | P26: =P27 -> 61258000 | Q26: =Q27 -> 324988000 | R26: =+P26-Q26 -> -263730000 | S26: =+R26/Q26 -> -0.81150689
E27: 625-2 지자체출자출연금 | P27: =O28 -> 61258000 | Q27: 324988000 | R27: =+P27-Q27 -> -263730000 | S27: =+R27/Q27 -> -0.81150689
F28: ㅇ고양시지원금 | O28: =SUM(O29) -> 61258000 | P28: =O28 -> 61258000 | Q28: =Q27 -> 324988000 | R28: =+P28-Q28 -> -263730000 | S28: =+R28/Q28 -> -0.81150689
F29: ­ 진로지원금 | G29: 61258000 | H29: × | I29: 1 | N29: = | O29: =G29*I29 -> 61258000
B30: 100 자본적수입 | P30: =P31 -> 0 | Q30: =+Q31 -> 1316000 | R30: =+P30-Q30 -> -1316000 | S30: =+R30/Q30 -> -1
C31: 170 자본잉여금수입 | P31: =P32 -> 0 | Q31: =+Q32 -> 1316000 | R31: =+P31-Q31 -> -1316000 | S31: =+R31/Q31 -> -1
D32: 172 이월금 | P32: =SUM(P33) -> 0 | Q32: =+Q33 -> 1316000 | R32: =+P32-Q32 -> -1316000 | S32: =+R32/Q32 -> -1
E33: 172-3 전년도이월사업비 | P33: =O34 -> 0 | Q33: 1316000 | R33: =+P33-Q33 -> -1316000 | S33: =+R33/Q33 -> -1

Sheet 예산세입(성사)
A1: 2019년 성사청소년문화의집 세입예산서(안)
A2: [일반회계] | R2: (단위:천원)
A3: 예산과목 | G3: 산출내역 | P3: 예산액 | Q3: 전년도 예산액 | R3: 증감 | S3: 증감률
A4: 장 | B4: 관 | C4: 항 | D4: 목 | E4: 세목 | F4: 세세목
A5: 성사청소년문화의집 | P5: =P6+P35 -> 215312000 | Q5: =Q6+Q35 -> 587720000 | R5: =+P5-Q5 -> -372408000 | S5: =+R5/Q5 -> -0.63364868
B6: 600 사업수익 | P6: =SUM(P7,P24) -> 204282000 | Q6: =SUM(Q7,Q24) -> 574082000 | R6: =+P6-Q6 -> -369800000 | S6: =+R6/Q6 -> -0.64415885
C7: 610 영업수익 | P7: =SUM(P8,P20) -> 20100000 | Q7: =SUM(Q8,Q20) -> 12690000 | R7: =+P7-Q7 -> 7410000 | S7: =+R7/Q7 -> 0.58392435
D8: 611 자체사업수익 | P8: =P9 -> 18100000 | Q8: =Q9 -> 5250000 | R8: =+P8-Q8 -> 12850000 | S8: =+R8/Q8 -> 2.447619
E9: 611-2 참가금수익 | P9: =SUM(O10) -> 18100000 | Q9: 5250000 | R9: =+P9-Q9 -> 12850000 | S9: =+R9/Q9 -> 2.447619
F10: ㅇ프로그램참가비 | O10: =SUM(O11:O19) -> 18100000 | P10: =P9 -> 18100000 | Q10: =Q9 -> 5250000 | R10: =+P10-Q10 -> 12850000 | S10: =+R10/Q10 -> 2.447619
F11: - 국제활동가프로젝트 | G11: 1000000 | H11: × | I11: 10 | N11: = | O11: =G11*I11 -> 10000000
F12: - 글로컬캠프 | G12: 30000 | H12: × | I12: 40 | N12: = | O12: =G12*I12 -> 1200000
F13: - 메이커프로그램 | G13: 10000 | H13: × | I13: 15 | J13: × | K13: 3 | N13: = | O13: =G13*I13*K13 -> 450000
F14: - 여행지원사업 | G14: 30000 | H14: × | I14: 25 | N14: = | O14: =G14*I14 -> 750000
F15: - 학교연계사업 | G15: 1200000 | H15: × | I15: 1 | N15: = | O15: =G15*I15 -> 1200000
F16: - 진로캠프 | G16: 30000 | H16: × | I16: 40 | N16: = | O16: =G16*I16 -> 1200000
F17: - 성사창의체험학교1 | G17: 30000 | H17: × | I17: 40 | N17: = | O17: =G17*I17 -> 1200000
F18: - 성사창의체험학교2 | G18: 30000 | H18: × | I18: 15 | J18: × | K18: 2 | N18: = | O18: =G18*I18*K18 -> 900000
F19: - 성사창의체험학교3 | G19: 30000 | H19: × | I19: 20 | J19: × | K19: 2 | N19: = | O19: =G19*I19*K19 -> 1200000
D20: 617 기타영업수익 | P20: =P21 -> 2000000 | Q20: =Q21 -> 7440000 | R20: =+P20-Q20 -> -5440000 | S20: =+R20/Q20 -> -0.7311828
E21: 617-1 시설사용료수익 | P21: =ROUNDUP(O22,-3) -> 2000000 | Q21: 7440000 | R21: =+P21-Q21 -> -5440000 | S21: =+R21/Q21 -> -0.7311828
F22: ㅇ대관수입 | O22: =SUM(O23:O23) -> 2000000 | P22: =P21 -> 2000000 | Q22: =Q21 -> 7440000 | R22: =+P22-Q22 -> -5440000 | S22: =+R22/Q22 -> -0.7311828
F23: ­ 대관사용료 | G23: 2000000 | H23: × | I23: 1 | N23: = | O23: =G23*I23 -> 2000000
C24: 620 영업외수익 | P24: =SUM(P25,P29,P31) -> 184182000 | Q24: =SUM(Q25,Q29,Q31) -> 561392000 | R24: =+P24-Q24 -> -377210000 | S24: =+R24/Q24 -> -0.67191909
D25: 621 이자수익 | P25: =P26 -> 100000 | Q25: =Q26 -> 100000 | R25: =+P25-Q25 -> 0 | S25: =+R25/Q25 -> 0
E26: 621-1 예금이자수익 | P26: =ROUNDUP(O27,-3) -> 100000 | Q26: 100000 | R26: =+P26-Q26 -> 0 | S26: =+R26/Q26 -> 0
F27: ㅇ예금이자수익 | O27: =SUM(O28:O28) -> 100000 | P27: =P26 -> 100000 | Q27: =Q26 -> 100000 | R27: =+P27-Q27 -> 0 | S27: =+R27/Q27 -> 0
F28: ­ 예금이자 | G28: 100000 | H28: × | I28: 1 | N28: = | O28: =G28*I28 -> 100000
D29: 623 보조금수익 | P29: =SUM(P30:P30) -> 0 | Q29: =SUM(Q30:Q30) -> 229944000 | R29: =+P29-Q29 -> -229944000 | S29: =+R29/Q29 -> -1
E30: 623-1 국도시비보조금 | P30: 0 | Q30: 229944000 | R30: =+P30-Q30 -> -229944000 | S30: =+R30/Q30 -> -1
D31: 625 출자출연금수익 | P31: =P32 -> 184082000 | Q31: =Q32 -> 331348000 | R31: =+P31-Q31 -> -147266000 | S31: =+R31/Q31 -> -0.44444512
E32: 625-2 지자체출자출연금 | P32: =ROUNDUP(O33,-3) -> 184082000 | Q32: 331348000 | R32: =+P32-Q32 -> -147266000 | S32: =+R32/Q32 -> -0.44444512
F33: ㅇ고양시지원금 | O33: =SUM(O34:O34) -> 184082000 | P33: =O33 -> 184082000 | Q33: =Q32 -> 331348000 | R33: =+P33-Q33 -> -147266000 | S33: =+R33/Q33 -> -0.44444512
F34: ­ 성사지원금 | G34: 184082000 | H34: × | I34: 1 | N34: = | O34: =G34 -> 184082000
B35: 100 자본적수입 | P35: =P36 -> 11030000 | Q35: =Q36 -> 13638000 | R35: =+P35-Q35 -> -2608000 | S35: =+R35/Q35 -> -0.19123039
C36: 170 자본잉여금수입 | P36: =P37 -> 11030000 | Q36: =Q37 -> 13638000 | R36: =+P36-Q36 -> -2608000 | S36: =+R36/Q36 -> -0.19123039
D37: 172 이월금 | P37: =SUM(P38) -> 11030000 | Q37: =SUM(Q38) -> 13638000 | R37: =+P37-Q37 -> -2608000 | S37: =+R37/Q37 -> -0.19123039
E38: 172-3 전년도이월사업비 | P38: =O39 -> 11030000 | Q38: 13638000 | R38: =+P38-Q38 -> -2608000 | S38: =+R38/Q38 -> -0.19123039
F39: ㅇ전년도이월금 | O39: =SUM(O40) -> 11030000 | P39: =O39 -> 11030000 | Q39: =Q38 -> 13638000 | R39: =+P39-Q39 -> -2608000 | S39: =+R39/Q39 -> -0.19123039
F40: ­ 전년도이월금 | G40: 11030000 | H40: × | I40: 1 | N40: = | O40: =G40 -> 11030000

Sheet 예산세입(탄현)
A1: 2019년 탄현청소년문화의집 세입예산서(안)
A2: [일반회계] | R2: (단위:천원)
A3: 예산과목 | G3: 산출내역 | P3: 예산액 | Q3: 전년도 예산액 | R3: 증감 | S3: 증감률
A4: 장 | B4: 관 | C4: 항 | D4: 목 | E4: 세목 | F4: 세세목
A5: 탄현청소년문화의집 | P5: =P6+P49 -> 214777000 | Q5: =Q6+Q49 -> 358832000 | R5: =+P5-Q5 -> -144055000 | S5: =+R5/Q5 -> -0.40145528
B6: 600 사업수익 | P6: =SUM(P7,P33) -> 199417000 | Q6: =SUM(Q7,Q33) -> 340768000 | R6: =+P6-Q6 -> -141351000 | S6: =+R6/Q6 -> -0.41480127
C7: 610 영업수익 | P7: =SUM(P8,P29) -> 112400000 | Q7: =SUM(Q8,Q29) -> 101860000 | R7: =+P7-Q7 -> 10540000 | S7: =+R7/Q7 -> 0.10347536
D8: 611 자체사업수익 | P8: =SUM(P9,P27) -> 111120000 | Q8: =SUM(Q9,Q27) -> 100900000 | R8: =+P8-Q8 -> 10220000 | S8: =+R8/Q8 -> 0.1012884
E9: 611-1 사업운영수익 | P9: =O10 -> 101120000 | Q9: 100400000 | R9: =+P9-Q9 -> 720000 | S9: =+R9/Q9 -> 0.0071713147
F10: ㅇ교육활동프로그램 | O10: =SUM(O11:O26) -> 101120000 | P10: 101120000 | Q10: 100400000 | R10: =+P10-Q10 -> 720000 | S10: =+R10/Q10 -> 0.0071713147
F11: ­ 한자교실(청소년) | G11: 35000 | H11: × | I11: 25 | K11: 12 | N11: = | O11: =G11*I11*K11 -> 10500000
F12: ­ 스크레칭 코딩(청소년) | G12: 40000 | H12: × | I12: 12 | K12: 12 | N12: = | O12: =G12*I12*K12 -> 5760000
F13: ­ 영재과학교실(청소년) | G13: 30000 | H13: × | I13: 12 | K13: 12 | N13: = | O13: =G13*I13*K13 -> 4320000
F14: ­ 드럼교실(청소년) | G14: 50000 | H14: × | I14: 6 | K14: 12 | N14: = | O14: =G14*I14*K14 -> 3600000
F15: ­ 드럼교실(성인) | G15: 50000 | H15: × | I15: 6 | K15: 12 | N15: = | O15: =G15*I15*K15 -> 3600000
F16: ­ 우크렐레(청소년) | G16: 40000 | H16: × | I16: 6 | K16: 12 | N16: = | O16: =G16*I16*K16 -> 2880000
F17: ­ 우크렐레(성인) | G17: 40000 | H17: × | I17: 6 | K17: 12 | N17: = | O17: =G17*I17*K17 -> 2880000
F18: ­ 기타교실(성인) | G18: 40000 | H18: × | I18: 6 | K18: 12 | N18: = | O18: =G18*I18*K18 -> 2880000
F19: ­ 원어민 일본어교실(성인) | G19: 40000 | H19: × | I19: 10 | K19: 12 | N19: = | O19: =G19*I19*K19 -> 4800000
F20: ­ 테라피요가(성인) | G20: 45000 | H20: × | I20: 20 | K20: 12 | N20: = | O20: =G20*I20*K20 -> 10800000
F21: ­ 교정필라테스(청소년) | G21: 45000 | H21: × | I21: 15 | K21: 12 | N21: = | O21: =G21*I21*K21 -> 8100000
F22: ­ 교정필라테스(성인) | G22: 45000 | H22: × | I22: 15 | K22: 12 | N22: = | O22: =G22*I22*K22 -> 8100000
... F26: ­ 청소년 방학특강(청소년) | G26: 2000 | H26: × | I26: 50 | K26: 2 | N26: = | O26: =G26*I26*K26 -> 200000
E27: 611-2 참가금수익 | P27: =O28 -> 10000000 | Q27: 500000 | R27: =+P27-Q27 -> 9500000 | S27: =+R27/Q27 -> 19
F28: ㅇ후기청소년 국제활동가 프로젝트 | G28: 1000000 | H28: × | I28: 10 | N28: = | O28: =G28*I28 -> 10000000 | P28: 10000000 | Q28: 500000 | R28: =+P28-Q28 -> 9500000 | S28: =+R28/Q28 -> 19
D29: 617 기타영업수익 | P29: =SUM(P30) -> 1280000 | Q29: =SUM(Q30) -> 960000 | R29: =+P29-Q29 -> 320000 | S29: =+R29/Q29 -> 0.33333333
E30: 617-1 시설사용료수익 | P30: =O31 -> 1280000 | Q30: 960000 | R30: =+P30-Q30 -> 320000 | S30: =+R30/Q30 -> 0.33333333
F31: ㅇ대관수입 | O31: =SUM(O32:O32) -> 1280000 | P31: 1280000 | Q31: 960000 | R31: =+P31-Q31 -> 320000 | S31: =+R31/Q31 -> 0.33333333
F32: ­ 대관사용료 | G32: 21333 | H32: × | I32: 5 | J32: × | K32: 12 | N32: = | O32: =ROUNDUP(G32*I32*K32,-3) -> 1280000
C33: 620 영업외수익 | P33: =SUM(P34,P38,P45) -> 87017000 | Q33: =SUM(Q34,Q38,Q45) -> 238908000 | R33: =+P33-Q33 -> -151891000 | S33: =+R33/Q33 -> -0.63577193
D34: 621 이자수익 | P34: =P35 -> 70000 | Q34: =Q35 -> 100000 | R34: =+P34-Q34 -> -30000 | S34: =+R34/Q34 -> -0.3
E35: 621-1 예금이자수익 | P35: =O36 -> 70000 | Q35: 100000 | R35: =+P35-Q35 -> -30000 | S35: =+R35/Q35 -> -0.3
F36: ㅇ예금이자수익 | O36: =SUM(O37:O37) -> 70000 | P36: 70000 | Q36: 100000 | R36: =+P36-Q36 -> -30000 | S36: =+R36/Q36 -> -0.3
F37: ­ 예금이자 | G37: 70000 | H37: × | I37: 1 | N37: = | O37: =G37*I37 -> 70000
D38: 623 보조금수익 | P38: =P39+P42 -> 0 | Q38: =Q39+Q42 -> 2000000 | R38: =+P38-Q38 -> -2000000 | S38: =+R38/Q38 -> -1
E39: 623-1 국도시비보조금 | P39: =O40 -> 0 | Q39: 2000000 | R39: =+P39-Q39 -> -2000000 | S39: =+R39/Q39 -> -1
E42: 623-3 기타보조금수익 | P42: =O43 -> 0 | Q42: 0 | R42: =+P42-Q42 -> 0 | S42: 1
D45: 625 출자출연금수익 | P45: =P46 -> 86947000 | Q45: =Q46 -> 236808000 | R45: =+P45-Q45 -> -149861000 | S45: =+R45/Q45 -> -0.63283757
E46: 625-2 지자체출자출연금 | P46: =O47 -> 86947000 | Q46: 236808000 | R46: =+P46-Q46 -> -149861000 | S46: =+R46/Q46 -> -0.63283757
F47: ㅇ고양시지원금 | O47: =SUM(O48:O48) -> 86947000 | P47: =O47 -> 86947000 | Q47: 236808000 | R47: =+P47-Q47 -> -149861000 | S47: =+R47/Q47 -> -0.63283757
F48: ­ 탄현지원금 | G48: 86947000 | H48: × | I48: 1 | N48: = | O48: =G48 -> 86947000
B49: 100 자본적수입 | P49: =P50 -> 15360000 | Q49: =Q50 -> 18064000 | R49: =+P49-Q49 -> -2704000 | S49: =+R49/Q49 -> -0.14968999
C50: 170 자본잉여금수입 | P50: =P51 -> 15360000 | Q50: =Q51 -> 18064000 | R50: =+P50-Q50 -> -2704000 | S50: =+R50/Q50 -> -0.14968999
D51: 172 이월금 | P51: =SUM(P52) -> 15360000 | Q51: =SUM(Q52) -> 18064000 | R51: =+P51-Q51 -> -2704000 | S51: =+R51/Q51 -> -0.14968999
E52: 172-3 전년도이월사업비 | P52: =O53 -> 15360000 | Q52: 18064000 | R52: =+P52-Q52 -> -2704000 | S52: =+R52/Q52 -> -0.14968999
F53: ㅇ전년도이월금 | O53: =SUM(O54) -> 15360000 | P53: =O53 -> 15360000 | Q53: =Q52 -> 18064000 | R53: =+P53-Q53 -> -2704000 | S53: =+R53/Q53 -> -0.14968999
F54: ­ 전년도이월금 | G54: 15360000 | H54: × | I54: 1 | O54: =G54 -> 15360000

Sheet 예산세입(주교)
A1: 2019년 주교동청소년카페 세입예산서(안)
A2: [일반회계] | R2: (단위:천원)
A3: 예산과목 | G3: 산출내역 | P3: 예산액 | Q3: 전년도 예산액 | R3: 증감 | S3: 증감률
A4: 장 | B4: 관 | C4: 항 | D4: 목 | E4: 세목 | F4: 세세목
A5: 주교동청소년카페 | P5: =P6+P24 -> 16051000 | Q5: =Q6+Q24 -> 106242000 | R5: =R6+R24 -> -90191000 | S5: =+R5/Q5 -> -0.84892039 | U5: 16051000 | W5: =P5-U5 -> 0
B6: 600 사업수익 | P6: =SUM(P7,P11) -> 16051000 | Q6: =SUM(Q7,Q11) -> 103760000 | R6: =+P6-Q6 -> -87709000 | S6: =+R6/Q6 -> -0.84530648
C7: 610 영업수익 | P7: =SUM(P8) -> 0 | Q7: =SUM(Q8) -> 1480000 | R7: =+P7-Q7 -> -1480000 | S7: =+R7/Q7 -> -1
D8: 611 자체사업수익 | P8: =SUM(P9:P10) -> 0 | Q8: =SUM(Q9:Q10) -> 1480000 | R8: =+P8-Q8 -> -1480000 | S8: =+R8/Q8 -> -1
E9: 611-1 사업운영수익 | P9: =ROUNDUP((O10),-3) -> 0 | Q9: 1480000 | R9: =+P9-Q9 -> -1480000 | S9: =+R9/Q9 -> -1
F10: ㅇ교육프로그램 참가비
C11: 620 영업외수익 | P11: =P12+P20+P16 -> 16051000 | Q11: =SUM(Q12,Q16,Q20) -> 102280000 | R11: =+P11-Q11 -> -86229000 | S11: =+R11/Q11 -> -0.84306805
D12: 621 이자수익 | P12: =P13 -> 10000 | Q12: =Q13 -> 10000 | R12: =+P12-Q12 -> 0 | S12: =+R12/Q12 -> 0
E13: 621-1 예금이자수익 | P13: =ROUNDUP(O14,-3) -> 10000 | Q13: 10000 | R13: =+P13-Q13 -> 0 | S13: =+R13/Q13 -> 0
F14: ㅇ예금이자수익 | O14: =SUM(O15:O15) -> 10000 | P14: 10000 | Q14: 10000 | R14: =+P14-Q14 -> 0 | S14: =+R14/Q14 -> 0
F15: ­ 예금이자 | G15: 10000 | H15: × | I15: 1 | N15: = | O15: =G15*I15 -> 10000
D16: 623 보조금수익 | P16: =P17 -> 0 | Q16: 0 | R16: 0 | S16: 0
E17: 623-3 기타보조금수익 | P17: =O18 -> 0 | Q17: 0 | R17: =+P17-Q17 -> 0 | S17: 0
D20: 625 출자출연금수익 | P20: =P21 -> 16041000 | Q20: =Q21 -> 102270000 | R20: =+P20-Q20 -> -86229000 | S20: =+R20/Q20 -> -0.84315048
E21: 625-2 지자체출자출연금 | P21: =ROUNDUP(O22,-3) -> 16041000 | Q21: 102270000 | R21: =+P21-Q21 -> -86229000 | S21: =+R21/Q21 -> -0.84315048
F22: ㅇ고양시지원금 | O22: =SUM(O23:O23) -> 16041000 | P22: 16041000 | Q22: 102270000 | R22: =+P22-Q22 -> -86229000 | S22: =+R22/Q22 -> -0.84315048
F23: ­ 주교지원금 | G23: 16041000 | H23: × | I23: 1 | N23: = | O23: =G23 -> 16041000
B24: 100 자본적수입 | P24: =P25 -> 0 | Q24: =Q25 -> 2482000 | R24: =+P24-Q24 -> -2482000 | S24: =+R24/Q24 -> -1
C25: 170 자본잉여금수입 | P25: =P26 -> 0 | Q25: =SUM(Q26) -> 2482000 | R25: =+P25-Q25 -> -2482000 | S25: =+R25/Q25 -> -1
D26: 172 이월금 | P26: =SUM(P27) -> 0 | Q26: =SUM(Q27) -> 2482000 | R26: =+P26-Q26 -> -2482000 | S26: =+R26/Q26 -> -1
E27: 172-3 전년도이월사업비 | P27: 0 | Q27: 2482000 | R27: =+P27-Q27 -> -2482000 | S27: =+R27/Q27 -> -1

Sheet 예산세입(일산서구)
A1: 2019년 일산서구청소년수련관 세입예산서(안)
A2: [일반회계] | R2: (단위:천원)
A3: 예산과목 | G3: 산출내역 | P3: 예산액 | Q3: 전년도 예산액 | R3: 증감 | S3: 증감률
A4: 장 | B4: 관 | C4: 항 | D4: 목 | E4: 세목 | F4: 세세목
A5: 일산서구청소년수련관 | P5: =P6 -> 914627000 | Q5: =Q6 -> 1345286000 | R5: =+P5-Q5 -> -430659000 | S5: =+R5/Q5 -> -0.32012449
B6: 600 사업수익 | P6: =SUM(P7,P63,P80) -> 914627000 | Q6: =SUM(Q7,Q63,Q80) -> 1345286000 | R6: =+P6-Q6 -> -430659000 | S6: =+R6/Q6 -> -0.32012449
C7: 610 영업수익 | P7: =SUM(P8,P52,P59) -> 466692000 | Q7: =SUM(Q8,Q52,Q59) -> 145053000 | R7: =+P7-Q7 -> 321639000 | S7: =+R7/Q7 -> 2.2173895 | U7: 914627000
D8: 611 자체사업수익 | P8: =P9+P47 -> 376324000 | Q8: =Q9+Q47 -> 104400000 | R8: =+P8-Q8 -> 271924000 | S8: =+R8/Q8 -> 2.604636
E9: 611-1 사업운영수익 | P9: =O10+O16+O20+O24+O30+O35+O39 -> 290424000 | Q9: =Q10+Q16+Q20+Q24+Q30+Q35+Q39 -> 104400000 | R9: =+P9-Q9 -> 186024000 | S9: =+R9/Q9 -> 1.7818391
F10: ㅇ생활체육프로그램(성인) | O10: =SUM(O11:O15) -> 87300000 | P10: =O10 -> 87300000 | Q10: 19200000 | R10: =+P10-Q10 -> 68100000 | S10: =+R10/Q10 -> 3.546875
F11: - 줌바댄스 | G11: 35000 | H11: × | I11: 15 | J11: × | K11: 4 | L11: × | M11: 12 | N11: = | O11: =G11*I11*K11*M11 -> 25200000
F12: - 요가 | G12: 30000 | H12: × | I12: 15 | J12: × | K12: 3 | L12: × | M12: 12 | N12: = | O12: =G12*I12*K12*M12 -> 16200000 | U12: =P5-U7 -> 0
F13: - 필라테스 | G13: 35000 | H13: × | I13: 15 | J13: × | K13: 3 | L13: × | M13: 12 | N13: = | O13: =G13*I13*K13*M13 -> 18900000
F14: - 클라이밍(월수금) | G14: 40000 | H14: × | I14: 10 | J14: × | K14: 3 | L14: × | M14: 12 | N14: = | O14: =G14*I14*K14*M14 -> 14400000
F15: - 클라이밍(화목) | G15: 35000 | H15: × | I15: 10 | J15: × | K15: 3 | L15: × | M15: 12 | N15: = | O15: =G15*I15*K15*M15 -> 12600000
F16: ㅇ교육문화프로그램(성인) | O16: =SUM(O17:O19) -> 10752000 | P16: =O16 -> 10752000 | Q16: 21000000 | R16: =+P16-Q16 -> -10248000 | S16: =+R16/Q16 -> -0.488
F17: - 한국화 | G17: 32000 | H17: × | I17: 7 | J17: × | K17: 1 | L17: × | M17: 12 | N17: = | O17: =G17*I17*K17*M17 -> 2688000
F18: - 팝아트 | G18: 32000 | H18: × | I18: 7 | J18: × | K18: 1 | L18: × | M18: 12 | N18: = | O18: =G18*I18*K18*M18 -> 2688000
F19: - 신규 프로그램 1개 | G19: 32000 | H19: × | I19: 7 | J19: × | K19: 2 | L19: × | M19: 12 | N19: = | O19: =G19*I19*K19*M19 -> 5376000
F20: ㅇ요리프로그램(성인) | O20: =SUM(O21:O23) -> 15120000 | P20: =O20 -> 15120000 | Q20: 0 | R20: =+P20-Q20 -> 15120000
F21: - 요리프로그램 | G21: 42000 | H21: × | I21: 10 | J21: × | K21: 1 | L21: × | M21: 12 | N21: = | O21: =G21*I21*K21*M21 -> 5040000
F22: - 제과프로그램 | G22: 42000 | H22: × | I22: 10 | J22: × | K22: 1 | L22: × | M22: 12 | N22: = | O22: =G22*I22*K22*M22 -> 5040000
F23: - 제빵프로그램 | G23: 42000 | H23: × | I23: 10 | J23: × | K23: 1 | L23: × | M23: 12 | N23: = | O23: =G23*I23*K23*M23 -> 5040000
F24: ㅇ생활체육프로그램(청소년) | O24: =SUM(O25:O29) -> 48456000 | P24: =O24 -> 48456000 | Q24: 19200000 | R24: =+P24-Q24 -> 29256000 | S24: =+R24/Q24 -> 1.52375
F25: - 음악줄넘기(초등학생) | G25: 32000 | H25: × | I25: 14 | J25: × | K25: 2 | L25: × | M25: 12 | N25: = | O25: =G25*I25*K25*M25 -> 10752000
F26: - 요가 | G26: 22000 | H26: × | I26: 14 | J26: × | K26: 2 | L26: × | M26: 12 | N26: = | O26: =G26*I26*K26*M26 -> 7392000
F27: - 필라테스 | G27: 27000 | H27: × | I27: 14 | J27: × | K27: 2 | L27: × | M27: 12 | N27: = | O27: =G27*I27*K27*M27 -> 9072000
F28: - 클라이밍(월수금) | G28: 32000 | H28: × | I28: 10 | J28: × | K28: 3 | L28: × | M28: 12 | N28: = | O28: =G28*I28*K28*M28 -> 11520000
F29: - 클라이밍(화목) | G29: 27000 | H29: × | I29: 10 | J29: × | K29: 3 | L29: × | M29: 12 | N29: = | O29: =G29*I29*K29*M29 -> 9720000 | U29: =O62-U12 -> 89136000
F30: ㅇ교육문화프로그램(청소년) | O30: =SUM(O31:O34) -> 41976000 | P30: =O30 -> 41976000 | Q30: 21000000 | R30: =+P30-Q30 -> 20976000 | S30: =+R30/Q30 -> 0.99885714
F31: - 통기타 | G31: 27000 | H31: × | I31: 10 | J31: × | K31: 3 | L31: × | M31: 12 | N31: = | O31: =G31*I31*K31*M31 -> 9720000
F32: - 한국화 | G32: 32000 | H32: × | I32: 7 | J32: × | K32: 1 | L32: × | M32: 12 | N32: = | O32: =G32*I32*K32*M32 -> 2688000
F33: - 팝아트 | G33: 32000 | H33: × | I33: 7 | J33: × | K33: 1 | L33: × | M33: 12 | N33: = | O33: =G33*I33*K33*M33 -> 2688000
F34: - 신규프로그램 5개 | G34: 32000 | H34: × | I34: 7 | J34: × | K34: 10 | L34: × | M34: 12 | N34: = | O34: =G34*I34*K34*M34 -> 26880000
F35: ㅇ요리프로그램(청소년) | O35: =SUM(O36:O38) -> 15120000 | P35: =O35 -> 15120000 | Q35: 0 | R35: =+P35-Q35 -> 15120000
F36: - 요리프로젝트 | G36: 42000 | H36: × | I36: 10 | J36: × | K36: 1 | L36: × | M36: 12 | N36: = | O36: =G36*I36*K36*M36 -> 5040000
F37: - 제과프로젝트 | G37: 42000 | H37: × | I37: 10 | J37: × | K37: 1 | L37: × | M37: 12 | N37: = | O37: =G37*I37*K37*M37 -> 5040000
F38: - 제빵프로젝트 | G38: 42000 | H38: × | I38: 10 | J38: × | K38: 1 | L38: × | M38: 12 | N38: = | O38: =G38*I38*K38*M38 -> 5040000
F39: ㅇ토요일 프로그램(청소년) | O39: =SUM(O40:O46) -> 71700000 | P39: =O39 -> 71700000 | Q39: 24000000 | R39: =+P39-Q39 -> 47700000 | S39: =+R39/Q39 -> 1.9875
F40: - 방송댄스 | G40: 32000 | H40: × | I40: 10 | J40: × | K40: 2 | L40: × | M40: 12 | N40: = | O40: =G40*I40*K40*M40 -> 7680000
F41: - 요가 | G41: 17000 | H41: × | I41: 10 | J41: × | K41: 3 | L41: × | M41: 12 | N41: = | O41: =G41*I41*K41*M41 -> 6120000
F42: - 필라테스 | G42: 22000 | H42: × | I42: 10 | J42: × | K42: 3 | L42: × | M42: 12 | N42: = | O42: =G42*I42*K42*M42 -> 7920000
F43: - 클라이밍 | G43: 22000 | H43: × | I43: 7 | J43: × | K43: 7 | L43: × | M43: 12 | N43: = | O43: =G43*I43*K43*M43 -> 12936000
F44: - 우쿠렐레 | G44: 32000 | H44: × | I44: 7 | J44: × | K44: 3 | L44: × | M44: 12 | N44: = | O44: =G44*I44*K44*M44 -> 8064000
F45: - 캘리그라피 | G45: 27000 | H45: × | I45: 7 | J45: × | K45: 3 | L45: × | M45: 12 | N45: = | O45: =G45*I45*K45*M45 -> 6804000
F46: - 신규프로그램 4개 | G46: 22000 | H46: × | I46: 7 | J46: × | K46: 12 | L46: × | M46: 12 | N46: = | O46: =G46*I46*K46*M46 -> 22176000
E47: 611-2 참가금수익 | P47: =O48+O49+O50+O51 -> 85900000 | Q47: 0 | R47: =+P47-Q47 -> 85900000
F48: ㅇ예비 청소년지도사 실습 지원 | G48: 100000 | H48: × | I48: 4 | N48: = | O48: =+I48*G48 -> 400000 | P48: 400000 | Q48: 0 | R48: =+P48-Q48 -> 400000
F49: ㅇ가족 소통 개선 프로젝트 | G49: 50000 | H49: × | I49: 10 | N49: = | O49: =+I49*G49 -> 500000 | P49: 500000 | Q49: 0 | R49: =+P49-Q49 -> 500000
F50: ㅇ포용적 세계시민 양성 사업 | G50: 4000000 | H50: × | I50: 20 | N50: = | O50: =+I50*G50 -> 80000000 | P50: 80000000 | Q50: 0 | R50: =+P50-Q50 -> 80000000 | U50: 914627000
F51: ㅇ학교 연계 프로젝트 | G51: 10000 | H51: × | I51: 100 | J51: × | K51: 5 | N51: = | O51: =+I51*G51*K51 -> 5000000 | P51: 5000000 | Q51: 0 | R51: =+P51-Q51 -> 5000000
D52: 617 기타영업수익 | P52: =P53 -> 1232000 | Q52: =Q53 -> 1800000 | R52: =+P52-Q52 -> -568000 | S52: =+R52/Q52 -> -0.31555556
E53: 617-1 시설사용료수익 | P53: =O54 -> 1232000 | Q53: 1800000 | R53: =+P53-Q53 -> -568000 | S53: =+R53/Q53 -> -0.31555556
F54: ㅇ대관수입 | O54: =SUM(O55:O55) -> 1232000 | P54: =O54 -> 1232000 | Q54: 1800000 | R54: =+P54-Q54 -> -568000 | S54: =+R54/Q54 -> -0.31555556 | U54: 89156000 | AB54: 3714.8333
F55: ­ 대관사용료 | G55: 102666.67 | H55: × | I55: 1 | J55: × | K55: 12 | N55: = | O55: =ROUNDUP(G55*I55*K55,-3) -> 1232000
E56: 617-3 기타수수료수입 | P56: =O57 -> 0 | Q56: 0 | R56: =+P56-Q56 -> 0 | S56: 0
D59: 618 판매수익 | P59: =P60 -> 89136000 | Q59: =Q60 -> 38853000 | R59: =+P59-Q59 -> 50283000 | S59: =+R59/Q59 -> 1.2941858 | U59: =O55-U12 -> 1232000
E60: 618-1 상품판매수익 | P60: =O61 -> 89136000 | Q60: 38853000 | R60: =+P60-Q60 -> 50283000 | S60: =+R60/Q60 -> 1.2941858
F61: ㅇ북카페운영 | O61: =SUM(O62:O62) -> 89136000 | P61: =O61 -> 89136000 | Q61: 38853000 | R61: =+P61-Q61 -> 50283000 | S61: =+R61/Q61 -> 1.2941858 | U61: =U59/12 -> 102666.67
F62: ­ 판매수입 | G62: 3714 | H62: × | I62: 80 | J62: × | K62: 25 | L62: × | M62: 12 | N62: = | O62: =ROUNDUP(G62*I62*K62*M62,-3) -> 89136000
C63: 620 영업외수익 | P63: =SUM(P64,P76) -> 423635000 | Q63: =SUM(Q64,Q68,Q76) -> 1200233000 | R63: =+P63-Q63 -> -776598000 | S63: =+R63/Q63 -> -0.64703937
D64: 621 이자수익 | P64: =P65 -> 233000 | Q64: =Q65 -> 233000 | R64: =+P64-Q64 -> 0 | S64: =+R64/Q64 -> 0
E65: 621-1 예금이자수익 | P65: =O66 -> 233000 | Q65: 233000 | R65: =+P65-Q65 -> 0 | S65: 1
F66: ㅇ예금이자수익 | O66: =SUM(O67:O67) -> 233000 | P66: 233000 | Q66: 233000 | R66: =+P66-Q66 -> 0 | S66: 1
F67: ­ 예금이자 | G67: 233000 | H67: × | I67: 1 | N67: = | O67: =G67*I67 -> 233000
D68: 623 보조금수익 | P68: =SUM(P69:P75) -> 0 | Q68: =SUM(Q69,Q73) -> 0 | R68: =+P68-Q68 -> 0
E69: 623-1 국도시비보조금 | P69: =O70 -> 0 | Q69: =+O70 -> 0 | R69: =+P69-Q69 -> 0 | S69: 0
F70: ㅇ외부공모사업금 | O70: =SUM(O71:O72) -> 0
F71: ­ 동아리지원
F72: ­ 국가교류
E73: 623-2 경기도교육청 | P73: =O74 -> 0 | Q73: =+O74 -> 0 | R73: =+P73-Q73 -> 0 | S73: 0
F74: ㅇ공모사업금 | O74: =+O75 -> 0
F75: ­ 청소년활동
D76: 625 출자출연금수익 | P76: =P77 -> 423402000 | Q76: =Q77 -> 1200000000 | R76: =+P76-Q76 -> -776598000 | S76: =+R76/Q76 -> -0.647165
E77: 625-2 지자체출자출연금 | P77: =O78 -> 423402000 | Q77: 1200000000 | R77: =+P77-Q77 -> -776598000 | S77: =+R77/Q77 -> -0.647165
F78: ㅇ고양시지원금 | O78: =SUM(O79:O80) -> 423402000 | P78: =O78 -> 423402000 | Q78: 1200000000 | R78: =+P78-Q78 -> -776598000 | S78: =+R78/Q78 -> -0.647165
F79: ­ 일산서구지원금 | G79: 423402000 | H79: × | I79: 1 | N79: = | O79: =G79*I79 -> 423402000
B80: 100 자본적수입 | P80: =P81 -> 24300000 | Q80: =Q81 -> 0 | R80: =+P80-Q80 -> 24300000
C81: 170 자본잉여금수입 | P81: =P82 -> 24300000 | Q81: =SUM(Q82) -> 0 | R81: =+P81-Q81 -> 24300000
D82: 172 이월금 | P82: =P83 -> 24300000 | Q82: =SUM(Q84) -> 0 | R82: =+P82-Q82 -> 24300000
E83: 172-3 전년도이월사업비 | P83: =O84 -> 24300000 | Q83: 0 | R83: =+P83-Q83 -> 24300000
F84: ㅇ전년도이월금 | O84: =O85 -> 24300000 | P84: =O84 -> 24300000 | Q84: 0 | R84: =+P84-Q84 -> 24300000
F85: - 이월금 | G85: 24300000 | H85: × | I85: 1 | N85: = | O85: =G85*I85 -> 24300000

Sheet 예산세입(토당)
A1: 2019년 토당청소년수련관 세입예산서(안)
A2: [일반회계] | R2: (단위:천원)
A3: 예산과목 | G3: 산출내역 | P3: 예산액 | Q3: 전년도 예산액 | R3: 증감 | S3: 증감률
A4: 장 | B4: 관 | C4: 항 | D4: 목 | E4: 세목 | F4: 세세목
A5: 토당청소년수련관 | P5: =P6+P90 -> 1749582000 | Q5: =Q6+Q90 -> 1947236000 | R5: =P5-Q5 -> -197654000 | S5: =+R5/Q5 -> -0.1015049
B6: 600 사업수익 | P6: =SUM(P7,P76) -> 1723432000 | Q6: =SUM(Q7,Q76) -> 1947236000 | R6: =+P6-Q6 -> -223804000 | S6: =+R6/Q6 -> -0.11493419 | U6: 1752022000 | V6: 1947236000
C7: 610 영업수익 | P7: =P8+P63+P68 -> 741828000 | Q7: =Q8+Q63+Q68 -> 832842000 | R7: =+P7-Q7 -> -91014000 | S7: =+R7/Q7 -> -0.10928123 | U7: =P5-U6 -> -2440000 | V7: =Q5-V6 -> 0
D8: 611 자체사업수익 | P8: =SUM(P9+P45) -> 650000000 | Q8: =SUM(Q9+Q45) -> 736180000 | R8: =+P8-Q8 -> -86180000 | S8: =+R8/Q8 -> -0.11706376
E9: 611-1 사업운영수익 | P9: =ROUNDUP((O10),-3) -> 430240000 | Q9: 455740000 | R9: =+P9-Q9 -> -25500000 | S9: =+R9/Q9 -> -0.055952956 | V9: 자체사업수익 | W9: =P7 -> 741828000
F10: ㅇ교육문화프로그램 | O10: =SUM(O11:O44) -> 430240000 | P10: =O10 -> 430240000 | Q10: 455740000 | R10: =+P10-Q10 -> -25500000 | S10: =+R10/Q10 -> -0.055952956 | V10: 이자수익 | W10: =P77 -> 500000
F11: ­바리스타 | G11: 700000 | H11: × | I11: 12 | N11: = | O11: =G11*I11 -> 8400000 | U11: 1749582000 | V11: 보조금수익 | W11: =P82 -> 931104000
F12: ­캘리그라피&서예 | G12: 200000 | H12: × | I12: 12 | N12: = | O12: =G12*I12 -> 2400000 | V12: 법인전입금 | W12: =P86 -> 50000000
F13: ­풍물 | G13: 240000 | H13: × | I13: 12 | N13: = | O13: =G13*I13 -> 2880000 | V13: 이월액 | W13: =P93 -> 26150000
F14: ­종이접기 | G14: 200000 | H14: × | I14: 12 | N14: = | O14: =G14*I14 -> 2400000
F15: ­또래체험 역사 | G15: 200000 | H15: × | I15: 12 | N15: = | O15: =G15*I15 -> 2400000 | U15: =P5-U11 -> 0
F16: ­코딩 | G16: 500000 | H16: × | I16: 12 | N16: = | O16: =G16*I16 -> 6000000
F17: ­3D펜 | G17: 500000 | H17: × | I17: 12 | N17: = | O17: =G17*I17 -> 6000000
F18: ­도예 | G18: 650000 | H18: × | I18: 12 | N18: = | O18: =G18*I18 -> 7800000 | U18: 1749582000
F19: ­피아노 | G19: 3800000 | H19: × | I19: 12 | N19: = | O19: =G19*I19 -> 45600000
F20: ­통기타,클레식기타,우크렐레 | G20: 600000 | H20: × | I20: 12 | N20: = | O20: =G20*I20 -> 7200000
F21: ­바이올린 | G21: 600000 | H21: × | I21: 12 | N21: = | O21: =G21*I21 -> 7200000 | U21: =P5-U18 -> 0
F22: ­보컬트레이닝 | G22: 100000 | H22: × | I22: 12 | N22: = | O22: =G22*I22 -> 1200000
F23: ­유화 | G23: 450000 | H23: × | I23: 12 | N23: = | O23: =G23*I23 -> 5400000
F24: ­한국화 | G24: 500000 | H24: × | I24: 12 | N24: = | O24: =G24*I24 -> 6000000
F25: ­수채화&데생 | G25: 100000 | H25: × | I25: 12 | N25: = | O25: =G25*I25 -> 1200000 | U25: =O66-U21 -> 19960000
F26: ­열린아트스쿨 | G26: 500000 | H26: × | I26: 12 | N26: = | O26: =G26*I26 -> 6000000
F27: ­유아미술 | G27: 750000 | H27: × | I27: 12 | N27: = | O27: =G27*I27 -> 9000000
F28: ­영어 | G28: 400000 | H28: × | I28: 12 | N28: = | O28: =G28*I28 -> 4800000
F29: ­중국어 | G29: 400000 | H29: × | I29: 12 | N29: = | O29: =G29*I29 -> 4800000
F30: ­일본어 | G30: 400000 | H30: × | I30: 12 | N30: = | O30: =G30*I30 -> 4800000 | U30: =U25/12 -> 1663333.3
F31: ­발레 | G31: 2300000 | H31: × | I31: 12 | N31: = | O31: =G31*I31 -> 27600000
F32: ­요가 | G32: 1450000 | H32: × | I32: 12 | N32: = | O32: =G32*I32 -> 17400000
F33: ­스트릿댄스 | G33: 300000 | H33: × | I33: 12 | N33: = | O33: =G33*I33 -> 3600000
F34: ­음악줄넘기 | G34: 200000 | H34: × | I34: 12 | N34: = | O34: =G34*I34 -> 2400000
F35: ­줌바 | G35: 2700000 | H35: × | I35: 12 | N35: = | O35: =G35*I35 -> 32400000
F36: ­바디스킬릴리즈+코어운동 | G36: 500000 | H36: × | I36: 12 | N36: = | O36: =G36*I36 -> 6000000
F37: ­댄스스포츠+생활웰빙댄스 | G37: 500000 | H37: × | I37: 12 | N37: = | O37: =G37*I37 -> 6000000
F38: ­인라인스케이트 | G38: 1300000 | H38: × | I38: 10 | N38: = | O38: =G38*I38 -> 13000000
F39: ­농구(평일) | G39: 880000 | H39: × | I39: 12 | N39: = | O39: =G39*I39 -> 10560000
F40: ­농구(주말) | G40: 650000 | H40: × | I40: 12 | N40: = | O40: =G40*I40 -> 7800000
F41: ­스쿼시(오전) | G41: 2700000 | H41: × | I41: 12 | N41: = | O41: =G41*I41 -> 32400000
F42: ­스쿼시(오후) | G42: 3800000 | H42: × | I42: 12 | N42: = | O42: =G42*I42 -> 45600000
... F44: ­여름방학특강 | G44: 3000000 | H44: × | I44: 2 | N44: = | O44: =G44*I44 -> 6000000
E45: 611-2 참가금수익 | P45: =O46+O47+O48+O49+O50+O51+O52+O53+O54+O55+O56 -> 219760000 | Q45: =SUM(Q46:Q62) -> 280440000 | R45: =+P45-Q45 -> -60680000 | S45: =+R45/Q45 -> -0.21637427
F46: ㅇ바우처연계사업 | G46: 36000 | H46: × | I46: 5 | J46: × | K46: 12 | N46: = | O46: =G46*I46*K46 -> 2160000 | P46: =O46 -> 2160000 | Q46: 1440000 | R46: =+P46-Q46 -> 720000 | S46: =+R46/Q46 -> 0.5
F47: ㅇ청소년연합워크숍 | G47: 2000000 | H47: × | I47: 1 | N47: = | O47: =G47*I47 -> 2000000 | P47: =O47 -> 2000000 | Q47: 2000000 | R47: =+P47-Q47 -> 0 | S47: =+R47/Q47 -> 0
F48: ㅇ청소년권리증진사업 | G48: 2000000 | H48: × | I48: 1 | N48: = | O48: =G48*I48 -> 2000000 | P48: =O48 -> 2000000 | Q48: 0 | R48: =+P48-Q48 -> 2000000
F49: ㅇ고3 수험생프로그램 | G49: 10000 | H49: × | I49: 3000 | N49: = | O49: =G49*I49 -> 30000000 | P49: =O49 -> 30000000 | Q49: 30000000 | R49: =+P49-Q49 -> 0 | S49: =+R49/Q49 -> 0
F50: ㅇ청소년지도사실습 | G50: 60000 | H50: × | I50: 20 | N50: = | O50: =G50*I50 -> 1200000 | P50: =O50 -> 1200000 | Q50: 1200000 | R50: =+P50-Q50 -> 0 | S50: =+R50/Q50 -> 0
F51: ㅇ꿈터예술제 | G51: 40000 | H51: × | I51: 60 | N51: = | O51: =G51*I51 -> 2400000 | P51: =O51 -> 2400000 | Q51: 5000000 | R51: =+P51-Q51 -> -2600000 | S51: =+R51/Q51 -> -0.52
F52: ㅇ창의적체험활동 | G52: 2000000 | H52: × | I52: 1 | N52: = | O52: =G52*I52 -> 2000000 | P52: =O52 -> 2000000 | Q52: 0 | R52: =+P52-Q52 -> 2000000
F53: ㅇ자유학년제프로그램 | G53: 10000 | H53: × | I53: 2000 | N53: = | O53: =G53*I53 -> 20000000 | P53: =O53 -> 20000000 | Q53: 20000000 | R53: =+P53-Q53 -> 0 | S53: =+R53/Q53 -> 0
F54: ㅇ청소년안전특화사업 | G54: 140000000 | H54: × | I54: 1 | N54: = | O54: =G54*I54 -> 140000000 | P54: =O54 -> 140000000 | Q54: 40000000 | R54: =+P54-Q54 -> 100000000 | S54: =+R54/Q54 -> 2.5
F55: ㅇ청소년인성교육사업 | G55: 10000 | H55: × | I55: 200 | N55: = | O55: =G55*I55 -> 2000000 | P55: =O55 -> 2000000 | Q55: 10000000 | R55: =+P55-Q55 -> -8000000 | S55: =+R55/Q55 -> -0.8
F56: ㅇ국제교류사업 | G56: 800000 | H56: × | I56: 20 | N56: = | O56: =G56*I56 -> 16000000 | P56: =O56 -> 16000000 | Q56: 0 | R56: =+P56-Q56 -> 16000000
F57: ㅇ대안교육 단기위탁 | P57: =O57 -> 0 | Q57: 7800000 | R57: =+P57-Q57 -> -7800000 | S57: =+R57/Q57 -> -1
F58: ㅇ지역사회 문화축제 | P58: =O58 -> 0 | Q58: 3000000 | R58: =+P58-Q58 -> -3000000 | S58: =+R58/Q58 -> -1
F59: ㅇ고양청소년야영학교 | P59: =O59 -> 0 | Q59: 144000000 | R59: =+P59-Q59 -> -144000000 | S59: =+R59/Q59 -> -1
F60: ㅇ고양누리길 프로그램 | P60: =O60 -> 0 | Q60: 5000000 | R60: =+P60-Q60 -> -5000000 | S60: =+R60/Q60 -> -1
F61: ㅇ역사사랑 하이킹대회 | P61: =O61 -> 0 | Q61: 10000000 | R61: =+P61-Q61 -> -10000000 | S61: =+R61/Q61 -> -1
F62: ㅇ청소년 안전문화교실 | P62: =O62 -> 0 | Q62: 1000000 | R62: =+P62-Q62 -> -1000000 | S62: =+R62/Q62 -> -1
D63: 617 기타영업수익 | P63: =SUM(P64+P67) -> 19960000 | Q63: =SUM(Q64+Q67) -> 28438000 | R63: =+P63-Q63 -> -8478000 | S63: =+R63/Q63 -> -0.29812223
E64: 617-1 시설사용료수익 | P64: =ROUNDUP(O65,-3) -> 19960000 | Q64: 27238000 | R64: =+P64-Q64 -> -7278000 | S64: =+R64/Q64 -> -0.26720023
F65: ㅇ대관수입 | O65: =SUM(O66:O66) -> 19960000 | P65: =O65 -> 19960000 | Q65: =Q64 -> 27238000 | R65: =+P65-Q65 -> -7278000 | S65: =+R65/Q65 -> -0.26720023
F66: ­ 대관사용료 | G66: 19960000 | H66: × | I66: 1 | N66: = | O66: =G66*I66 -> 19960000
E67: 617-3 기타수수료수입 | P67: 0 | Q67: 1200000 | R67: =+P67-Q67 -> -1200000 | S67: =+R67/Q67 -> -1
D68: 618 판매수익 | P68: =P69 -> 71868000 | Q68: =Q69 -> 68224000 | R68: =+P68-Q68 -> 3644000 | S68: =+R68/Q68 -> 0.053412289
E69: 618-2 기타판매수익 | P69: =O70+O74 -> 71868000 | Q69: 68224000 | R69: =+P69-Q69 -> 3644000 | S69: =+R69/Q69 -> 0.053412289
F70: ㅇ토당행복식당 | O70: =SUM(O71:O73) -> 56868000 | P70: =O70 -> 56868000 | Q70: 59724000 | R70: =+P70-Q70 -> -2856000 | S70: =+R70/Q70 -> -0.047819972
F71: ­ 방과후청소년 | G71: 3300 | H71: × | I71: 40 | J71: × | K71: 249 | N71: = | O71: =G71*I71*K71 -> 32868000
F72: ­ 수련관직원 | G72: 80000 | H72: × | I72: 20 | J72: × | K72: 12 | N72: = | O72: =G72*I72*K72 -> 19200000
F73: ­ 직원외급식 | G73: 80000 | H73: × | I73: 5 | J73: × | K73: 12 | N73: = | O73: =G73*I73*K73 -> 4800000
F74: ㅇ음료판매수입 | O74: =SUM(O75:O75) -> 15000000 | P74: =O74 -> 15000000 | Q74: 8500000 | R74: =+P74-Q74 -> 6500000 | S74: =+R74/Q74 -> 0.76470588
F75: ­ 판매수입 | G75: 15000000 | H75: × | I75: 1 | N75: = | O75: =G75*I75 -> 15000000
C76: 620 영업외수익 | P76: =SUM(P77,P81,P86) -> 981604000 | Q76: =SUM(Q77,Q81,Q86) -> 1114394000 | R76: =+P76-Q76 -> -132790000 | S76: =+R76/Q76 -> -0.11915893
D77: 621 이자수익 | P77: =P78 -> 500000 | Q77: =Q78 -> 500000 | R77: =+P77-Q77 -> 0 | S77: =+R77/Q77 -> 0
E78: 621-1 예금이자수익 | P78: =ROUNDUP(O79,-3) -> 500000 | Q78: 500000 | R78: =+P78-Q78 -> 0 | S78: =+R78/Q78 -> 0
F79: ㅇ예금이자수익 | O79: =SUM(O80:O80) -> 500000 | P79: 500000 | Q79: 500000 | R79: =+P79-Q79 -> 0 | S79: =+R79/Q79 -> 0
F80: ­ 예금이자 | G80: 500000 | H80: × | I80: 1 | N80: = | O80: =G80*I80 -> 500000
D81: 623 보조금수익 | P81: =P82+P85 -> 931104000 | Q81: =Q82+Q85 -> 1063894000 | R81: =+P81-Q81 -> -132790000 | S81: =+R81/Q81 -> -0.12481507
E82: 623-1 국도시비보조금 | P82: =O83 -> 931104000 | Q82: 1057894000 | R82: =+P82-Q82 -> -126790000 | S82: =+R82/Q82 -> -0.11985133
F83: ㅇ고양시위탁보조금 | O83: =SUM(O84:O84) -> 931104000 | P83: =O83 -> 931104000 | Q83: 1057894000 | R83: =+P83-Q83 -> -126790000 | S83: =+R83/Q83 -> -0.11985133
F84: ­ 토당지원금 | G84: 931104000 | H84: × | I84: 1 | N84: = | O84: =G84*I84 -> 931104000
E85: 623-3 기타보조금 | P85: 0 | Q85: 6000000 | R85: =+P85-Q85 -> -6000000 | S85: =+R85/Q85 -> -1
D86: 628 기타영업외수익 | P86: =P87 -> 50000000 | Q86: =Q87 -> 50000000 | R86: =+P86-Q86 -> 0 | S86: =+R86/Q86 -> 0
E87: 628-6 기타영업외수익 | P87: =ROUNDUP(O88,-3) -> 50000000 | Q87: 50000000 | R87: =+P87-Q87 -> 0 | S87: =+R87/Q87 -> 0
F88: ㅇ법인전입금 | O88: =SUM(O89:O89) -> 50000000 | P88: =O88 -> 50000000 | Q88: 50000000 | R88: =+P88-Q88 -> 0 | S88: =+R88/Q88 -> 0
F89: ­ 법인전입금 | G89: 50000000 | H89: × | I89: 1 | N89: = | O89: =G89*I89 -> 50000000
B90: 100 자본적수입 | P90: =P91 -> 26150000 | Q90: =Q91 -> 0 | R90: =R91 -> 26150000
C91: 170 자본잉여금수입 | P91: =P92 -> 26150000 | Q91: =Q92 -> 0 | R91: =R92 -> 26150000
D92: 172 이월금 | P92: =SUM(P93) -> 26150000 | Q92: =SUM(Q93) -> 0 | R92: =+P92-Q92 -> 26150000
E93: 172-3 전년도이월사업비 | P93: =O94 -> 26150000 | Q93: =Q94 -> 0 | R93: =+P93-Q93 -> 26150000
F94: ㅇ전년도이월금 | O94: =SUM(O95) -> 26150000 | P94: =O95 -> 26150000 | Q94: 0 | R94: =+P94-Q94 -> 26150000
F95: ­이월금 | G95: 26150000 | H95: × | I95: 1 | N95: = | O95: =G95*I95 -> 26150000

Sheet 예산세입(상담)
A1: 2019년 고양시청소년상담복지센터 세입예산서(안)
A2: [일반회계] | R2: (단위:천원)
A3: 예산과목 | G3: 산출내역 | P3: 예산액 | Q3: 전년도 예산액 | R3: 증감 | S3: 증감률
A4: 장 | B4: 관 | C4: 항 | D4: 목 | E4: 세목 | F4: 세세목
A5: 고양시청소년상담복지센터 | P5: =P6+P23 -> 424075000 | Q5: =Q6 -> 1115590000 | R5: =+P5-Q5 -> -691515000 | S5: =+R5/Q5 -> -0.61986482
B6: 600 사업수익 | P6: =P7+P14 -> 416455000 | Q6: =Q7+Q14 -> 1115590000 | R6: =+P6-Q6 -> -699135000 | S6: =+R6/Q6 -> -0.62669529 | U6: 426475000
C7: 610 영업수익 | P7: =SUM(P8) -> 40483000 | Q7: =SUM(Q8) -> 20160000 | R7: =+P7-Q7 -> 20323000 | S7: =+R7/Q7 -> 1.0080853
D8: 611 자체사업수익 | P8: =P9 -> 40483000 | Q8: =Q9 -> 20160000 | R8: =+P8-Q8 -> 20323000 | S8: =+R8/Q8 -> 1.0080853
E9: 611-1 사업운영수익 | P9: =ROUNDUP((O10),-3) -> 40483000 | Q9: 20160000 | R9: =+P9-Q9 -> 20323000 | S9: =+R9/Q9 -> 1.0080853
F10: ㅇ프로그램 | O10: =SUM(O11:O13) -> 40483000 | P10: =O10 -> 40483000 | Q10: 20160000 | R10: =+P10-Q10 -> 20323000 | S10: =+R10/Q10 -> 1.0080853
F11: ­ 놀이치료 | G11: 30000 | H11: × | I11: 20 | J11: × | K11: 4 | L11: × | M11: 12 | N11: = | O11: =+G11*I11*K11*M11 -> 28800000
F12: ­ 심리검사 | G12: 10000 | H12: × | I12: 9 | J12: × | K12: 12 | N12: = | O12: =+G12*I12*K12 -> 1080000
F13: ­ 집단및상설 | G13: 67968 | H13: × | I13: 13 | J13: × | K13: 12 | N13: = | O13: =ROUNDDOWN(G13*I13*K13,-3) -> 10603000
C14: 620 영업외수익 | P14: =P15+P19 -> 375972000 | Q14: =Q15+Q19 -> 1095430000 | R14: =+P14-Q14 -> -719458000 | S14: =+R14/Q14 -> -0.65678136
D15: 621 이자수익 | P15: =P16 -> 24000 | Q15: =Q16 -> 24000 | R15: =+P15-Q15 -> 0 | S15: =+R15/Q15 -> 0
E16: 621-1 예금이자수익 | P16: =ROUNDUP(O17,-3) -> 24000 | Q16: 24000 | R16: =+P16-Q16 -> 0 | S16: =+R16/Q16 -> 0
F17: ㅇ예금이자수익 | O17: =SUM(O18:O18) -> 24000 | P17: 24000 | Q17: 24000 | R17: =+P17-Q17 -> 0 | S17: =+R17/Q17 -> 0
F18: ­ 예금이자 | G18: 24000 | H18: × | I18: 1 | N18: = | O18: =ROUNDUP(G18*I18,-3) -> 24000
D19: 623 보조금수익 | P19: =P20 -> 375948000 | Q19: =Q20 -> 1095406000 | R19: =+P19-Q19 -> -719458000 | S19: =+R19/Q19 -> -0.65679575
E20: 623-1 국도시비보조금 | P20: =O21 -> 375948000 | Q20: 1095406000 | R20: =+P20-Q20 -> -719458000 | S20: =+R20/Q20 -> -0.65679575
F21: ㅇ고양시위탁보조금 | O21: =SUM(O22:O22) -> 375948000 | P21: =O21 -> 375948000 | Q21: 1095406000 | R21: =+P21-Q21 -> -719458000 | S21: =+R21/Q21 -> -0.65679575
F22: ­ 상담지원금 | G22: 375948000 | H22: × | I22: 1 | N22: = | O22: =G22 -> 375948000
B23: 100 자본적수입 | P23: =P24 -> 7620000 | Q23: =+Q24 -> 0 | R23: =+P23-Q23 -> 7620000
C24: 170 자본잉여금수입 | P24: =P25 -> 7620000 | Q24: =+Q25 -> 0 | R24: =+P24-Q24 -> 7620000
D25: 172 이월금 | P25: =SUM(P26) -> 7620000 | Q25: =+Q26 -> 0 | R25: =+P25-Q25 -> 7620000
E26: 172-3 전년도이월사업비 | P26: =O27 -> 7620000 | Q26: 0 | R26: =+P26-Q26 -> 7620000
F27: ㅇ전년도이월금 | O27: =SUM(O28) -> 7620000 | P27: =O27 -> 7620000 | Q27: 0 | R27: =+P27-Q27 -> 7620000
F28: ­ 2018년도사업비이월금 | G28: 7620000 | H28: × | I28: 1 | N28: = | O28: 7620000

Sheet 예산세입(화정)
A1: 2019년 화정청소년카페 세입예산서(안)
A2: [일반회계] | R2: (단위:천원)
A3: 예산과목 | G3: 산출내역 | P3: 예산액 | Q3: 전년도 예산액 | R3: 증감 | S3: 증감률
A4: 장 | B4: 관 | C4: 항 | D4: 목 | E4: 세목 | F4: 세세목
A5: 화정청소년카페 | P5: =P6 -> 155824000 | Q5: =Q6 -> 153106000 | R5: =+P5-Q5 -> 2718000 | S5: =+R5/Q5 -> 0.017752407
B6: 600 사업수익 | P6: =SUM(P7,P23) -> 155824000 | Q6: =SUM(Q7,Q23) -> 153106000 | R6: =+P6-Q6 -> 2718000 | S6: =+R6/Q6 -> 0.017752407
C7: 610 영업수익 | P7: =SUM(P8,P15,P19) -> 39480000 | Q7: =SUM(Q8,Q15,Q19) -> 34620000 | R7: =+P7-Q7 -> 4860000 | S7: =+R7/Q7 -> 0.14038128
D8: 611 자체사업수익 | P8: =SUM(P9,P12) -> 1320000 | Q8: =SUM(Q9,Q12) -> 1620000 | R8: =+P8-Q8 -> -300000 | S8: =+R8/Q8 -> -0.18518519
E9: 611-1 사업운영수익 | P9: =O10 -> 600000 | Q9: 420000 | R9: =+P9-Q9 -> 180000 | S9: =+R9/Q9 -> 0.42857143
F10: ㅇ보드게임 사용 | O10: =O11 -> 600000 | P10: 600000 | Q10: 420000 | R10: =+P10-Q10 -> 180000 | S10: =+R10/Q10 -> 0.42857143
F11: ­ 보드게임 사용료 | G11: 50000 | H11: × | I11: 12 | N11: = | O11: =G11*I11 -> 600000
E12: 611-2 참가금수익 | P12: =O13 -> 720000 | Q12: 1200000 | R12: =+P12-Q12 -> -480000 | S12: =+R12/Q12 -> -0.4
F13: ㅇ프로그램 참가비 | O13: =O14 -> 720000 | P13: 720000 | Q13: 1200000 | R13: =+P13-Q13 -> -480000 | S13: =+R13/Q13 -> -0.4
F14: - 프로그램참가비 | G14: 60000 | H14: × | I14: 12 | N14: = | O14: =G14*I14 -> 720000
D15: 617 기타영업수익 | P15: =P16 -> 360000 | Q15: =Q16 -> 360000 | R15: =+P15-Q15 -> 0 | S15: =+R15/Q15 -> 0
E16: 617-1 시설사용료수익 | P16: =ROUNDUP(O17,-3) -> 360000 | Q16: 360000 | R16: =+P16-Q16 -> 0 | S16: =+R16/Q16 -> 0
F17: ㅇ대관수입 | O17: =SUM(O18:O18) -> 360000 | P17: 360000 | Q17: 360000 | R17: =+P17-Q17 -> 0 | S17: =+R17/Q17 -> 0
F18: ­ 대관사용료 | G18: 5000 | H18: × | I18: 6 | J18: × | K18: 12 | N18: = | O18: =G18*I18*K18 -> 360000
D19: 618 판매수익 | P19: =P20 -> 37800000 | Q19: =Q20 -> 32640000 | R19: =+P19-Q19 -> 5160000 | S19: =+R19/Q19 -> 0.15808824
E20: 618-1 상품판매수익 | P20: =ROUNDUP(O21,-3) -> 37800000 | Q20: 32640000 | R20: =+P20-Q20 -> 5160000 | S20: =+R20/Q20 -> 0.15808824
F21: ㅇ북카페운영 | O21: =SUM(O22:O22) -> 37800000 | P21: 37800000 | Q21: 32640000 | R21: =+P21-Q21 -> 5160000 | S21: =+R21/Q21 -> 0.15808824
F22: ­ 식음료 판매수입 | G22: 3150000 | H22: × | I22: 12 | N22: = | O22: =G22*I22 -> 37800000
C23: 620 영업외수익 | P23: =P24+P28 -> 116344000 | Q23: =Q24+Q28 -> 118486000 | R23: =+P23-Q23 -> -2142000 | S23: =+R23/Q23 -> -0.018078085
D24: 621 이자수익 | P24: =P25 -> 20000 | Q24: =Q25 -> 13000 | R24: =+P24-Q24 -> 7000 | S24: =+R24/Q24 -> 0.53846154
E25: 621-1 예금이자수익 | P25: =ROUNDUP(O26,-3) -> 20000 | Q25: 13000 | R25: =+P25-Q25 -> 7000 | S25: =+R25/Q25 -> 0.53846154
F26: ㅇ예금이자수익 | O26: =SUM(O27:O27) -> 20000 | P26: 20000 | Q26: 13000 | R26: =+P26-Q26 -> 7000 | S26: =+R26/Q26 -> 0.53846154
F27: ­ 예금이자 | G27: 20000 | H27: × | I27: 1 | N27: = | O27: =G27*I27 -> 20000
D28: 623 보조금수익 | P28: =P29 -> 116324000 | Q28: =Q29 -> 118473000 | R28: =+P28-Q28 -> -2149000 | S28: =+R28/Q28 -> -0.018139154
E29: 623-1 국도시비보조금 | P29: =ROUNDUP(O30,-3) -> 116324000 | Q29: 118473000 | R29: =+P29-Q29 -> -2149000 | S29: =+R29/Q29 -> -0.018139154
F30: ㅇ고양시위탁보조금 | O30: =SUM(O31:O31) -> 116324000 | P30: =O30 -> 116324000 | Q30: 118473000 | R30: =+P30-Q30 -> -2149000 | S30: =+R30/Q30 -> -0.018139154
F31: ­ 화정지원금 | G31: 116324000 | H31: × | I31: 1 | N31: = | O31: =G31 -> 116324000

Sheet 예산세입(백마)
A1: 2019년 백마역청소년카페 세입예산서(안)
A2: [일반회계] | R2: (단위:천원)
A3: 예산과목 | G3: 산출내역 | P3: 예산액 | Q3: 기정액 | R3: 증감 | S3: 증감률
A4: 장 | B4: 관 | C4: 항 | D4: 목 | E4: 세목 | F4: 세세목
A5: 백마역청소년카페 | P5: =P6+P21 -> 101394000 | Q5: =Q6+Q21 -> 89509000 | R5: =+P5-Q5 -> 11885000 | S5: =+R5/Q5 -> 0.13277994 | U5: 101394000 | V5: 89509000
B6: 600 사업수익 | P6: =P7+P12 -> 100644000 | Q6: =Q7+Q12 -> 89509000 | R6: =+P6-Q6 -> 11135000 | S6: =+R6/Q6 -> 0.1244009 | U6: =P5-U5 -> 0 | V6: =Q5-V5 -> 0
C7: 610 영업수익 | P7: =P8 -> 11250000 | Q7: =Q8 -> 16000000 | R7: =+P7-Q7 -> -4750000 | S7: =+R7/Q7 -> -0.296875
D8: 618 판매수익 | P8: =P9 -> 11250000 | Q8: =Q9 -> 16000000 | R8: =+P8-Q8 -> -4750000 | S8: =+R8/Q8 -> -0.296875
E9: 618-1 상품판매수익 | P9: =O10 -> 11250000 | Q9: 16000000 | R9: =+P9-Q9 -> -4750000 | S9: =+R9/Q9 -> -0.296875
F10: ㅇ북카페운영 | O10: =SUM(O11:O11) -> 11250000 | P10: 11250000 | Q10: 16000000 | R10: =+P10-Q10 -> -4750000 | S10: =+R10/Q10 -> -0.296875
F11: ­ 판매수입 | G11: 1250 | H11: × | I11: 30 | J11: × | K11: 25 | L11: × | M11: 12 | N11: = | O11: =G11*I11*K11*M11 -> 11250000
C12: 620 영업외수익 | P12: =P13+P17 -> 89394000 | Q12: =Q13+Q17 -> 73509000 | R12: =+P12-Q12 -> 15885000 | S12: =+R12/Q12 -> 0.21609599
D13: 621 이자수익 | P13: =P14 -> 14000 | Q13: =Q14 -> 14000 | R13: =+P13-Q13 -> 0 | S13: =+R13/Q13 -> 0
E14: 621-1 예금이자수익 | P14: =ROUNDUP(O15,-3) -> 14000 | Q14: 14000 | R14: =+P14-Q14 -> 0 | S14: =+R14/Q14 -> 0
F15: ㅇ예금이자수익 | O15: =SUM(O16:O16) -> 14000 | P15: 14000 | Q15: 14000 | R15: =+P15-Q15 -> 0 | S15: =+R15/Q15 -> 0
F16: ­ 예금이자 | G16: 14000 | H16: × | I16: 1 | N16: = | O16: =G16*I16 -> 14000
D17: 623 보조금수익 | P17: =P18 -> 89380000 | Q17: =Q18 -> 73495000 | R17: =+P17-Q17 -> 15885000 | S17: =+R17/Q17 -> 0.21613715
E18: 623-1 국도시비보조금 | P18: =ROUNDUP(O19,-3) -> 89380000 | Q18: 73495000 | R18: =+P18-Q18 -> 15885000 | S18: =+R18/Q18 -> 0.21613715
F19: ㅇ고양시위탁보조금 | O19: =SUM(O20:O20) -> 89380000 | P19: =O19 -> 89380000 | Q19: 73495000 | R19: =+P19-Q19 -> 15885000 | S19: =+R19/Q19 -> 0.21613715
F20: ­ 백마지원금 | G20: 89380000 | H20: × | I20: 1 | N20: = | O20: =G20 -> 89380000
B21: 100 자본적수입 | P21: =P22 -> 750000 | Q21: 0 | R21: =+P21-Q21 -> 750000
C22: 170 자본잉여금수입 | P22: =P23 -> 750000 | Q22: 0 | R22: =+P22-Q22 -> 750000
D23: 172 이월금 | P23: =SUM(P24) -> 750000 | Q23: 0 | R23: =+P23-Q23 -> 750000
E24: 172-3 전년도이월사업비 | P24: =O25 -> 750000 | Q24: 0 | R24: =+P24-Q24 -> 750000
F25: ㅇ전년도이월금 | O25: =SUM(O26) -> 750000 | P25: 750000 | Q25: 0 | R25: =+P25-Q25 -> 750000
F26: ­ 2018년도사업비이월금 | G26: 750000 | H26: × | I26: 1 | N26: = | O26: 750000

Sheet 예산세입(능곡)
A1: 2019년 능곡역청소년카페 세입예산서(안)
A2: [일반회계] | R2: (단위:천원)
A3: 예산과목 | G3: 산출내역 | P3: 예산액 | Q3: 기정액 | R3: 증감 | S3: 증감률
A4: 장 | B4: 관 | C4: 항 | D4: 목 | E4: 세목 | F4: 세세목
A5: 능곡역청소년카페 | P5: =P6 -> 91355000 | Q5: =Q6 -> 69780000 | R5: =+P5-Q5 -> 21575000 | S5: =+R5/Q5 -> 0.30918601 | U5: 91355000 | V5: 69780000
B6: 600 사업수익 | P6: =P7+P12 -> 91355000 | Q6: =Q7+Q12 -> 69780000 | R6: =+P6-Q6 -> 21575000 | S6: =+R6/Q6 -> 0.30918601 | U6: =P5-U5 -> 0 | V6: =Q5-V5 -> 0
C7: 610 영업수익 | P7: =P8 -> 2800000 | Q7: =Q8 -> 2400000 | R7: =+P7-Q7 -> 400000 | S7: =+R7/Q7 -> 0.16666667
D8: 618 판매수익 | P8: =P9 -> 2800000 | Q8: =Q9 -> 2400000 | R8: =+P8-Q8 -> 400000 | S8: =+R8/Q8 -> 0.16666667
E9: 618-1 상품판매수익 | P9: =O10 -> 2800000 | Q9: 2400000 | R9: =+P9-Q9 -> 400000 | S9: =+R9/Q9 -> 0.16666667
F10: ㅇ북카페운영 | O10: =SUM(O11:O11) -> 2800000 | P10: 2800000 | Q10: 2400000 | R10: =+P10-Q10 -> 400000 | S10: =+R10/Q10 -> 0.16666667
F11: ­ 판매수입 | G11: 233333.33 | H11: × | I11: 12 | N11: = | O11: =ROUNDUP(G11*I11,-3) -> 2800000
C12: 620 영업외수익 | P12: =P13+P17 -> 88555000 | Q12: =Q13+Q17 -> 67380000 | R12: =+P12-Q12 -> 21175000 | S12: =+R12/Q12 -> 0.31426239
D13: 621 이자수익 | P13: =P14 -> 10000 | Q13: =Q14 -> 10000 | R13: =+P13-Q13 -> 0 | S13: =+R13/Q13 -> 0
E14: 621-1 예금이자수익 | P14: =ROUNDUP(O15,-3) -> 10000 | Q14: 10000 | R14: =+P14-Q14 -> 0 | S14: =+R14/Q14 -> 0
F15: ㅇ예금이자수익 | O15: =SUM(O16:O16) -> 10000 | P15: 10000 | Q15: 10000 | R15: =+P15-Q15 -> 0 | S15: =+R15/Q15 -> 0
F16: ­ 예금이자 | G16: 10000 | H16: × | I16: 1 | N16: = | O16: =G16*I16 -> 10000
D17: 623 보조금수익 | P17: =P18 -> 88545000 | Q17: =Q18 -> 67370000 | R17: =+P17-Q17 -> 21175000 | S17: =+R17/Q17 -> 0.31430904
E18: 623-1 국도시비보조금 | P18: =ROUNDDOWN(O19,-3) -> 88545000 | Q18: 67370000 | R18: =+P18-Q18 -> 21175000 | S18: =+R18/Q18 -> 0.31430904
F19: ㅇ고양시위탁보조금 | O19: =SUM(O20:O20) -> 88545000 | P19: =O19 -> 88545000 | Q19: 67370000 | R19: =+P19-Q19 -> 21175000 | S19: =+R19/Q19 -> 0.31430904
F20: ­ 능곡지원금 | G20: 88545000 | H20: × | I20: 1식 | N20: = | O20: =G20 -> 88545000

Sheet 간지4(세출예산 사업내역서)

Sheet 예산세출(사무국)
A1: 2019년 고양시청소년재단사무국 세출예산서(안)
A2: [일반회계] | S2: (단위:천원)
A3: 예산과목 | G3: 산출내역 | Q3: 예산액 | R3: 전년도 예산액 | S3: 증감 | T3: 증감률
A4: 장 | B4: 관 | C4: 항 | D4: 목 | E4: 세목 | F4: 세세목
A5: 고양시청소년재단사무국 | Q5: =Q6+Q319 -> 3623469000 | R5: =R6+R319 -> 2212741000 | S5: =Q5-R5 -> 1410728000 | T5: =S5/R5 -> 0.63754773 | V5: 3673386000 | W5: 2212741000
B6: 700 사업비용 | Q6: =Q7+Q206+Q311+Q316 -> 3623469000 | R6: =R7+R206+R311+R316 -> 2212741000 | S6: =Q6-R6 -> 1410728000 | T6: =S6/R6 -> 0.63754773
C7: 710 영업비용 | Q7: =Q8+Q70+Q195+Q201 -> 2694569000 | R7: =R8+R70+R195+R201 -> 1013537000 | S7: =Q7-R7 -> 1681032000 | T7: =S7/R7 -> 1.6585798 | V7: =Q5-V5 -> -49917000 | W7: =R5-W5 -> 0
D8: 100 인건비 | Q8: =Q9+Q18+Q66+Q67 -> 2200111000 | R8: =R9+R18+R66+R67 -> 569927000 | S8: =Q8-R8 -> 1630184000 | T8: =S8/R8 -> 2.8603383
E9: 101 급여 | Q9: =SUM(P10) -> 1288589000 | R9: =R10 -> 350599000 | S9: =Q9-R9 -> 937990000 | T9: =S9/R9 -> 2.6753927 | V9: 세출 | AA9: 세입
F10: ㅇ기본급 | P10: =SUM(P11:P17) -> 1288589000 | Q10: =P10 -> 1288589000 | R10: 350599000 | S10: =Q10-R10 -> 937990000 | T10: =S10/R10 -> 2.6753927
F11: - 대표이사(임기직) | G11: 5242280 | H11: × | I11: 1 | J11: × | K11: 12 | O11: = | P11: =ROUNDUP(G11*I11*K11,-3) -> 62908000
F12: - 사무국장(임기직) | G12: 4527330 | H12: × | I12: 1 | J12: × | K12: 12 | O12: = | P12: =ROUNDUP(G12*I12*K12,-3) -> 54328000
F13: - 4급(일반직) | G13: 3664600 | H13: × | I13: 2 | J13: × | K13: 12 | O13: = | P13: =ROUNDUP(G13*I13*K13,-3) -> 87951000 | V13: 본예산 | W13: 3차 | X13: 2차 | Y13: 차액 | AA13: 본예산
F14: - 5급(일반직) | G14: 3172600 | H14: × | I14: 4 | J14: × | K14: 12 | O14: = | P14: =ROUNDUP(G14*I14*K14,-3) -> 152285000 | V14: 인건비 | W14: =Q8 -> 2200111000 | X14: =R8 -> 569927000 | Y14: =W14-X14 -> 1630184000 | AA14: 본예산 | AB14: =W19-AB15 -> 3222569000
F15: - 6급(일반직) | G15: 2836100 | H15: × | I15: 4 | J15: × | K15: 12 | O15: = | P15: =ROUNDUP(G15*I15*K15,-3) -> 136133000 | V15: 경비 | W15: =Q70 -> 396810000 | X15: =R70 -> 313140000 | Y15: =W15-X15 -> 83670000 | AA15: 이월금 | AB15: 400000000
F16: - 7급 대리급(일반직) | G16: 2086600 | H16: × | I16: 19 | J16: × | K16: 12 | O16: = | P16: =ROUNDUP(G16*I16*K16,-3) -> 475745000 | V16: 자산취득비 | W16: =Q195 -> 6200000 | X16: =R195 -> 39022000 | Y16: =W16-X16 -> -32822000
F17: - 7급 사원급(일반직) | G17: 1662700 | H17: × | I17: 16 | J17: × | K17: 12 | O17: = | P17: =ROUNDUP(G17*I17*K17,-3) -> 319239000 | V17: 성과급 | W17: =Q201 -> 91448000 | X17: =R201 -> 91448000 | Y17: =W17-X17 -> 0
E18: 102 제수당 | Q18: =P19+P26+P30+P32+P35+P42+P48+P54+P60+P64+P62 -> 742282000 | R18: =R19+R26+R30+R32+R35+R42+R48+R54+R60+R62+R64 -> 169452000 | S18: =Q18-R18 -> 572830000 | T18: =S18/R18 -> 3.3804853 | V18: 목적사업비 | W18: =Q214 -> 928000000 | X18: =R214 -> 996980000 | Y18: =W18-X18 -> -68980000
F19: ㅇ직급보조비 | P19: =SUM(P20:P25) -> 76740000 | Q19: =P19 -> 76740000 | R19: 21035000 | S19: =Q19-R19 -> 55705000 | T19: =S19/R19 -> 2.6482054 | V19: 본예산합계 | W19: =SUM(W14:W18) -> 3622569000 | X19: =SUM(X14:X18) -> 2010517000 | Y19: =W19-X19 -> 1612052000 | AB19: =SUM(AB14:AB18) -> 3622569000
F20: - 대표이사(임기직) | G20: 400000 | H20: × | I20: 1 | J20: × | K20: 12 | O20: = | P20: =ROUNDUP(G20*I20*K20,-3) -> 4800000 | V20: 보조금사업비 | W20: =Q207 -> 0 | X20: =R207 -> 2800000 | Y20: =W20-X20 -> -2800000 | AA20: 보조금사업수익
F21: - 사무국장(임기직) | G21: 250000 | H21: × | I21: 1 | J21: × | K21: 12 | O21: = | P21: =ROUNDUP(G21*I21*K21,-3) -> 3000000 | V21: 재단지원금 | AA21: 전년도이월사업비
F22: - 4급(일반직) | G22: 155000 | H22: × | I22: 2 | J22: × | K22: 12 | O22: = | P22: =ROUNDUP(G22*I22*K22,-3) -> 3720000 | V22: 예비비 | W22: =Q316 -> 0 | X22: =R316 -> 20000000 | Y22: =W22-X22 -> -20000000 | AA22: 예금이자수익 | AB22: 900000
F23: - 5급(일반직) | G23: 140000 | H23: × | I23: 4 | J23: × | K23: 12 | O23: = | P23: =ROUNDUP(G23*I23*K23,-3) -> 6720000 | V23: 기타영업외비용 | W23: =Q311 -> 900000 | X23: =R311 -> 179424000 | Y23: =W23-X23 -> -178524000
F24: - 6급(일반직) | G24: 125000 | H24: × | I24: 4 | J24: × | K24: 12 | O24: = | P24: =ROUNDUP(G24*I24*K24,-3) -> 6000000 | Y24: =W24-X24 -> 0
F25: - 7급 대리급(일반직) | G25: 125000 | H25: × | I25: 35 | J25: × | K25: 12 | O25: = | P25: =ROUNDUP(G25*I25*K25,-3) -> 52500000 | W25: =W19+W20+W21+W22+W23 -> 3623469000 | X25: =X19+X20+X21+X22+X23 -> 2212741000 | Y25: =Y19+Y20+Y21+Y22+Y23 -> 1410728000 | AB25: =AB19+AB20+AB21+AB22 -> 3623469000
F26: ㅇ가족수당 | P26: =SUM(P27:P29) -> 20160000 | Q26: =P26 -> 20160000 | R26: 7440000 | S26: =Q26-R26 -> 12720000 | T26: =S26/R26 -> 1.7096774
F27: - 배우자 | G27: 40000 | H27: × | I27: 20 | J27: × | K27: 12 | O27: = | P27: =ROUNDUP(G27*I27*K27,-3) -> 9600000
F28: - 부양가족, 첫째자녀 | G28: 20000 | H28: × | I28: 20 | J28: × | K28: 12 | O28: = | P28: =ROUNDUP(G28*I28*K28,-3) -> 4800000 | V28: 인건비 | W28: =W14 -> 2200111000
F29: - 둘째자녀 | G29: 60000 | H29: × | I29: 8 | J29: × | K29: 12 | O29: = | P29: =ROUNDUP(G29*I29*K29,-3) -> 5760000 | V29: 운영비 | W29: =W15+W17+W16 -> 494458000
F30: ㅇ급량비 | P30: =SUM(P31:P31) -> 73320000 | Q30: =P30 -> 73320000 | R30: 16510000 | S30: =Q30-R30 -> 56810000 | T30: =S30/R30 -> 3.4409449 | V30: 사업비 | W30: =W18-400000000 -> 528000000
F31: - 정액급식비 | G31: 130000 | H31: × | I31: 47 | J31: × | K31: 12 | O31: = | P31: =ROUNDUP(G31*I31*K31,-3) -> 73320000 | W31: =SUM(W28:W30) -> 3222569000
F32: ㅇ자격수당 | P32: =SUM(P33:P34) -> 16680000 | Q32: =P32 -> 16680000 | R32: 3400000 | S32: =Q32-R32 -> 13280000 | T32: =S32/R32 -> 3.9058824
F33: - 청소년지도사 | G33: 30000 | H33: × | I33: 41 | J33: × | K33: 12 | O33: = | P33: =ROUNDUP(G33*I33*K33,-3) -> 14760000
F34: - 노무/회계담당 | G34: 40000 | H34: × | I34: 4 | J34: × | K34: 12 | O34: = | P34: =ROUNDUP(G34*I34*K34,-3) -> 1920000 | W34: 3284386000
F35: ㅇ시간외/당직근무수당 | P35: =SUM(P36:P41) -> 317788000 | Q35: =P35 -> 317788000 | R35: 71700000 | S35: =Q35-R35 -> 246088000 | T35: =S35/R35 -> 3.4321897
F36: - 사무국장(임기직) | G36: 1056600 | H36: × | I36: 1 | J36: × | K36: 12 | O36: = | P36: =ROUNDUP(G36*I36*K36,-3) -> 12680000
F37: - 4급(일반직) | G37: 941800 | H37: × | I37: 2 | J37: × | K37: 12 | O37: = | P37: =ROUNDUP(G37*I37*K37,-3) -> 22604000 | W37: =Q8+Q70+Q195+Q201+Q214 -> 3622569000
F38: - 5급(일반직) | G38: 820900 | H38: × | I38: 4 | J38: × | K38: 12 | O38: = | P38: =ROUNDUP(G38*I38*K38,-3) -> 39404000
F39: - 6급(일반직) | G39: 738800 | H39: × | I39: 4 | J39: × | K39: 12 | O39: = | P39: =ROUNDUP(G39*I39*K39,-3) -> 35463000
F40: - 7급 대리급(일반직) | G40: 550600 | H40: × | I40: 19 | J40: × | K40: 12 | O40: = | P40: =ROUNDUP(G40*I40*K40,-3) -> 125537000 | W40: 400000000
F41: - 7급 사원급(일반직) | G41: 427600 | H41: × | I41: 16 | J41: × | K41: 12 | O41: = | P41: =ROUNDUP(G41*I41*K41,-3) -> 82100000
F42: ㅇ정근수당 | P42: =SUM(P43:P47) -> 69288000 | Q42: =P42 -> 69288000 | R42: 15177000 | S42: =Q42-R42 -> 54111000 | T42: =S42/R42 -> 3.5653291 | W42: =W37-W40 -> 3222569000
F43: - 4급(일반직) | G43: 1822200 | H43: × | I43: 2 | J43: × | K43: 2 | O43: = | P43: =ROUNDUP(G43*I43*K43,-3) -> 7289000
F44: - 5급(일반직) | G44: 1579600 | H44: × | I44: 4 | J44: × | K44: 2 | O44: = | P44: =ROUNDUP(G44*I44*K44,-3) -> 12637000
F45: - 6급(일반직) | G45: 1412600 | H45: × | I45: 4 | J45: × | K45: 2 | O45: = | P45: =ROUNDUP(G45*I45*K45,-3) -> 11301000
F46: - 7급 대리급(일반직) | G46: 785600 | H46: × | I46: 19 | J46: × | K46: 2 | O46: = | P46: =ROUNDUP(G46*I46*K46,-3) -> 29853000
F47: - 7급 사원급(일반직) | G47: 256500 | H47: × | I47: 16 | J47: × | K47: 2 | O47: = | P47: =ROUNDUP(G47*I47*K47,-3) -> 8208000
F48: ㅇ정근수당가산금 | P48: =SUM(P49:P53) -> 22620000 | Q48: =P48 -> 22620000 | R48: 5770000 | S48: =Q48-R48 -> 16850000 | T48: =S48/R48 -> 2.9202773
F49: - 25년 이상(가산) | G49: 20000 | H49: × | I49: 1 | J49: × | K49: 9 | O49: = | P49: =ROUNDUP(G49*I49*K49,-3) -> 180000
F50: - 20년 이상 | G50: 110000 | H50: × | I50: 3 | J50: × | K50: 12 | O50: = | P50: =ROUNDUP(G50*I50*K50,-3) -> 3960000
F51: - 15년 이상 | G51: 80000 | H51: × | I51: 4 | J51: × | K51: 12 | O51: = | P51: =ROUNDUP(G51*I51*K51,-3) -> 3840000
F52: - 10년 이상 | G52: 60000 | H52: × | I52: 7 | J52: × | K52: 12 | O52: = | P52: =ROUNDUP(G52*I52*K52,-3) -> 5040000
F53: - 5년 이상 | G53: 50000 | H53: × | I53: 16 | J53: × | K53: 12 | O53: = | P53: =ROUNDUP(G53*I53*K53,-3) -> 9600000
F54: ㅇ명절휴가비 | P54: =SUM(P55:P59) -> 116666000 | Q54: =P54 -> 116666000 | R54: 23260000 | S54: =Q54-R54 -> 93406000 | T54: =S54/R54 -> 4.0157352
F55: - 4급(일반직) | G55: 2198600 | H55: × | I55: 2 | J55: × | K55: 2 | O55: = | P55: =ROUNDUP(G55*I55*K55,-3) -> 8795000
F56: - 5급(일반직) | G56: 1899200 | H56: × | I56: 4 | J56: × | K56: 2 | O56: = | P56: =ROUNDUP(G56*I56*K56,-3) -> 15194000
F57: - 6급(일반직) | G57: 1695000 | H57: × | I57: 4 | J57: × | K57: 2 | O57: = | P57: =ROUNDUP(G57*I57*K57,-3) -> 13560000
F58: - 7급 대리급(일반직) | G58: 1247800 | H58: × | I58: 19 | J58: × | K58: 2 | O58: = | P58: =ROUNDUP(G58*I58*K58,-3) -> 47417000
F59: - 7급 사원급(일반직) | G59: 990600 | H59: × | I59: 16 | J59: × | K59: 2 | O59: = | P59: =ROUNDUP(G59*I59*K59,-3) -> 31700000
F60: ㅇ연가보상비 | P60: =SUM(P61:P61) -> 24640000 | Q60: =P60 -> 24640000 | R60: 5160000 | S60: =Q60-R60 -> 19480000 | T60: =S60/R60 -> 3.7751938
F61: - 연가보상비 | G61: 104850 | H61: × | I61: 47 | J61: × | K61: 5 | O61: = | P61: =ROUNDUP(G61*I61*K61,-3) -> 24640000
F62: ㅇ자녀학비보조수당 | P62: =SUM(P63:P63) -> 1880000 | Q62: =P62 -> 1880000 | R62: 0 | S62: =Q62-R62 -> 1880000
F63: - 자녀학비보조수당 | G63: 470000 | H63: × | I63: 1 | J63: × | K63: 4 | O63: = | P63: =ROUNDUP(G63*I63*K63,-3) -> 1880000
F64: ㅇ육아휴직수당 | P64: =SUM(P65:P65) -> 2500000 | Q64: =P64 -> 2500000 | R64: 0 | S64: =Q64-R64 -> 2500000
F65: - 육아휴직수당 | G65: 500000 | H65: × | I65: 1 | J65: × | K65: 5 | O65: = | P65: =ROUNDUP(G65*I65*K65,-3) -> 2500000
E66: 105 기간제근로자보수 | Q66: 0 | R66: 6538000 | S66: =Q66-R66 -> -6538000 | T66: =S66/R66 -> -1
E67: 106 퇴직급여 | Q67: =SUM(P68) -> 169240000 | R67: 43338000 | S67: =Q67-R67 -> 125902000 | T67: =S67/R67 -> 2.9051179
F68: ㅇ퇴직급여충당금 | P68: =SUM(P69:P69) -> 169240000 | Q68: =P68 -> 169240000 | R68: 43338000 | S68: =Q68-R68 -> 125902000 | T68: =S68/R68 -> 2.9051179
F69: ­ 퇴직급여충당금 | G69: =Q9+Q18 -> 2030871000 | H69: × | I69: 12 | O69: = | P69: =ROUNDUP((G69/12),-3) -> 169240000
D70: 200 경비 | Q70: =Q71+Q83+Q87+Q96+Q99+Q109+Q110+Q118+Q126+Q129+Q132+Q135+Q149+Q154+Q159+Q164+Q168+Q175+Q192 -> 396810000 | R70: =R71+R83+R87+R96+R99+R109+R110+R118+R126+R129+R132+R135+R149+R154+R159+R164+R168+R175+R192 -> 313140000 | S70: =Q70-R70 -> 83670000 | T70: =S70/R70 -> 0.26719678
E71: 201 복리후생비 | Q71: =P72+P78+P80 -> 218523000 | R71: =R72+R78+R80 -> 75070000 | S71: =Q71-R71 -> 143453000 | T71: =S71/R71 -> 1.9109231
F72: ㅇ사회4대보험 | P72: =SUM(P73:P77) -> 202283000 | Q72: =P72 -> 202283000 | R72: 50872000 | S72: =Q72-R72 -> 151411000 | T72: =S72/R72 -> 2.9763131
F73: ­ 국민연금부담금 | G73: =G69+Q66 -> 2030871000 | H73: × | I73: 0.045 | O73: = | P73: =ROUNDUP(G73*I73,-3) -> 91390000
F74: ­ 국민건강보험부담금 | G74: =G73 -> 2030871000 | H74: × | I74: 0.0312 | O74: = | P74: =ROUNDUP(G74*I74,-3) -> 63364000
F75: ­ 장기요양보험부담금 | G75: =P74 -> 63364000 | H75: × | I75: 0.0738 | O75: = | P75: =ROUNDUP(G75*I75,-3) -> 4677000
F76: ­ 고용보험부담금 | G76: =G74 -> 2030871000 | H76: × | I76: 0.009 | O76: = | P76: =ROUNDUP(G76*I76,-3) -> 18278000
F77: ­ 산재보험부담금 | G77: =G76 -> 2030871000 | H77: × | I77: 0.0121 | O77: = | P77: =ROUNDUP(G77*I77,-3) -> 24574000
F78: ㅇ급량비 | P78: =SUM(P79) -> 3840000 | Q78: =P78 -> 3840000 | R78: 8448000 | S78: =Q78-R78 -> -4608000 | T78: =S78/R78 -> -0.54545455
F79: ­ 특근매식비 | G79: 8000 | H79: × | I79: 5 | J79: × | K79: 8 | L79: × | M79: 12 | O79: = | P79: =G79*I79*K79*M79 -> 3840000
F80: ㅇ직원복지제도 | P80: =SUM(P81:P82) -> 12400000 | Q80: =P80 -> 12400000 | R80: 15750000 | S80: =Q80-R80 -> -3350000 | T80: =S80/R80 -> -0.21269841
F81: ­ 종합건강검진 | G81: 400000 | H81: × | I81: 6 | O81: = | P81: =ROUNDUP(G81*I81,-3) -> 2400000
F82: ­ 선택적복지제도 | G82: 1000000 | H82: × | I82: 10 | O82: = | P82: =ROUNDUP(G82*I82,-3) -> 10000000
E83: 202 여비 | Q83: =SUM(P84) -> 12840000 | R83: 18600000 | S83: =Q83-R83 -> -5760000 | T83: =S83/R83 -> -0.30967742
F84: ㅇ여비 | P84: =SUM(P85:P86) -> 12840000 | Q84: =P84 -> 12840000 | R84: 18600000 | S84: =Q84-R84 -> -5760000 | T84: =S84/R84 -> -0.30967742
F85: ­ 국내여비 | G85: 170000 | H85: × | I85: 6 | J85: × | K85: 12 | O85: = | P85: =G85*I85*K85 -> 12240000
F86: ­ 국외여비 | G86: 100000 | H86: × | I86: 2 | J86: × | K86: 3 | O86: = | P86: =G86*I86*K86 -> 600000
E87: 203 공공요금 및 제세 | Q87: =P88+P90+P92+P94 -> 5847000 | R87: =R88+R90+R92+R94 -> 6080000 | S87: =Q87-R87 -> -233000 | T87: =S87/R87 -> -0.038322368
F88: ㅇ발송비 | P88: =SUM(P89:P89) -> 600000 | Q88: =P88 -> 600000 | R88: 960000 | S88: =Q88-R88 -> -360000 | T88: =S88/R88 -> -0.375
F89: ­ 우편물,택배 발송비 | G89: 50000 | H89: × | I89: 1 | J89: × | K89: 12 | O89: = | P89: =ROUNDUP(G89*I89*K89,-3) -> 600000
F90: ㅇ통신비 | P90: =SUM(P91:P91) -> 3180000 | Q90: =P90 -> 3180000 | R90: 3000000 | S90: =Q90-R90 -> 180000 | T90: =S90/R90 -> 0.06
F91: ­ 전화 인터넷 사용료 | G91: 265000 | H91: × | I91: 1 | J91: × | K91: 12 | O91: = | P91: =ROUNDUP(G91*I91*K91,-3) -> 3180000
F92: ㅇ협회비 | P92: =SUM(P93:P93) -> 2000000 | Q92: =P92 -> 2000000 | R92: 2000000 | S92: =Q92-R92 -> 0 | T92: =S92/R92 -> 0
F93: ­ 경기도청소년재단협회비 | G93: 2000000 | H93: × | I93: 1 | O93: = | P93: =ROUNDUP(G93*I93,-3) -> 2000000
F94: ㅇ기타공공요금 | P94: =SUM(P95:P95) -> 67000 | Q94: =P94 -> 67000 | R94: 120000 | S94: =Q94-R94 -> -53000 | T94: =S94/R94 -> -0.44166667
F95: ­ 법인세 등 제세 | G95: 67000 | H95: × | I95: 1 | O95: = | P95: =ROUNDUP(G95*I95,-3) -> 67000
E96: 204 수도광열비 | Q96: =P97 -> 12000000 | R96: 10800000 | S96: =Q96-R96 -> 1200000 | T96: =S96/R96 -> 0.11111111
F97: ㅇ수도광열비 | P97: =SUM(P98:P98) -> 12000000 | Q97: =P97 -> 12000000 | R97: 10800000 | S97: =Q97-R97 -> 1200000 | T97: =S97/R97 -> 0.11111111
F98: ­ 수도, 전기 등 공과금 | G98: 1000000 | H98: × | I98: 1 | J98: × | K98: 12 | O98: = | P98: =G98*I98*K98 -> 12000000
E99: 206 소모품비 | Q99: =P100+P103+P105+P107 -> 8100000 | R99: =R100+R103+R105+R107 -> 8100000 | S99: =Q99-R99 -> 0 | T99: =S99/R99 -> 0
F100: ㅇ사무용품비 | P100: =SUM(P101:P102) -> 4200000 | Q100: =P100 -> 4200000 | R100: 4200000 | S100: =Q100-R100 -> 0 | T100: =S100/R100 -> 0
...

Sheet 예산세출(마두)
A1: 2019년 마두청소년수련관 세출예산서(안)
A2: [일반회계] | S2: (단위:천원)
A3: 예산과목 | G3: 산출내역 | Q3: 예산액 | R3: 전년도 예산액 | S3: 증감 | T3: 증감률
A4: 장 | B4: 관 | C4: 항 | D4: 목 | E4: 세목 | F4: 세세목
A5: 마두청소년수련관 | Q5: =Q6 -> 1143863000 | R5: =R6 -> 1644864000 | S5: =Q5-R5 -> -501001000 | T5: =S5/R5 -> -0.30458506 | V5: 1644864000
B6: 700 사업비용 | Q6: =Q7+Q121+Q205+Q321 -> 1143863000 | R6: =R7+R121+R205+R321 -> 1644864000 | S6: =Q6-R6 -> -501001000 | T6: =S6/R6 -> -0.30458506 | V6: =R5-V5 -> 0
C7: 710 영업비용 | Q7: =Q8+Q31+Q116 -> 249909000 | R7: =R8+R31+R116 -> 796000000 | S7: =Q7-R7 -> -546091000 | T7: =S7/R7 -> -0.68604397
D8: 100 인건비 | Q8: =Q9+Q10+Q11+Q28 -> 12925000 | R8: =R9+R10+R11+R28 -> 518616000 | S8: =Q8-R8 -> -505691000 | T8: =S8/R8 -> -0.9750779
E9: 101 급여 | Q9: 0 | R9: 299447000 | S9: =Q9-R9 -> -299447000 | T9: =S9/R9 -> -1
E10: 102 제수당 | Q10: 0 | R10: 179275000 | S10: =Q10-R10 -> -179275000 | T10: =S10/R10 -> -1
E11: 105 기간제근로자보수 | Q11: =P12+P14+P16+P18+P20+P22+P24+P26 -> 12925000 | R11: 0 | S11: =Q11-R11 -> 12925000 | W11: =Q8+Q31+Q116+Q133 -> 318913000
F12: ㅇ기본급 | P12: =SUM(P13:P13) -> 7375000 | Q12: =P12 -> 7375000 | R12: 0 | S12: =Q12-R12 -> 7375000
F13: - 육아휴직대체인력 | G13: 1474900 | H13: × | I13: 1 | J13: × | K13: 5 | O13: = | P13: =ROUNDUP(G13*I13*K13,-3) -> 7375000
F14: ㅇ직급보조비 | P14: =SUM(P15:P15) -> 625000 | Q14: =P14 -> 625000 | R14: 0 | S14: =Q14-R14 -> 625000
F15: - 육아휴직대체인력 | G15: 125000 | H15: × | I15: 1 | J15: × | K15: 5 | O15: = | P15: =ROUNDUP(G15*I15*K15,-3) -> 625000
F16: ㅇ급량비 | P16: =SUM(P17:P17) -> 650000 | Q16: =P16 -> 650000 | R16: 0 | S16: =Q16-R16 -> 650000
F17: - 정액급식비 | G17: 130000 | H17: × | I17: 1 | J17: × | K17: 5 | O17: = | P17: =ROUNDUP(G17*I17*K17,-3) -> 650000
F18: ㅇ자격수당 | P18: =SUM(P19:P19) -> 150000 | Q18: =P18 -> 150000 | R18: 0 | S18: =Q18-R18 -> 150000
F19: - 청소년지도사 | G19: 30000 | H19: × | I19: 1 | J19: × | K19: 5 | O19: = | P19: =ROUNDUP(G19*I19*K19,-3) -> 150000
F20: ㅇ시간외/당직근무수당 | P20: =SUM(P21:P21) -> 1895000 | Q20: =P20 -> 1895000 | R20: 0 | S20: =Q20-R20 -> 1895000
F21: - 시간외및당직근무수당 | G21: 378900 | H21: × | I21: 1 | J21: × | K21: 5 | O21: = | P21: =ROUNDUP(G21*I21*K21,-3) -> 1895000
F22: ㅇ명절휴가비 | P22: =SUM(P23:P23) -> 885000 | Q22: =P22 -> 885000 | R22: 0 | S22: =Q22-R22 -> 885000
F23: - 육아휴직대체인력 | G23: 884940 | H23: × | I23: 1 | J23: × | K23: 1 | O23: = | P23: =ROUNDUP(G23*I23*K23,-3) -> 885000
F24: ㅇ연가보상비 | P24: =SUM(P25:P25) -> 341000 | Q24: =P24 -> 341000 | R24: 0 | S24: =Q24-R24 -> 341000
F25: - 연가보상비 | G25: 68030 | H25: × | I25: 1 | J25: × | K25: 5 | O25: = | P25: =ROUNDUP(G25*I25*K25,-3) -> 341000
F26: ㅇ퇴직급여충당금 | P26: =SUM(P27:P27) -> 1004000 | Q26: =P26 -> 1004000 | R26: 0 | S26: =Q26-R26 -> 1004000
F27: ­ 퇴직급여충당금 | G27: 12037000 | H27: × | I27: 12 | O27: = | P27: =ROUNDUP((G27/12),-3) -> 1004000
E28: 106 퇴직급여 | Q28: =SUM(P29) -> 0 | R28: 39894000 | S28: =Q28-R28 -> -39894000 | T28: =S28/R28 -> -1
D31: 200 경비 | Q31: =Q32+Q39+Q49+Q54+Q60+Q63+Q70+Q90+Q93+Q97+Q107+Q111+Q104 -> 234884000 | R31: =R32+R39+R49+R54+R60+R63+R70+R90+R93+R97+R107+R111 -> 274384000 | S31: =Q31-R31 -> -39500000 | T31: =S31/R31 -> -0.14395883
E32: 201 복리후생비 | Q32: =+P33 -> 1290000 | R32: 45770000 | S32: =Q32-R32 -> -44480000 | T32: =S32/R32 -> -0.9718156
F33: ㅇ사회4대보험 | P33: =SUM(P34:P38) -> 1290000 | Q33: =P33 -> 1290000 | R33: 45770000 | S33: =Q33-R33 -> -44480000 | T33: =S33/R33 -> -0.9718156
F34: ­ 국민연금부담금 | G34: =Q11 -> 12925000 | H34: × | I34: 0.045 | O34: = | P34: =ROUNDUP(G34*I34,-3) -> 582000
F35: ­ 국민건강보험부담금 | G35: =G34 -> 12925000 | H35: × | I35: 0.0312 | O35: = | P35: =ROUNDUP(G35*I35,-3) -> 404000
F36: ­ 장기요양보험부담금 | G36: =P35 -> 404000 | H36: × | I36: 0.0738 | O36: = | P36: =ROUNDUP(G36*I36,-3) -> 30000
F37: ­ 고용보험부담금 | G37: =G34 -> 12925000 | H37: × | I37: 0.009 | O37: = | P37: =ROUNDUP(G37*I37,-3) -> 117000
F38: ­ 산재보험부담금 | G38: =G35 -> 12925000 | H38: × | I38: 0.0121 | O38: = | P38: =ROUNDUP(G38*I38,-3) -> 157000
E39: 203 공공요금 및 제세 | Q39: =SUM(P40+P42+P44) -> 15270000 | R39: 18810000 | S39: =Q39-R39 -> -3540000 | T39: =S39/R39 -> -0.18819777
F40: ㅇ발송비 | P40: =SUM(P41:P41) -> 120000 | Q40: =P40 -> 120000 | R40: 120000 | S40: =Q40-R40 -> 0 | T40: =S40/R40 -> 0
F41: ­ 우편물,택배 발송비 | G41: 10000 | H41: × | I41: 12 | O41: = | P41: =ROUNDUP(G41*I41,-3) -> 120000
F42: ㅇ통신비 | P42: =SUM(P43:P43) -> 13200000 | Q42: =P42 -> 13200000 | R42: 16560000 | S42: =Q42-R42 -> -3360000 | T42: =S42/R42 -> -0.20289855
F43: ­ 전화 인터넷 사용료 | G43: 1100000 | H43: × | I43: 12 | O43: = | P43: =ROUNDUP(G43*I43,-3) -> 13200000
F44: ㅇ협회비및부담금 | P44: =SUM(P45:P48) -> 1950000 | Q44: =P44 -> 1950000 | R44: 2130000 | S44: =Q44-R44 -> -180000 | T44: =S44/R44 -> -0.084507042
F45: ­ 소방안전협회비 | G45: 50000 | H45: × | I45: 1 | O45: = | P45: =ROUNDUP(G45*I45,-3) -> 50000
F46: ­ 전기안전협회비 | G46: 100000 | H46: × | I46: 1 | O46: = | P46: =ROUNDUP(G46*I46,-3) -> 100000
F47: ­ 청소년시설협회비 | G47: 800000 | H47: × | I47: 1 | O47: = | P47: =ROUNDUP(G47*I47,-3) -> 800000
F48: ­ 교통유발부담금 | G48: 1000000 | H48: × | I48: 1 | O48: = | P48: =ROUNDUP(G48*I48,-3) -> 1000000
E49: 204 수도광열비 | Q49: =P50 -> 75600000 | R49: 67800000 | S49: =Q49-R49 -> 7800000 | T49: =S49/R49 -> 0.11504425
F50: ㅇ수도광열비 | P50: =SUM(P51:P53) -> 75600000 | Q50: =P50 -> 75600000 | R50: 67800000 | S50: =Q50-R50 -> 7800000 | T50: =S50/R50 -> 0.11504425
F51: ­ 전기요금 | G51: 4000000 | H51: × | I51: 12 | O51: = | P51: =G51*I51 -> 48000000
F52: ­ 지역난방료(냉난방) | G52: 1700000 | H52: × | I52: 12 | O52: = | P52: =G52*I52 -> 20400000
F53: ­ 상하수도요금 | G53: 600000 | H53: × | I53: 12 | O53: = | P53: =ROUNDUP(G53*I53,-3) -> 7200000
E54: 206 소모품비 | Q54: =P55+P58 -> 6500000 | R54: 7020000 | S54: =Q54-R54 -> -520000 | T54: =S54/R54 -> -0.074074074
F55: ㅇ사무용품비 | P55: =SUM(P56:P57) -> 3500000 | Q55: =P55 -> 3500000 | R55: 4020000 | S55: =Q55-R55 -> -520000 | T55: =S55/R55 -> -0.12935323
F56: ­ 사무용품비 | G56: 500000 | H56: × | I56: 4 | O56: = | P56: =ROUNDUP(G56*I56,-3) -> 2000000
F57: ­ 복사용지 | G57: 125000 | H57: × | I57: 12 | O57: = | P57: =ROUNDUP(G57*I57,-3) -> 1500000
F58: ㅇ청소용품비 | P58: =SUM(P59:P59) -> 3000000 | Q58: =P58 -> 3000000 | R58: 3000000 | S58: =Q58-R58 -> 0 | T58: =S58/R58 -> 0
F59: ­ 청소용소모품비 | G59: 250000 | H59: × | I59: 12 | O59: = | P59: =ROUNDUP(G59*I59,-3) -> 3000000
E60: 208 도서인쇄비 | Q60: =+P61 -> 1800000 | R60: 1800000 | S60: =Q60-R60 -> 0 | T60: =S60/R60 -> 0
F61: ㅇ도서인쇄비 | P61: =SUM(P62:P62) -> 1800000 | Q61: =P61 -> 1800000 | R61: 1800000 | S61: =Q61-R61 -> 0 | T61: =S61/R61 -> 0
F62: ­ 정기간행물 및 업무용도서구입비 | G62: 900000 | H62: × | I62: 2 | O62: = | P62: =ROUNDUP(G62*I62,-3) -> 1800000
E63: 209 지급임차료 | Q63: =+P64 -> 16896000 | R63: 13380000 | S63: =Q63-R63 -> 3516000 | T63: =S63/R63 -> 0.26278027
F64: ㅇ지급임차료 | P64: =SUM(P65:P69) -> 16896000 | Q64: =P64 -> 16896000 | R64: 13380000 | S64: =Q64-R64 -> 3516000 | T64: =S64/R64 -> 0.26278027
F65: ­ 복합기임차료 | G65: 300000 | H65: × | I65: 1 | J65: × | K65: 12 | O65: = | P65: =ROUNDUP(G65*I65*K65,-3) -> 3600000
F66: ­ 차량임차료 | G66: 503000 | H66: × | I66: 1 | J66: × | K66: 12 | O66: = | P66: =ROUNDUP(G66*I66*K66,-3) -> 6036000
F67: ­ 공기청정기임차료 | G67: 25000 | H67: × | I67: 7 | J67: × | K67: 12 | O67: = | P67: =ROUNDUP(G67*I67*K67,-3) -> 2100000
F68: ­ 화장실 비데임차료 | G68: 25000 | H68: × | I68: 6 | J68: × | K68: 12 | O68: = | P68: =ROUNDUP(G68*I68*K68,-3) -> 1800000
F69: ­ 냉온정수기임차료 | G69: 40000 | H69: × | I69: 7 | J69: × | K69: 12 | O69: = | P69: =ROUNDUP(G69*I69*K69,-3) -> 3360000
E70: 210 수선유지비 | Q70: =+P71 -> 93338000 | R70: 93620000 | S70: =Q70-R70 -> -282000 | T70: =S70/R70 -> -0.0030121769
F71: ㅇ수선유지비 | P71: =SUM(P72:P89) -> 93338000 | Q71: =P71 -> 93338000 | R71: 93620000 | S71: =Q71-R71 -> -282000 | T71: =S71/R71 -> -0.0030121769
F72: ­ 저수조유지관리비 | G72: 600000 | H72: × | I72: 2 | O72: = | P72: =ROUNDUP(G72*I72,-3) -> 1200000
F73: - 전기안전관리대행 수수료 | G73: 250000 | H73: × | I73: 12 | O73: = | P73: =ROUNDUP(G73*I73,-3) -> 3000000
F74: ­ 소방안전관리대행 수수료 | G74: 140000 | H74: × | I74: 12 | O74: = | P74: =ROUNDUP(G74*I74,-3) -> 1680000
F75: ­ 자동제어유지관리비 | G75: 825000 | H75: × | I75: 12 | O75: = | P75: =ROUNDUP(G75*I75,-3) -> 9900000
F76: ­ 기계냉난방기유지관리비 | G76: 1750000 | H76: × | I76: 4 | O76: = | P76: =ROUNDUP(G76*I76,-3) -> 7000000
F77: ­ 조경 수선공사비 | G77: 8000000 | H77: × | I77: 1 | O77: = | P77: =ROUNDUP(G77*I77,-3) -> 8000000
F78: ­ 북카페 환경개선비 | G78: 7000000 | H78: × | I78: 1 | O78: = | P78: =ROUNDUP(G78*I78,-3) -> 7000000
F79: ­ 창고설치공사비 | G79: 7000000 | H79: × | I79: 1 | O79: = | P79: =ROUNDUP(G79*I79,-3) -> 7000000
F80: ­ 우레탄 방수공사비 | G80: 4000000 | H80: × | I80: 1 | O80: = | P80: =ROUNDUP(G80*I80,-3) -> 4000000
F81: ­ 도로 이정표 설치비 | G81: 5000000 | H81: × | I81: 1 | O81: = | P81: =ROUNDUP(G81*I81,-3) -> 5000000
F82: ­ 외부벽체 실리콘 방수공사비 | G82: 5000000 | H82: × | I82: 1 | O82: = | P82: =ROUNDUP(G82*I82,-3) -> 5000000
F83: ­ 공조기 및 환기필터 교체 용역비 | G83: 5000000 | H83: × | I83: 1 | O83: = | P83: =ROUNDUP(G83*I83,-3) -> 5000000
... F86: ­ 통신시설유지관리비 | G86: 1250000 | H86: × | I86: 4 | O86: = | P86: =ROUNDUP(G86*I86,-3) -> 5000000
F87: ­ 승강기위탁관리유지관리비 | G87: 137000 | H87: × | I87: 2 | J87: × | K87: 12 | O87: = | P87: =ROUNDUP(G87*I87*K87,-3) -> 3288000
F88: ­ 건물수선비(대청소) | G88: 4500000 | H88: × | I88: 1 | O88: = | P88: =ROUNDUP(G88*I88,-3) -> 4500000
F89: ­ 전기설비유지관리비 | G89: 1500000 | H89: × | I89: 4 | O89: = | P89: =ROUNDUP(G89*I89,-3) -> 6000000
E90: 211 차량유지비 | Q90: =+P91 -> 840000 | R90: 840000 | S90: =Q90-R90 -> 0 | T90: =S90/R90 -> 0
F91: ㅇ차량유지비 | P91: =SUM(P92:P92) -> 840000 | Q91: =P91 -> 840000 | R91: 840000 | S91: =Q91-R91 -> 0 | T91: =S91/R91 -> 0
F92: ­ 주유비 및 수리 | G92: 70000 | H92: × | I92: 1 | J92: × | K92: 12 | O92: = | P92: =G92*I92*K92 -> 840000
E93: 212 보험료 | Q93: =+P94 -> 6150000 | R93: 6789000 | S93: =Q93-R93 -> -639000 | T93: =S93/R93 -> -0.094122846
F94: ㅇ보험료 | P94: =SUM(P95:P96) -> 6150000 | Q94: =P94 -> 6150000 | R94: 6789000 | S94: =Q94-R94 -> -639000 | T94: =S94/R94 -> -0.094122846
F95: ­ 수련시설종합보험료 | G95: 6000000 | H95: × | I95: 1 | O95: = | P95: =ROUNDUP(G95*I95,-3) -> 6000000
F96: ­ 회계보증보험 | G96: 150000 | H96: × | I96: 1 | O96: = | P96: =ROUNDUP(G96*I96,-3) -> 150000
E97: 213 지급수수료 | Q97: =+P98 -> 4700000 | R97: 6555000 | S97: =Q97-R97 -> -1855000 | T97: =S97/R97 -> -0.28299008
F98: ㅇ지급수수료 | P98: =SUM(P99:P103) -> 4700000 | Q98: =P98 -> 4700000 | R98: 6555000 | S98: =Q98-R98 -> -1855000 | T98: =S98/R98 -> -0.28299008
F99: ­ 무인경비시스템유지관리비 | G99: 235000 | H99: × | I99: 12 | O99: = | P99: =ROUNDUP(G99*I99,-3) -> 2820000
F100: - 방역소독 수수료 | G100: 90000 | H100: × | I100: 12 | O100: = | P100: =ROUNDUP(G100*I100,-3) -> 1080000
F101: ­ 수질검사수수료 | G101: 50000 | H101: × | I101: 1 | O101: = | P101: =ROUNDUP(G101*I101,-3) -> 50000
F102: ­ 승강기정기검사수수료 | G102: 250000 | H102: × | I102: 1 | O102: = | P102: =ROUNDUP(G102*I102,-3) -> 250000
F103: ­ 각종수수료(퇴직연금운용등) | G103: 500000 | H103: × | I103: 1 | O103: = | P103: =ROUNDUP(G103*I103,-3) -> 500000
E104: 216 교육훈련비 | Q104: =Q105 -> 500000 | R104: =R105 -> 0 | S104: =Q104-R104 -> 500000
...

Sheet 예산세출(진로)
A1: 2019년 고양시청소년진로센터 세출예산서(안)
A2: [일반회계] | S2: (단위:천원)
A3: 예산과목 | G3: 산출내역 | Q3: 예산액 | R3: 전년도 예산액 | S3: 증감 | T3: 증감률
A4: 장 | B4: 관 | C4: 항 | D4: 목 | E4: 세목 | F4: 세세목
A5: 고양시청소년진로센터 | Q5: =Q6 -> 61498000 | R5: =R6 -> 656844000 | S5: =Q5-R5 -> -595346000 | T5: =S5/R5 -> -0.90637351 | V5: 63370000 | W5: 656844000
B6: 700 사업비용 | Q6: =Q7+Q77+Q106+Q101 -> 61498000 | R6: =R7+R77+R106+R101 -> 656844000 | S6: =Q6-R6 -> -595346000 | T6: =S6/R6 -> -0.90637351 | V6: =Q5-V5 -> -1872000 | W6: =R5-W5 -> 0
C7: 710 영업비용 | Q7: =Q8+Q17+Q73 -> 61258000 | R7: =R8+R17+R73 -> 247468000 | S7: =Q7-R7 -> -186210000 | T7: =S7/R7 -> -0.75246092
D8: 100 인건비 | Q8: =Q9+Q10+Q11+Q14 -> 21248000 | R8: =R9+R10+R11+R14 -> 191160000 | S8: =Q8-R8 -> -169912000 | T8: =S8/R8 -> -0.88884704
E9: 101 급여 | Q9: 0 | R9: 98811000 | S9: =Q9-R9 -> -98811000 | T9: =S9/R9 -> -1
E10: 102 제수당 | Q10: 0 | R10: 60219000 | S10: =Q10-R10 -> -60219000 | T10: =S10/R10 -> -1
E11: 105 기간제근로자보수 | Q11: =Q12 -> 21248000 | R11: 18887000 | S11: =Q11-R11 -> 2361000 | T11: =S11/R11 -> 0.12500662
F12: ㅇ기간제근로자 보수 | P12: =SUM(P13:P13) -> 21248000 | Q12: =P12 -> 21248000 | R12: 18887000 | S12: =Q12-R12 -> 2361000 | T12: =S12/R12 -> 0.12500662
F13: ­ 기간제근로자 보수 | G13: 9080 | H13: × | I13: 180 | J13: × | K13: 13 | O13: = | P13: =ROUNDUP(G13*I13*K13,-3) -> 21248000
E14: 106 퇴직급여 | Q14: =SUM(P15) -> 0 | R14: 13243000 | S14: =Q14-R14 -> -13243000 | T14: =S14/R14 -> -1
D17: 200 경비 | Q17: =Q18+Q30+Q33+Q36+Q42+Q43+Q46+Q50+Q53+Q56+Q59+Q64+Q69 -> 38310000 | R17: =R18+R30+R33+R36+R42+R43+R46+R50+R53+R56+R59+R64+R69 -> 51208000 | S17: =Q17-R17 -> -12898000 | T17: =S17/R17 -> -0.25187471
E18: 201 복리후생비 | Q18: =P19+P25+P27 -> 10239000 | R18: 25653000 | S18: =Q18-R18 -> -15414000 | T18: =S18/R18 -> -0.6008654
F19: ㅇ사회4대보험 | P19: =SUM(P20:P24) -> 2119000 | Q19: =P19 -> 2119000 | R19: 18653000 | S19: =Q19-R19 -> -16534000 | T19: =S19/R19 -> -0.88639897
F20: ­ 국민연금부담금 | G20: =P12 -> 21248000 | H20: × | I20: 0.045 | O20: = | P20: =ROUNDUP(G20*I20,-3) -> 957000
F21: ­ 국민건강보험부담금 | G21: =G20 -> 21248000 | H21: × | I21: 0.0312 | O21: = | P21: =ROUNDUP(G21*I21,-3) -> 663000
F22: ­ 장기요양보험부담금 | G22: =P21 -> 663000 | H22: × | I22: 0.0738 | O22: = | P22: =ROUNDUP(G22*I22,-3) -> 49000
F23: ­ 고용보험부담금 | G23: =G20 -> 21248000 | H23: × | I23: 0.009 | O23: = | P23: =ROUNDUP(G23*I23,-3) -> 192000
F24: ­ 산재보험부담금 | G24: =G21 -> 21248000 | H24: × | I24: 0.0121 | O24: = | P24: =ROUNDUP(G24*I24,-3) -> 258000
F25: ㅇ급량비 | P25: =SUM(P26) -> 1920000 | Q25: =P25 -> 1920000 | R25: 1400000 | S25: =Q25-R25 -> 520000 | T25: =S25/R25 -> 0.37142857
F26: ­ 특근매식비 | G26: 8000 | H26: × | I26: 2 | J26: × | K26: 10 | L26: × | M26: 12 | O26: = | P26: =G26*I26*K26*M26 -> 1920000 | W26: 1920000
F27: ㅇ직원복지제도 | P27: =SUM(P28:P29) -> 6200000 | Q27: =P27 -> 6200000 | R27: 5600000 | S27: =Q27-R27 -> 600000 | T27: =S27/R27 -> 0.10714286
F28: ­ 선택적복지제도 | G28: 1000000 | H28: × | I28: 5 | O28: = | P28: =G28*I28 -> 5000000 | W28: =W26/8000/2/12 -> 10
F29: ­ 직원건강검진 | G29: 400000 | H29: × | I29: 3 | O29: = | P29: =G29*I29 -> 1200000
E30: 202 여비 | Q30: =SUM(P31) -> 9000000 | R30: 7200000 | S30: =Q30-R30 -> 1800000 | T30: =S30/R30 -> 0.25
F31: ㅇ여비 | P31: =SUM(P32:P32) -> 9000000 | Q31: 9000000 | R31: 7200000 | S31: =Q31-R31 -> 1800000 | T31: =S31/R31 -> 0.25
F32: ­ 국내여비 | G32: 150000 | H32: × | I32: 5 | J32: × | K32: 12 | O32: = | P32: =G32*I32*K32 -> 9000000
E33: 203 공공요금 및 제세 | Q33: =P34 -> 720000 | R33: 720000 | S33: =Q33-R33 -> 0 | T33: =S33/R33 -> 0
F34: ㅇ통신비 | P34: =SUM(P35:P35) -> 720000 | Q34: 720000 | R34: 720000 | S34: =Q34-R34 -> 0 | T34: =S34/R34 -> 0
F35: ­ SMS 전송비 | G35: 60000 | H35: × | I35: 12 | O35: = | P35: =ROUNDUP(G35*I35,-3) -> 720000
E36: 206 소모품비 | Q36: =P37+P40 -> 2244000 | R36: 2244000 | S36: =Q36-R36 -> 0 | T36: =S36/R36 -> 0
F37: ㅇ사무용품비 | P37: =SUM(P38:P39) -> 1944000 | Q37: =P37 -> 1944000 | R37: 1944000 | S37: =Q37-R37 -> 0 | T37: =S37/R37 -> 0
F38: ­ 소프트웨어 구입비 | G38: 150000 | H38: × | I38: 2 | O38: = | P38: =ROUNDUP(G38*I38,-3) -> 300000
F39: ­ 사무용품비 | G39: 137000 | H39: × | I39: 12 | O39: = | P39: =ROUNDUP(G39*I39,-3) -> 1644000
F40: ㅇ사무실운영경비 | P40: =SUM(P41) -> 300000 | Q40: =P40 -> 300000 | R40: 300000 | S40: =Q40-R40 -> 0 | T40: =S40/R40 -> 0
F41: ­ 청소용품구입비 | G41: 50000 | H41: × | I41: 6 | O41: = | P41: =ROUNDUP(G41*I41,-3) -> 300000
E42: 207 피복비 | Q42: 0 | R42: 320000 | S42: =Q42-R42 -> -320000 | T42: =S42/R42 -> -1
E43: 208 도서인쇄비 | Q43: =P44 -> 1000000 | R43: 1000000 | S43: =Q43-R43 -> 0 | T43: =S43/R43 -> 0
F44: ㅇ도서인쇄비 | P44: =SUM(P45:P45) -> 1000000 | Q44: 1000000 | R44: 1000000 | S44: =Q44-R44 -> 0 | T44: =S44/R44 -> 0
F45: ­ 정기간행물 및 업무용도서구입비 | G45: 500000 | H45: × | I45: 2 | O45: = | P45: =ROUNDUP(G45*I45,-3) -> 1000000
E46: 209 지급임차료 | Q46: =P47 -> 3480000 | R46: 3000000 | S46: =Q46-R46 -> 480000 | T46: =S46/R46 -> 0.16
F47: ㅇ지급임차료 | P47: =SUM(P48:P49) -> 3480000 | Q47: =P47 -> 3480000 | R47: 3000000 | S47: =Q47-R47 -> 480000 | T47: =S47/R47 -> 0.16
F48: ­ 복합기임차료 | G48: 250000 | H48: × | I48: 1 | J48: × | K48: 12 | O48: = | P48: =ROUNDUP(G48*I48*K48,-3) -> 3000000
F49: ­ 공기청정기임차료 | G49: 40000 | H49: × | I49: 1 | J49: × | K49: 12 | O49: = | P49: =ROUNDUP(G49*I49*K49,-3) -> 480000
E50: 210 수선유지비 | Q50: =P51 -> 960000 | R50: 0 | S50: =Q50-R50 -> 960000
F51: ㅇ수선유지비 | P51: =SUM(P52:P52) -> 960000 | Q51: =P51 -> 960000 | R51: 0 | S51: =Q51-R51 -> 960000
F52: ­ PC유지관리비 | G52: 80000 | H52: × | I52: 12 | O52: = | P52: =ROUNDUP(G52*I52,-3) -> 960000
E53: 213 지급수수료 | Q53: =P54 -> 492000 | R53: 492000 | S53: =Q53-R53 -> 0 | T53: =S53/R53 -> 0
F54: ㅇ지급수수료 | P54: =SUM(P55) -> 492000 | Q54: =P54 -> 492000 | R54: 492000 | S54: =Q54-R54 -> 0 | T54: =S54/R54 -> 0
F55: ­ 무인경비시스템유지관리비 | G55: 41000 | H55: × | I55: 12 | O55: = | P55: =ROUNDUP(G55*I55,-3) -> 492000
E56: 214 업무추진비 | Q56: =P57 -> 1200000 | R56: 3000000 | S56: =Q56-R56 -> -1800000 | T56: =S56/R56 -> -0.6
F57: ㅇ 시책추진업무추진비 | P57: =P58 -> 1200000 | Q57: =P57 -> 1200000 | R57: 3000000 | S57: =Q57-R57 -> -1800000 | T57: =S57/R57 -> -0.6
F58: ­ 시책추진업무추진비 | G58: 100000 | H58: × | I58: 12 | O58: = | P58: =ROUNDUP(G58*I58,-3) -> 1200000 | W58: 1200000 | Y58: =W58/12 -> 100000
E59: 215 관서업무비 | Q59: =P60+P62 -> 1300000 | R59: 1520000 | S59: =Q59-R59 -> -220000 | T59: =S59/R59 -> -0.14473684
F60: ㅇ 부서운영업무추진비 | P60: =P61 -> 900000 | Q60: =P60 -> 900000 | R60: 1200000 | S60: =Q60-R60 -> -300000 | T60: =S60/R60 -> -0.25
F61: ­ 부서운영업무추진비 | G61: 75000 | H61: × | I61: 12 | O61: = | P61: =ROUNDUP(G61*I61,-3) -> 900000 | V61: 900000 | X61: =V61/12 -> 75000
F62: ㅇ 정원가산업무추진비 | P62: =P63 -> 400000 | Q62: =P62 -> 400000 | R62: 320000 | S62: =Q62-R62 -> 80000 | T62: =S62/R62 -> 0.25
F63: ­ 정원가산업무추진비 | G63: 80000 | H63: × | I63: 5 | O63: = | P63: =ROUNDUP(G63*I63,-3) -> 400000
E64: 216 교육훈련비 | Q64: =P65+P67 -> 2816000 | R64: 1200000 | S64: =Q64-R64 -> 1616000 | T64: =S64/R64 -> 1.3466667
F65: ㅇ위탁교육비 | P65: =SUM(P66:P66) -> 1500000 | Q65: =P65 -> 1500000 | R65: 1200000 | S65: =Q65-R65 -> 300000 | T65: =S65/R65 -> 0.25
F66: ­ 직원교육지원비 | G66: 300000 | H66: × | I66: 5 | O66: = | P66: =ROUNDUP(G66*I66,-3) -> 1500000
F67: ㅇ워크숍 | P67: =SUM(P68:P68) -> 1316000 | Q67: =P67 -> 1316000 | R67: 0 | S67: =Q67-R67 -> 1316000
F68: ­ 직원워크숍 | G68: 1316000 | H68: × | I68: 1 | O68: = | P68: =G68*I68 -> 1316000
E69: 218 행사홍보비 | Q69: =P70 -> 4859000 | R69: 4859000 | S69: =Q69-R69 -> 0 | T69: =S69/R69 -> 0
F70: ㅇ홍보물 제작 | P70: =SUM(P71:P72) -> 4859000 | Q70: =P70 -> 4859000 | R70: 4859000 | S70: =Q70-R70 -> 0 | T70: =S70/R70 -> 0
F71: ­ 인쇄물제작 | G71: 1650000 | H71: × | I71: 1 | J71: × | K71: 2 | O71: = | P71: =G71*I71*K71 -> 3300000
F72: ­ 현수막, 포스터, 베너 등 | G72: 1559000 | H72: × | I72: 1 | J72: × | K72: 1 | O72: = | P72: =G72*I72*K72 -> 1559000
D73: 405 자산취득비 | Q73: =Q74 -> 1700000 | R73: =R74 -> 5100000 | S73: =Q73-R73 -> -3400000 | T73: =S73/R73 -> -0.66666667
E74: 405-1 자산취득비 | Q74: =P75 -> 1700000 | R74: 5100000 | S74: =Q74-R74 -> -3400000 | T74: =S74/R74 -> -0.66666667
F75: ㅇ자산취득비 | P75: =SUM(P76:P76) -> 1700000 | Q75: =P75 -> 1700000 | R75: 5100000 | S75: =Q75-R75 -> -3400000 | T75: =S75/R75 -> -0.66666667
F76: ­ 사무용가구 및 컴퓨터 구입 | G76: 850000 | H76: × | I76: 2 | O76: = | P76: =ROUNDUP(G76*I76,-3) -> 1700000 | V76: 1700000
C77: 720 청소년사업비 | Q77: =Q78+Q97 -> 0 | R77: =R78+R97 -> 407820000 | S77: =Q77-R77 -> -407820000 | T77: =S77/R77 -> -1 | V77: =V76/2 -> 850000
D78: 721 보조금사업비 | Q78: =Q79+Q87 -> 0 | R78: =R79+R87 -> 330300000 | S78: =Q78-R78 -> -330300000 | T78: =S78/R78 -> -1
E79: 721-1 국도시비보조금사업비 | Q79: =P80+P84 -> 0 | R79: 286300000 | S79: =Q79-R79 -> -286300000 | T79: =S79/R79 -> -1
E87: 721-2 교육청사업비 | Q87: =P88+P90+P95 -> 0 | R87: 44000000 | S87: =Q87-R87 -> -44000000 | T87: =S87/R87 -> -1
D97: 722 목적사업비 | Q97: =Q98+Q99+Q100 -> 0 | R97: =R98+R99+R100 -> 77520000 | S97: =S98+S99+S100 -> -77520000 | T97: =S97/R97 -> -1
E98: 722-1 청소년 참여와 활동 | Q98: 0 | R98: 37520000 | S98: =Q98-R98 -> -37520000 | T98: =S98/R98 -> -1
E99: 722-2 청소년 보호와 안전 | Q99: 0 | R99: 24000000 | S99: =Q99-R99 -> -24000000 | T99: =S99/R99 -> -1
E100: 722-3 지역사회 네트워킹 | Q100: 0 | R100: 16000000 | S100: =Q100-R100 -> -16000000 | T100: =S100/R100 -> -1
C101: 730 자체사업비 | Q101: =Q102 -> 0 | R101: =R102 -> 1316000 | S101: =Q101-R101 -> -1316000 | T101: =S101/R101 -> -1
D102: 200 경비 | Q102: =Q103 -> 0 | R102: =R103 -> 1316000 | S102: =Q102-R102 -> -1316000 | T102: =S102/R102 -> -1
E103: 216 교육훈련비 | Q103: 0 | R103: 1316000 | S103: =Q103-R103 -> -1316000 | T103: =S103/R103 -> -1
C104: 770 영업외비용 | Q104: =Q105 -> 240000 | R104: =R105 -> 240000 | S104: =Q104-R104 -> 0 | T104: =S104/R104 -> 0
D105: 775 기타영업외비용 | Q105: =Q106 -> 240000 | R105: =R106 -> 240000 | S105: =Q105-R105 -> 0 | T105: =S105/R105 -> 0
E106: 775-4 기타영업외비용 | Q106: =P107 -> 240000 | R106: 240000 | S106: =Q106-R106 -> 0 | T106: =S106/R106 -> 0
F107: ㅇ이자반환금(과년도) | P107: =P108 -> 240000 | Q107: =P107 -> 240000 | R107: 240000 | S107: =Q107-R107 -> 0 | T107: =S107/R107 -> 0
F108: ­ 예금이자 | G108: 240000 | H108: × | I108: 1 | O108: = | P108: =G108*I108 -> 240000

Sheet 예산세출(성사)
A1: 2019년 성사청소년문화의집 세출예산서(안)
A2: [일반회계] | S2: (단위:천원)
A3: 예산과목 | G3: 산출내역 | Q3: 예산액 | R3: 전년도 예산액 | S3: 증감 | T3: 증감률
A4: 장 | B4: 관 | C4: 항 | D4: 목 | E4: 세목 | F4: 세세목
A5: 성사청소년문화의집 | Q5: =SUM(Q6) -> 215312000 | R5: =SUM(R6) -> 587720000 | S5: =Q5-R5 -> -372408000 | T5: =S5/R5 -> -0.63364868
B6: 700 사업비용 | Q6: =Q7+Q97+Q240+Q280 -> 215312000 | R6: =R7+R97+R240+R280 -> 587720000 | S6: =Q6-R6 -> -372408000 | T6: =S6/R6 -> -0.63364868
C7: 710 영업비용 | Q7: =Q8+Q24+Q95 -> 123490000 | R7: =R8+R24+R95 -> 278774000 | S7: =Q7-R7 -> -155284000 | T7: =S7/R7 -> -0.55702469
D8: 100 인건비 | Q8: =Q9+Q10+Q11+Q23 -> 37340000 | R8: =R9+R10+R11+R23 -> 183764000 | S8: =Q8-R8 -> -146424000 | T8: =S8/R8 -> -0.7968046
E9: 101 급여 | Q9: 0 | R9: 90615000 | S9: =Q9-R9 -> -90615000 | T9: =S9/R9 -> -1 | X9: =Q8+Q24+Q95+Q100 -> 184082000
E10: 102 제수당 | Q10: 0 | R10: 76610000 | S10: =Q10-R10 -> -76610000 | T10: =S10/R10 -> -1
E11: 104 무기계약근로자보수 | Q11: =P12+P14+P16+P18+P20 -> 37340000 | R11: 0 | S11: =Q11-R11 -> 37340000
F12: ㅇ급량비 | P12: =SUM(P13:P13) -> 6240000 | Q12: =P12 -> 6240000 | R12: 0 | S12: =Q12-R12 -> 6240000
F13: - 정액급식비 | G13: 130000 | H13: × | I13: 4 | J13: × | K13: 12 | O13: = | P13: =G13*I13*K13 -> 6240000
F14: ㅇ시간외/당직근무수당 | P14: =SUM(P15:P15) -> 21684000 | Q14: =P14 -> 21684000 | R14: 0 | S14: =Q14-R14 -> 21684000
F15: - 시간외및당직근무수당 | G15: 451730 | H15: × | I15: 4 | J15: × | K15: 12 | O15: = | P15: =ROUNDUP(G15*I15*K15,-3) -> 21684000
F16: ㅇ명절휴가비 | P16: =SUM(P17) -> 3200000 | Q16: =P16 -> 3200000 | R16: 0 | S16: =Q16-R16 -> 3200000
F17: - 명절휴가비 | G17: 400000 | H17: × | I17: 4 | J17: × | K17: 2 | O17: = | P17: =G17*I17*K17 -> 3200000
F18: ㅇ연가보상비 | P18: =SUM(P19:P19) -> 1607000 | Q18: =P18 -> 1607000 | R18: 0 | S18: =Q18-R18 -> 1607000
F19: - 연가보상비 | G19: 80350 | H19: × | I19: 4 | J19: × | K19: 5 | O19: = | P19: =G19*I19*K19 -> 1607000 | W19: =Q8+Q24+Q95+Q100 -> 184082000
F20: ㅇ퇴직급여충당금 | P20: =SUM(P21:P22) -> 4609000 | Q20: =P20 -> 4609000 | R20: 0 | S20: =Q20-R20 -> 4609000
F21: ­ 퇴직급여충당금(방과후) | G21: 24789700 | H21: × | I21: 12 | O21: = | P21: =ROUNDUP(G21/12,-3) -> 2066000
F22: ­ 퇴직급여충당금(배치) | G22: 30511650 | H22: × | I22: 12 | O22: = | P22: =ROUNDUP(G22/12,-3) -> 2543000
E23: 106 퇴직급여 | Q23: 0 | R23: 16539000 | S23: =Q23-R23 -> -16539000 | T23: =S23/R23 -> -1
D24: 200 경비 | Q24: =Q25+Q37+Q42+Q51+Q54+Q62+Q65+Q69+Q74+Q77+Q81+Q82+Q85+Q90+Q91+Q92 -> 86150000 | R24: =R25+R37+R42+R51+R54+R62+R65+R69+R74+R77+R81+R82+R85+R90+R91+R92 -> 88010000 | S24: =Q24-R24 -> -1860000 | T24: =S24/R24 -> -0.021133962
E25: 201 복리후생비 | Q25: =P26+P35+P32 -> 27422000 | R25: 28058000 | S25: =Q25-R25 -> -636000 | T25: =S25/R25 -> -0.022667332
F26: ㅇ사회4대보험 | P26: =SUM(P27:P31) -> 12750000 | Q26: =P26 -> 12750000 | R26: 26138000 | S26: =Q26-R26 -> -13388000 | T26: =S26/R26 -> -0.51220445
F27: ­ 국민연금부담금 | G27: 128000000 | H27: × | I27: 0.045 | O27: = | P27: =ROUNDUP(G27*I27,-3) -> 5760000
F28: ­ 국민건강보험부담금 | G28: 128000000 | H28: × | I28: 0.0312 | O28: = | P28: =ROUNDUP(G28*I28,-3) -> 3994000
F29: ­ 장기요양보험부담금 | G29: =P28 -> 3994000 | H29: × | I29: 0.0738 | O29: = | P29: =ROUNDUP(G29*I29,-3) -> 295000
F30: ­ 고용보험부담금 | G30: 128000000 | H30: × | I30: 0.009 | O30: = | P30: =ROUNDUP(G30*I30,-3) -> 1152000
F31: ­ 산재보험부담금 | G31: 128000000 | H31: × | I31: 0.0121 | O31: = | P31: =ROUNDUP(G31*I31,-3) -> 1549000
F32: ㅇ직원복지 | P32: =SUM(P33:P34) -> 11600000 | Q32: =P32 -> 11600000 | R32: 0 | S32: =Q32-R32 -> 11600000
F33: ­ 직원종합건강검진 | G33: 400000 | H33: × | I33: 7 | O33: = | P33: =ROUNDUP(G33*I33,-3) -> 2800000
F34: ­ 선택적복지제도 | G34: 1100000 | H34: × | I34: 8 | O34: = | P34: =ROUNDUP(G34*I34,-3) -> 8800000
F35: ㅇ급량비 | P35: =SUM(P36) -> 3072000 | Q35: =P35 -> 3072000 | R35: 1920000 | S35: =Q35-R35 -> 1152000 | T35: =S35/R35 -> 0.6
F36: ­ 특근매식비 | G36: 8000 | H36: × | I36: 8 | J36: × | K36: 4 | L36: × | M36: 12 | O36: = | P36: =G36*I36*K36*M36 -> 3072000
E37: 202 여비 | Q37: =P38 -> 9080000 | R37: 4000000 | S37: =Q37-R37 -> 5080000 | T37: =S37/R37 -> 1.27
F38: ㅇ여비 | P38: =SUM(P39:P41) -> 9080000 | Q38: =P38 -> 9080000 | R38: 4000000 | S38: =Q38-R38 -> 5080000 | T38: =S38/R38 -> 1.27
F39: ­ 국내여비 | G39: 80000 | H39: × | I39: 8 | J39: × | K39: 12 | O39: = | P39: =G39*I39*K39 -> 7680000
F40: ­ 국외여비(지도자 출장일비) | G40: 40000 | H40: × | I40: 1 | J40: × | K40: 10 | O40: = | P40: =G40*I40*K40 -> 400000
F41: ­ 국외여비(지도자 교통비) | G41: 1000000 | H41: × | I41: 1 | O41: = | P41: =G41*I41 -> 1000000
E42: 203 공공요금 및 제세 | Q42: =P43+P45+P49 -> 3124000 | R42: 2704000 | S42: =Q42-R42 -> 420000 | T42: =S42/R42 -> 0.15532544
F43: ㅇ발송비 | P43: =SUM(P44:P44) -> 960000 | Q43: =P43 -> 960000 | R43: 0 | S43: =Q43-R43 -> 960000
F44: ­ 우편물, SMS, 택배 발송비 | G44: 80000 | H44: × | I44: 12 | O44: = | P44: =G44*I44 -> 960000
F45: ㅇ통신비 | P45: =SUM(P46:P48) -> 1764000 | Q45: =P45 -> 1764000 | R45: 2304000 | S45: =Q45-R45 -> -540000 | T45: =S45/R45 -> -0.234375
F46: ­ 전화 사용료 | G46: 50000 | H46: × | I46: 12 | O46: = | P46: =G46*I46 -> 600000
F47: ­ 인터넷 사용료 | G47: 42000 | H47: × | I47: 12 | O47: = | P47: =G47*I47 -> 504000
F48: - UTM 보안 | G48: 55000 | H48: × | I48: 12 | O48: = | P48: =G48*I48 -> 660000
F49: ㅇ협회비및부담금 | P49: =SUM(P50:P50) -> 400000 | Q49: =P49 -> 400000 | R49: 400000 | S49: =Q49-R49 -> 0 | T49: =S49/R49 -> 0
F50: ­ 청소년시설협회비 | G50: 400000 | H50: × | I50: 1 | O50: = | P50: =G50*I50 -> 400000
E51: 204 수도광열비 | Q51: =P52 -> 24000000 | R51: 24000000 | S51: =Q51-R51 -> 0 | T51: =S51/R51 -> 0
F52: ㅇ수도광열비 | P52: =SUM(P53) -> 24000000 | Q52: =P52 -> 24000000 | R52: 24000000 | S52: =Q52-R52 -> 0 | T52: =S52/R52 -> 0
F53: ­ 수도, 전기 등 관리비 | G53: 2000000 | H53: × | I53: 12 | O53: = | P53: =G53*I53 -> 24000000
E54: 206 소모품비 | Q54: =P55+P57+P60 -> 3080000 | R54: 2400000 | S54: =Q54-R54 -> 680000 | T54: =S54/R54 -> 0.28333333
F55: ㅇ사무용품비 | P55: =SUM(P56) -> 600000 | Q55: =P55 -> 600000 | R55: 600000 | S55: =Q55-R55 -> 0 | T55: =S55/R55 -> 0
F56: ­ 사무용품비 | G56: 50000 | H56: × | I56: 12 | O56: = | P56: =G56*I56 -> 600000
F57: ㅇ전산소모품비 | P57: =SUM(P58:P59) -> 1640000 | Q57: =P57 -> 1640000 | R57: 1200000 | S57: =Q57-R57 -> 440000 | T57: =S57/R57 -> 0.36666667
F58: - 사무용 소프트웨어 구입 | G58: 130000 | H58: × | I58: 8 | O58: = | P58: =G58*I58 -> 1040000
F59: ­ 전산소모물품 구입 | G59: 50000 | H59: × | I59: 12 | O59: = | P59: =G59*I59 -> 600000
F60: ㅇ소모품비 | P60: =SUM(P61) -> 840000 | Q60: =P60 -> 840000 | R60: 600000 | S60: =Q60-R60 -> 240000 | T60: =S60/R60 -> 0.4
F61: ­ 시설운영물품(청소용품, 약품 등) | G61: 70000 | H61: × | I61: 12 | O61: = | P61: =G61*I61 -> 840000
E62: 207 피복비 | Q62: =P63 -> 160000 | R62: 640000 | S62: =Q62-R62 -> -480000 | T62: =S62/R62 -> -0.75
F63: ㅇ피복비 | P63: =SUM(P64:P64) -> 160000 | Q63: =P63 -> 160000 | R63: 640000 | S63: =Q63-R63 -> -480000 | T63: =S63/R63 -> -0.75
F64: ­ 직원피복비 | G64: 80000 | H64: × | I64: 2 | O64: = | P64: =G64*I64 -> 160000
E65: 208 도서인쇄비 | Q65: =P66 -> 2100000 | R65: 1600000 | S65: =Q65-R65 -> 500000 | T65: =S65/R65 -> 0.3125
F66: ㅇ도서인쇄비 | P66: =SUM(P67:P68) -> 2100000 | Q66: =P66 -> 2100000 | R66: 1600000 | S66: =Q66-R66 -> 500000 | T66: =S66/R66 -> 0.3125
F67: ­ 정기간행물 및 업무용도서구입비 | G67: 300000 | H67: × | I67: 2 | O67: = | P67: =G67*I67 -> 600000
F68: ­ 사업보고서 제작 | G68: 1500000 | H68: × | I68: 1 | O68: = | P68: =G68*I68 -> 1500000
E69: 209 지급임차료 | Q69: =P70 -> 2844000 | R69: 2796000 | S69: =Q69-R69 -> 48000 | T69: =S69/R69 -> 0.017167382
F70: ㅇ지급임차료 | P70: =SUM(P71:P73) -> 2844000 | Q70: =P70 -> 2844000 | R70: 2796000 | S70: =Q70-R70 -> 48000 | T70: =S70/R70 -> 0.017167382
F71: ­ 복합기임차료 | G71: 170000 | H71: × | I71: 1 | J71: × | K71: 12 | O71: = | P71: =G71*I71*K71 -> 2040000
F72: ­ 공기청정기 임차료 | G72: 41000 | H72: × | I72: 1 | J72: × | K72: 12 | O72: = | P72: =G72*I72*K72 -> 492000
F73: ­ 냉온정수기임차료 | G73: 26000 | H73: × | I73: 1 | J73: × | K73: 12 | O73: = | P73: =G73*I73*K73 -> 312000
E74: 210 수선유지비 | Q74: =P75 -> 9200000 | R74: 14510000 | S74: =Q74-R74 -> -5310000 | T74: =S74/R74 -> -0.36595451
F75: ㅇ수선유지비 | P75: =SUM(P76:P76) -> 9200000 | Q75: =P75 -> 9200000 | R75: 14510000 | S75: =Q75-R75 -> -5310000 | T75: =S75/R75 -> -0.36595451
F76: ­ 공간환경개선 | G76: 9200000 | H76: × | I76: 1 | O76: = | P76: =G76*I76 -> 9200000
E77: 212 보험료 | Q77: =P78 -> 400000 | R77: 1200000 | S77: =Q77-R77 -> -800000 | T77: =S77/R77 -> -0.66666667
F78: ㅇ보험료 | P78: =SUM(P79:P80) -> 400000 | Q78: =P78 -> 400000 | R78: 1200000 | S78: =Q78-R78 -> -800000 | T78: =S78/R78 -> -0.66666667
F79: ­ 수련시설종합보험료 | G79: 300000 | H79: × | I79: 1 | O79: = | P79: =G79*I79 -> 300000
F80: ­ 회계보증보험 | G80: 100000 | H80: × | I80: 1 | O80: = | P80: =G80*I80 -> 100000
E81: 213 지급수수료 | Q81: 0 | R81: 1902000 | S81: =Q81-R81 -> -1902000 | T81: =S81/R81 -> -1
E82: 214 업무추진비 | Q82: =P83 -> 1200000 | R82: 0 | S82: =Q82-R82 -> 1200000
F83: ㅇ 시책추진업무추진비 | P83: =P84 -> 1200000 | Q83: 0 | R83: 0 | S83: =Q83-R83 -> 0
F84: ­ 시책추진업무추진비 | G84: 100000 | H84: × | I84: 12 | O84: = | P84: =ROUNDUP(G84*I84,-3) -> 1200000
E85: 215 관서업무비 | Q85: =P86+P88 -> 1540000 | R85: 0 | S85: =Q85-R85 -> 1540000
