Workbook

Sheet Ⅱ-3. 임원연봉
A2: 임원연봉
AA3: 기준일 : 2020. 12. 31.(단위 : 원)
A4: 연도 | B4: 기관장(이사장) | C4: 기관장(이사장) | D4: 기관장(이사장) | E4: 기관장(이사장) | F4: 기관장(이사장) | G4: 기관장(이사장) | H4: 기관장(이사장) | I4: 기관장(이사장) | J4: 이사 | K4: 이사 | L4: 이사 | M4: 이사 | N4: 이사 | O4: 이사 | P4: 이사 | Q4: 이사 | R4: 감사 | S4: 감사 | T4: 감사 | U4: 감사 | V4: 감사 | W4: 감사 | X4: 감사 | Y4: 감사 | Z4: 총계(D=A+B+C) | AA4: 임원1인당평균임금(D/인원총합)
A5: 연도 | B5: 인원수 | C5: 기본급(기본연봉) | D5: 급여성복리후생비 | E5: 제수당 | F5: 제수당 | G5: 평가급 | H5: 평가급 | I5: 합계(A) | J5: 인원수 | K5: 기본급(기본연봉) | L5: 급여성복리후생비 | M5: 제수당 | N5: 제수당 | O5: 평가급 | P5: 평가급 | Q5: 합계(B) | R5: 인원수 | S5: 기본급(기본연봉) | T5: 급여성복리후생비 | U5: 제수당 | V5: 제수당 | W5: 평가급 | X5: 평가급 | Y5: 합계(C) | Z5: 총계(D=A+B+C) | AA5: 임원1인당평균임금(D/인원총합)
A6: 연도 | B6: 인원수 | C6: 기본급(기본연봉) | D6: 급여성복리후생비 | E6: 수당 | F6: 초과근무수당 | G6: 인센티브평가급 | H6: 예산성과금 | I6: 합계(A) | J6: 인원수 | K6: 기본급(기본연봉) | L6: 급여성복리후생비 | M6: 수당 | N6: 초과근무수당 | O6: 인센티브평가급 | P6: 예산성과금 | Q6: 합계(B) | R6: 인원수 | S6: 기본급(기본연봉) | T6: 급여성복리후생비 | U6: 수당 | V6: 초과근무수당 | W6: 인센티브평가급 | X6: 예산성과금 | Y6: 합계(C) | Z6: 총계(D=A+B+C) | AA6: 임원1인당평균임금(D/인원총합)
A7: 2017 | B7: 0 | C7: 0 | D7: 0 | E7: 0 | F7: 0 | G7: 0 | H7: 0 | I7: 0 | J7: 1 | K7: 60487920 | L7: 1010000 | M7: 7320000 | N7: 0 | O7: 0 | P7: 0 | Q7: =SUM(K7:P7) -> 68817920 | R7: 0 | S7: 0 | T7: 0 | U7: 0 | V7: 0 | W7: 0 | X7: 0 | Y7: =SUM(S7:X7) -> 0 | Z7: =I7+Q7+Y7 -> 68817920 | AA7: =Z7/1 -> 68817920
A8: 2018 | B8: 0 | C8: 0 | D8: 0 | E8: 0 | F8: 0 | G8: 0 | H8: 0 | I8: 0 | J8: 1 | K8: 55540010 | L8: 792000 | M8: 7791390 | N8: 0 | O8: 9123590 | P8: 0 | Q8: =SUM(K8:P8) -> 73246990 | R8: 0 | S8: 0 | T8: 0 | U8: 0 | V8: 0 | W8: 0 | X8: 0 | Y8: =SUM(S8:X8) -> 0 | Z8: =I8+Q8+Y8 -> 73246990 | AA8: =Z8/1 -> 73246990
A9: 2019 | B9: 0 | C9: 0 | D9: 0 | E9: 0 | F9: 0 | G9: 0 | H9: 0 | I9: 0 | J9: 1 | K9: 66017000 | L9: 950000 | M9: =[1]Sheet1!$Z$174-[1]Sheet1!$AA$174-[1]Sheet1!$AB$174 -> 7648010 | N9: 0 | O9: 791140 | P9: 0 | Q9: =SUM(K9:P9) -> 75406150 | R9: 0 | S9: 0 | T9: 0 | U9: 0 | V9: 0 | W9: 0 | X9: 0 | Y9: =SUM(S9:X9) -> 0 | Z9: =I9+Q9+Y9 -> 75406150 | AA9: =Z9/1 -> 75406150
A10: 2020 | B10: 0 | C10: 0 | D10: 0 | E10: 0 | F10: 0 | G10: 0 | H10: 0 | I10: 0 | J10: 1 | K10: 71463240 | L10: 960000 | M10: 9094960 | N10: 0 | O10: 8802250 | P10: 0 | Q10: =SUM(K10:P10) -> 90320450 | R10: 0 | S10: 0 | T10: 0 | U10: 0 | V10: 0 | W10: 0 | X10: 0 | Y10: =SUM(S10:X10) -> 0 | Z10: =I10+Q10+Y10 -> 90320450 | AA10: =Z10/1 -> 90320450
A11: 합계 | B11: =SUM(B7:B10) -> 0 | C11: =SUM(C7:C10) -> 0 | D11: =SUM(D7:D10) -> 0 | E11: =SUM(E7:E10) -> 0 | F11: =SUM(F7:F10) -> 0 | G11: =SUM(G7:G10) -> 0 | H11: =SUM(H7:H10) -> 0 | I11: =SUM(I7:I10) -> 0 | ... AA11: =SUM(AA7:AA10) -> 307791510
A13: □ 공시담당자: 정책기획부 과장 은정규 (전화) 031)810-4006 □ 확인자: 정책기획부 부장 박차용 (전화) 031)810-4003 □ 총괄 및 감독 : 고양시청소년재단 사무국장 장맹배 031)810-4002

Sheet Ⅲ-1-1. 정규직 총괄
A2: 정규직 총괄
L3: 기준일 : 2020. 12. 31. (단위 : 원, 명)
A4: 연도 | B4: 기본급 | C4: 급여성복리후생비 | D4: 제수당 | E4: 제수당 | F4: 성과급 | G4: 성과급 | H4: 합계(총보수지급액ⓐ) | I4: 직원수(ⓑ) | J4: 평균근속년수 | K4: 평균근속년수 | L4: 평균근속년수 | M4: 1인당평균임금(ⓐ/ⓑ)
A5: 연도 | B5: 기본급 | C5: 급여성복리후생비 | D5: 수당 | E5: 초과근무수당 | F5: 인센티브성과급 | G5: 예산성과금 | H5: 합계(총보수지급액ⓐ) | I5: 직원수(ⓑ) | J5: 평균근속년수(2018년도 이전) | K5: 년 | L5: 개월 | M5: 1인당평균임금(ⓐ/ⓑ)
A6: 2017 | B6: 610450590 | C6: 25976520 | D6: 165306390 | E6: 132144240 | F6: 0 | G6: 0 | H6: =SUM(B6:G6) -> 933877740 | I6: 32 | J6: 0.72 | M6: =H6/I6 -> 29183679
A7: 2018 | B7: 1005494760 | C7: 39216000 | D7: 317378630 | E7: 215337870 | F7: 56812270 | G7: 0 | H7: =SUM(B7:G7) -> 1634239530 | I7: 40 | K7: 1 | L7: 5 | M7: =H7/I7 -> 40855988
A8: 2019 | B8: ='Ⅲ-1-2. 일반정규직'!B8+'Ⅲ-1-3. 무기계약직'!B8 -> 1239741650 | C8: ='Ⅲ-1-2. 일반정규직'!C8+'Ⅲ-1-3. 무기계약직'!C8 -> 44149590 | D8: ='Ⅲ-1-2. 일반정규직'!D8+'Ⅲ-1-3. 무기계약직'!D8 -> 433740070 | E8: ='Ⅲ-1-2. 일반정규직'!E8+'Ⅲ-1-3. 무기계약직'!E8 -> 250101130 | F8: ='Ⅲ-1-2. 일반정규직'!F8+'Ⅲ-1-3. 무기계약직'!F8 -> 82377840 | G8: ='Ⅲ-1-2. 일반정규직'!G8+'Ⅲ-1-3. 무기계약직'!G8 -> 0 | H8: =SUM(B8:G8) -> 2050110280 | I8: ='Ⅲ-1-2. 일반정규직'!I8+'Ⅲ-1-3. 무기계약직'!I8 -> 49 | K8: 2 | L8: 1 | M8: =H8/I8 -> 41838985
A9: 2020 | B9: ='Ⅲ-1-2. 일반정규직'!B9+'Ⅲ-1-3. 무기계약직'!B9 -> 1770228130 | C9: ='Ⅲ-1-2. 일반정규직'!C9+'Ⅲ-1-3. 무기계약직'!C9 -> 59606378 | D9: ='Ⅲ-1-2. 일반정규직'!D9+'Ⅲ-1-3. 무기계약직'!D9 -> 539914470 | E9: ='Ⅲ-1-2. 일반정규직'!E9+'Ⅲ-1-3. 무기계약직'!E9 -> 244374220 | F9: ='Ⅲ-1-2. 일반정규직'!F9+'Ⅲ-1-3. 무기계약직'!F9 -> 135350060 | G9: ='Ⅲ-1-2. 일반정규직'!G9+'Ⅲ-1-3. 무기계약직'!G9 -> 0 | H9: =SUM(B9:G9) -> 2749473258 | I9: ='Ⅲ-1-2. 일반정규직'!I9+'Ⅲ-1-3. 무기계약직'!I9 -> 72 | K9: 2 | L9: 4 | M9: =H9/I9 -> 38187129
A10: 합계 | B10: =SUM(B6:B9) -> 4625915130 | C10: =SUM(C6:C9) -> 168948488 | D10: =SUM(D6:D9) -> 1456339560 | E10: =SUM(E6:E9) -> 841957460 | F10: =SUM(F6:F9) -> 274540170 | G10: =SUM(G6:G9) -> 0 | H10: =SUM(H6:H9) -> 7367700808 | I10: =SUM(I6:I9) -> 193 | ... M10: =SUM(M6:M9) -> 1.5006578e+08
A12: □ 공시담당자: 정책기획부 과장 은정규 (전화) 031)810-4006 □ 확인자: 정책기획부 부장 박차용 (전화) 031)810-4003 □ 총괄 및 감독 : 고양시청소년재단 사무국장 장맹배 031)810-4002

Sheet Ⅲ-1-2. 일반정규직
A2: 일반정규직
L3: 기준일 : 2020. 12. 31. (단위 : 원, 명)
A4: 연도 | B4: 기본급 | C4: 급여성복리후생비 | D4: 제수당 | E4: 제수당 | F4: 성과급 | G4: 성과급 | H4: 합계(총보수지급액ⓐ) | I4: 직원수(ⓑ) | J4: 평균근속년수 | K4: 평균근속년수 | L4: 평균근속년수 | M4: 1인당평균임금(ⓐ/ⓑ)
A5: 연도 | B5: 기본급 | C5: 급여성복리후생비 | D5: 수당 | E5: 초과근무수당 | F5: 인센티브성과급 | G5: 예산성과금 | H5: 합계(총보수지급액ⓐ) | I5: 직원수(ⓑ) | J5: 평균근속년수(2018년도 이전) | K5: 년 | L5: 개월 | M5: 1인당평균임금(ⓐ/ⓑ)
A6: 2017 | B6: 610450590 | C6: 25976520 | D6: 165306390 | E6: 132144240 | F6: 0 | G6: 0 | H6: =SUM(B6:G6) -> 933877740 | I6: 32 | J6: 0.72 | M6: =H6/I6 -> 29183679
A7: 2018 | B7: 1005494760 | C7: 39216000 | D7: 317378630 | E7: 215337870 | F7: 56812270 | G7: 0 | H7: =SUM(B7:G7) -> 1634239530 | I7: 40 | K7: 1 | L7: 5 | M7: =H7/I7 -> 40855988
A8: 2019 | B8: 1155642020 | C8: 41188690 | D8: 415350130 | E8: 238385980 | F8: 82377840 | G8: 0 | H8: =SUM(B8:G8) -> 1932944660 | I8: 44 | K8: 2 | L8: 1 | M8: =H8/I8 -> 43930560
A9: 2020 | B9: 1430622350 | C9: 47271481 | D9: 479104840 | E9: 204486710 | F9: 135350060 | G9: 0 | H9: =SUM(B9:G9) -> 2296835441 | I9: 54 | K9: 2 | L9: 9 | M9: =H9/I9 -> 42533990
A10: 합계 | B10: =SUM(B6:B9) -> 4202209720 | C10: =SUM(C6:C9) -> 153652691 | D10: =SUM(D6:D9) -> 1377139990 | E10: =SUM(E6:E9) -> 790354800 | F10: =SUM(F6:F9) -> 274540170 | G10: =SUM(G6:G9) -> 0 | H10: =SUM(H6:H9) -> 6797897371 | I10: =SUM(I6:I9) -> 170 | ... M10: =SUM(M6:M9) -> 1.5650422e+08
A12: □ 공시담당자: 정책기획부 과장 은정규 (전화) 031)810-4006 □ 확인자: 정책기획부 부장 박차용 (전화) 031)810-4003 □ 총괄 및 감독 : 고양시청소년재단 사무국장 장맹배 031)810-4002

Sheet Ⅲ-1-3. 무기계약직
A2: 무기계약직
L3: 기준일 : 2020. 12. 31. (단위 : 원, 명)
A4: 연도 | B4: 기본급 | C4: 급여성복리후생비 | D4: 제수당 | E4: 제수당 | F4: 성과급 | G4: 성과급 | H4: 합계(총보수지급액ⓐ) | I4: 직원수(ⓑ) | J4: 평균근속년수 | K4: 평균근속년수 | L4: 평균근속년수 | M4: 1인당평균임금(ⓐ/ⓑ)
A5: 연도 | B5: 기본급 | C5: 급여성복리후생비 | D5: 수당 | E5: 초과근무수당 | F5: 인센티브성과급 | G5: 예산성과금 | H5: 합계(총보수지급액ⓐ) | I5: 직원수(ⓑ) | J5: 평균근속년수(2018년도 이전) | K5: 년 | L5: 개월 | M5: 1인당평균임금(ⓐ/ⓑ)
A6: 2017 | B6: 0 | C6: 0 | D6: 0 | E6: 0 | F6: 0 | G6: 0 | H6: =SUM(B6:G6) -> 0 | I6: 0 | M6: =H6/I6 -> #DIV/0!
A7: 2018 | B7: 0 | C7: 0 | D7: 0 | E7: 0 | F7: 0 | G7: 0 | H7: =SUM(B7:G7) -> 0 | I7: 0 | K7: 0 | L7: 0 | M7: =H7/I7 -> #DIV/0!
A8: 2019 | B8: 84099630 | C8: 2960900 | D8: 18389940 | E8: 11715150 | F8: 0 | G8: 0 | H8: =SUM(B8:G8) -> 117165620 | I8: 5 | K8: 2 | L8: 1 | M8: =H8/I8 -> 23433124
A9: 2020 | B9: 339605780 | C9: 12334897 | D9: 60809630 | E9: 39887510 | F9: 0 | G9: 0 | H9: =SUM(B9:G9) -> 452637817 | I9: 18 | K9: 1 | L9: 4 | M9: =H9/I9 -> 25146545
A10: 합계 | B10: =SUM(B6:B9) -> 423705410 | C10: =SUM(C6:C9) -> 15295797 | D10: =SUM(D6:D9) -> 79199570 | E10: =SUM(E6:E9) -> 51602660 | F10: =SUM(F6:F9) -> 0 | G10: =SUM(G6:G9) -> 0 | H10: =SUM(H6:H9) -> 569803437 | I10: =SUM(I6:I9) -> 23 | ... L10: =SUM(L6:L9) -> 5 | M10: =H10/I10 -> 24774062
A12: □ 공시담당자: 정책기획부 과장 은정규 (전화) 031)810-4006 □ 확인자: 정책기획부 부장 박차용 (전화) 031)810-4003 □ 총괄 및 감독 : 고양시청소년재단 사무국장 장맹배 031)810-4002
